Back to Multiple platform build/check report for BioC 3.16:   simplified   long
ABCDEFGHIJKLMNOPQR[S]TUVWXYZ

This page was generated on 2023-03-24 11:06:19 -0400 (Fri, 24 Mar 2023).

HostnameOSArch (*)R versionInstalled pkgs
nebbiolo2Linux (Ubuntu 20.04.5 LTS)x86_644.2.3 (2023-03-15) -- "Shortstop Beagle" 4286
palomino4Windows Server 2022 Datacenterx644.2.3 (2023-03-15 ucrt) -- "Shortstop Beagle" 4276
lconwaymacOS 12.5.1 Montereyx86_644.2.3 (2023-03-15) -- "Shortstop Beagle" 4303
Click on any hostname to see more info about the system (e.g. compilers)      (*) as reported by 'uname -p', except on Windows and Mac OS X

CHECK results for seqsetvis on palomino4


To the developers/maintainers of the seqsetvis package:
- Please allow up to 24 hours (and sometimes 48 hours) for your latest push to git@git.bioconductor.org:packages/seqsetvis.git to
reflect on this report. See How and When does the builder pull? When will my changes propagate? for more information.
- Make sure to use the following settings in order to reproduce any error or warning you see on this page.

raw results

Package 1849/2183HostnameOS / ArchINSTALLBUILDCHECKBUILD BIN
seqsetvis 1.18.1  (landing page)
Joseph R Boyd
Snapshot Date: 2023-03-22 14:00:04 -0400 (Wed, 22 Mar 2023)
git_url: https://git.bioconductor.org/packages/seqsetvis
git_branch: RELEASE_3_16
git_last_commit: 70b164b
git_last_commit_date: 2023-02-24 08:53:30 -0400 (Fri, 24 Feb 2023)
nebbiolo2Linux (Ubuntu 20.04.5 LTS) / x86_64  OK    OK    OK  UNNEEDED, same version is already published
palomino4Windows Server 2022 Datacenter / x64  OK    OK    OK    OK  UNNEEDED, same version is already published
lconwaymacOS 12.5.1 Monterey / x86_64  OK    OK    OK    OK  UNNEEDED, same version is already published

Summary

Package: seqsetvis
Version: 1.18.1
Command: F:\biocbuild\bbs-3.16-bioc\R\bin\R.exe CMD check --no-multiarch --install=check:seqsetvis.install-out.txt --library=F:\biocbuild\bbs-3.16-bioc\R\library --no-vignettes --timings seqsetvis_1.18.1.tar.gz
StartedAt: 2023-03-23 06:07:39 -0400 (Thu, 23 Mar 2023)
EndedAt: 2023-03-23 06:15:56 -0400 (Thu, 23 Mar 2023)
EllapsedTime: 497.8 seconds
RetCode: 0
Status:   OK  
CheckDir: seqsetvis.Rcheck
Warnings: 0

Command output

##############################################################################
##############################################################################
###
### Running command:
###
###   F:\biocbuild\bbs-3.16-bioc\R\bin\R.exe CMD check --no-multiarch --install=check:seqsetvis.install-out.txt --library=F:\biocbuild\bbs-3.16-bioc\R\library --no-vignettes --timings seqsetvis_1.18.1.tar.gz
###
##############################################################################
##############################################################################


* using log directory 'F:/biocbuild/bbs-3.16-bioc/meat/seqsetvis.Rcheck'
* using R version 4.2.3 (2023-03-15 ucrt)
* using platform: x86_64-w64-mingw32 (64-bit)
* using session charset: UTF-8
* using option '--no-vignettes'
* checking for file 'seqsetvis/DESCRIPTION' ... OK
* checking extension type ... Package
* this is package 'seqsetvis' version '1.18.1'
* package encoding: UTF-8
* checking package namespace information ... OK
* checking package dependencies ... OK
* checking if this is a source package ... OK
* checking if there is a namespace ... OK
* checking for hidden files and directories ... OK
* checking for portable file names ... OK
* checking whether package 'seqsetvis' can be installed ... OK
* checking installed package size ... OK
* checking package directory ... OK
* checking 'build' directory ... OK
* checking DESCRIPTION meta-information ... OK
* checking top-level files ... OK
* checking for left-over files ... OK
* checking index information ... OK
* checking package subdirectories ... OK
* checking R files for non-ASCII characters ... OK
* checking R files for syntax errors ... OK
* checking whether the package can be loaded ... OK
* checking whether the package can be loaded with stated dependencies ... OK
* checking whether the package can be unloaded cleanly ... OK
* checking whether the namespace can be loaded with stated dependencies ... OK
* checking whether the namespace can be unloaded cleanly ... OK
* checking dependencies in R code ... OK
* checking S3 generic/method consistency ... OK
* checking replacement functions ... OK
* checking foreign function calls ... OK
* checking R code for possible problems ... OK
* checking Rd files ... OK
* checking Rd metadata ... OK
* checking Rd cross-references ... OK
* checking for missing documentation entries ... OK
* checking for code/documentation mismatches ... OK
* checking Rd \usage sections ... OK
* checking Rd contents ... OK
* checking for unstated dependencies in examples ... OK
* checking contents of 'data' directory ... OK
* checking data for non-ASCII characters ... OK
* checking LazyData ... OK
* checking data for ASCII and uncompressed saves ... OK
* checking files in 'vignettes' ... OK
* checking examples ... OK
Examples with CPU (user + system) or elapsed time > 5s
                        user system elapsed
ssvFeatureBinaryHeatmap 6.06   0.38    6.52
* checking for unstated dependencies in 'tests' ... OK
* checking tests ...
  Running 'testthat.R'
 OK
* checking for unstated dependencies in vignettes ... OK
* checking package vignettes in 'inst/doc' ... OK
* checking running R code from vignettes ... SKIPPED
* checking re-building of vignette outputs ... SKIPPED
* checking PDF version of manual ... OK
* DONE

Status: OK


Installation output

seqsetvis.Rcheck/00install.out

##############################################################################
##############################################################################
###
### Running command:
###
###   F:\biocbuild\bbs-3.16-bioc\R\bin\R.exe CMD INSTALL seqsetvis
###
##############################################################################
##############################################################################


* installing to library 'F:/biocbuild/bbs-3.16-bioc/R/library'
* installing *source* package 'seqsetvis' ...
** using staged installation
** R
** data
*** moving datasets to lazyload DB
** inst
** byte-compile and prepare package for lazy loading
** help
*** installing help indices
** building package indices
** installing vignettes
** testing if installed package can be loaded from temporary location
** testing if installed package can be loaded from final location
** testing if installed package keeps a record of temporary installation path
* DONE (seqsetvis)

Tests output

seqsetvis.Rcheck/tests/testthat.Rout


R version 4.2.3 (2023-03-15 ucrt) -- "Shortstop Beagle"
Copyright (C) 2023 The R Foundation for Statistical Computing
Platform: x86_64-w64-mingw32/x64 (64-bit)

R is free software and comes with ABSOLUTELY NO WARRANTY.
You are welcome to redistribute it under certain conditions.
Type 'license()' or 'licence()' for distribution details.

R is a collaborative project with many contributors.
Type 'contributors()' for more information and
'citation()' on how to cite R or R packages in publications.

Type 'demo()' for some demos, 'help()' for on-line help, or
'help.start()' for an HTML browser interface to help.
Type 'q()' to quit R.

> 
> ## load dependencies
> library(testthat)
> library(seqsetvis)
Loading required package: ggplot2
> library(data.table)
> 
> ## test package
> test_check(package = "seqsetvis")
[ FAIL 0 | WARN 3 | SKIP 37 | PASS 716 ]

══ Skipped tests ═══════════════════════════════════════════════════════════════
• On Windows (37)

[ FAIL 0 | WARN 3 | SKIP 37 | PASS 716 ]
> 
> proc.time()
   user  system elapsed 
 177.17    3.51  180.85 

Example timings

seqsetvis.Rcheck/seqsetvis-Ex.timings

nameusersystemelapsed
add_cluster_annotation2.960.093.06
append_ynorm0.040.000.05
applySpline0.440.020.45
assemble_heatmap_cluster_bars0.660.010.66
calc_norm_factors000
centerAtMax0.280.000.28
centerFixedSizeGRanges0.160.020.17
centerGRangesAtMax0.400.000.41
clusteringKmeans0.020.010.03
clusteringKmeansNestedHclust0.010.000.02
col2hex000
collapse_gr0.610.030.64
convert_collapsed_coord0.190.000.19
copy_clust_info1.810.021.83
crossCorrByRle0.440.050.50
easyLoad_FUN0.040.000.05
easyLoad_IDRmerged0.070.000.06
easyLoad_bed0.100.000.11
easyLoad_broadPeak0.050.000.04
easyLoad_narrowPeak0.050.000.05
easyLoad_seacr0.060.000.06
expandCigar0.140.010.16
fragLen_calcStranded1.630.021.64
fragLen_fromMacs2Xls0.000.000.02
getReadLength0.040.000.04
get_mapped_reads0.020.000.02
ggellipse0.560.040.61
harmonize_seqlengths0.160.000.15
make_clustering_matrix0.040.000.05
merge_clusters3.380.023.39
prepare_fetch_GRanges0.010.000.01
prepare_fetch_GRanges_names0.080.000.08
prepare_fetch_GRanges_width0.010.000.02
quantileGRangesWidth000
reorder_clusters_hclust1.950.021.97
reorder_clusters_manual1.000.031.03
reorder_clusters_stepdown2.190.032.22
reverse_clusters2.860.062.93
safeBrew0.030.000.04
split_cluster1.590.031.62
ssvConsensusIntervalSets0.310.020.33
ssvFactorizeMembTable0.020.000.01
ssvFeatureBars0.560.010.58
ssvFeatureBinaryHeatmap6.060.386.52
ssvFeatureEuler0.520.010.53
ssvFeaturePie0.550.000.55
ssvFeatureUpset2.680.002.68
ssvFeatureVenn0.520.000.52
ssvFetchBam000
ssvFetchBamPE000
ssvFetchBigwig0.020.000.02
ssvFetchGRanges0.670.020.68
ssvFetchSignal1.500.031.53
ssvMakeMembTable-methods0.510.000.52
ssvOverlapIntervalSets0.240.030.27
ssvSignalBandedQuantiles4.480.104.57
ssvSignalClustering2.110.042.16
ssvSignalHeatmap.ClusterBars3.220.063.30
ssvSignalHeatmap3.420.023.47
ssvSignalLineplot2.520.032.54
ssvSignalLineplotAgg1.080.021.10
ssvSignalScatterplot0.810.010.82
viewGRangesWinSample_dt1.040.021.07
viewGRangesWinSummary_dt0.970.000.97
within_clust_sort1.460.011.46