Back to Multiple platform build/check report for BioC 3.16:   simplified   long
A[B]CDEFGHIJKLMNOPQRSTUVWXYZ

This page was generated on 2023-04-12 11:04:28 -0400 (Wed, 12 Apr 2023).

HostnameOSArch (*)R versionInstalled pkgs
nebbiolo2Linux (Ubuntu 20.04.5 LTS)x86_644.2.3 (2023-03-15) -- "Shortstop Beagle" 4502
palomino4Windows Server 2022 Datacenterx644.2.3 (2023-03-15 ucrt) -- "Shortstop Beagle" 4282
lconwaymacOS 12.5.1 Montereyx86_644.2.3 (2023-03-15) -- "Shortstop Beagle" 4310
Click on any hostname to see more info about the system (e.g. compilers)      (*) as reported by 'uname -p', except on Windows and Mac OS X

All results for package biomaRt


To the developers/maintainers of the biomaRt package:
- Please allow up to 24 hours (and sometimes 48 hours) for your latest push to git@git.bioconductor.org:packages/biomaRt.git to
reflect on this report. See How and When does the builder pull? When will my changes propagate? for more information.
- Make sure to use the following settings in order to reproduce any error or warning you see on this page.

raw results

Package 190/2183HostnameOS / ArchINSTALLBUILDCHECKBUILD BIN
biomaRt 2.54.1  (landing page)
Mike Smith
Snapshot Date: 2023-04-10 14:00:05 -0400 (Mon, 10 Apr 2023)
git_url: https://git.bioconductor.org/packages/biomaRt
git_branch: RELEASE_3_16
git_last_commit: d5412fb
git_last_commit_date: 2023-03-20 08:57:14 -0400 (Mon, 20 Mar 2023)
nebbiolo2Linux (Ubuntu 20.04.5 LTS) / x86_64  OK    OK    OK  UNNEEDED, same version is already published
palomino4Windows Server 2022 Datacenter / x64  OK    OK    OK    OK  UNNEEDED, same version is already published
lconwaymacOS 12.5.1 Monterey / x86_64  OK    OK    OK    OK  UNNEEDED, same version is already published

Results for Bioconductor software packages that depend directly on package biomaRt

QUICK STATSOS / ArchINSTALLBUILDCHECKBUILD BIN
nebbiolo2Linux (Ubuntu 20.04.5 LTS) / x86_64
0383
0779
131560
palomino4Windows Server 2022 Datacenter / x64
0283
0778
021957
0078
lconwaymacOS 12.5.1 Monterey / x86_64
0383
0878
021858
0078
Package 1/86HostnameOS / ArchINSTALLBUILDCHECKBUILD BIN
ArrayExpressHTS 1.48.0  (landing page)
Angela Goncalves , Andrew Tikhonov
git_last_commit: 3dbd3e8
git_last_commit_date: 2022-11-01 11:05:54 -0400
nebbiolo2Linux (Ubuntu 20.04.5 LTS) / x86_64  ERROR    ERROR  skipped
palomino4Windows Server 2022 Datacenter / x64... NOT SUPPORTED ...
lconwaymacOS 12.5.1 Monterey / x86_64  ERROR    ERROR  skippedskipped
Package 2/86HostnameOS / ArchINSTALLBUILDCHECKBUILD BIN
ASpediaFI 1.12.0  (landing page)
Doyeong Yu
git_last_commit: ad0dc91
git_last_commit_date: 2022-11-01 11:20:47 -0400
nebbiolo2Linux (Ubuntu 20.04.5 LTS) / x86_64  ERROR    ERROR  skipped
palomino4Windows Server 2022 Datacenter / x64  ERROR    ERROR  skippedskipped
lconwaymacOS 12.5.1 Monterey / x86_64  ERROR    ERROR  skippedskipped
Package 3/86HostnameOS / ArchINSTALLBUILDCHECKBUILD BIN
BadRegionFinder 1.26.0  (landing page)
Sarah Sandmann
git_last_commit: 328cbd2
git_last_commit_date: 2022-11-01 11:13:25 -0400
nebbiolo2Linux (Ubuntu 20.04.5 LTS) / x86_64  OK    OK    OK  UNNEEDED, same version is already published
palomino4Windows Server 2022 Datacenter / x64  OK    OK    OK    OK  UNNEEDED, same version is already published
lconwaymacOS 12.5.1 Monterey / x86_64  OK    OK    OK    OK  UNNEEDED, same version is already published
Package 4/86HostnameOS / ArchINSTALLBUILDCHECKBUILD BIN
BgeeCall 1.14.0  (landing page)
Julien Wollbrett
git_last_commit: 8ac40cd
git_last_commit_date: 2022-11-01 11:21:10 -0400
nebbiolo2Linux (Ubuntu 20.04.5 LTS) / x86_64  OK    OK    OK  UNNEEDED, same version is already published
palomino4Windows Server 2022 Datacenter / x64  OK    OK    OK    OK  UNNEEDED, same version is already published
lconwaymacOS 12.5.1 Monterey / x86_64  OK    OK    OK    OK  UNNEEDED, same version is already published
Package 5/86HostnameOS / ArchINSTALLBUILDCHECKBUILD BIN
BrainSABER 1.8.0  (landing page)
USD Biomedical Engineering
git_last_commit: 263677f
git_last_commit_date: 2022-11-01 11:22:10 -0400
nebbiolo2Linux (Ubuntu 20.04.5 LTS) / x86_64  OK    OK    WARNINGS  UNNEEDED, same version is already published
palomino4Windows Server 2022 Datacenter / x64  OK    OK    WARNINGS    OK  UNNEEDED, same version is already published
lconwaymacOS 12.5.1 Monterey / x86_64  OK    OK    WARNINGS    OK  UNNEEDED, same version is already published
Package 6/86HostnameOS / ArchINSTALLBUILDCHECKBUILD BIN
branchpointer 1.24.0  (landing page)
Beth Signal
git_last_commit: 60877dc
git_last_commit_date: 2022-11-01 11:15:20 -0400
nebbiolo2Linux (Ubuntu 20.04.5 LTS) / x86_64  OK    OK    OK  UNNEEDED, same version is already published
palomino4Windows Server 2022 Datacenter / x64  OK    OK    OK    OK  UNNEEDED, same version is already published
lconwaymacOS 12.5.1 Monterey / x86_64  OK    OK    OK    OK  UNNEEDED, same version is already published
Package 7/86HostnameOS / ArchINSTALLBUILDCHECKBUILD BIN
BUSpaRse 1.12.2  (landing page)
Lambda Moses
git_last_commit: 071ebd9
git_last_commit_date: 2023-01-19 11:15:07 -0400
nebbiolo2Linux (Ubuntu 20.04.5 LTS) / x86_64  OK    OK    OK  UNNEEDED, same version is already published
palomino4Windows Server 2022 Datacenter / x64  OK    OK    OK    OK  UNNEEDED, same version is already published
lconwaymacOS 12.5.1 Monterey / x86_64  OK    OK    OK    OK  UNNEEDED, same version is already published
Package 8/86HostnameOS / ArchINSTALLBUILDCHECKBUILD BIN
ChIPpeakAnno 3.32.0  (landing page)
Jianhong Ou
git_last_commit: 016661f
git_last_commit_date: 2022-11-01 11:04:34 -0400
nebbiolo2Linux (Ubuntu 20.04.5 LTS) / x86_64  OK    OK    OK  UNNEEDED, same version is already published
palomino4Windows Server 2022 Datacenter / x64  OK    OK    OK    OK  UNNEEDED, same version is already published
lconwaymacOS 12.5.1 Monterey / x86_64  OK    OK    OK    OK  UNNEEDED, same version is already published
Package 9/86HostnameOS / ArchINSTALLBUILDCHECKBUILD BIN
chromPlot 1.26.0  (landing page)
Karen Y. Orostica
git_last_commit: 72130bb
git_last_commit_date: 2022-11-01 11:12:58 -0400
nebbiolo2Linux (Ubuntu 20.04.5 LTS) / x86_64  OK    OK    OK  UNNEEDED, same version is already published
palomino4Windows Server 2022 Datacenter / x64  OK    OK    WARNINGS    OK  UNNEEDED, same version is already published
lconwaymacOS 12.5.1 Monterey / x86_64  OK    OK    OK    OK  UNNEEDED, same version is already published
Package 10/86HostnameOS / ArchINSTALLBUILDCHECKBUILD BIN
CHRONOS 1.26.0  (landing page)
Panos Balomenos
git_last_commit: 1b06943
git_last_commit_date: 2022-11-01 11:13:39 -0400
nebbiolo2Linux (Ubuntu 20.04.5 LTS) / x86_64  OK    OK    OK  UNNEEDED, same version is already published
palomino4Windows Server 2022 Datacenter / x64  OK    OK    OK    OK  UNNEEDED, same version is already published
lconwaymacOS 12.5.1 Monterey / x86_64  OK    OK    OK    OK  UNNEEDED, same version is already published
Package 11/86HostnameOS / ArchINSTALLBUILDCHECKBUILD BIN
coMET 1.30.0  (landing page)
Tiphaine Martin
git_last_commit: c75985c
git_last_commit_date: 2022-11-01 11:10:56 -0400
nebbiolo2Linux (Ubuntu 20.04.5 LTS) / x86_64  OK    OK    OK  UNNEEDED, same version is already published
palomino4Windows Server 2022 Datacenter / x64  OK    OK    OK    OK  UNNEEDED, same version is already published
lconwaymacOS 12.5.1 Monterey / x86_64  OK    OK    OK    OK  UNNEEDED, same version is already published
Package 12/86HostnameOS / ArchINSTALLBUILDCHECKBUILD BIN
conclus 1.6.0  (landing page)
Ilyess Rachedi
git_last_commit: 08522fb
git_last_commit_date: 2022-11-01 11:24:34 -0400
nebbiolo2Linux (Ubuntu 20.04.5 LTS) / x86_64  OK    ERROR  skipped
palomino4Windows Server 2022 Datacenter / x64  OK    ERROR  skippedskipped
lconwaymacOS 12.5.1 Monterey / x86_64  OK    ERROR  skippedskipped
Package 13/86HostnameOS / ArchINSTALLBUILDCHECKBUILD BIN
customProDB 1.38.0  (landing page)
Xiaojing Wang
git_last_commit: cfe95f1
git_last_commit_date: 2022-11-01 11:08:20 -0400
nebbiolo2Linux (Ubuntu 20.04.5 LTS) / x86_64  OK    OK    OK  UNNEEDED, same version is already published
palomino4Windows Server 2022 Datacenter / x64  OK    OK    OK    OK  UNNEEDED, same version is already published
lconwaymacOS 12.5.1 Monterey / x86_64  OK    OK    OK    OK  UNNEEDED, same version is already published
Package 14/86HostnameOS / ArchINSTALLBUILDCHECKBUILD BIN
dagLogo 1.36.0  (landing page)
Jianhong Ou
git_last_commit: 3c7ae92
git_last_commit_date: 2022-11-01 11:08:48 -0400
nebbiolo2Linux (Ubuntu 20.04.5 LTS) / x86_64  OK    OK    OK  UNNEEDED, same version is already published
palomino4Windows Server 2022 Datacenter / x64  OK    OK    OK    OK  UNNEEDED, same version is already published
lconwaymacOS 12.5.1 Monterey / x86_64  OK    OK    OK    OK  UNNEEDED, same version is already published
Package 15/86HostnameOS / ArchINSTALLBUILDCHECKBUILD BIN
DEXSeq 1.44.0  (landing page)
Alejandro Reyes
git_last_commit: 9660d73
git_last_commit_date: 2022-11-01 11:05:59 -0400
nebbiolo2Linux (Ubuntu 20.04.5 LTS) / x86_64  OK    OK    OK  UNNEEDED, same version is already published
palomino4Windows Server 2022 Datacenter / x64  OK    OK    OK    OK  UNNEEDED, same version is already published
lconwaymacOS 12.5.1 Monterey / x86_64  OK    OK    OK    OK  UNNEEDED, same version is already published
Package 16/86HostnameOS / ArchINSTALLBUILDCHECKBUILD BIN
DominoEffect 1.18.0  (landing page)
Marija Buljan
git_last_commit: 36be327
git_last_commit_date: 2022-11-01 11:17:11 -0400
nebbiolo2Linux (Ubuntu 20.04.5 LTS) / x86_64  OK    OK    OK  UNNEEDED, same version is already published
palomino4Windows Server 2022 Datacenter / x64  OK    OK    OK    OK  UNNEEDED, same version is already published
lconwaymacOS 12.5.1 Monterey / x86_64  OK    OK    OK    OK  UNNEEDED, same version is already published
Package 17/86HostnameOS / ArchINSTALLBUILDCHECKBUILD BIN
drugTargetInteractions 1.6.0  (landing page)
Thomas Girke
git_last_commit: e975994
git_last_commit_date: 2022-11-01 11:24:22 -0400
nebbiolo2Linux (Ubuntu 20.04.5 LTS) / x86_64  OK    OK    OK  UNNEEDED, same version is already published
palomino4Windows Server 2022 Datacenter / x64  OK    OK    OK    OK  UNNEEDED, same version is already published
lconwaymacOS 12.5.1 Monterey / x86_64  OK    OK    OK    OK  UNNEEDED, same version is already published
Package 18/86HostnameOS / ArchINSTALLBUILDCHECKBUILD BIN
DrugVsDisease 2.40.0  (landing page)
j. Saez-Rodriguez
git_last_commit: 0bbcf6a
git_last_commit_date: 2022-11-01 11:07:48 -0400
nebbiolo2Linux (Ubuntu 20.04.5 LTS) / x86_64  OK    OK    OK  UNNEEDED, same version is already published
palomino4Windows Server 2022 Datacenter / x64  OK    OK    OK    OK  UNNEEDED, same version is already published
lconwaymacOS 12.5.1 Monterey / x86_64  OK    OK    OK    OK  UNNEEDED, same version is already published
Package 19/86HostnameOS / ArchINSTALLBUILDCHECKBUILD BIN
easyRNASeq 2.34.0  (landing page)
Nicolas Delhomme
git_last_commit: 37ce549
git_last_commit_date: 2022-11-01 11:06:37 -0400
nebbiolo2Linux (Ubuntu 20.04.5 LTS) / x86_64  OK    OK    OK  UNNEEDED, same version is already published
palomino4Windows Server 2022 Datacenter / x64  OK    OK    OK    OK  UNNEEDED, same version is already published
lconwaymacOS 12.5.1 Monterey / x86_64  OK    OK    OK    OK  UNNEEDED, same version is already published
Package 20/86HostnameOS / ArchINSTALLBUILDCHECKBUILD BIN
EDASeq 2.32.0  (landing page)
Davide Risso
git_last_commit: 06df5a3
git_last_commit_date: 2022-11-01 11:06:16 -0400
nebbiolo2Linux (Ubuntu 20.04.5 LTS) / x86_64  OK    OK    OK  UNNEEDED, same version is already published
palomino4Windows Server 2022 Datacenter / x64  OK    OK    OK    OK  UNNEEDED, same version is already published
lconwaymacOS 12.5.1 Monterey / x86_64  OK    OK    OK    OK  UNNEEDED, same version is already published
Package 21/86HostnameOS / ArchINSTALLBUILDCHECKBUILD BIN
ELMER 2.22.0  (landing page)
Tiago Chedraoui Silva
git_last_commit: a3d5369
git_last_commit_date: 2022-11-01 11:11:45 -0400
nebbiolo2Linux (Ubuntu 20.04.5 LTS) / x86_64  OK    OK    WARNINGS  UNNEEDED, same version is already published
palomino4Windows Server 2022 Datacenter / x64  OK    OK    WARNINGS    OK  UNNEEDED, same version is already published
lconwaymacOS 12.5.1 Monterey / x86_64  OK    OK    WARNINGS    OK  UNNEEDED, same version is already published
Package 22/86HostnameOS / ArchINSTALLBUILDCHECKBUILD BIN
EpiMix 1.0.2  (landing page)
Yuanning Zheng
git_last_commit: ceba443
git_last_commit_date: 2023-04-03 21:04:50 -0400
nebbiolo2Linux (Ubuntu 20.04.5 LTS) / x86_64  OK    ERROR  skipped
palomino4Windows Server 2022 Datacenter / x64  OK    ERROR  skippedskipped
lconwaymacOS 12.5.1 Monterey / x86_64  OK    ERROR  skippedskipped
Package 23/86HostnameOS / ArchINSTALLBUILDCHECKBUILD BIN
epimutacions 1.2.0  (landing page)
Dolors Pelegri-Siso
git_last_commit: b5bb97c
git_last_commit_date: 2022-11-01 11:26:53 -0400
nebbiolo2Linux (Ubuntu 20.04.5 LTS) / x86_64  OK    OK    OK  UNNEEDED, same version is already published
palomino4Windows Server 2022 Datacenter / x64  OK    ERROR  skippedskipped
lconwaymacOS 12.5.1 Monterey / x86_64  OK    OK    OK    OK  UNNEEDED, same version is already published
Package 24/86HostnameOS / ArchINSTALLBUILDCHECKBUILD BIN
FRASER 1.10.2  (landing page)
Christian Mertes
git_last_commit: 411304e
git_last_commit_date: 2023-01-19 11:17:01 -0400
nebbiolo2Linux (Ubuntu 20.04.5 LTS) / x86_64  OK    OK    OK  UNNEEDED, same version is already published
palomino4Windows Server 2022 Datacenter / x64  OK    OK    OK    OK  UNNEEDED, same version is already published
lconwaymacOS 12.5.1 Monterey / x86_64  OK    OK    OK    OK  UNNEEDED, same version is already published
Package 25/86HostnameOS / ArchINSTALLBUILDCHECKBUILD BIN
GDCRNATools 1.18.0  (landing page)
Ruidong Li
git_last_commit: 3d1e731
git_last_commit_date: 2022-11-01 11:17:01 -0400
nebbiolo2Linux (Ubuntu 20.04.5 LTS) / x86_64  OK    OK    OK  UNNEEDED, same version is already published
palomino4Windows Server 2022 Datacenter / x64  OK    OK    OK    OK  UNNEEDED, same version is already published
lconwaymacOS 12.5.1 Monterey / x86_64  OK    OK    OK    OK  UNNEEDED, same version is already published
Package 26/86HostnameOS / ArchINSTALLBUILDCHECKBUILD BIN
GeneAccord 1.16.0  (landing page)
Ariane L. Moore
git_last_commit: 02fc693
git_last_commit_date: 2022-11-01 11:18:14 -0400
nebbiolo2Linux (Ubuntu 20.04.5 LTS) / x86_64  OK    OK    ERROR  
palomino4Windows Server 2022 Datacenter / x64  OK    OK    OK    OK  UNNEEDED, same version is already published
lconwaymacOS 12.5.1 Monterey / x86_64  OK    OK    OK    OK  UNNEEDED, same version is already published
Package 27/86HostnameOS / ArchINSTALLBUILDCHECKBUILD BIN
genefu 2.30.0  (landing page)
Benjamin Haibe-Kains
git_last_commit: 84cd074
git_last_commit_date: 2022-11-01 11:05:46 -0400
nebbiolo2Linux (Ubuntu 20.04.5 LTS) / x86_64  OK    OK    OK  UNNEEDED, same version is already published
palomino4Windows Server 2022 Datacenter / x64  OK    OK    OK    OK  UNNEEDED, same version is already published
lconwaymacOS 12.5.1 Monterey / x86_64  OK    OK    OK    OK  UNNEEDED, same version is already published
Package 28/86HostnameOS / ArchINSTALLBUILDCHECKBUILD BIN
GenomicFeatures 1.50.4  (landing page)
H. Pagès
git_last_commit: 68bf6e1
git_last_commit_date: 2022-12-14 21:06:06 -0400
nebbiolo2Linux (Ubuntu 20.04.5 LTS) / x86_64  OK    OK    OK  UNNEEDED, same version is already published
palomino4Windows Server 2022 Datacenter / x64  OK    OK    OK    OK  UNNEEDED, same version is already published
lconwaymacOS 12.5.1 Monterey / x86_64  OK    OK    OK    OK  UNNEEDED, same version is already published
Package 29/86HostnameOS / ArchINSTALLBUILDCHECKBUILD BIN
GenomicOZone 1.12.0  (landing page)
Hua Zhong, Mingzhou Song
git_last_commit: e6068df
git_last_commit_date: 2022-11-01 11:20:20 -0400
nebbiolo2Linux (Ubuntu 20.04.5 LTS) / x86_64  OK    OK    OK  UNNEEDED, same version is already published
palomino4Windows Server 2022 Datacenter / x64  OK    OK    OK    OK  UNNEEDED, same version is already published
lconwaymacOS 12.5.1 Monterey / x86_64  OK    OK    OK    OK  UNNEEDED, same version is already published
Package 30/86HostnameOS / ArchINSTALLBUILDCHECKBUILD BIN
GenVisR 1.30.0  (landing page)
Zachary Skidmore
git_last_commit: ad1791a
git_last_commit_date: 2022-11-01 11:12:48 -0400
nebbiolo2Linux (Ubuntu 20.04.5 LTS) / x86_64  OK    OK    ERROR  
palomino4Windows Server 2022 Datacenter / x64  OK    OK    WARNINGS    OK  UNNEEDED, same version is already published
lconwaymacOS 12.5.1 Monterey / x86_64  OK    OK    WARNINGS    OK  UNNEEDED, same version is already published
Package 31/86HostnameOS / ArchINSTALLBUILDCHECKBUILD BIN
gespeR 1.30.0  (landing page)
Fabian Schmich
git_last_commit: 6213cb5
git_last_commit_date: 2022-11-01 11:10:56 -0400
nebbiolo2Linux (Ubuntu 20.04.5 LTS) / x86_64  OK    OK    WARNINGS  UNNEEDED, same version is already published
palomino4Windows Server 2022 Datacenter / x64  OK    OK    WARNINGS    OK  UNNEEDED, same version is already published
lconwaymacOS 12.5.1 Monterey / x86_64  OK    OK    WARNINGS    OK  UNNEEDED, same version is already published
Package 32/86HostnameOS / ArchINSTALLBUILDCHECKBUILD BIN
glmSparseNet 1.16.0  (landing page)
André Veríssimo
git_last_commit: 01657cc
git_last_commit_date: 2022-11-01 11:18:30 -0400
nebbiolo2Linux (Ubuntu 20.04.5 LTS) / x86_64  OK    OK    OK  UNNEEDED, same version is already published
palomino4Windows Server 2022 Datacenter / x64  OK    OK    OK    OK  UNNEEDED, same version is already published
lconwaymacOS 12.5.1 Monterey / x86_64  OK    ERROR  skippedskipped
Package 33/86HostnameOS / ArchINSTALLBUILDCHECKBUILD BIN
GOexpress 1.32.0  (landing page)
Kevin Rue-Albrecht
git_last_commit: 071bfb7
git_last_commit_date: 2022-11-01 11:10:18 -0400
nebbiolo2Linux (Ubuntu 20.04.5 LTS) / x86_64  OK    OK    OK  UNNEEDED, same version is already published
palomino4Windows Server 2022 Datacenter / x64  OK    OK    OK    OK  UNNEEDED, same version is already published
lconwaymacOS 12.5.1 Monterey / x86_64  OK    OK    OK    OK  UNNEEDED, same version is already published
Package 34/86HostnameOS / ArchINSTALLBUILDCHECKBUILD BIN
goSTAG 1.22.0  (landing page)
Brian D. Bennett
git_last_commit: 20e7a5e
git_last_commit_date: 2022-11-01 11:15:06 -0400
nebbiolo2Linux (Ubuntu 20.04.5 LTS) / x86_64  OK    OK    OK  UNNEEDED, same version is already published
palomino4Windows Server 2022 Datacenter / x64  OK    OK    OK    OK  UNNEEDED, same version is already published
lconwaymacOS 12.5.1 Monterey / x86_64  OK    OK    OK    OK  UNNEEDED, same version is already published
Package 35/86HostnameOS / ArchINSTALLBUILDCHECKBUILD BIN
gpart 1.16.0  (landing page)
Sun Ah Kim
git_last_commit: 7af2524
git_last_commit_date: 2022-11-01 11:18:29 -0400
nebbiolo2Linux (Ubuntu 20.04.5 LTS) / x86_64  ERROR    ERROR  skipped
palomino4Windows Server 2022 Datacenter / x64  ERROR    ERROR  skippedskipped
lconwaymacOS 12.5.1 Monterey / x86_64  ERROR    ERROR  skippedskipped
Package 36/86HostnameOS / ArchINSTALLBUILDCHECKBUILD BIN
GRaNIE 1.2.7  (landing page)
Christian Arnold
git_last_commit: 97c6ab9
git_last_commit_date: 2023-04-06 05:31:33 -0400
nebbiolo2Linux (Ubuntu 20.04.5 LTS) / x86_64  OK    OK    WARNINGS  UNNEEDED, same version is already published
palomino4Windows Server 2022 Datacenter / x64  OK    OK    WARNINGS    OK  UNNEEDED, same version is already published
lconwaymacOS 12.5.1 Monterey / x86_64  OK    OK    WARNINGS    OK  UNNEEDED, same version is already published
Package 37/86HostnameOS / ArchINSTALLBUILDCHECKBUILD BIN
Gviz 1.42.1  (landing page)
Robert Ivanek
git_last_commit: 9839dbb
git_last_commit_date: 2023-03-15 06:31:07 -0400
nebbiolo2Linux (Ubuntu 20.04.5 LTS) / x86_64  OK    OK    OK  UNNEEDED, same version is already published
palomino4Windows Server 2022 Datacenter / x64  OK    OK    OK    OK  UNNEEDED, same version is already published
lconwaymacOS 12.5.1 Monterey / x86_64  OK    OK    OK    OK  UNNEEDED, same version is already published
Package 38/86HostnameOS / ArchINSTALLBUILDCHECKBUILD BIN
hermes 1.2.0  (landing page)
Daniel Sabanés Bové
git_last_commit: e704cda
git_last_commit_date: 2022-11-01 11:26:13 -0400
nebbiolo2Linux (Ubuntu 20.04.5 LTS) / x86_64  OK    OK    OK  UNNEEDED, same version is already published
palomino4Windows Server 2022 Datacenter / x64  OK    OK    OK    OK  UNNEEDED, same version is already published
lconwaymacOS 12.5.1 Monterey / x86_64  OK    OK    OK    OK  UNNEEDED, same version is already published
Package 39/86HostnameOS / ArchINSTALLBUILDCHECKBUILD BIN
InterCellar 2.4.0  (landing page)
Marta Interlandi
git_last_commit: 884f4d6
git_last_commit_date: 2022-11-01 11:24:14 -0400
nebbiolo2Linux (Ubuntu 20.04.5 LTS) / x86_64  OK    OK    OK  UNNEEDED, same version is already published
palomino4Windows Server 2022 Datacenter / x64  OK    OK    OK    OK  UNNEEDED, same version is already published
lconwaymacOS 12.5.1 Monterey / x86_64  OK    OK    OK    OK  UNNEEDED, same version is already published
Package 40/86HostnameOS / ArchINSTALLBUILDCHECKBUILD BIN
isobar 1.44.0  (landing page)
Florian P Breitwieser
git_last_commit: 87ee415
git_last_commit_date: 2022-11-01 11:06:26 -0400
nebbiolo2Linux (Ubuntu 20.04.5 LTS) / x86_64  OK    OK    WARNINGS  UNNEEDED, same version is already published
palomino4Windows Server 2022 Datacenter / x64  OK    OK    WARNINGS    OK  UNNEEDED, same version is already published
lconwaymacOS 12.5.1 Monterey / x86_64  OK    OK    WARNINGS    OK  UNNEEDED, same version is already published
Package 41/86HostnameOS / ArchINSTALLBUILDCHECKBUILD BIN
LACE 2.2.0  (landing page)
Davide Maspero
git_last_commit: b65bac8
git_last_commit_date: 2022-11-01 11:22:06 -0400
nebbiolo2Linux (Ubuntu 20.04.5 LTS) / x86_64  OK    OK    OK  UNNEEDED, same version is already published
palomino4Windows Server 2022 Datacenter / x64  OK    OK    OK    OK  UNNEEDED, same version is already published
lconwaymacOS 12.5.1 Monterey / x86_64  OK    OK    OK    OK  UNNEEDED, same version is already published
Package 42/86HostnameOS / ArchINSTALLBUILDCHECKBUILD BIN
mCSEA 1.18.0  (landing page)
Jordi Martorell-Marugán
git_last_commit: 68000c0
git_last_commit_date: 2022-11-01 11:17:00 -0400
nebbiolo2Linux (Ubuntu 20.04.5 LTS) / x86_64  OK    OK    OK  UNNEEDED, same version is already published
palomino4Windows Server 2022 Datacenter / x64  OK    OK    OK    OK  UNNEEDED, same version is already published
lconwaymacOS 12.5.1 Monterey / x86_64  OK    OK    OK    OK  UNNEEDED, same version is already published
Package 43/86HostnameOS / ArchINSTALLBUILDCHECKBUILD BIN
MEDIPS 1.50.0  (landing page)
Lukas Chavez
git_last_commit: 04e00ee
git_last_commit_date: 2022-11-01 11:05:24 -0400
nebbiolo2Linux (Ubuntu 20.04.5 LTS) / x86_64  OK    OK    OK  UNNEEDED, same version is already published
palomino4Windows Server 2022 Datacenter / x64  OK    OK    OK    OK  UNNEEDED, same version is already published
lconwaymacOS 12.5.1 Monterey / x86_64  OK    OK    OK    OK  UNNEEDED, same version is already published
Package 44/86HostnameOS / ArchINSTALLBUILDCHECKBUILD BIN
MetaboSignal 1.28.0  (landing page)
Andrea Rodriguez-Martinez
git_last_commit: efa796b
git_last_commit_date: 2022-11-01 11:14:22 -0400
nebbiolo2Linux (Ubuntu 20.04.5 LTS) / x86_64  OK    OK    OK  UNNEEDED, same version is already published
palomino4Windows Server 2022 Datacenter / x64  OK    OK    OK    OK  UNNEEDED, same version is already published
lconwaymacOS 12.5.1 Monterey / x86_64  OK    OK    OK    OK  UNNEEDED, same version is already published
Package 45/86HostnameOS / ArchINSTALLBUILDCHECKBUILD BIN
metaseqR2 1.10.0  (landing page)
Panagiotis Moulos
git_last_commit: 73e2738
git_last_commit_date: 2022-11-01 11:22:03 -0400
nebbiolo2Linux (Ubuntu 20.04.5 LTS) / x86_64  OK    OK    WARNINGS  UNNEEDED, same version is already published
palomino4Windows Server 2022 Datacenter / x64  OK    OK    WARNINGS    OK  UNNEEDED, same version is already published
lconwaymacOS 12.5.1 Monterey / x86_64  OK    OK    WARNINGS    OK  UNNEEDED, same version is already published
Package 46/86HostnameOS / ArchINSTALLBUILDCHECKBUILD BIN
MGFR 1.24.0  (landing page)
Khadija El Amrani
git_last_commit: 2493145
git_last_commit_date: 2022-11-01 11:14:00 -0400
nebbiolo2Linux (Ubuntu 20.04.5 LTS) / x86_64  OK    OK    OK  UNNEEDED, same version is already published
palomino4Windows Server 2022 Datacenter / x64  OK    OK    OK    OK  UNNEEDED, same version is already published
lconwaymacOS 12.5.1 Monterey / x86_64  OK    OK    ERROR    OK  
Package 47/86HostnameOS / ArchINSTALLBUILDCHECKBUILD BIN
MineICA 1.38.0  (landing page)
Anne Biton
git_last_commit: 4d1fbc6
git_last_commit_date: 2022-11-01 11:07:52 -0400
nebbiolo2Linux (Ubuntu 20.04.5 LTS) / x86_64  OK    OK    ERROR  
palomino4Windows Server 2022 Datacenter / x64  OK    OK    ERROR    OK  
lconwaymacOS 12.5.1 Monterey / x86_64  OK    OK    ERROR    OK  
Package 48/86HostnameOS / ArchINSTALLBUILDCHECKBUILD BIN
MouseFM 1.8.0  (landing page)
Matthias Munz
git_last_commit: 662f69d
git_last_commit_date: 2022-11-01 11:26:10 -0400
nebbiolo2Linux (Ubuntu 20.04.5 LTS) / x86_64  OK    OK    OK  UNNEEDED, same version is already published
palomino4Windows Server 2022 Datacenter / x64  OK    OK    OK    OK  UNNEEDED, same version is already published
lconwaymacOS 12.5.1 Monterey / x86_64  OK    OK    OK    OK  UNNEEDED, same version is already published
Package 49/86HostnameOS / ArchINSTALLBUILDCHECKBUILD BIN
NetSAM 1.38.0  (landing page)
Zhiao Shi
git_last_commit: dd9a6db
git_last_commit_date: 2022-11-01 11:08:21 -0400
nebbiolo2Linux (Ubuntu 20.04.5 LTS) / x86_64  OK    OK    OK  UNNEEDED, same version is already published
palomino4Windows Server 2022 Datacenter / x64  OK    OK    ERROR    OK  
lconwaymacOS 12.5.1 Monterey / x86_64  OK    OK    OK    OK  UNNEEDED, same version is already published
Package 50/86HostnameOS / ArchINSTALLBUILDCHECKBUILD BIN
NoRCE 1.10.0  (landing page)
Gulden Olgun
git_last_commit: 39a8626
git_last_commit_date: 2022-11-01 11:21:35 -0400
nebbiolo2Linux (Ubuntu 20.04.5 LTS) / x86_64  OK    OK    OK  UNNEEDED, same version is already published
palomino4Windows Server 2022 Datacenter / x64  OK    OK    OK    OK  UNNEEDED, same version is already published
lconwaymacOS 12.5.1 Monterey / x86_64  OK    OK    OK    OK  UNNEEDED, same version is already published
Package 51/86HostnameOS / ArchINSTALLBUILDCHECKBUILD BIN
OncoScore 1.26.0  (landing page)
Luca De Sano
git_last_commit: fa89848
git_last_commit_date: 2022-11-01 11:13:18 -0400
nebbiolo2Linux (Ubuntu 20.04.5 LTS) / x86_64  OK    OK    OK  UNNEEDED, same version is already published
palomino4Windows Server 2022 Datacenter / x64  OK    OK    OK    OK  UNNEEDED, same version is already published
lconwaymacOS 12.5.1 Monterey / x86_64  OK    OK    OK    OK  UNNEEDED, same version is already published
Package 52/86HostnameOS / ArchINSTALLBUILDCHECKBUILD BIN
oposSOM 2.16.0  (landing page)
Henry Loeffler-Wirth
git_last_commit: 15105f8
git_last_commit_date: 2022-11-01 11:09:54 -0400
nebbiolo2Linux (Ubuntu 20.04.5 LTS) / x86_64  OK    OK    WARNINGS  UNNEEDED, same version is already published
palomino4Windows Server 2022 Datacenter / x64  OK    OK    WARNINGS    OK  UNNEEDED, same version is already published
lconwaymacOS 12.5.1 Monterey / x86_64  OK    OK    WARNINGS    OK  UNNEEDED, same version is already published
Package 53/86HostnameOS / ArchINSTALLBUILDCHECKBUILD BIN
ORFik 1.18.2  (landing page)
Haakon Tjeldnes
git_last_commit: 4ab60c3
git_last_commit_date: 2023-01-13 19:50:22 -0400
nebbiolo2Linux (Ubuntu 20.04.5 LTS) / x86_64  OK    OK    OK  UNNEEDED, same version is already published
palomino4Windows Server 2022 Datacenter / x64  OK    OK    OK    OK  UNNEEDED, same version is already published
lconwaymacOS 12.5.1 Monterey / x86_64  OK    OK    OK    OK  UNNEEDED, same version is already published
Package 54/86HostnameOS / ArchINSTALLBUILDCHECKBUILD BIN
pcaExplorer 2.24.0  (landing page)
Federico Marini
git_last_commit: 15ff062
git_last_commit_date: 2022-11-01 11:13:31 -0400
nebbiolo2Linux (Ubuntu 20.04.5 LTS) / x86_64  OK    OK    OK  UNNEEDED, same version is already published
palomino4Windows Server 2022 Datacenter / x64  OK    OK    OK    OK  UNNEEDED, same version is already published
lconwaymacOS 12.5.1 Monterey / x86_64  OK    OK    OK    OK  UNNEEDED, same version is already published
Package 55/86HostnameOS / ArchINSTALLBUILDCHECKBUILD BIN
phenoTest 1.46.0  (landing page)
Evarist Planet
git_last_commit: da0d349
git_last_commit_date: 2022-11-01 11:05:33 -0400
nebbiolo2Linux (Ubuntu 20.04.5 LTS) / x86_64  OK    OK    WARNINGS  UNNEEDED, same version is already published
palomino4Windows Server 2022 Datacenter / x64  OK    OK    WARNINGS    OK  UNNEEDED, same version is already published
lconwaymacOS 12.5.1 Monterey / x86_64  OK    OK    WARNINGS    OK  UNNEEDED, same version is already published
Package 56/86HostnameOS / ArchINSTALLBUILDCHECKBUILD BIN
PPInfer 1.24.2  (landing page)
Dongmin Jung
git_last_commit: 27b75e9
git_last_commit_date: 2022-11-15 09:08:17 -0400
nebbiolo2Linux (Ubuntu 20.04.5 LTS) / x86_64  OK    OK    OK  UNNEEDED, same version is already published
palomino4Windows Server 2022 Datacenter / x64  OK    OK    OK    OK  UNNEEDED, same version is already published
lconwaymacOS 12.5.1 Monterey / x86_64  OK    OK    OK    OK  UNNEEDED, same version is already published
Package 57/86HostnameOS / ArchINSTALLBUILDCHECKBUILD BIN
PrecisionTrialDrawer 1.14.0  (landing page)
Giorgio Melloni
git_last_commit: 591e1ee
git_last_commit_date: 2022-11-01 11:18:58 -0400
nebbiolo2Linux (Ubuntu 20.04.5 LTS) / x86_64  OK    ERROR  skipped
palomino4Windows Server 2022 Datacenter / x64  OK    ERROR  skippedskipped
lconwaymacOS 12.5.1 Monterey / x86_64  OK    ERROR  skippedskipped
Package 58/86HostnameOS / ArchINSTALLBUILDCHECKBUILD BIN
pRoloc 1.38.2  (landing page)
Laurent Gatto
git_last_commit: f939f2e
git_last_commit_date: 2023-01-19 11:18:08 -0400
nebbiolo2Linux (Ubuntu 20.04.5 LTS) / x86_64  OK    OK    OK  UNNEEDED, same version is already published
palomino4Windows Server 2022 Datacenter / x64  OK    OK    OK    OK  UNNEEDED, same version is already published
lconwaymacOS 12.5.1 Monterey / x86_64  OK    OK    OK    OK  UNNEEDED, same version is already published
Package 59/86HostnameOS / ArchINSTALLBUILDCHECKBUILD BIN
ProteoMM 1.16.0  (landing page)
Yuliya V Karpievitch
git_last_commit: fbb1390
git_last_commit_date: 2022-11-01 11:18:43 -0400
nebbiolo2Linux (Ubuntu 20.04.5 LTS) / x86_64  OK    OK    OK  UNNEEDED, same version is already published
palomino4Windows Server 2022 Datacenter / x64  OK    OK    OK    OK  UNNEEDED, same version is already published
lconwaymacOS 12.5.1 Monterey / x86_64  OK    OK    OK    OK  UNNEEDED, same version is already published
Package 60/86HostnameOS / ArchINSTALLBUILDCHECKBUILD BIN
psygenet2r 1.30.0  (landing page)
Alba Gutierrez-Sacristan
git_last_commit: 3a53458
git_last_commit_date: 2022-11-01 11:13:07 -0400
nebbiolo2Linux (Ubuntu 20.04.5 LTS) / x86_64  OK    OK    OK  UNNEEDED, same version is already published
palomino4Windows Server 2022 Datacenter / x64  OK    OK    OK    OK  UNNEEDED, same version is already published
lconwaymacOS 12.5.1 Monterey / x86_64  OK    OK    OK    OK  UNNEEDED, same version is already published
Package 61/86HostnameOS / ArchINSTALLBUILDCHECKBUILD BIN
pwOmics 1.30.0  (landing page)
Maren Sitte
git_last_commit: f59da6c
git_last_commit_date: 2022-11-01 11:11:40 -0400
nebbiolo2Linux (Ubuntu 20.04.5 LTS) / x86_64  OK    OK    WARNINGS  UNNEEDED, same version is already published
palomino4Windows Server 2022 Datacenter / x64  OK    OK    WARNINGS    OK  UNNEEDED, same version is already published
lconwaymacOS 12.5.1 Monterey / x86_64  OK    OK    WARNINGS    OK  UNNEEDED, same version is already published
Package 62/86HostnameOS / ArchINSTALLBUILDCHECKBUILD BIN
R453Plus1Toolbox 1.48.0  (landing page)
Hans-Ulrich Klein
git_last_commit: 93bf3f8
git_last_commit_date: 2022-11-01 11:05:23 -0400
nebbiolo2Linux (Ubuntu 20.04.5 LTS) / x86_64  OK    OK    OK  UNNEEDED, same version is already published
palomino4Windows Server 2022 Datacenter / x64  OK    OK    OK    OK  UNNEEDED, same version is already published
lconwaymacOS 12.5.1 Monterey / x86_64  OK    OK    OK    OK  UNNEEDED, same version is already published
Package 63/86HostnameOS / ArchINSTALLBUILDCHECKBUILD BIN
ramwas 1.22.0  (landing page)
Andrey A Shabalin
git_last_commit: 012c3d4
git_last_commit_date: 2022-11-01 11:14:58 -0400
nebbiolo2Linux (Ubuntu 20.04.5 LTS) / x86_64  OK    OK    OK  UNNEEDED, same version is already published
palomino4Windows Server 2022 Datacenter / x64  OK    OK    OK    OK  UNNEEDED, same version is already published
lconwaymacOS 12.5.1 Monterey / x86_64  OK    OK    OK    OK  UNNEEDED, same version is already published
Package 64/86HostnameOS / ArchINSTALLBUILDCHECKBUILD BIN
recoup 1.26.0  (landing page)
Panagiotis Moulos
git_last_commit: c384eae
git_last_commit_date: 2022-11-01 11:13:20 -0400
nebbiolo2Linux (Ubuntu 20.04.5 LTS) / x86_64  OK    OK    OK  UNNEEDED, same version is already published
palomino4Windows Server 2022 Datacenter / x64  OK    OK    OK    OK  UNNEEDED, same version is already published
lconwaymacOS 12.5.1 Monterey / x86_64  OK    OK    OK    OK  UNNEEDED, same version is already published
Package 65/86HostnameOS / ArchINSTALLBUILDCHECKBUILD BIN
RepViz 1.14.0  (landing page)
Thomas Faux, Asta Laiho
git_last_commit: a1e1628
git_last_commit_date: 2022-11-01 11:19:41 -0400
nebbiolo2Linux (Ubuntu 20.04.5 LTS) / x86_64  OK    OK    WARNINGS  UNNEEDED, same version is already published
palomino4Windows Server 2022 Datacenter / x64  OK    OK    WARNINGS    OK  UNNEEDED, same version is already published
lconwaymacOS 12.5.1 Monterey / x86_64  OK    OK    WARNINGS    OK  UNNEEDED, same version is already published
Package 66/86HostnameOS / ArchINSTALLBUILDCHECKBUILD BIN
rgsepd 1.30.0  (landing page)
Karl Stamm
git_last_commit: d59ea56
git_last_commit_date: 2022-11-01 11:10:53 -0400
nebbiolo2Linux (Ubuntu 20.04.5 LTS) / x86_64  OK    OK    OK  UNNEEDED, same version is already published
palomino4Windows Server 2022 Datacenter / x64  OK    OK    OK    OK  UNNEEDED, same version is already published
lconwaymacOS 12.5.1 Monterey / x86_64  OK    OK    OK    OK  UNNEEDED, same version is already published
Package 67/86HostnameOS / ArchINSTALLBUILDCHECKBUILD BIN
RIPAT 1.8.0  (landing page)
Min-Jeong Baek
git_last_commit: 1bd9739
git_last_commit_date: 2022-11-01 11:22:40 -0400
nebbiolo2Linux (Ubuntu 20.04.5 LTS) / x86_64  OK    OK    OK  UNNEEDED, same version is already published
palomino4Windows Server 2022 Datacenter / x64  OK    OK    OK    OK  UNNEEDED, same version is already published
lconwaymacOS 12.5.1 Monterey / x86_64  OK    OK    OK    OK  UNNEEDED, same version is already published
Package 68/86HostnameOS / ArchINSTALLBUILDCHECKBUILD BIN
RnaSeqSampleSize 2.8.0  (landing page)
Shilin Zhao Developer
git_last_commit: 01c7c52
git_last_commit_date: 2022-11-01 11:23:06 -0400
nebbiolo2Linux (Ubuntu 20.04.5 LTS) / x86_64  OK    OK    OK  UNNEEDED, same version is already published
palomino4Windows Server 2022 Datacenter / x64  OK    OK    OK    OK  UNNEEDED, same version is already published
lconwaymacOS 12.5.1 Monterey / x86_64  OK    OK    OK    OK  UNNEEDED, same version is already published
Package 69/86HostnameOS / ArchINSTALLBUILDCHECKBUILD BIN
scPipe 1.20.6  (landing page)
Shian Su
git_last_commit: defa6ff
git_last_commit_date: 2023-03-06 19:45:39 -0400
nebbiolo2Linux (Ubuntu 20.04.5 LTS) / x86_64  OK    OK    OK  UNNEEDED, same version is already published
palomino4Windows Server 2022 Datacenter / x64  OK    OK    OK    OK  UNNEEDED, same version is already published
lconwaymacOS 12.5.1 Monterey / x86_64  OK    OK    OK    OK  UNNEEDED, same version is already published
Package 70/86HostnameOS / ArchINSTALLBUILDCHECKBUILD BIN
seq2pathway 1.30.0  (landing page)
Arjun Kinstlick
git_last_commit: 6881da6
git_last_commit_date: 2022-11-01 11:11:01 -0400
nebbiolo2Linux (Ubuntu 20.04.5 LTS) / x86_64  OK    OK    WARNINGS  UNNEEDED, same version is already published
palomino4Windows Server 2022 Datacenter / x64  OK    OK    WARNINGS    OK  UNNEEDED, same version is already published
lconwaymacOS 12.5.1 Monterey / x86_64  OK    OK    WARNINGS    OK  UNNEEDED, same version is already published
Package 71/86HostnameOS / ArchINSTALLBUILDCHECKBUILD BIN
SeqGSEA 1.38.0  (landing page)
Xi Wang
git_last_commit: fe53ed1
git_last_commit_date: 2022-11-01 11:08:07 -0400
nebbiolo2Linux (Ubuntu 20.04.5 LTS) / x86_64  OK    OK    OK  UNNEEDED, same version is already published
palomino4Windows Server 2022 Datacenter / x64  OK    OK    OK    OK  UNNEEDED, same version is already published
lconwaymacOS 12.5.1 Monterey / x86_64  OK    OK    OK    OK  UNNEEDED, same version is already published
Package 72/86HostnameOS / ArchINSTALLBUILDCHECKBUILD BIN
sitadela 1.6.0  (landing page)
Panagiotis Moulos
git_last_commit: 0733c99
git_last_commit_date: 2022-11-01 11:24:14 -0400
nebbiolo2Linux (Ubuntu 20.04.5 LTS) / x86_64  OK    OK    OK  UNNEEDED, same version is already published
palomino4Windows Server 2022 Datacenter / x64  OK    OK    OK    OK  UNNEEDED, same version is already published
lconwaymacOS 12.5.1 Monterey / x86_64  OK    OK    OK    OK  UNNEEDED, same version is already published
Package 73/86HostnameOS / ArchINSTALLBUILDCHECKBUILD BIN
SPLINTER 1.24.0  (landing page)
Diana Low
git_last_commit: 34a4110
git_last_commit_date: 2022-11-01 11:14:31 -0400
nebbiolo2Linux (Ubuntu 20.04.5 LTS) / x86_64  OK    OK    OK  UNNEEDED, same version is already published
palomino4Windows Server 2022 Datacenter / x64  OK    OK    WARNINGS    OK  UNNEEDED, same version is already published
lconwaymacOS 12.5.1 Monterey / x86_64  OK    OK    OK    OK  UNNEEDED, same version is already published
Package 74/86HostnameOS / ArchINSTALLBUILDCHECKBUILD BIN
SPONGE 1.20.0  (landing page)
Markus List
git_last_commit: 65329b9
git_last_commit_date: 2022-11-01 11:16:13 -0400
nebbiolo2Linux (Ubuntu 20.04.5 LTS) / x86_64  OK    OK    WARNINGS  UNNEEDED, same version is already published
palomino4Windows Server 2022 Datacenter / x64  OK    OK    WARNINGS    OK  UNNEEDED, same version is already published
lconwaymacOS 12.5.1 Monterey / x86_64  OK    OK    WARNINGS    OK  UNNEEDED, same version is already published
Package 75/86HostnameOS / ArchINSTALLBUILDCHECKBUILD BIN
surfaltr 1.4.0  (landing page)
Pooja Gangras
git_last_commit: 855143b
git_last_commit_date: 2022-11-01 11:25:45 -0400
nebbiolo2Linux (Ubuntu 20.04.5 LTS) / x86_64  OK    OK    WARNINGS  UNNEEDED, same version is already published
palomino4Windows Server 2022 Datacenter / x64  OK    OK    WARNINGS    OK  UNNEEDED, same version is already published
lconwaymacOS 12.5.1 Monterey / x86_64  OK    OK    WARNINGS    OK  UNNEEDED, same version is already published
Package 76/86HostnameOS / ArchINSTALLBUILDCHECKBUILD BIN
SWATH2stats 1.28.0  (landing page)
Peter Blattmann
git_last_commit: d1914af
git_last_commit_date: 2022-11-01 11:12:23 -0400
nebbiolo2Linux (Ubuntu 20.04.5 LTS) / x86_64  OK    OK    OK  UNNEEDED, same version is already published
palomino4Windows Server 2022 Datacenter / x64  OK    OK    OK    OK  UNNEEDED, same version is already published
lconwaymacOS 12.5.1 Monterey / x86_64  OK    OK    OK    OK  UNNEEDED, same version is already published
Package 77/86HostnameOS / ArchINSTALLBUILDCHECKBUILD BIN
TCGAbiolinks 2.26.0  (landing page)
Tiago Chedraoui Silva
git_last_commit: 14d1ed9
git_last_commit_date: 2022-11-01 11:12:02 -0400
nebbiolo2Linux (Ubuntu 20.04.5 LTS) / x86_64  OK    OK    TIMEOUT  
palomino4Windows Server 2022 Datacenter / x64  OK    OK    WARNINGS    OK  UNNEEDED, same version is already published
lconwaymacOS 12.5.1 Monterey / x86_64  OK    OK    WARNINGS    OK  UNNEEDED, same version is already published
Package 78/86HostnameOS / ArchINSTALLBUILDCHECKBUILD BIN
TEKRABber 1.2.0  (landing page)
Yao-Chung Chen
git_last_commit: ff8c3a9
git_last_commit_date: 2022-11-01 11:26:27 -0400
nebbiolo2Linux (Ubuntu 20.04.5 LTS) / x86_64  OK    OK    OK  UNNEEDED, same version is already published
palomino4Windows Server 2022 Datacenter / x64  OK    OK    OK    OK  UNNEEDED, same version is already published
lconwaymacOS 12.5.1 Monterey / x86_64  OK    OK    OK    OK  UNNEEDED, same version is already published
Package 79/86HostnameOS / ArchINSTALLBUILDCHECKBUILD BIN
TFEA.ChIP 1.18.0  (landing page)
Laura Puente Santamaría
git_last_commit: b8eab49
git_last_commit_date: 2022-11-01 11:16:54 -0400
nebbiolo2Linux (Ubuntu 20.04.5 LTS) / x86_64  OK    OK    OK  UNNEEDED, same version is already published
palomino4Windows Server 2022 Datacenter / x64  OK    OK    OK    OK  UNNEEDED, same version is already published
lconwaymacOS 12.5.1 Monterey / x86_64  OK    OK    OK    OK  UNNEEDED, same version is already published
Package 80/86HostnameOS / ArchINSTALLBUILDCHECKBUILD BIN
TimiRGeN 1.8.0  (landing page)
Krutik Patel
git_last_commit: 6150789
git_last_commit_date: 2022-11-01 11:22:47 -0400
nebbiolo2Linux (Ubuntu 20.04.5 LTS) / x86_64  OK    OK    OK  UNNEEDED, same version is already published
palomino4Windows Server 2022 Datacenter / x64  OK    OK    OK    OK  UNNEEDED, same version is already published
lconwaymacOS 12.5.1 Monterey / x86_64  OK    OK    OK    OK  UNNEEDED, same version is already published
Package 81/86HostnameOS / ArchINSTALLBUILDCHECKBUILD BIN
transcriptogramer 1.20.0  (landing page)
Diego Morais
git_last_commit: bff6cc3
git_last_commit_date: 2022-11-01 11:16:46 -0400
nebbiolo2Linux (Ubuntu 20.04.5 LTS) / x86_64  OK    OK    OK  UNNEEDED, same version is already published
palomino4Windows Server 2022 Datacenter / x64  OK    OK    OK    OK  UNNEEDED, same version is already published
lconwaymacOS 12.5.1 Monterey / x86_64  OK    OK    OK    OK  UNNEEDED, same version is already published
Package 82/86HostnameOS / ArchINSTALLBUILDCHECKBUILD BIN
trena 1.20.0  (landing page)
Paul Shannon
git_last_commit: 0b1d1b9
git_last_commit_date: 2022-11-01 11:15:44 -0400
nebbiolo2Linux (Ubuntu 20.04.5 LTS) / x86_64  OK    OK    WARNINGS  UNNEEDED, same version is already published
palomino4Windows Server 2022 Datacenter / x64  OK    OK    WARNINGS    OK  UNNEEDED, same version is already published
lconwaymacOS 12.5.1 Monterey / x86_64  OK    OK    WARNINGS    OK  UNNEEDED, same version is already published
Package 83/86HostnameOS / ArchINSTALLBUILDCHECKBUILD BIN
VegaMC 3.36.0  (landing page)
Sandro Morganella
git_last_commit: 867716a
git_last_commit_date: 2022-11-01 11:06:49 -0400
nebbiolo2Linux (Ubuntu 20.04.5 LTS) / x86_64  OK    OK    OK  UNNEEDED, same version is already published
palomino4Windows Server 2022 Datacenter / x64  OK    OK    OK    OK  UNNEEDED, same version is already published
lconwaymacOS 12.5.1 Monterey / x86_64  OK    OK    WARNINGS    OK  UNNEEDED, same version is already published
Package 84/86HostnameOS / ArchINSTALLBUILDCHECKBUILD BIN
ViSEAGO 1.12.0  (landing page)
Aurelien Brionne
git_last_commit: 12dddc3
git_last_commit_date: 2022-11-01 11:20:11 -0400
nebbiolo2Linux (Ubuntu 20.04.5 LTS) / x86_64  OK    OK    WARNINGS  UNNEEDED, same version is already published
palomino4Windows Server 2022 Datacenter / x64  OK    OK    WARNINGS    OK  UNNEEDED, same version is already published
lconwaymacOS 12.5.1 Monterey / x86_64  OK    OK    WARNINGS    OK  UNNEEDED, same version is already published
Package 85/86HostnameOS / ArchINSTALLBUILDCHECKBUILD BIN
XCIR 1.12.0  (landing page)
Renan Sauteraud
git_last_commit: 089f40b
git_last_commit_date: 2022-11-01 11:20:01 -0400
nebbiolo2Linux (Ubuntu 20.04.5 LTS) / x86_64  OK    ERROR  skipped
palomino4Windows Server 2022 Datacenter / x64  OK    ERROR  skippedskipped
lconwaymacOS 12.5.1 Monterey / x86_64  OK    ERROR  skippedskipped
Package 86/86HostnameOS / ArchINSTALLBUILDCHECKBUILD BIN
yarn 1.24.0  (landing page)
Joseph N Paulson
git_last_commit: d3a9c5c
git_last_commit_date: 2022-11-01 11:14:50 -0400
nebbiolo2Linux (Ubuntu 20.04.5 LTS) / x86_64  OK    OK    OK  UNNEEDED, same version is already published
palomino4Windows Server 2022 Datacenter / x64  OK    OK    OK    OK  UNNEEDED, same version is already published
lconwaymacOS 12.5.1 Monterey / x86_64  OK    OK    OK    OK  UNNEEDED, same version is already published