Back to Multiple platform build/check report for BioC 3.16:   simplified   long
AB[C]DEFGHIJKLMNOPQRSTUVWXYZ

This page was generated on 2023-03-29 11:06:01 -0400 (Wed, 29 Mar 2023).

HostnameOSArch (*)R versionInstalled pkgs
nebbiolo2Linux (Ubuntu 20.04.5 LTS)x86_644.2.3 (2023-03-15) -- "Shortstop Beagle" 4482
palomino4Windows Server 2022 Datacenterx644.2.3 (2023-03-15 ucrt) -- "Shortstop Beagle" 4278
lconwaymacOS 12.5.1 Montereyx86_644.2.3 (2023-03-15) -- "Shortstop Beagle" 4306
Click on any hostname to see more info about the system (e.g. compilers)      (*) as reported by 'uname -p', except on Windows and Mac OS X

CHECK results for CAGEfightR on lconway


To the developers/maintainers of the CAGEfightR package:
- Please allow up to 24 hours (and sometimes 48 hours) for your latest push to git@git.bioconductor.org:packages/CAGEfightR.git to
reflect on this report. See How and When does the builder pull? When will my changes propagate? for more information.
- Make sure to use the following settings in order to reproduce any error or warning you see on this page.

raw results

Package 244/2183HostnameOS / ArchINSTALLBUILDCHECKBUILD BIN
CAGEfightR 1.18.0  (landing page)
Malte Thodberg
Snapshot Date: 2023-03-27 14:00:04 -0400 (Mon, 27 Mar 2023)
git_url: https://git.bioconductor.org/packages/CAGEfightR
git_branch: RELEASE_3_16
git_last_commit: de07aac
git_last_commit_date: 2022-11-01 11:17:49 -0400 (Tue, 01 Nov 2022)
nebbiolo2Linux (Ubuntu 20.04.5 LTS) / x86_64  OK    OK    OK  UNNEEDED, same version is already published
palomino4Windows Server 2022 Datacenter / x64  OK    OK    OK    OK  UNNEEDED, same version is already published
lconwaymacOS 12.5.1 Monterey / x86_64  OK    OK    OK    OK  UNNEEDED, same version is already published

Summary

Package: CAGEfightR
Version: 1.18.0
Command: /Library/Frameworks/R.framework/Resources/bin/R CMD check --install=check:CAGEfightR.install-out.txt --library=/Library/Frameworks/R.framework/Resources/library --no-vignettes --timings CAGEfightR_1.18.0.tar.gz
StartedAt: 2023-03-27 19:16:38 -0400 (Mon, 27 Mar 2023)
EndedAt: 2023-03-27 19:21:59 -0400 (Mon, 27 Mar 2023)
EllapsedTime: 320.3 seconds
RetCode: 0
Status:   OK  
CheckDir: CAGEfightR.Rcheck
Warnings: 0

Command output

##############################################################################
##############################################################################
###
### Running command:
###
###   /Library/Frameworks/R.framework/Resources/bin/R CMD check --install=check:CAGEfightR.install-out.txt --library=/Library/Frameworks/R.framework/Resources/library --no-vignettes --timings CAGEfightR_1.18.0.tar.gz
###
##############################################################################
##############################################################################


* using log directory ‘/Users/biocbuild/bbs-3.16-bioc/meat/CAGEfightR.Rcheck’
* using R version 4.2.3 (2023-03-15)
* using platform: x86_64-apple-darwin17.0 (64-bit)
* using session charset: UTF-8
* using option ‘--no-vignettes’
* checking for file ‘CAGEfightR/DESCRIPTION’ ... OK
* checking extension type ... Package
* this is package ‘CAGEfightR’ version ‘1.18.0’
* package encoding: UTF-8
* checking package namespace information ... OK
* checking package dependencies ... OK
* checking if this is a source package ... OK
* checking if there is a namespace ... OK
* checking for hidden files and directories ... OK
* checking for portable file names ... OK
* checking for sufficient/correct file permissions ... OK
* checking whether package ‘CAGEfightR’ can be installed ... OK
* checking installed package size ... OK
* checking package directory ... OK
* checking ‘build’ directory ... OK
* checking DESCRIPTION meta-information ... OK
* checking top-level files ... OK
* checking for left-over files ... OK
* checking index information ... OK
* checking package subdirectories ... OK
* checking R files for non-ASCII characters ... OK
* checking R files for syntax errors ... OK
* checking whether the package can be loaded ... OK
* checking whether the package can be loaded with stated dependencies ... OK
* checking whether the package can be unloaded cleanly ... OK
* checking whether the namespace can be loaded with stated dependencies ... OK
* checking whether the namespace can be unloaded cleanly ... OK
* checking dependencies in R code ... OK
* checking S3 generic/method consistency ... OK
* checking replacement functions ... OK
* checking foreign function calls ... OK
* checking R code for possible problems ... OK
* checking Rd files ... OK
* checking Rd metadata ... OK
* checking Rd cross-references ... OK
* checking for missing documentation entries ... OK
* checking for code/documentation mismatches ... OK
* checking Rd \usage sections ... OK
* checking Rd contents ... OK
* checking for unstated dependencies in examples ... OK
* checking contents of ‘data’ directory ... OK
* checking data for non-ASCII characters ... OK
* checking LazyData ... OK
* checking data for ASCII and uncompressed saves ... OK
* checking files in ‘vignettes’ ... OK
* checking examples ... OK
Examples with CPU (user + system) or elapsed time > 5s
           user system elapsed
findLinks 4.039  1.275   4.146
* checking for unstated dependencies in vignettes ... OK
* checking package vignettes in ‘inst/doc’ ... OK
* checking running R code from vignettes ... SKIPPED
* checking re-building of vignette outputs ... SKIPPED
* checking PDF version of manual ... OK
* DONE

Status: OK


Installation output

CAGEfightR.Rcheck/00install.out

##############################################################################
##############################################################################
###
### Running command:
###
###   /Library/Frameworks/R.framework/Resources/bin/R CMD INSTALL CAGEfightR
###
##############################################################################
##############################################################################


* installing to library ‘/Library/Frameworks/R.framework/Versions/4.2/Resources/library’
* installing *source* package ‘CAGEfightR’ ...
** using staged installation
** R
** data
*** moving datasets to lazyload DB
** inst
** byte-compile and prepare package for lazy loading
** help
*** installing help indices
** building package indices
** installing vignettes
** testing if installed package can be loaded from temporary location
** testing if installed package can be loaded from final location
** testing if installed package keeps a record of temporary installation path
* DONE (CAGEfightR)

Tests output


Example timings

CAGEfightR.Rcheck/CAGEfightR-Ex.timings

nameusersystemelapsed
assignGeneID3.5110.1323.877
assignMissingID1.0080.0331.047
assignTxID0.8410.0290.877
assignTxType0.0010.0010.002
balanceBC0.0010.0010.001
balanceD0.0010.0010.001
bwCommonGenome0.0380.0060.047
bwGenomeCompatibility0.0190.0030.022
bwValid0.0070.0030.011
calcBidirectionality0.4230.0120.438
calcComposition2.2120.0642.288
calcPooled0.1160.0050.121
calcShape2.4790.1182.607
calcSupport0.1180.0030.122
calcTPM0.1550.0060.161
calcTotalTags0.0750.0040.080
checkCTSSs0.3120.0130.326
checkPeaked0.0740.0030.078
checkPooled0.0500.0040.054
clusterBidirectionally0.0000.0000.001
clusterUnidirectionally1.2570.0201.281
combineClusters0.7510.0090.763
convertBAM2BigWig000
convertBED2BigWig0.0000.0010.001
convertGRanges2GPos0.1290.0090.139
exampleDesign0.0050.0070.012
findLinks4.0391.2754.146
findStretches0.3830.0570.445
quantifyCTSSs0.0000.0010.001
quantifyCTSSs20.0000.0010.000
quantifyClusters0.3980.0670.467
quantifyGenes1.0370.0761.115
quickEnhancers000
quickGenes000
quickTSSs000
shapeEntropy000
shapeIQR000
shapeMean0.0010.0000.000
shapeMultimodality000
subsetByBidirectionality0.3770.0380.416
subsetByComposition1.0510.0531.107
subsetBySupport0.0650.0020.068
swapRanges0.1560.0080.164
swapScores0.0880.0030.091
trackBalance0.0010.0010.000
trackCTSS2.8490.1723.030
trackClusters1.8120.0211.839
trackLinks1.0620.7871.130
trimToPeak0.6730.0770.754
trimToPercentiles1.6360.0321.678
tuneTagClustering0.0000.0000.001
utilsAggregateRows0.3140.3500.669
utilsDeStrand0.0840.0020.087
utilsScoreOverlaps0.0480.0000.048
utilsSimplifyTxDb0.0010.0000.000