Back to Multiple platform build/check report for BioC 3.16:   simplified   long
AB[C]DEFGHIJKLMNOPQRSTUVWXYZ

This page was generated on 2023-03-22 11:05:26 -0400 (Wed, 22 Mar 2023).

HostnameOSArch (*)R versionInstalled pkgs
nebbiolo2Linux (Ubuntu 20.04.5 LTS)x86_644.2.3 (2023-03-15) -- "Shortstop Beagle" 4271
palomino4Windows Server 2022 Datacenterx644.2.3 (2023-03-15 ucrt) -- "Shortstop Beagle" 4214
lconwaymacOS 12.5.1 Montereyx86_644.2.3 (2023-03-15) -- "Shortstop Beagle" 4259
Click on any hostname to see more info about the system (e.g. compilers)      (*) as reported by 'uname -p', except on Windows and Mac OS X

INSTALL results for clusterExperiment on palomino4


To the developers/maintainers of the clusterExperiment package:
- Please allow up to 24 hours (and sometimes 48 hours) for your latest push to git@git.bioconductor.org:packages/clusterExperiment.git to
reflect on this report. See How and When does the builder pull? When will my changes propagate? for more information.
- Make sure to use the following settings in order to reproduce any error or warning you see on this page.

raw results

Package 349/2183HostnameOS / ArchINSTALLBUILDCHECKBUILD BIN
clusterExperiment 2.18.2  (landing page)
Elizabeth Purdom
Snapshot Date: 2023-03-20 14:00:04 -0400 (Mon, 20 Mar 2023)
git_url: https://git.bioconductor.org/packages/clusterExperiment
git_branch: RELEASE_3_16
git_last_commit: eae8335
git_last_commit_date: 2023-01-19 11:15:47 -0400 (Thu, 19 Jan 2023)
nebbiolo2Linux (Ubuntu 20.04.5 LTS) / x86_64  OK    OK    WARNINGS  UNNEEDED, same version is already published
palomino4Windows Server 2022 Datacenter / x64  ERROR    ERROR  skippedskipped
lconwaymacOS 12.5.1 Monterey / x86_64  OK    OK    WARNINGS    OK  UNNEEDED, same version is already published

Summary

Package: clusterExperiment
Version: 2.18.2
Command: F:\biocbuild\bbs-3.16-bioc\R\bin\R.exe CMD INSTALL clusterExperiment
StartedAt: 2023-03-20 17:12:12 -0400 (Mon, 20 Mar 2023)
EndedAt: 2023-03-20 17:12:12 -0400 (Mon, 20 Mar 2023)
EllapsedTime: 0.8 seconds
RetCode: 1
Status:   ERROR  

Command output

##############################################################################
##############################################################################
###
### Running command:
###
###   F:\biocbuild\bbs-3.16-bioc\R\bin\R.exe CMD INSTALL clusterExperiment
###
##############################################################################
##############################################################################


* installing to library 'F:/biocbuild/bbs-3.16-bioc/R/library'
ERROR: dependency 'mbkmeans' is not available for package 'clusterExperiment'
* removing 'F:/biocbuild/bbs-3.16-bioc/R/library/clusterExperiment'