Back to Multiple platform build/check report for BioC 3.16 |
|
This page was generated on 2022-08-11 11:06:11 -0400 (Thu, 11 Aug 2022).
Hostname | OS | Arch (*) | R version | Installed pkgs |
---|---|---|---|---|
nebbiolo2 | Linux (Ubuntu 20.04.4 LTS) | x86_64 | 4.2.1 (2022-06-23) -- "Funny-Looking Kid" | 4375 |
palomino4 | Windows Server 2022 Datacenter | x64 | 4.2.1 (2022-06-23 ucrt) -- "Funny-Looking Kid" | 4159 |
lconway | macOS 12.2.1 Monterey | x86_64 | 4.2.1 Patched (2022-07-09 r82577) -- "Funny-Looking Kid" | 4165 |
Click on any hostname to see more info about the system (e.g. compilers) (*) as reported by 'uname -p', except on Windows and Mac OS X |
To the developers/maintainers of the adSplit package: - Please allow up to 24 hours (and sometimes 48 hours) for your latest push to git@git.bioconductor.org:packages/adSplit.git to reflect on this report. See How and When does the builder pull? When will my changes propagate? for more information. - Make sure to use the following settings in order to reproduce any error or warning you see on this page. |
Package 19/2139 | Hostname | OS / Arch | INSTALL | BUILD | CHECK | BUILD BIN | ||||||||
adSplit 1.67.0 (landing page) Claudio Lottaz
| nebbiolo2 | Linux (Ubuntu 20.04.4 LTS) / x86_64 | OK | OK | OK | ![]() | ||||||||
palomino4 | Windows Server 2022 Datacenter / x64 | OK | OK | OK | OK | ![]() | ||||||||
lconway | macOS 12.2.1 Monterey / x86_64 | OK | OK | OK | OK | ![]() | ||||||||
Package: adSplit |
Version: 1.67.0 |
Command: F:\biocbuild\bbs-3.16-bioc\R\bin\R.exe CMD check --force-multiarch --install=check:adSplit.install-out.txt --library=F:\biocbuild\bbs-3.16-bioc\R\library --no-vignettes --timings adSplit_1.67.0.tar.gz |
StartedAt: 2022-08-10 23:07:09 -0400 (Wed, 10 Aug 2022) |
EndedAt: 2022-08-10 23:11:30 -0400 (Wed, 10 Aug 2022) |
EllapsedTime: 261.0 seconds |
RetCode: 0 |
Status: OK |
CheckDir: adSplit.Rcheck |
Warnings: 0 |
############################################################################## ############################################################################## ### ### Running command: ### ### F:\biocbuild\bbs-3.16-bioc\R\bin\R.exe CMD check --force-multiarch --install=check:adSplit.install-out.txt --library=F:\biocbuild\bbs-3.16-bioc\R\library --no-vignettes --timings adSplit_1.67.0.tar.gz ### ############################################################################## ############################################################################## * using log directory 'F:/biocbuild/bbs-3.16-bioc/meat/adSplit.Rcheck' * using R version 4.2.1 (2022-06-23 ucrt) * using platform: x86_64-w64-mingw32 (64-bit) * using session charset: UTF-8 * using option '--no-vignettes' * checking for file 'adSplit/DESCRIPTION' ... OK * this is package 'adSplit' version '1.67.0' * checking package namespace information ... OK * checking package dependencies ... OK * checking if this is a source package ... OK * checking if there is a namespace ... OK * checking for hidden files and directories ... OK * checking for portable file names ... OK * checking whether package 'adSplit' can be installed ... OK * checking installed package size ... OK * checking package directory ... OK * checking 'build' directory ... OK * checking DESCRIPTION meta-information ... OK * checking top-level files ... OK * checking for left-over files ... OK * checking index information ... OK * checking package subdirectories ... OK * checking R files for non-ASCII characters ... OK * checking R files for syntax errors ... OK * checking whether the package can be loaded ... OK * checking whether the package can be loaded with stated dependencies ... OK * checking whether the package can be unloaded cleanly ... OK * checking whether the namespace can be loaded with stated dependencies ... OK * checking whether the namespace can be unloaded cleanly ... OK * checking dependencies in R code ... OK * checking S3 generic/method consistency ... OK * checking replacement functions ... OK * checking foreign function calls ... OK * checking R code for possible problems ... OK * checking Rd files ... OK * checking Rd metadata ... OK * checking Rd cross-references ... OK * checking for missing documentation entries ... OK * checking for code/documentation mismatches ... OK * checking Rd \usage sections ... OK * checking Rd contents ... OK * checking for unstated dependencies in examples ... OK * checking contents of 'data' directory ... OK * checking data for non-ASCII characters ... OK * checking data for ASCII and uncompressed saves ... OK * checking line endings in C/C++/Fortran sources/headers ... OK * checking line endings in Makefiles ... OK * checking for GNU extensions in Makefiles ... OK * checking include directives in Makefiles ... OK * checking compiled code ... NOTE Note: information on .o files for x64 is not available File 'F:/biocbuild/bbs-3.16-bioc/R/library/adSplit/libs/x64/adSplit.dll': Found 'abort', possibly from 'abort' (C), 'runtime' (Fortran) Found 'exit', possibly from 'exit' (C), 'stop' (Fortran) Compiled code should not call entry points which might terminate R nor write to stdout/stderr instead of to the console, nor use Fortran I/O nor system RNGs. The detected symbols are linked into the code but might come from libraries and not actually be called. See 'Writing portable packages' in the 'Writing R Extensions' manual. * checking sizes of PDF files under 'inst/doc' ... OK * checking files in 'vignettes' ... OK * checking examples ... OK Examples with CPU (user + system) or elapsed time > 5s user system elapsed drawRandomPS 28.59 0.95 29.57 makeEID2PROBESenv 28.30 1.09 29.39 randomDiana2means 28.05 1.16 29.21 adSplit 6.61 0.53 40.53 image.splitSet 0.10 0.00 5.69 * checking for unstated dependencies in vignettes ... OK * checking package vignettes in 'inst/doc' ... OK * checking running R code from vignettes ... SKIPPED * checking re-building of vignette outputs ... SKIPPED * checking PDF version of manual ... OK * DONE Status: 1 NOTE See 'F:/biocbuild/bbs-3.16-bioc/meat/adSplit.Rcheck/00check.log' for details.
adSplit.Rcheck/00install.out
############################################################################## ############################################################################## ### ### Running command: ### ### C:\cygwin\bin\curl.exe -O http://155.52.207.166/BBS/3.16/bioc/src/contrib/adSplit_1.67.0.tar.gz && rm -rf adSplit.buildbin-libdir && mkdir adSplit.buildbin-libdir && F:\biocbuild\bbs-3.16-bioc\R\bin\R.exe CMD INSTALL --merge-multiarch --build --library=adSplit.buildbin-libdir adSplit_1.67.0.tar.gz && F:\biocbuild\bbs-3.16-bioc\R\bin\R.exe CMD INSTALL adSplit_1.67.0.zip && rm adSplit_1.67.0.tar.gz adSplit_1.67.0.zip ### ############################################################################## ############################################################################## % Total % Received % Xferd Average Speed Time Time Time Current Dload Upload Total Spent Left Speed 0 0 0 0 0 0 0 0 --:--:-- --:--:-- --:--:-- 0 100 51130 100 51130 0 0 905k 0 --:--:-- --:--:-- --:--:-- 924k only one architecture so ignoring '--merge-multiarch' * installing *source* package 'adSplit' ... ** using staged installation ** libs g++ -std=gnu++11 -I"F:/biocbuild/bbs-3.16-bioc/R/include" -DNDEBUG -I"C:/rtools42/x86_64-w64-mingw32.static.posix/include" -O2 -Wall -mfpmath=sse -msse2 -mstackrealign -c adSplit.cpp -o adSplit.o g++ -std=gnu++11 -shared -s -static-libgcc -o adSplit.dll tmp.def adSplit.o -LC:/rtools42/x86_64-w64-mingw32.static.posix/lib/x64 -LC:/rtools42/x86_64-w64-mingw32.static.posix/lib -LF:/biocbuild/bbs-3.16-bioc/R/bin/x64 -lR installing to F:/biocbuild/bbs-3.16-bioc/meat/adSplit.buildbin-libdir/00LOCK-adSplit/00new/adSplit/libs/x64 ** R ** data ** byte-compile and prepare package for lazy loading ** help *** installing help indices ** building package indices ** installing vignettes ** testing if installed package can be loaded from temporary location ** testing if installed package can be loaded from final location ** testing if installed package keeps a record of temporary installation path * MD5 sums packaged installation of 'adSplit' as adSplit_1.67.0.zip * DONE (adSplit) * installing to library 'F:/biocbuild/bbs-3.16-bioc/R/library' package 'adSplit' successfully unpacked and MD5 sums checked
adSplit.Rcheck/adSplit-Ex.timings
name | user | system | elapsed | |
adSplit | 6.61 | 0.53 | 40.53 | |
diana2means | 1.16 | 0.10 | 1.25 | |
drawRandomPS | 28.59 | 0.95 | 29.57 | |
golubKEGGSplits | 0 | 0 | 0 | |
hist.splitSet | 0.02 | 0.00 | 0.01 | |
image.splitSet | 0.10 | 0.00 | 5.69 | |
makeEID2PROBESenv | 28.30 | 1.09 | 29.39 | |
print.splitSet | 0.00 | 0.02 | 0.01 | |
randomDiana2means | 28.05 | 1.16 | 29.21 | |