Back to Multiple platform build/check report for BioC 3.16:   simplified   long
ABCDE[F]GHIJKLMNOPQRSTUVWXYZ

This page was generated on 2023-03-31 11:06:42 -0400 (Fri, 31 Mar 2023).

HostnameOSArch (*)R versionInstalled pkgs
nebbiolo2Linux (Ubuntu 20.04.5 LTS)x86_644.2.3 (2023-03-15) -- "Shortstop Beagle" 4498
palomino4Windows Server 2022 Datacenterx644.2.3 (2023-03-15 ucrt) -- "Shortstop Beagle" 4278
lconwaymacOS 12.5.1 Montereyx86_644.2.3 (2023-03-15) -- "Shortstop Beagle" 4306
Click on any hostname to see more info about the system (e.g. compilers)      (*) as reported by 'uname -p', except on Windows and Mac OS X

BUILD results for FRASER on lconway


To the developers/maintainers of the FRASER package:
- Please allow up to 24 hours (and sometimes 48 hours) for your latest push to git@git.bioconductor.org:packages/FRASER.git to
reflect on this report. See How and When does the builder pull? When will my changes propagate? for more information.
- Make sure to use the following settings in order to reproduce any error or warning you see on this page.

raw results

Package 717/2183HostnameOS / ArchINSTALLBUILDCHECKBUILD BIN
FRASER 1.10.2  (landing page)
Christian Mertes
Snapshot Date: 2023-03-29 14:00:04 -0400 (Wed, 29 Mar 2023)
git_url: https://git.bioconductor.org/packages/FRASER
git_branch: RELEASE_3_16
git_last_commit: 411304e
git_last_commit_date: 2023-01-19 11:17:01 -0400 (Thu, 19 Jan 2023)
nebbiolo2Linux (Ubuntu 20.04.5 LTS) / x86_64  OK    OK    OK  UNNEEDED, same version is already published
palomino4Windows Server 2022 Datacenter / x64  OK    OK    OK    OK  UNNEEDED, same version is already published
lconwaymacOS 12.5.1 Monterey / x86_64  OK    OK    OK    OK  UNNEEDED, same version is already published

Summary

Package: FRASER
Version: 1.10.2
Command: /Library/Frameworks/R.framework/Resources/bin/R CMD build --keep-empty-dirs --no-resave-data FRASER
StartedAt: 2023-03-29 16:36:44 -0400 (Wed, 29 Mar 2023)
EndedAt: 2023-03-29 16:39:48 -0400 (Wed, 29 Mar 2023)
EllapsedTime: 184.5 seconds
RetCode: 0
Status:   OK  
PackageFile: FRASER_1.10.2.tar.gz
PackageFileSize: 2.078 MiB

Command output

##############################################################################
##############################################################################
###
### Running command:
###
###   /Library/Frameworks/R.framework/Resources/bin/R CMD build --keep-empty-dirs --no-resave-data FRASER
###
##############################################################################
##############################################################################


* checking for file ‘FRASER/DESCRIPTION’ ... OK
* preparing ‘FRASER’:
* checking DESCRIPTION meta-information ... OK
* cleaning src
* installing the package to build vignettes
* creating vignettes ... OK
* cleaning src
* checking for LF line-endings in source and make files and shell scripts
* checking for empty or unneeded directories
* building ‘FRASER_1.10.2.tar.gz’