Back to Multiple platform build/check report for BioC 3.16:   simplified   long
ABCDEFGHIJKL[M]NOPQRSTUVWXYZ

This page was generated on 2023-03-22 11:05:36 -0400 (Wed, 22 Mar 2023).

HostnameOSArch (*)R versionInstalled pkgs
nebbiolo2Linux (Ubuntu 20.04.5 LTS)x86_644.2.3 (2023-03-15) -- "Shortstop Beagle" 4271
palomino4Windows Server 2022 Datacenterx644.2.3 (2023-03-15 ucrt) -- "Shortstop Beagle" 4214
lconwaymacOS 12.5.1 Montereyx86_644.2.3 (2023-03-15) -- "Shortstop Beagle" 4259
Click on any hostname to see more info about the system (e.g. compilers)      (*) as reported by 'uname -p', except on Windows and Mac OS X

CHECK results for macat on palomino4


To the developers/maintainers of the macat package:
- Please allow up to 24 hours (and sometimes 48 hours) for your latest push to git@git.bioconductor.org:packages/macat.git to
reflect on this report. See How and When does the builder pull? When will my changes propagate? for more information.
- Make sure to use the following settings in order to reproduce any error or warning you see on this page.

raw results

Package 1073/2183HostnameOS / ArchINSTALLBUILDCHECKBUILD BIN
macat 1.72.0  (landing page)
Joern Toedling
Snapshot Date: 2023-03-20 14:00:04 -0400 (Mon, 20 Mar 2023)
git_url: https://git.bioconductor.org/packages/macat
git_branch: RELEASE_3_16
git_last_commit: 388a02b
git_last_commit_date: 2022-11-01 10:38:15 -0400 (Tue, 01 Nov 2022)
nebbiolo2Linux (Ubuntu 20.04.5 LTS) / x86_64  OK    OK    WARNINGS  UNNEEDED, same version is already published
palomino4Windows Server 2022 Datacenter / x64  OK    OK    OK    OK  UNNEEDED, same version is already published
lconwaymacOS 12.5.1 Monterey / x86_64  OK    OK    OK    OK  UNNEEDED, same version is already published

Summary

Package: macat
Version: 1.72.0
Command: F:\biocbuild\bbs-3.16-bioc\R\bin\R.exe CMD check --no-multiarch --install=check:macat.install-out.txt --library=F:\biocbuild\bbs-3.16-bioc\R\library --no-vignettes --timings macat_1.72.0.tar.gz
StartedAt: 2023-03-21 03:32:57 -0400 (Tue, 21 Mar 2023)
EndedAt: 2023-03-21 03:35:01 -0400 (Tue, 21 Mar 2023)
EllapsedTime: 123.9 seconds
RetCode: 0
Status:   OK  
CheckDir: macat.Rcheck
Warnings: 0

Command output

##############################################################################
##############################################################################
###
### Running command:
###
###   F:\biocbuild\bbs-3.16-bioc\R\bin\R.exe CMD check --no-multiarch --install=check:macat.install-out.txt --library=F:\biocbuild\bbs-3.16-bioc\R\library --no-vignettes --timings macat_1.72.0.tar.gz
###
##############################################################################
##############################################################################


* using log directory 'F:/biocbuild/bbs-3.16-bioc/meat/macat.Rcheck'
* using R version 4.2.3 (2023-03-15 ucrt)
* using platform: x86_64-w64-mingw32 (64-bit)
* using session charset: UTF-8
* using option '--no-vignettes'
* checking for file 'macat/DESCRIPTION' ... OK
* this is package 'macat' version '1.72.0'
* checking package namespace information ... OK
* checking package dependencies ... OK
* checking if this is a source package ... OK
* checking if there is a namespace ... OK
* checking for hidden files and directories ... OK
* checking for portable file names ... OK
* checking whether package 'macat' can be installed ... OK
* checking installed package size ... OK
* checking package directory ... OK
* checking 'build' directory ... OK
* checking DESCRIPTION meta-information ... OK
* checking top-level files ... OK
* checking for left-over files ... OK
* checking index information ... OK
* checking package subdirectories ... OK
* checking R files for non-ASCII characters ... OK
* checking R files for syntax errors ... OK
* checking whether the package can be loaded ... OK
* checking whether the package can be loaded with stated dependencies ... OK
* checking whether the package can be unloaded cleanly ... OK
* checking whether the namespace can be loaded with stated dependencies ... OK
* checking whether the namespace can be unloaded cleanly ... OK
* checking dependencies in R code ... NOTE
'library' or 'require' call to 'annotate' which was already attached by Depends.
  Please remove these calls from your code.
Packages in Depends field not imported from:
  'Biobase' 'annotate'
  These packages need to be imported from (in the NAMESPACE file)
  for when this namespace is loaded but not attached.
Unexported object imported by a ':::' call: 'annotate:::getTDRows'
  See the note in ?`:::` about the use of this operator.
* checking S3 generic/method consistency ... OK
* checking replacement functions ... OK
* checking foreign function calls ... OK
* checking R code for possible problems ... NOTE
evalScoring : computePermSlideScores: warning in compute.sliding(permM,
  chrom = chromosome, sample = 1, kernel, kernelparams, step.width =
  step.width): partial argument match of 'chrom' to 'chromosome'
preprocessedLoader: warning in require(chip, character.only = TRUE,
  quiet = TRUE): partial argument match of 'quiet' to 'quietly'
.onAttach: no visible global function definition for 'addVigs2WinMenu'
buildMACAT: no visible global function definition for 'featureNames'
buildMACAT: no visible global function definition for 'sampleNames'
buildMACAT: no visible global function definition for 'exprs'
compare.gammas: no visible global function definition for 'x11'
compare.gammas: no visible global function definition for 'lines'
compare.gammas: no visible global function definition for 'legend'
discreteKernelize: no visible binding for global variable 'quantile'
discretize: no visible binding for global variable 'quantile'
discretizeChromosome: no visible binding for global variable 'quantile'
discretizeOne: no visible binding for global variable 'quantile'
evalScoring: no visible binding for global variable 'quantile'
getHtml: no visible global function definition for 'browseURL'
loaddatapkg: no visible global function definition for
  'install.packages'
loaddatapkg: no visible global function definition for 'contrib.url'
plot.MACATevalScoring: no visible global function definition for 'x11'
plot.MACATevalScoring: no visible global function definition for 'png'
plot.MACATevalScoring: no visible global function definition for 'par'
plot.MACATevalScoring: no visible global function definition for
  'points'
plot.MACATevalScoring: no visible global function definition for
  'lines'
plot.MACATevalScoring: no visible global function definition for
  'title'
plot.MACATevalScoring: no visible global function definition for 'axis'
plot.MACATevalScoring: no visible global function definition for
  'mtext'
plot.MACATevalScoring: no visible global function definition for
  'dev.off'
plotSliding: no visible global function definition for 'lines'
preprocessedLoader: no visible global function definition for
  'read.delim'
preprocessedLoader: no visible global function definition for
  'read.table'
preprocessedLoader: no visible global function definition for
  'buildChromLocation'
preprocessedLoader: no visible global function definition for 'new'
preprocessedLoader: no visible global function definition for 'pData<-'
preprocessedLoader: no visible global function definition for
  'varLabels<-'
preprocessedLoader: no visible global function definition for
  'chromLocs'
preprocessedLoader : usedChromGenes2: no visible global function
  definition for 'chromLocs'
preprocessedLoader : usedChromGenes2: no visible global function
  definition for 'featureNames'
scoring : tscore: no visible global function definition for 'median'
scoring : tscoremat: no visible binding for global variable 'median'
scoring : pval: no visible binding for global variable 'pt'
scoring: no visible binding for global variable 'quantile'
Undefined global functions or variables:
  addVigs2WinMenu axis browseURL buildChromLocation chromLocs
  contrib.url dev.off exprs featureNames install.packages legend lines
  median mtext new pData<- par png points pt quantile read.delim
  read.table sampleNames title varLabels<- x11
Consider adding
  importFrom("grDevices", "dev.off", "png", "x11")
  importFrom("graphics", "axis", "legend", "lines", "mtext", "par",
             "points", "title")
  importFrom("methods", "new")
  importFrom("stats", "median", "pt", "quantile")
  importFrom("utils", "browseURL", "contrib.url", "install.packages",
             "read.delim", "read.table")
to your NAMESPACE file (and ensure that your DESCRIPTION Imports field
contains 'methods').
* checking Rd files ... OK
* checking Rd metadata ... OK
* checking Rd cross-references ... OK
* checking for missing documentation entries ... OK
* checking for code/documentation mismatches ... OK
* checking Rd \usage sections ... OK
* checking Rd contents ... OK
* checking for unstated dependencies in examples ... OK
* checking contents of 'data' directory ... OK
* checking data for non-ASCII characters ... OK
* checking data for ASCII and uncompressed saves ... OK
* checking line endings in Makefiles ... OK
* checking for GNU extensions in Makefiles ... OK
* checking include directives in Makefiles ... OK
* checking sizes of PDF files under 'inst/doc' ... OK
* checking files in 'vignettes' ... OK
* checking examples ... OK
Examples with CPU (user + system) or elapsed time > 5s
                    user system elapsed
discretize_tscores 13.76   0.68   14.46
get_results         6.58   0.20    6.79
* checking for unstated dependencies in vignettes ... OK
* checking package vignettes in 'inst/doc' ... OK
* checking running R code from vignettes ... SKIPPED
* checking re-building of vignette outputs ... SKIPPED
* checking PDF version of manual ... OK
* DONE

Status: 2 NOTEs
See
  'F:/biocbuild/bbs-3.16-bioc/meat/macat.Rcheck/00check.log'
for details.



Installation output

macat.Rcheck/00install.out

##############################################################################
##############################################################################
###
### Running command:
###
###   F:\biocbuild\bbs-3.16-bioc\R\bin\R.exe CMD INSTALL macat
###
##############################################################################
##############################################################################


* installing to library 'F:/biocbuild/bbs-3.16-bioc/R/library'
* installing *source* package 'macat' ...
** using staged installation
** R
** data
** demo
** inst
** byte-compile and prepare package for lazy loading
** help
*** installing help indices
** building package indices
** installing vignettes
** testing if installed package can be loaded from temporary location
** testing if installed package can be loaded from final location
** testing if installed package keeps a record of temporary installation path
* DONE (macat)

Tests output


Example timings

macat.Rcheck/macat-Ex.timings

nameusersystemelapsed
buildMACAT0.910.020.97
compute_sliding0.990.041.03
discreteKernelize1.430.071.48
discretizeAll000
discretize_tscores13.76 0.6814.46
evalScoring2.610.082.68
evaluateParameters0.280.000.28
get_results6.580.206.79
kernelize0.310.020.33
kernelizeAll000
kernelizeToPython000
kernels0.020.000.02
loaddatapkg000
plot_MACATevalScoring000
preprocessedLoader000
pythondata000
scoring0.010.000.02
stjd0.020.000.02