Back to Multiple platform build/check report for BioC 3.16:   simplified   long
ABCDEFGHIJKLMNOPQRS[T]UVWXYZ

This page was generated on 2023-03-31 11:05:53 -0400 (Fri, 31 Mar 2023).

HostnameOSArch (*)R versionInstalled pkgs
nebbiolo2Linux (Ubuntu 20.04.5 LTS)x86_644.2.3 (2023-03-15) -- "Shortstop Beagle" 4498
palomino4Windows Server 2022 Datacenterx644.2.3 (2023-03-15 ucrt) -- "Shortstop Beagle" 4278
lconwaymacOS 12.5.1 Montereyx86_644.2.3 (2023-03-15) -- "Shortstop Beagle" 4306
Click on any hostname to see more info about the system (e.g. compilers)      (*) as reported by 'uname -p', except on Windows and Mac OS X

INSTALL results for trackViewer on nebbiolo2


To the developers/maintainers of the trackViewer package:
- Please allow up to 24 hours (and sometimes 48 hours) for your latest push to git@git.bioconductor.org:packages/trackViewer.git to
reflect on this report. See How and When does the builder pull? When will my changes propagate? for more information.
- Make sure to use the following settings in order to reproduce any error or warning you see on this page.

raw results

Package 2072/2183HostnameOS / ArchINSTALLBUILDCHECKBUILD BIN
trackViewer 1.34.0  (landing page)
Jianhong Ou
Snapshot Date: 2023-03-29 14:00:04 -0400 (Wed, 29 Mar 2023)
git_url: https://git.bioconductor.org/packages/trackViewer
git_branch: RELEASE_3_16
git_last_commit: 9daa482
git_last_commit_date: 2022-11-01 11:09:09 -0400 (Tue, 01 Nov 2022)
nebbiolo2Linux (Ubuntu 20.04.5 LTS) / x86_64  OK    OK    OK  UNNEEDED, same version is already published
palomino4Windows Server 2022 Datacenter / x64  OK    OK    OK    OK  UNNEEDED, same version is already published
lconwaymacOS 12.5.1 Monterey / x86_64  OK    OK    OK    OK  UNNEEDED, same version is already published

Summary

Package: trackViewer
Version: 1.34.0
Command: /home/biocbuild/bbs-3.16-bioc/R/bin/R CMD INSTALL trackViewer
StartedAt: 2023-03-29 15:41:03 -0400 (Wed, 29 Mar 2023)
EndedAt: 2023-03-29 15:42:15 -0400 (Wed, 29 Mar 2023)
EllapsedTime: 72.4 seconds
RetCode: 0
Status:   OK  

Command output

##############################################################################
##############################################################################
###
### Running command:
###
###   /home/biocbuild/bbs-3.16-bioc/R/bin/R CMD INSTALL trackViewer
###
##############################################################################
##############################################################################


* installing to library ‘/home/biocbuild/bbs-3.16-bioc/R/site-library’
* installing *source* package ‘trackViewer’ ...
** using staged installation
** libs
g++ -std=gnu++14 -I"/home/biocbuild/bbs-3.16-bioc/R/include" -DNDEBUG  -I'/home/biocbuild/bbs-3.16-bioc/R/site-library/Rcpp/include' -I/usr/local/include   -fpic  -g -O2  -Wall -c RcppExports.cpp -o RcppExports.o
g++ -std=gnu++14 -I"/home/biocbuild/bbs-3.16-bioc/R/include" -DNDEBUG  -I'/home/biocbuild/bbs-3.16-bioc/R/site-library/Rcpp/include' -I/usr/local/include   -fpic  -g -O2  -Wall -c hic.cpp -o hic.o
hic.cpp: In member function ‘void HicFileHead::readHeader(std::ifstream&)’:
hic.cpp:247:16: warning: unused variable ‘nviPosition’ [-Wunused-variable]
  247 |           long nviPosition = readLong(ifile);
      |                ^~~~~~~~~~~
hic.cpp:248:16: warning: unused variable ‘nviLength’ [-Wunused-variable]
  248 |           long nviLength = readLong(ifile);
      |                ^~~~~~~~~
hic.cpp: In function ‘std::vector<cellData> getByCoor(std::string, int, int, std::string, int, int, int, std::string, std::string, HicFileHead&, HicFileFoot&, std::ifstream&)’:
hic.cpp:751:19: warning: ‘*((void*)(& bd)+8).resolutions::nResolutions’ may be used uninitialized in this function [-Wmaybe-uninitialized]
  751 |     for(int i=0; i<data.nResolutions; i++){
      |                  ~^~~~~~~~~~~~~~~~~~
hic.cpp:797:10: note: ‘*((void*)(& bd)+8).resolutions::nResolutions’ was declared here
  797 |     body bd;
      |          ^~
hic.cpp:797:10: warning: ‘*((void*)(& bd)+8).resolutions::res’ may be used uninitialized in this function [-Wmaybe-uninitialized]
g++ -std=gnu++14 -shared -L/home/biocbuild/bbs-3.16-bioc/R/lib -L/usr/local/lib -o trackViewer.so RcppExports.o hic.o -L/home/biocbuild/bbs-3.16-bioc/R/lib -lR
installing to /home/biocbuild/bbs-3.16-bioc/R/site-library/00LOCK-trackViewer/00new/trackViewer/libs
** R
** inst
** byte-compile and prepare package for lazy loading
** help
*** installing help indices
** building package indices
** installing vignettes
** testing if installed package can be loaded from temporary location
** checking absolute paths in shared objects and dynamic libraries
** testing if installed package can be loaded from final location
** testing if installed package keeps a record of temporary installation path
* DONE (trackViewer)