Back to Multiple platform build/check report for BioC 3.16
AB[C]DEFGHIJKLMNOPQRSTUVWXYZ

This page was generated on 2022-08-11 11:06:20 -0400 (Thu, 11 Aug 2022).

HostnameOSArch (*)R versionInstalled pkgs
nebbiolo2Linux (Ubuntu 20.04.4 LTS)x86_644.2.1 (2022-06-23) -- "Funny-Looking Kid" 4375
palomino4Windows Server 2022 Datacenterx644.2.1 (2022-06-23 ucrt) -- "Funny-Looking Kid" 4159
lconwaymacOS 12.2.1 Montereyx86_644.2.1 Patched (2022-07-09 r82577) -- "Funny-Looking Kid" 4165
Click on any hostname to see more info about the system (e.g. compilers)      (*) as reported by 'uname -p', except on Windows and Mac OS X

CHECK results for canceR on palomino4


To the developers/maintainers of the canceR package:
- Please allow up to 24 hours (and sometimes 48 hours) for your latest push to git@git.bioconductor.org:packages/canceR.git to
reflect on this report. See How and When does the builder pull? When will my changes propagate? for more information.
- Make sure to use the following settings in order to reproduce any error or warning you see on this page.

raw results

Package 245/2139HostnameOS / ArchINSTALLBUILDCHECKBUILD BIN
canceR 1.31.01  (landing page)
Karim Mezhoud
Snapshot Date: 2022-08-10 14:00:02 -0400 (Wed, 10 Aug 2022)
git_url: https://git.bioconductor.org/packages/canceR
git_branch: master
git_last_commit: e05d3e6
git_last_commit_date: 2022-04-27 03:47:15 -0400 (Wed, 27 Apr 2022)
nebbiolo2Linux (Ubuntu 20.04.4 LTS) / x86_64  OK    OK    OK  UNNEEDED, same version is already published
palomino4Windows Server 2022 Datacenter / x64  OK    OK    OK    OK  UNNEEDED, same version is already published
lconwaymacOS 12.2.1 Monterey / x86_64  OK    OK    OK    OK  UNNEEDED, same version is already published

Summary

Package: canceR
Version: 1.31.01
Command: F:\biocbuild\bbs-3.16-bioc\R\bin\R.exe CMD check --force-multiarch --install=check:canceR.install-out.txt --library=F:\biocbuild\bbs-3.16-bioc\R\library --no-vignettes --timings canceR_1.31.01.tar.gz
StartedAt: 2022-08-10 23:59:00 -0400 (Wed, 10 Aug 2022)
EndedAt: 2022-08-11 00:02:41 -0400 (Thu, 11 Aug 2022)
EllapsedTime: 220.9 seconds
RetCode: 0
Status:   OK  
CheckDir: canceR.Rcheck
Warnings: 0

Command output

##############################################################################
##############################################################################
###
### Running command:
###
###   F:\biocbuild\bbs-3.16-bioc\R\bin\R.exe CMD check --force-multiarch --install=check:canceR.install-out.txt --library=F:\biocbuild\bbs-3.16-bioc\R\library --no-vignettes --timings canceR_1.31.01.tar.gz
###
##############################################################################
##############################################################################


* using log directory 'F:/biocbuild/bbs-3.16-bioc/meat/canceR.Rcheck'
* using R version 4.2.1 (2022-06-23 ucrt)
* using platform: x86_64-w64-mingw32 (64-bit)
* using session charset: UTF-8
* using option '--no-vignettes'
* checking for file 'canceR/DESCRIPTION' ... OK
* checking extension type ... Package
* this is package 'canceR' version '1.31.01'
* package encoding: UTF-8
* checking package namespace information ... OK
* checking package dependencies ... OK
* checking if this is a source package ... OK
* checking if there is a namespace ... OK
* checking for hidden files and directories ... OK
* checking for portable file names ... OK
* checking whether package 'canceR' can be installed ... OK
* checking installed package size ... OK
* checking package directory ... OK
* checking 'build' directory ... OK
* checking DESCRIPTION meta-information ... OK
* checking top-level files ... OK
* checking for left-over files ... OK
* checking index information ... OK
* checking package subdirectories ... OK
* checking R files for non-ASCII characters ... OK
* checking R files for syntax errors ... OK
* checking whether the package can be loaded ... OK
* checking whether the package can be loaded with stated dependencies ... OK
* checking whether the package can be unloaded cleanly ... OK
* checking whether the namespace can be loaded with stated dependencies ... OK
* checking whether the namespace can be unloaded cleanly ... OK
* checking dependencies in R code ... NOTE
Namespace in Imports field not imported from: 'R.methodsS3'
  All declared Imports should be used.
* checking S3 generic/method consistency ... OK
* checking replacement functions ... OK
* checking foreign function calls ... OK
* checking R code for possible problems ... OK
* checking Rd files ... OK
* checking Rd metadata ... OK
* checking Rd cross-references ... OK
* checking for missing documentation entries ... OK
* checking for code/documentation mismatches ... OK
* checking Rd \usage sections ... OK
* checking Rd contents ... OK
* checking for unstated dependencies in examples ... OK
* checking files in 'vignettes' ... OK
* checking examples ... OK
* checking for unstated dependencies in 'tests' ... OK
* checking tests ...
  Running 'testthat.R'
 OK
* checking for unstated dependencies in vignettes ... OK
* checking package vignettes in 'inst/doc' ... OK
* checking running R code from vignettes ... SKIPPED
* checking re-building of vignette outputs ... SKIPPED
* checking PDF version of manual ... OK
* DONE

Status: 1 NOTE
See
  'F:/biocbuild/bbs-3.16-bioc/meat/canceR.Rcheck/00check.log'
for details.



Installation output

canceR.Rcheck/00install.out

##############################################################################
##############################################################################
###
### Running command:
###
###   C:\cygwin\bin\curl.exe -O http://155.52.207.166/BBS/3.16/bioc/src/contrib/canceR_1.31.01.tar.gz && rm -rf canceR.buildbin-libdir && mkdir canceR.buildbin-libdir && F:\biocbuild\bbs-3.16-bioc\R\bin\R.exe CMD INSTALL --merge-multiarch --build --library=canceR.buildbin-libdir canceR_1.31.01.tar.gz && F:\biocbuild\bbs-3.16-bioc\R\bin\R.exe CMD INSTALL canceR_1.31.01.zip && rm canceR_1.31.01.tar.gz canceR_1.31.01.zip
###
##############################################################################
##############################################################################


  % Total    % Received % Xferd  Average Speed   Time    Time     Time  Current
                                 Dload  Upload   Total   Spent    Left  Speed

  0     0    0     0    0     0      0      0 --:--:-- --:--:-- --:--:--     0
 27 17.3M   27 4804k    0     0  7666k      0  0:00:02 --:--:--  0:00:02 7661k
 87 17.3M   87 15.2M    0     0  9610k      0  0:00:01  0:00:01 --:--:-- 9610k
100 17.3M  100 17.3M    0     0   9.9M      0  0:00:01  0:00:01 --:--:--  9.9M
only one architecture so ignoring '--merge-multiarch'
* installing *source* package 'canceR' ...
** using staged installation
** R
** inst
** byte-compile and prepare package for lazy loading
** help
*** installing help indices
** building package indices
** installing vignettes
** testing if installed package can be loaded from temporary location
** testing if installed package can be loaded from final location
** testing if installed package keeps a record of temporary installation path
* MD5 sums
packaged installation of 'canceR' as canceR_1.31.01.zip
* DONE (canceR)
* installing to library 'F:/biocbuild/bbs-3.16-bioc/R/library'
package 'canceR' successfully unpacked and MD5 sums checked

Tests output

canceR.Rcheck/tests/testthat.Rout


R version 4.2.1 (2022-06-23 ucrt) -- "Funny-Looking Kid"
Copyright (C) 2022 The R Foundation for Statistical Computing
Platform: x86_64-w64-mingw32/x64 (64-bit)

R is free software and comes with ABSOLUTELY NO WARRANTY.
You are welcome to redistribute it under certain conditions.
Type 'license()' or 'licence()' for distribution details.

R is a collaborative project with many contributors.
Type 'contributors()' for more information and
'citation()' on how to cite R or R packages in publications.

Type 'demo()' for some demos, 'help()' for on-line help, or
'help.start()' for an HTML browser interface to help.
Type 'q()' to quit R.

> library(testthat)
> library(canceR)
Loading required package: tcltk

> 
> test_check("canceR")
getCancerStudies...  OK
getCaseLists (1/2) ...  OK
getCaseLists (2/2) ...  OK
getGeneticProfiles (1/2) ...  OK
getGeneticProfiles (2/2) ...  OK
getClinicalData (1/1) ...  OK
getProfileData (1/6) ...  OK
getProfileData (2/6) ...  OK
getProfileData (3/6) ...  OK
getProfileData (4/6) ...  OK
getProfileData (5/6) ...  OK
getProfileData (6/6) ...  OK
[ FAIL 0 | WARN 0 | SKIP 1 | PASS 0 ]

══ Skipped tests ═══════════════════════════════════════════════════════════════
• empty test (1)

[ FAIL 0 | WARN 0 | SKIP 1 | PASS 0 ]
> 
> proc.time()
   user  system elapsed 
  10.29    0.81   11.51 

Example timings

canceR.Rcheck/canceR-Ex.timings

nameusersystemelapsed
GSEA.Analyze.Sets000
GSEA.ConsPlot000
GSEA.EnrichmentScore000
GSEA.EnrichmentScore2000
GSEA.Gct2Frame000
GSEA.Gct2Frame2000
GSEA.GeneRanking000
GSEA.HeatMapPlot000
GSEA.HeatMapPlot2000
GSEA.NormalizeCols000
GSEA.NormalizeRows000
GSEA000
GSEA.ReadClsFile000
GSEA.Res2Frame0.020.000.01
GSEA.Threshold000
GSEA.VarFilter000
GSEA.write.gct000
Match_GeneList_MSigDB000
OLD.GSEA.EnrichmentScore000
Run.GSEA000
about000
canceR000
canceR_Issue000
canceR_Vignette000
cbind.na000
dialogGeneClassifier000
dialogMetOption000
dialogMut000
dialogOptionCircos000
dialogOptionGSEAlm000
dialogOptionPhenoTest000
dialogPlotOption_SkinCor000
dialogSamplingGSEA000
dialogSelectFiles_GSEA000
dialogSpecificMut000
dialogSummary_GSEA000
dialoggetGeneListMSigDB000
displayInTable000
getCases000
getCasesGenProfs000
getCircos000
getClinicData_MultipleCases000
getClinicalDataMatrix000
getCor_ExpCNAMet000
getGCTCLSExample0.020.000.01
getGCT_CLSfiles000
getGSEAlm_Diseases000
getGSEAlm_Variables000
getGenProfs000
getGeneList000
getGeneListExample000
getGeneListFromMSigDB000
getGenesClassifier000
getGenesTree_MultipleCases000
getGenesTree_SingleCase000
getInTable000
getListProfData000
getMSigDB000
getMSigDBExample000
getMSigDBfile000
getMegaProfData000
getMetDataMultipleGenes000
getMutData000
getPhenoTest000
getProfilesDataMultipleGenes000
getProfilesDataSingleGene000
getSpecificMut000
getSummaryGSEA000
getSurvival000
getTextWin000
geteSet000
modalDialog000
myGlobalEnv000
plotModel000
plot_1Gene_2GenProfs000
plot_2Genes_1GenProf000
rbind.na000
setWorkspace000
testCheckedCaseGenProf000