Back to Multiple platform build/check report for BioC 3.16:   simplified   long
ABCDEFGH[I]JKLMNOPQRSTUVWXYZ

This page was generated on 2023-03-31 11:06:09 -0400 (Fri, 31 Mar 2023).

HostnameOSArch (*)R versionInstalled pkgs
nebbiolo2Linux (Ubuntu 20.04.5 LTS)x86_644.2.3 (2023-03-15) -- "Shortstop Beagle" 4498
palomino4Windows Server 2022 Datacenterx644.2.3 (2023-03-15 ucrt) -- "Shortstop Beagle" 4278
lconwaymacOS 12.5.1 Montereyx86_644.2.3 (2023-03-15) -- "Shortstop Beagle" 4306
Click on any hostname to see more info about the system (e.g. compilers)      (*) as reported by 'uname -p', except on Windows and Mac OS X

BUILD BIN results for INSPEcT on palomino4


To the developers/maintainers of the INSPEcT package:
- Please allow up to 24 hours (and sometimes 48 hours) for your latest push to git@git.bioconductor.org:packages/INSPEcT.git to
reflect on this report. See How and When does the builder pull? When will my changes propagate? for more information.
- Make sure to use the following settings in order to reproduce any error or warning you see on this page.

raw results

Package 976/2183HostnameOS / ArchINSTALLBUILDCHECKBUILD BIN
INSPEcT 1.28.0  (landing page)
Stefano de Pretis
Snapshot Date: 2023-03-29 14:00:04 -0400 (Wed, 29 Mar 2023)
git_url: https://git.bioconductor.org/packages/INSPEcT
git_branch: RELEASE_3_16
git_last_commit: aff3971
git_last_commit_date: 2022-11-01 11:11:51 -0400 (Tue, 01 Nov 2022)
nebbiolo2Linux (Ubuntu 20.04.5 LTS) / x86_64  OK    OK    OK  UNNEEDED, same version is already published
palomino4Windows Server 2022 Datacenter / x64  OK    OK    OK    OK  UNNEEDED, same version is already published
lconwaymacOS 12.5.1 Monterey / x86_64  OK    OK    OK    OK  UNNEEDED, same version is already published

Summary

Package: INSPEcT
Version: 1.28.0
Command: rm -rf INSPEcT.buildbin-libdir && mkdir INSPEcT.buildbin-libdir && F:\biocbuild\bbs-3.16-bioc\R\bin\R.exe CMD INSTALL --build --library=INSPEcT.buildbin-libdir INSPEcT_1.28.0.tar.gz
StartedAt: 2023-03-30 08:01:48 -0400 (Thu, 30 Mar 2023)
EndedAt: 2023-03-30 08:03:45 -0400 (Thu, 30 Mar 2023)
EllapsedTime: 117.6 seconds
RetCode: 0
Status:   OK  
PackageFile: INSPEcT_1.28.0.zip
PackageFileSize: 8.007 MiB

Command output

##############################################################################
##############################################################################
###
### Running command:
###
###   rm -rf INSPEcT.buildbin-libdir && mkdir INSPEcT.buildbin-libdir && F:\biocbuild\bbs-3.16-bioc\R\bin\R.exe CMD INSTALL --build --library=INSPEcT.buildbin-libdir INSPEcT_1.28.0.tar.gz
###
##############################################################################
##############################################################################


* installing *source* package 'INSPEcT' ...
** using staged installation
** R
** data
** inst
** byte-compile and prepare package for lazy loading
** help
*** installing help indices
** building package indices
** installing vignettes
** testing if installed package can be loaded from temporary location
** testing if installed package can be loaded from final location
** testing if installed package keeps a record of temporary installation path
* MD5 sums
packaged installation of 'INSPEcT' as INSPEcT_1.28.0.zip
* DONE (INSPEcT)