Back to Multiple platform build/check report for BioC 3.16:   simplified   long
ABCDEFGHIJKLMNOPQR[S]TUVWXYZ

This page was generated on 2023-04-12 11:04:49 -0400 (Wed, 12 Apr 2023).

HostnameOSArch (*)R versionInstalled pkgs
nebbiolo2Linux (Ubuntu 20.04.5 LTS)x86_644.2.3 (2023-03-15) -- "Shortstop Beagle" 4502
palomino4Windows Server 2022 Datacenterx644.2.3 (2023-03-15 ucrt) -- "Shortstop Beagle" 4282
lconwaymacOS 12.5.1 Montereyx86_644.2.3 (2023-03-15) -- "Shortstop Beagle" 4310
Click on any hostname to see more info about the system (e.g. compilers)      (*) as reported by 'uname -p', except on Windows and Mac OS X

All results for package S4Vectors


To the developers/maintainers of the S4Vectors package:
- Please allow up to 24 hours (and sometimes 48 hours) for your latest push to git@git.bioconductor.org:packages/S4Vectors.git to
reflect on this report. See How and When does the builder pull? When will my changes propagate? for more information.
- Make sure to use the following settings in order to reproduce any error or warning you see on this page.

raw results

Package 1758/2183HostnameOS / ArchINSTALLBUILDCHECKBUILD BIN
S4Vectors 0.36.2  (landing page)
Hervé Pagès
Snapshot Date: 2023-04-10 14:00:05 -0400 (Mon, 10 Apr 2023)
git_url: https://git.bioconductor.org/packages/S4Vectors
git_branch: RELEASE_3_16
git_last_commit: 1671008
git_last_commit_date: 2023-02-25 02:30:10 -0400 (Sat, 25 Feb 2023)
nebbiolo2Linux (Ubuntu 20.04.5 LTS) / x86_64  OK    OK    WARNINGS  UNNEEDED, same version is already published
palomino4Windows Server 2022 Datacenter / x64  OK    OK    WARNINGS    OK  UNNEEDED, same version is already published
lconwaymacOS 12.5.1 Monterey / x86_64  OK    OK    WARNINGS    OK  UNNEEDED, same version is already published

Results for Bioconductor software packages that depend directly on package S4Vectors

QUICK STATSOS / ArchINSTALLBUILDCHECKBUILD BIN
nebbiolo2Linux (Ubuntu 20.04.5 LTS) / x86_64
09627
017619
31596505
palomino4Windows Server 2022 Datacenter / x64
08616
020604
01696492
00604
lconwaymacOS 12.5.1 Monterey / x86_64
011623
021613
01295506
00613
Package 1/636HostnameOS / ArchINSTALLBUILDCHECKBUILD BIN
ADImpute 1.8.0  (landing page)
Ana Carolina Leote
git_last_commit: a3696a0
git_last_commit_date: 2022-11-01 11:23:18 -0400
nebbiolo2Linux (Ubuntu 20.04.5 LTS) / x86_64  OK    OK    WARNINGS  UNNEEDED, same version is already published
palomino4Windows Server 2022 Datacenter / x64  OK    OK    WARNINGS    OK  UNNEEDED, same version is already published
lconwaymacOS 12.5.1 Monterey / x86_64  OK    OK    WARNINGS    OK  UNNEEDED, same version is already published
Package 2/636HostnameOS / ArchINSTALLBUILDCHECKBUILD BIN
affycoretools 1.70.0  (landing page)
James W. MacDonald
git_last_commit: f09a788
git_last_commit_date: 2022-11-01 10:40:10 -0400
nebbiolo2Linux (Ubuntu 20.04.5 LTS) / x86_64  OK    OK    OK  UNNEEDED, same version is already published
palomino4Windows Server 2022 Datacenter / x64  OK    OK    OK    OK  UNNEEDED, same version is already published
lconwaymacOS 12.5.1 Monterey / x86_64  OK    OK    OK    OK  UNNEEDED, same version is already published
Package 3/636HostnameOS / ArchINSTALLBUILDCHECKBUILD BIN
aggregateBioVar 1.8.0  (landing page)
Jason Ratcliff
git_last_commit: 14e66de
git_last_commit_date: 2022-11-01 11:22:58 -0400
nebbiolo2Linux (Ubuntu 20.04.5 LTS) / x86_64  OK    OK    OK  UNNEEDED, same version is already published
palomino4Windows Server 2022 Datacenter / x64  OK    OK    OK    OK  UNNEEDED, same version is already published
lconwaymacOS 12.5.1 Monterey / x86_64  OK    OK    OK    OK  UNNEEDED, same version is already published
Package 4/636HostnameOS / ArchINSTALLBUILDCHECKBUILD BIN
airpart 1.6.0  (landing page)
Wancen Mu
git_last_commit: 99d4cc8
git_last_commit_date: 2022-11-01 11:24:28 -0400
nebbiolo2Linux (Ubuntu 20.04.5 LTS) / x86_64  OK    OK    OK  UNNEEDED, same version is already published
palomino4Windows Server 2022 Datacenter / x64  OK    OK    OK    OK  UNNEEDED, same version is already published
lconwaymacOS 12.5.1 Monterey / x86_64  OK    OK    OK    OK  UNNEEDED, same version is already published
Package 5/636HostnameOS / ArchINSTALLBUILDCHECKBUILD BIN
ALDEx2 1.30.0  (landing page)
Greg Gloor
git_last_commit: cb66705
git_last_commit_date: 2022-11-01 11:10:23 -0400
nebbiolo2Linux (Ubuntu 20.04.5 LTS) / x86_64  OK    OK    OK  UNNEEDED, same version is already published
palomino4Windows Server 2022 Datacenter / x64  OK    OK    OK    OK  UNNEEDED, same version is already published
lconwaymacOS 12.5.1 Monterey / x86_64  OK    OK    OK    OK  UNNEEDED, same version is already published
Package 6/636HostnameOS / ArchINSTALLBUILDCHECKBUILD BIN
AllelicImbalance 1.36.0  (landing page)
Jesper R Gadin
git_last_commit: cb4910c
git_last_commit_date: 2022-11-01 11:08:46 -0400
nebbiolo2Linux (Ubuntu 20.04.5 LTS) / x86_64  OK    OK    OK  UNNEEDED, same version is already published
palomino4Windows Server 2022 Datacenter / x64  OK    OK    OK    OK  UNNEEDED, same version is already published
lconwaymacOS 12.5.1 Monterey / x86_64  OK    OK    OK    OK  UNNEEDED, same version is already published
Package 7/636HostnameOS / ArchINSTALLBUILDCHECKBUILD BIN
alpine 1.24.0  (landing page)
Michael Love
git_last_commit: 7e734d4
git_last_commit_date: 2022-11-01 11:14:18 -0400
nebbiolo2Linux (Ubuntu 20.04.5 LTS) / x86_64  OK    OK    OK  UNNEEDED, same version is already published
palomino4Windows Server 2022 Datacenter / x64  OK    OK    OK    OK  UNNEEDED, same version is already published
lconwaymacOS 12.5.1 Monterey / x86_64  OK    OK    OK    OK  UNNEEDED, same version is already published
Package 8/636HostnameOS / ArchINSTALLBUILDCHECKBUILD BIN
altcdfenvs 2.60.0  (landing page)
Laurent Gautier
git_last_commit: 0bc0b44
git_last_commit_date: 2022-11-01 10:36:55 -0400
nebbiolo2Linux (Ubuntu 20.04.5 LTS) / x86_64  OK    OK    OK  UNNEEDED, same version is already published
palomino4Windows Server 2022 Datacenter / x64  OK    OK    OK    OK  UNNEEDED, same version is already published
lconwaymacOS 12.5.1 Monterey / x86_64  OK    OK    OK    OK  UNNEEDED, same version is already published
Package 9/636HostnameOS / ArchINSTALLBUILDCHECKBUILD BIN
amplican 1.20.0  (landing page)
Eivind Valen
git_last_commit: eafd080
git_last_commit_date: 2022-11-01 11:16:19 -0400
nebbiolo2Linux (Ubuntu 20.04.5 LTS) / x86_64  ERROR    ERROR  skipped
palomino4Windows Server 2022 Datacenter / x64  ERROR    ERROR  skippedskipped
lconwaymacOS 12.5.1 Monterey / x86_64  ERROR    ERROR  skippedskipped
Package 10/636HostnameOS / ArchINSTALLBUILDCHECKBUILD BIN
ANCOMBC 2.0.3  (landing page)
Huang Lin
git_last_commit: a6e7415
git_last_commit_date: 2023-03-25 09:01:00 -0400
nebbiolo2Linux (Ubuntu 20.04.5 LTS) / x86_64  OK    OK    ERROR  
palomino4Windows Server 2022 Datacenter / x64  OK    OK    OK    OK  UNNEEDED, same version is already published
lconwaymacOS 12.5.1 Monterey / x86_64  OK    OK    OK    OK  UNNEEDED, same version is already published
Package 11/636HostnameOS / ArchINSTALLBUILDCHECKBUILD BIN
AneuFinder 1.26.0  (landing page)
Aaron Taudt
git_last_commit: 7cd59a1
git_last_commit_date: 2022-11-01 11:13:19 -0400
nebbiolo2Linux (Ubuntu 20.04.5 LTS) / x86_64  ERROR    ERROR  skipped
palomino4Windows Server 2022 Datacenter / x64  ERROR    ERROR  skippedskipped
lconwaymacOS 12.5.1 Monterey / x86_64  ERROR    ERROR  skippedskipped
Package 12/636HostnameOS / ArchINSTALLBUILDCHECKBUILD BIN
animalcules 1.14.0  (landing page)
Yue Zhao
git_last_commit: bac5a33
git_last_commit_date: 2022-11-01 11:19:53 -0400
nebbiolo2Linux (Ubuntu 20.04.5 LTS) / x86_64  OK    OK    WARNINGS  UNNEEDED, same version is already published
palomino4Windows Server 2022 Datacenter / x64  OK    OK    WARNINGS    OK  UNNEEDED, same version is already published
lconwaymacOS 12.5.1 Monterey / x86_64  OK    OK    WARNINGS    OK  UNNEEDED, same version is already published
Package 13/636HostnameOS / ArchINSTALLBUILDCHECKBUILD BIN
AnnotationDbi 1.60.2  (landing page)
Bioconductor Package Maintainer
git_last_commit: eebebb2
git_last_commit_date: 2023-03-09 16:47:17 -0400
nebbiolo2Linux (Ubuntu 20.04.5 LTS) / x86_64  OK    OK    OK  UNNEEDED, same version is already published
palomino4Windows Server 2022 Datacenter / x64  OK    OK    OK    OK  UNNEEDED, same version is already published
lconwaymacOS 12.5.1 Monterey / x86_64  OK    OK    OK    OK  UNNEEDED, same version is already published
Package 14/636HostnameOS / ArchINSTALLBUILDCHECKBUILD BIN
AnnotationForge 1.40.2  (landing page)
Bioconductor Package Maintainer
git_last_commit: 17653c7
git_last_commit_date: 2023-03-25 16:39:02 -0400
nebbiolo2Linux (Ubuntu 20.04.5 LTS) / x86_64  OK    OK    OK  UNNEEDED, same version is already published
palomino4Windows Server 2022 Datacenter / x64  OK    OK    OK    OK  UNNEEDED, same version is already published
lconwaymacOS 12.5.1 Monterey / x86_64  OK    OK    OK    OK  UNNEEDED, same version is already published
Package 15/636HostnameOS / ArchINSTALLBUILDCHECKBUILD BIN
AnnotationHub 3.6.0  (landing page)
Bioconductor Package Maintainer
git_last_commit: 3315a73
git_last_commit_date: 2022-11-01 11:08:05 -0400
nebbiolo2Linux (Ubuntu 20.04.5 LTS) / x86_64  OK    OK    ERROR  
palomino4Windows Server 2022 Datacenter / x64  OK    OK    ERROR    OK  
lconwaymacOS 12.5.1 Monterey / x86_64  OK    OK    ERROR    OK  
Package 16/636HostnameOS / ArchINSTALLBUILDCHECKBUILD BIN
AnnotationHubData 1.28.0  (landing page)
Bioconductor Package Maintainer
git_last_commit: 37f43f7
git_last_commit_date: 2022-11-01 11:12:08 -0400
nebbiolo2Linux (Ubuntu 20.04.5 LTS) / x86_64  OK    OK    WARNINGS  UNNEEDED, same version is already published
palomino4Windows Server 2022 Datacenter / x64  OK    OK    WARNINGS    OK  UNNEEDED, same version is already published
lconwaymacOS 12.5.1 Monterey / x86_64  OK    OK    WARNINGS    OK  UNNEEDED, same version is already published
Package 17/636HostnameOS / ArchINSTALLBUILDCHECKBUILD BIN
annotatr 1.24.0  (landing page)
Raymond G. Cavalcante
git_last_commit: 84619b5
git_last_commit_date: 2022-11-01 11:14:43 -0400
nebbiolo2Linux (Ubuntu 20.04.5 LTS) / x86_64  OK    OK    OK  UNNEEDED, same version is already published
palomino4Windows Server 2022 Datacenter / x64  OK    OK    OK    OK  UNNEEDED, same version is already published
lconwaymacOS 12.5.1 Monterey / x86_64  OK    OK    OK    OK  UNNEEDED, same version is already published
Package 18/636HostnameOS / ArchINSTALLBUILDCHECKBUILD BIN
appreci8R 1.16.0  (landing page)
Sarah Sandmann
git_last_commit: e035de3
git_last_commit_date: 2022-11-01 11:18:06 -0400
nebbiolo2Linux (Ubuntu 20.04.5 LTS) / x86_64  OK    OK    OK  UNNEEDED, same version is already published
palomino4Windows Server 2022 Datacenter / x64  OK    OK    OK    OK  UNNEEDED, same version is already published
lconwaymacOS 12.5.1 Monterey / x86_64  OK    OK    OK    OK  UNNEEDED, same version is already published
Package 19/636HostnameOS / ArchINSTALLBUILDCHECKBUILD BIN
ASpediaFI 1.12.0  (landing page)
Doyeong Yu
git_last_commit: ad0dc91
git_last_commit_date: 2022-11-01 11:20:47 -0400
nebbiolo2Linux (Ubuntu 20.04.5 LTS) / x86_64  ERROR    ERROR  skipped
palomino4Windows Server 2022 Datacenter / x64  ERROR    ERROR  skippedskipped
lconwaymacOS 12.5.1 Monterey / x86_64  ERROR    ERROR  skippedskipped
Package 20/636HostnameOS / ArchINSTALLBUILDCHECKBUILD BIN
ASpli 2.8.0  (landing page)
Estefania Mancini
git_last_commit: ff40685
git_last_commit_date: 2022-11-01 11:14:10 -0400
nebbiolo2Linux (Ubuntu 20.04.5 LTS) / x86_64  OK    OK    OK  UNNEEDED, same version is already published
palomino4Windows Server 2022 Datacenter / x64  OK    OK    OK    OK  UNNEEDED, same version is already published
lconwaymacOS 12.5.1 Monterey / x86_64  OK    OK    OK    OK  UNNEEDED, same version is already published
Package 21/636HostnameOS / ArchINSTALLBUILDCHECKBUILD BIN
ASURAT 1.2.0  (landing page)
Keita Iida
git_last_commit: c986006
git_last_commit_date: 2022-11-01 11:26:43 -0400
nebbiolo2Linux (Ubuntu 20.04.5 LTS) / x86_64  OK    OK    OK  UNNEEDED, same version is already published
palomino4Windows Server 2022 Datacenter / x64  OK    OK    OK    OK  UNNEEDED, same version is already published
lconwaymacOS 12.5.1 Monterey / x86_64  OK    OK    OK    OK  UNNEEDED, same version is already published
Package 22/636HostnameOS / ArchINSTALLBUILDCHECKBUILD BIN
ATACseqQC 1.22.0  (landing page)
Jianhong Ou
git_last_commit: be03c44
git_last_commit_date: 2022-11-01 11:15:41 -0400
nebbiolo2Linux (Ubuntu 20.04.5 LTS) / x86_64  OK    OK    OK  UNNEEDED, same version is already published
palomino4Windows Server 2022 Datacenter / x64  OK    OK    OK    OK  UNNEEDED, same version is already published
lconwaymacOS 12.5.1 Monterey / x86_64  OK    OK    OK    OK  UNNEEDED, same version is already published
Package 23/636HostnameOS / ArchINSTALLBUILDCHECKBUILD BIN
ATACseqTFEA 1.0.1  (landing page)
Jianhong Ou
git_last_commit: ba0fb29
git_last_commit_date: 2022-11-04 14:12:12 -0400
nebbiolo2Linux (Ubuntu 20.04.5 LTS) / x86_64  OK    OK    OK  UNNEEDED, same version is already published
palomino4Windows Server 2022 Datacenter / x64  OK    OK    OK    OK  UNNEEDED, same version is already published
lconwaymacOS 12.5.1 Monterey / x86_64  OK    OK    OK    OK  UNNEEDED, same version is already published
Package 24/636HostnameOS / ArchINSTALLBUILDCHECKBUILD BIN
atena 1.4.1  (landing page)
Beatriz Calvo-Serra
git_last_commit: c41a0fb
git_last_commit_date: 2023-02-03 09:18:06 -0400
nebbiolo2Linux (Ubuntu 20.04.5 LTS) / x86_64  OK    OK    OK  UNNEEDED, same version is already published
palomino4Windows Server 2022 Datacenter / x64  OK    OK    OK    OK  UNNEEDED, same version is already published
lconwaymacOS 12.5.1 Monterey / x86_64  OK    OK    OK    OK  UNNEEDED, same version is already published
Package 25/636HostnameOS / ArchINSTALLBUILDCHECKBUILD BIN
autonomics 1.6.0  (landing page)
Aditya Bhagwat
git_last_commit: 6768188
git_last_commit_date: 2022-11-01 11:24:11 -0400
nebbiolo2Linux (Ubuntu 20.04.5 LTS) / x86_64  OK    OK    WARNINGS  UNNEEDED, same version is already published
palomino4Windows Server 2022 Datacenter / x64  OK    OK    WARNINGS    OK  UNNEEDED, same version is already published
lconwaymacOS 12.5.1 Monterey / x86_64  OK    OK    WARNINGS    OK  UNNEEDED, same version is already published
Package 26/636HostnameOS / ArchINSTALLBUILDCHECKBUILD BIN
BadRegionFinder 1.26.0  (landing page)
Sarah Sandmann
git_last_commit: 328cbd2
git_last_commit_date: 2022-11-01 11:13:25 -0400
nebbiolo2Linux (Ubuntu 20.04.5 LTS) / x86_64  OK    OK    OK  UNNEEDED, same version is already published
palomino4Windows Server 2022 Datacenter / x64  OK    OK    OK    OK  UNNEEDED, same version is already published
lconwaymacOS 12.5.1 Monterey / x86_64  OK    OK    OK    OK  UNNEEDED, same version is already published
Package 27/636HostnameOS / ArchINSTALLBUILDCHECKBUILD BIN
ballgown 2.30.0  (landing page)
Jack Fu
git_last_commit: 70655cf
git_last_commit_date: 2022-11-01 11:10:01 -0400
nebbiolo2Linux (Ubuntu 20.04.5 LTS) / x86_64  OK    OK    OK  UNNEEDED, same version is already published
palomino4Windows Server 2022 Datacenter / x64  OK    OK    OK    OK  UNNEEDED, same version is already published
lconwaymacOS 12.5.1 Monterey / x86_64  OK    OK    OK    OK  UNNEEDED, same version is already published
Package 28/636HostnameOS / ArchINSTALLBUILDCHECKBUILD BIN
bambu 3.0.8  (landing page)
Ying Chen
git_last_commit: a946653
git_last_commit_date: 2023-02-14 20:59:35 -0400
nebbiolo2Linux (Ubuntu 20.04.5 LTS) / x86_64  OK    OK    OK  UNNEEDED, same version is already published
palomino4Windows Server 2022 Datacenter / x64  OK    OK    OK    OK  UNNEEDED, same version is already published
lconwaymacOS 12.5.1 Monterey / x86_64  OK    OK    OK    OK  UNNEEDED, same version is already published
Package 29/636HostnameOS / ArchINSTALLBUILDCHECKBUILD BIN
bandle 1.2.2  (landing page)
Oliver M. Crook
git_last_commit: 8ab251f
git_last_commit_date: 2023-01-19 11:14:11 -0400
nebbiolo2Linux (Ubuntu 20.04.5 LTS) / x86_64  OK    OK    OK  UNNEEDED, same version is already published
palomino4Windows Server 2022 Datacenter / x64  OK    OK    OK    OK  UNNEEDED, same version is already published
lconwaymacOS 12.5.1 Monterey / x86_64  OK    OK    OK    OK  UNNEEDED, same version is already published
Package 30/636HostnameOS / ArchINSTALLBUILDCHECKBUILD BIN
barcodetrackR 1.6.0  (landing page)
Diego Alexander Espinoza
git_last_commit: 73e546d
git_last_commit_date: 2022-11-01 11:24:29 -0400
nebbiolo2Linux (Ubuntu 20.04.5 LTS) / x86_64  OK    OK    OK  UNNEEDED, same version is already published
palomino4Windows Server 2022 Datacenter / x64  OK    OK    OK    OK  UNNEEDED, same version is already published
lconwaymacOS 12.5.1 Monterey / x86_64  OK    OK    OK    OK  UNNEEDED, same version is already published
Package 31/636HostnameOS / ArchINSTALLBUILDCHECKBUILD BIN
BASiCS 2.10.5  (landing page)
Catalina Vallejos
git_last_commit: 6de1264
git_last_commit_date: 2023-01-19 11:14:20 -0400
nebbiolo2Linux (Ubuntu 20.04.5 LTS) / x86_64  OK    OK    OK  UNNEEDED, same version is already published
palomino4Windows Server 2022 Datacenter / x64  OK    OK    OK    OK  UNNEEDED, same version is already published
lconwaymacOS 12.5.1 Monterey / x86_64  OK    OK    OK    OK  UNNEEDED, same version is already published
Package 32/636HostnameOS / ArchINSTALLBUILDCHECKBUILD BIN
BasicSTARRseq 1.26.0  (landing page)
Annika Buerger
git_last_commit: b156a23
git_last_commit_date: 2022-11-01 11:12:51 -0400
nebbiolo2Linux (Ubuntu 20.04.5 LTS) / x86_64  OK    OK    OK  UNNEEDED, same version is already published
palomino4Windows Server 2022 Datacenter / x64  OK    OK    OK    OK  UNNEEDED, same version is already published
lconwaymacOS 12.5.1 Monterey / x86_64  OK    OK    OK    OK  UNNEEDED, same version is already published
Package 33/636HostnameOS / ArchINSTALLBUILDCHECKBUILD BIN
batchelor 1.14.1  (landing page)
Aaron Lun
git_last_commit: a1f3e84
git_last_commit_date: 2023-01-02 20:16:37 -0400
nebbiolo2Linux (Ubuntu 20.04.5 LTS) / x86_64  OK    OK    OK  UNNEEDED, same version is already published
palomino4Windows Server 2022 Datacenter / x64  OK    OK    OK    OK  UNNEEDED, same version is already published
lconwaymacOS 12.5.1 Monterey / x86_64  OK    OK    OK    OK  UNNEEDED, same version is already published
Package 34/636HostnameOS / ArchINSTALLBUILDCHECKBUILD BIN
BayesSpace 1.8.2  (landing page)
Matt Stone
git_last_commit: e192cc9
git_last_commit_date: 2023-01-19 11:15:00 -0400
nebbiolo2Linux (Ubuntu 20.04.5 LTS) / x86_64  OK    OK    OK  UNNEEDED, same version is already published
palomino4Windows Server 2022 Datacenter / x64  OK    OK    OK    OK  UNNEEDED, same version is already published
lconwaymacOS 12.5.1 Monterey / x86_64  OK    OK    OK    OK  UNNEEDED, same version is already published
Package 35/636HostnameOS / ArchINSTALLBUILDCHECKBUILD BIN
BindingSiteFinder 1.4.0  (landing page)
Mirko Brüggemann
git_last_commit: c66cdc8
git_last_commit_date: 2022-11-01 11:25:21 -0400
nebbiolo2Linux (Ubuntu 20.04.5 LTS) / x86_64  OK    OK    OK  UNNEEDED, same version is already published
palomino4Windows Server 2022 Datacenter / x64  OK    OK    OK    OK  UNNEEDED, same version is already published
lconwaymacOS 12.5.1 Monterey / x86_64  OK    OK    OK    OK  UNNEEDED, same version is already published
Package 36/636HostnameOS / ArchINSTALLBUILDCHECKBUILD BIN
BiocIO 1.8.0  (landing page)
Bioconductor Package Maintainer
git_last_commit: 4a719fa
git_last_commit_date: 2022-11-01 11:22:39 -0400
nebbiolo2Linux (Ubuntu 20.04.5 LTS) / x86_64  OK    OK    OK  UNNEEDED, same version is already published
palomino4Windows Server 2022 Datacenter / x64  OK    OK    OK    OK  UNNEEDED, same version is already published
lconwaymacOS 12.5.1 Monterey / x86_64  OK    OK    OK    OK  UNNEEDED, same version is already published
Package 37/636HostnameOS / ArchINSTALLBUILDCHECKBUILD BIN
BiocNeighbors 1.16.0  (landing page)
Aaron Lun
git_last_commit: 3b227be
git_last_commit_date: 2022-11-01 11:18:04 -0400
nebbiolo2Linux (Ubuntu 20.04.5 LTS) / x86_64  OK    OK    OK  UNNEEDED, same version is already published
palomino4Windows Server 2022 Datacenter / x64  OK    OK    OK    OK  UNNEEDED, same version is already published
lconwaymacOS 12.5.1 Monterey / x86_64  OK    OK    OK    OK  UNNEEDED, same version is already published
Package 38/636HostnameOS / ArchINSTALLBUILDCHECKBUILD BIN
BiocOncoTK 1.18.0  (landing page)
VJ Carey
git_last_commit: bd29ac7
git_last_commit_date: 2022-11-01 11:17:47 -0400
nebbiolo2Linux (Ubuntu 20.04.5 LTS) / x86_64  OK    OK    WARNINGS  UNNEEDED, same version is already published
palomino4Windows Server 2022 Datacenter / x64  OK    OK    WARNINGS    OK  UNNEEDED, same version is already published
lconwaymacOS 12.5.1 Monterey / x86_64  OK    OK    WARNINGS    OK  UNNEEDED, same version is already published
Package 39/636HostnameOS / ArchINSTALLBUILDCHECKBUILD BIN
BiocSet 1.12.1  (landing page)
Kayla Morrell
git_last_commit: 9d2263e
git_last_commit_date: 2022-12-30 09:49:20 -0400
nebbiolo2Linux (Ubuntu 20.04.5 LTS) / x86_64  OK    OK    OK  UNNEEDED, same version is already published
palomino4Windows Server 2022 Datacenter / x64  OK    OK    OK    OK  UNNEEDED, same version is already published
lconwaymacOS 12.5.1 Monterey / x86_64  OK    OK    OK    OK  UNNEEDED, same version is already published
Package 40/636HostnameOS / ArchINSTALLBUILDCHECKBUILD BIN
BiocSingular 1.14.0  (landing page)
Aaron Lun
git_last_commit: 6dc42b3
git_last_commit_date: 2022-11-01 11:19:16 -0400
nebbiolo2Linux (Ubuntu 20.04.5 LTS) / x86_64  OK    OK    OK  UNNEEDED, same version is already published
palomino4Windows Server 2022 Datacenter / x64  OK    OK    OK    OK  UNNEEDED, same version is already published
lconwaymacOS 12.5.1 Monterey / x86_64  OK    OK    OK    OK  UNNEEDED, same version is already published
Package 41/636HostnameOS / ArchINSTALLBUILDCHECKBUILD BIN
Biostrings 2.66.0  (landing page)
H. Pagès
git_last_commit: 3470ca7
git_last_commit_date: 2022-11-01 10:36:29 -0400
nebbiolo2Linux (Ubuntu 20.04.5 LTS) / x86_64  OK    OK    WARNINGS  UNNEEDED, same version is already published
palomino4Windows Server 2022 Datacenter / x64  OK    OK    WARNINGS    OK  UNNEEDED, same version is already published
lconwaymacOS 12.5.1 Monterey / x86_64  OK    OK    WARNINGS    OK  UNNEEDED, same version is already published
Package 42/636HostnameOS / ArchINSTALLBUILDCHECKBUILD BIN
biotmle 1.22.0  (landing page)
Nima Hejazi
git_last_commit: bfa9e7d
git_last_commit_date: 2022-11-01 11:15:35 -0400
nebbiolo2Linux (Ubuntu 20.04.5 LTS) / x86_64  OK    OK    OK  UNNEEDED, same version is already published
palomino4Windows Server 2022 Datacenter / x64  OK    OK    OK    OK  UNNEEDED, same version is already published
lconwaymacOS 12.5.1 Monterey / x86_64  OK    OK    OK    OK  UNNEEDED, same version is already published
Package 43/636HostnameOS / ArchINSTALLBUILDCHECKBUILD BIN
biovizBase 1.46.0  (landing page)
Michael Lawrence
git_last_commit: a47060c
git_last_commit_date: 2022-11-01 11:06:19 -0400
nebbiolo2Linux (Ubuntu 20.04.5 LTS) / x86_64  OK    OK    WARNINGS  UNNEEDED, same version is already published
palomino4Windows Server 2022 Datacenter / x64  OK    OK    WARNINGS    OK  UNNEEDED, same version is already published
lconwaymacOS 12.5.1 Monterey / x86_64  OK    OK    WARNINGS    OK  UNNEEDED, same version is already published
Package 44/636HostnameOS / ArchINSTALLBUILDCHECKBUILD BIN
biscuiteer 1.12.0  (landing page)
Jacob Morrison
git_last_commit: 236bbc1
git_last_commit_date: 2022-11-01 11:20:50 -0400
nebbiolo2Linux (Ubuntu 20.04.5 LTS) / x86_64  OK    OK    WARNINGS  UNNEEDED, same version is already published
palomino4Windows Server 2022 Datacenter / x64  OK    OK    WARNINGS    OK  UNNEEDED, same version is already published
lconwaymacOS 12.5.1 Monterey / x86_64  OK    OK    WARNINGS    OK  UNNEEDED, same version is already published
Package 45/636HostnameOS / ArchINSTALLBUILDCHECKBUILD BIN
BiSeq 1.38.0  (landing page)
Katja Hebestreit
git_last_commit: 2291602
git_last_commit_date: 2022-11-01 11:08:12 -0400
nebbiolo2Linux (Ubuntu 20.04.5 LTS) / x86_64  OK    OK    OK  UNNEEDED, same version is already published
palomino4Windows Server 2022 Datacenter / x64  OK    OK    OK    OK  UNNEEDED, same version is already published
lconwaymacOS 12.5.1 Monterey / x86_64  OK    OK    OK    OK  UNNEEDED, same version is already published
Package 46/636HostnameOS / ArchINSTALLBUILDCHECKBUILD BIN
BitSeq 1.42.0  (landing page)
Antti Honkela , Panagiotis Papastamoulis
git_last_commit: 17d08b9
git_last_commit_date: 2022-11-01 11:06:51 -0400
nebbiolo2Linux (Ubuntu 20.04.5 LTS) / x86_64  ERROR    ERROR  skipped
palomino4Windows Server 2022 Datacenter / x64  ERROR    ERROR  skippedskipped
lconwaymacOS 12.5.1 Monterey / x86_64  ERROR    ERROR  skippedskipped
Package 47/636HostnameOS / ArchINSTALLBUILDCHECKBUILD BIN
bluster 1.8.0  (landing page)
Aaron Lun
git_last_commit: 156115c
git_last_commit_date: 2022-11-01 11:22:26 -0400
nebbiolo2Linux (Ubuntu 20.04.5 LTS) / x86_64  OK    OK    OK  UNNEEDED, same version is already published
palomino4Windows Server 2022 Datacenter / x64  OK    OK    OK    OK  UNNEEDED, same version is already published
lconwaymacOS 12.5.1 Monterey / x86_64  OK    OK    OK    OK  UNNEEDED, same version is already published
Package 48/636HostnameOS / ArchINSTALLBUILDCHECKBUILD BIN
bnbc 1.20.0  (landing page)
Kipper Fletez-Brant
git_last_commit: aad63b8
git_last_commit_date: 2022-11-01 11:16:33 -0400
nebbiolo2Linux (Ubuntu 20.04.5 LTS) / x86_64  OK    OK    OK  UNNEEDED, same version is already published
palomino4Windows Server 2022 Datacenter / x64  OK    OK    OK    OK  UNNEEDED, same version is already published
lconwaymacOS 12.5.1 Monterey / x86_64  OK    OK    OK    OK  UNNEEDED, same version is already published
Package 49/636HostnameOS / ArchINSTALLBUILDCHECKBUILD BIN
BPRMeth 1.24.2  (landing page)
Chantriolnt-Andreas Kapourani
git_last_commit: 0543cfa
git_last_commit_date: 2023-01-19 11:15:05 -0400
nebbiolo2Linux (Ubuntu 20.04.5 LTS) / x86_64  OK    OK    OK  UNNEEDED, same version is already published
palomino4Windows Server 2022 Datacenter / x64  OK    OK    OK    OK  UNNEEDED, same version is already published
lconwaymacOS 12.5.1 Monterey / x86_64  OK    OK    OK    OK  UNNEEDED, same version is already published
Package 50/636HostnameOS / ArchINSTALLBUILDCHECKBUILD BIN
BrainSABER 1.8.0  (landing page)
USD Biomedical Engineering
git_last_commit: 263677f
git_last_commit_date: 2022-11-01 11:22:10 -0400
nebbiolo2Linux (Ubuntu 20.04.5 LTS) / x86_64  OK    OK    WARNINGS  UNNEEDED, same version is already published
palomino4Windows Server 2022 Datacenter / x64  OK    OK    WARNINGS    OK  UNNEEDED, same version is already published
lconwaymacOS 12.5.1 Monterey / x86_64  OK    OK    WARNINGS    OK  UNNEEDED, same version is already published
Package 51/636HostnameOS / ArchINSTALLBUILDCHECKBUILD BIN
branchpointer 1.24.0  (landing page)
Beth Signal
git_last_commit: 60877dc
git_last_commit_date: 2022-11-01 11:15:20 -0400
nebbiolo2Linux (Ubuntu 20.04.5 LTS) / x86_64  OK    OK    OK  UNNEEDED, same version is already published
palomino4Windows Server 2022 Datacenter / x64  OK    OK    OK    OK  UNNEEDED, same version is already published
lconwaymacOS 12.5.1 Monterey / x86_64  OK    OK    OK    OK  UNNEEDED, same version is already published
Package 52/636HostnameOS / ArchINSTALLBUILDCHECKBUILD BIN
breakpointR 1.16.0  (landing page)
David Porubsky
git_last_commit: 04d0691
git_last_commit_date: 2022-11-01 11:18:28 -0400
nebbiolo2Linux (Ubuntu 20.04.5 LTS) / x86_64  OK    OK    OK  UNNEEDED, same version is already published
palomino4Windows Server 2022 Datacenter / x64  OK    OK    OK    OK  UNNEEDED, same version is already published
lconwaymacOS 12.5.1 Monterey / x86_64  OK    OK    OK    OK  UNNEEDED, same version is already published
Package 53/636HostnameOS / ArchINSTALLBUILDCHECKBUILD BIN
BRGenomics 1.10.0  (landing page)
Mike DeBerardine
git_last_commit: 966826e
git_last_commit_date: 2022-11-01 11:21:40 -0400
nebbiolo2Linux (Ubuntu 20.04.5 LTS) / x86_64  OK    OK    WARNINGS  UNNEEDED, same version is already published
palomino4Windows Server 2022 Datacenter / x64  OK    OK    WARNINGS    OK  UNNEEDED, same version is already published
lconwaymacOS 12.5.1 Monterey / x86_64  OK    OK    WARNINGS    OK  UNNEEDED, same version is already published
Package 54/636HostnameOS / ArchINSTALLBUILDCHECKBUILD BIN
BSgenome 1.66.3  (landing page)
Hervé Pagès
git_last_commit: f2f40e0
git_last_commit_date: 2023-02-16 10:38:29 -0400
nebbiolo2Linux (Ubuntu 20.04.5 LTS) / x86_64  OK    OK    WARNINGS  UNNEEDED, same version is already published
palomino4Windows Server 2022 Datacenter / x64  OK    OK    WARNINGS    OK  UNNEEDED, same version is already published
lconwaymacOS 12.5.1 Monterey / x86_64  OK    OK    WARNINGS    OK  UNNEEDED, same version is already published
Package 55/636HostnameOS / ArchINSTALLBUILDCHECKBUILD BIN
bsseq 1.34.0  (landing page)
Kasper Daniel Hansen
git_last_commit: 98239c0
git_last_commit_date: 2022-11-01 11:07:09 -0400
nebbiolo2Linux (Ubuntu 20.04.5 LTS) / x86_64  OK    OK    OK  UNNEEDED, same version is already published
palomino4Windows Server 2022 Datacenter / x64  OK    OK    OK    OK  UNNEEDED, same version is already published
lconwaymacOS 12.5.1 Monterey / x86_64  OK    OK    OK    OK  UNNEEDED, same version is already published
Package 56/636HostnameOS / ArchINSTALLBUILDCHECKBUILD BIN
bumphunter 1.40.0  (landing page)
Tamilselvi Guharaj
git_last_commit: 3de207a
git_last_commit_date: 2022-11-01 16:40:40 -0400
nebbiolo2Linux (Ubuntu 20.04.5 LTS) / x86_64  OK    OK    OK  UNNEEDED, same version is already published
palomino4Windows Server 2022 Datacenter / x64  OK    OK    OK    OK  UNNEEDED, same version is already published
lconwaymacOS 12.5.1 Monterey / x86_64  OK    OK    OK    OK  UNNEEDED, same version is already published
Package 57/636HostnameOS / ArchINSTALLBUILDCHECKBUILD BIN
BumpyMatrix 1.6.0  (landing page)
Aaron Lun
git_last_commit: 48710ea
git_last_commit_date: 2022-11-01 11:23:45 -0400
nebbiolo2Linux (Ubuntu 20.04.5 LTS) / x86_64  OK    OK    OK  UNNEEDED, same version is already published
palomino4Windows Server 2022 Datacenter / x64  OK    OK    OK    OK  UNNEEDED, same version is already published
lconwaymacOS 12.5.1 Monterey / x86_64  OK    OK    OK    OK  UNNEEDED, same version is already published
Package 58/636HostnameOS / ArchINSTALLBUILDCHECKBUILD BIN
BUSpaRse 1.12.2  (landing page)
Lambda Moses
git_last_commit: 071ebd9
git_last_commit_date: 2023-01-19 11:15:07 -0400
nebbiolo2Linux (Ubuntu 20.04.5 LTS) / x86_64  OK    OK    OK  UNNEEDED, same version is already published
palomino4Windows Server 2022 Datacenter / x64  OK    OK    OK    OK  UNNEEDED, same version is already published
lconwaymacOS 12.5.1 Monterey / x86_64  OK    OK    OK    OK  UNNEEDED, same version is already published
Package 59/636HostnameOS / ArchINSTALLBUILDCHECKBUILD BIN
BUSseq 1.4.2  (landing page)
Fangda Song
git_last_commit: f389627
git_last_commit_date: 2023-01-19 11:15:08 -0400
nebbiolo2Linux (Ubuntu 20.04.5 LTS) / x86_64  OK    OK    OK  UNNEEDED, same version is already published
palomino4Windows Server 2022 Datacenter / x64  OK    OK    OK    OK  UNNEEDED, same version is already published
lconwaymacOS 12.5.1 Monterey / x86_64  OK    OK    OK    OK  UNNEEDED, same version is already published
Package 60/636HostnameOS / ArchINSTALLBUILDCHECKBUILD BIN
CAGEfightR 1.18.0  (landing page)
Malte Thodberg
git_last_commit: de07aac
git_last_commit_date: 2022-11-01 11:17:49 -0400
nebbiolo2Linux (Ubuntu 20.04.5 LTS) / x86_64  OK    OK    OK  UNNEEDED, same version is already published
palomino4Windows Server 2022 Datacenter / x64  OK    OK    OK    OK  UNNEEDED, same version is already published
lconwaymacOS 12.5.1 Monterey / x86_64  OK    OK    OK    OK  UNNEEDED, same version is already published
Package 61/636HostnameOS / ArchINSTALLBUILDCHECKBUILD BIN
CAGEr 2.4.0  (landing page)
Charles Plessy
git_last_commit: 4ce371f
git_last_commit_date: 2022-11-01 11:07:54 -0400
nebbiolo2Linux (Ubuntu 20.04.5 LTS) / x86_64  OK    OK    OK  UNNEEDED, same version is already published
palomino4Windows Server 2022 Datacenter / x64  OK    OK    OK    OK  UNNEEDED, same version is already published
lconwaymacOS 12.5.1 Monterey / x86_64  OK    OK    OK    OK  UNNEEDED, same version is already published
Package 62/636HostnameOS / ArchINSTALLBUILDCHECKBUILD BIN
cardelino 1.0.0  (landing page)
Jeffrey Pullin
git_last_commit: f77a6f6
git_last_commit_date: 2022-11-01 11:27:45 -0400
nebbiolo2Linux (Ubuntu 20.04.5 LTS) / x86_64  OK    OK    OK  UNNEEDED, same version is already published
palomino4Windows Server 2022 Datacenter / x64  OK    OK    OK    OK  UNNEEDED, same version is already published
lconwaymacOS 12.5.1 Monterey / x86_64  OK    OK    OK    OK  UNNEEDED, same version is already published
Package 63/636HostnameOS / ArchINSTALLBUILDCHECKBUILD BIN
Cardinal 3.0.1  (landing page)
Kylie A. Bemis
git_last_commit: 9de5cdc
git_last_commit_date: 2022-11-14 15:07:54 -0400
nebbiolo2Linux (Ubuntu 20.04.5 LTS) / x86_64  OK    OK    OK  UNNEEDED, same version is already published
palomino4Windows Server 2022 Datacenter / x64  OK    OK    OK    OK  UNNEEDED, same version is already published
lconwaymacOS 12.5.1 Monterey / x86_64  OK    OK    OK    OK  UNNEEDED, same version is already published
Package 64/636HostnameOS / ArchINSTALLBUILDCHECKBUILD BIN
casper 2.32.0  (landing page)
David Rossell
git_last_commit: d0c72cf
git_last_commit_date: 2022-11-01 11:07:47 -0400
nebbiolo2Linux (Ubuntu 20.04.5 LTS) / x86_64  OK    OK    WARNINGS  UNNEEDED, same version is already published
palomino4Windows Server 2022 Datacenter / x64  OK    OK    WARNINGS    OK  UNNEEDED, same version is already published
lconwaymacOS 12.5.1 Monterey / x86_64  OK    ERROR  skippedskipped
Package 65/636HostnameOS / ArchINSTALLBUILDCHECKBUILD BIN
CATALYST 1.22.0  (landing page)
Helena L. Crowell
git_last_commit: fa9b337
git_last_commit_date: 2022-11-01 11:15:32 -0400
nebbiolo2Linux (Ubuntu 20.04.5 LTS) / x86_64  OK    OK    OK  UNNEEDED, same version is already published
palomino4Windows Server 2022 Datacenter / x64  OK    OK    OK    OK  UNNEEDED, same version is already published
lconwaymacOS 12.5.1 Monterey / x86_64  OK    OK    OK    OK  UNNEEDED, same version is already published
Package 66/636HostnameOS / ArchINSTALLBUILDCHECKBUILD BIN
cBioPortalData 2.10.3  (landing page)
Marcel Ramos
git_last_commit: 8302e09
git_last_commit_date: 2023-01-03 18:28:56 -0400
nebbiolo2Linux (Ubuntu 20.04.5 LTS) / x86_64  OK    OK    OK  UNNEEDED, same version is already published
palomino4Windows Server 2022 Datacenter / x64  OK    OK    OK    OK  UNNEEDED, same version is already published
lconwaymacOS 12.5.1 Monterey / x86_64  OK    OK    OK    OK  UNNEEDED, same version is already published
Package 67/636HostnameOS / ArchINSTALLBUILDCHECKBUILD BIN
ccfindR 1.18.0  (landing page)
Jun Woo
git_last_commit: 7bbe315
git_last_commit_date: 2022-11-01 11:17:44 -0400
nebbiolo2Linux (Ubuntu 20.04.5 LTS) / x86_64  OK    OK    OK  UNNEEDED, same version is already published
palomino4Windows Server 2022 Datacenter / x64  OK    OK    OK    OK  UNNEEDED, same version is already published
lconwaymacOS 12.5.1 Monterey / x86_64  OK    OK    OK    OK  UNNEEDED, same version is already published
Package 68/636HostnameOS / ArchINSTALLBUILDCHECKBUILD BIN
celaref 1.16.0  (landing page)
Sarah Williams
git_last_commit: 2556728
git_last_commit_date: 2022-11-01 11:18:14 -0400
nebbiolo2Linux (Ubuntu 20.04.5 LTS) / x86_64  OK    OK    OK  UNNEEDED, same version is already published
palomino4Windows Server 2022 Datacenter / x64  OK    OK    OK    OK  UNNEEDED, same version is already published
lconwaymacOS 12.5.1 Monterey / x86_64  OK    OK    OK    OK  UNNEEDED, same version is already published
Package 69/636HostnameOS / ArchINSTALLBUILDCHECKBUILD BIN
celda 1.14.2  (landing page)
Joshua Campbell
git_last_commit: b0beb97
git_last_commit_date: 2023-01-19 11:15:20 -0400
nebbiolo2Linux (Ubuntu 20.04.5 LTS) / x86_64  OK    OK    OK  UNNEEDED, same version is already published
palomino4Windows Server 2022 Datacenter / x64  OK    OK    OK    OK  UNNEEDED, same version is already published
lconwaymacOS 12.5.1 Monterey / x86_64  OK    OK    OK    OK  UNNEEDED, same version is already published
Package 70/636HostnameOS / ArchINSTALLBUILDCHECKBUILD BIN
CellaRepertorium 1.8.0  (landing page)
Andrew McDavid
git_last_commit: 5346a3b
git_last_commit_date: 2022-11-01 11:23:20 -0400
nebbiolo2Linux (Ubuntu 20.04.5 LTS) / x86_64  OK    OK    OK  UNNEEDED, same version is already published
palomino4Windows Server 2022 Datacenter / x64  OK    OK    OK    OK  UNNEEDED, same version is already published
lconwaymacOS 12.5.1 Monterey / x86_64  OK    OK    OK    OK  UNNEEDED, same version is already published
Package 71/636HostnameOS / ArchINSTALLBUILDCHECKBUILD BIN
CellBarcode 1.4.0  (landing page)
Wenjie Sun
git_last_commit: 6685d49
git_last_commit_date: 2022-11-01 11:26:05 -0400
nebbiolo2Linux (Ubuntu 20.04.5 LTS) / x86_64  OK    OK    OK  UNNEEDED, same version is already published
palomino4Windows Server 2022 Datacenter / x64  OK    OK    OK    OK  UNNEEDED, same version is already published
lconwaymacOS 12.5.1 Monterey / x86_64  OK    OK    OK    OK  UNNEEDED, same version is already published
Package 72/636HostnameOS / ArchINSTALLBUILDCHECKBUILD BIN
CellMapper 1.24.0  (landing page)
Brad Nelms
git_last_commit: 26dfb1b
git_last_commit_date: 2022-11-01 11:14:13 -0400
nebbiolo2Linux (Ubuntu 20.04.5 LTS) / x86_64  OK    OK    WARNINGS  UNNEEDED, same version is already published
palomino4Windows Server 2022 Datacenter / x64  OK    OK    WARNINGS    OK  UNNEEDED, same version is already published
lconwaymacOS 12.5.1 Monterey / x86_64  OK    OK    WARNINGS    OK  UNNEEDED, same version is already published
Package 73/636HostnameOS / ArchINSTALLBUILDCHECKBUILD BIN
censcyt 1.6.1  (landing page)
Reto Gerber
git_last_commit: 91a9cbe
git_last_commit_date: 2023-02-16 01:19:13 -0400
nebbiolo2Linux (Ubuntu 20.04.5 LTS) / x86_64  OK    OK    OK  UNNEEDED, same version is already published
palomino4Windows Server 2022 Datacenter / x64  OK    OK    OK    OK  UNNEEDED, same version is already published
lconwaymacOS 12.5.1 Monterey / x86_64  OK    OK    OK    OK  UNNEEDED, same version is already published
Package 74/636HostnameOS / ArchINSTALLBUILDCHECKBUILD BIN
Cepo 1.4.0  (landing page)
Hani Jieun Kim
git_last_commit: 7410238
git_last_commit_date: 2022-11-01 11:26:00 -0400
nebbiolo2Linux (Ubuntu 20.04.5 LTS) / x86_64  OK    OK    WARNINGS  UNNEEDED, same version is already published
palomino4Windows Server 2022 Datacenter / x64  OK    OK    WARNINGS    OK  UNNEEDED, same version is already published
lconwaymacOS 12.5.1 Monterey / x86_64  OK    OK    WARNINGS    OK  UNNEEDED, same version is already published
Package 75/636HostnameOS / ArchINSTALLBUILDCHECKBUILD BIN
CeTF 1.10.2  (landing page)
Carlos Alberto Oliveira de Biagi Junior
git_last_commit: b161152
git_last_commit_date: 2023-01-26 11:50:59 -0400
nebbiolo2Linux (Ubuntu 20.04.5 LTS) / x86_64  OK    OK    OK  UNNEEDED, same version is already published
palomino4Windows Server 2022 Datacenter / x64  OK    OK    OK    OK  UNNEEDED, same version is already published
lconwaymacOS 12.5.1 Monterey / x86_64  OK    OK    OK    OK  UNNEEDED, same version is already published
Package 76/636HostnameOS / ArchINSTALLBUILDCHECKBUILD BIN
CexoR 1.36.0  (landing page)
Pedro Madrigal
git_last_commit: 69bd679
git_last_commit_date: 2022-11-01 11:25:46 -0400
nebbiolo2Linux (Ubuntu 20.04.5 LTS) / x86_64  OK    OK    OK  UNNEEDED, same version is already published
palomino4Windows Server 2022 Datacenter / x64  OK    OK    OK    OK  UNNEEDED, same version is already published
lconwaymacOS 12.5.1 Monterey / x86_64  OK    OK    OK    OK  UNNEEDED, same version is already published
Package 77/636HostnameOS / ArchINSTALLBUILDCHECKBUILD BIN
CHETAH 1.14.0  (landing page)
Jurrian de Kanter
git_last_commit: 55fbdbc
git_last_commit_date: 2022-11-01 11:27:18 -0400
nebbiolo2Linux (Ubuntu 20.04.5 LTS) / x86_64  OK    OK    OK  UNNEEDED, same version is already published
palomino4Windows Server 2022 Datacenter / x64  OK    OK    OK    OK  UNNEEDED, same version is already published
lconwaymacOS 12.5.1 Monterey / x86_64  OK    OK    OK    OK  UNNEEDED, same version is already published
Package 78/636HostnameOS / ArchINSTALLBUILDCHECKBUILD BIN
ChIC 1.18.0  (landing page)
Carmen Maria Livi
git_last_commit: 728615f
git_last_commit_date: 2022-11-01 11:17:36 -0400
nebbiolo2Linux (Ubuntu 20.04.5 LTS) / x86_64  ERROR    ERROR  skipped
palomino4Windows Server 2022 Datacenter / x64... NOT SUPPORTED ...
lconwaymacOS 12.5.1 Monterey / x86_64  ERROR    ERROR  skippedskipped
Package 79/636HostnameOS / ArchINSTALLBUILDCHECKBUILD BIN
chimeraviz 1.24.0  (landing page)
Stian Lågstad
git_last_commit: 0f9835a
git_last_commit_date: 2022-11-01 11:14:55 -0400
nebbiolo2Linux (Ubuntu 20.04.5 LTS) / x86_64  OK    OK    OK  UNNEEDED, same version is already published
palomino4Windows Server 2022 Datacenter / x64  OK    OK    OK    OK  UNNEEDED, same version is already published
lconwaymacOS 12.5.1 Monterey / x86_64  OK    OK    OK    OK  UNNEEDED, same version is already published
Package 80/636HostnameOS / ArchINSTALLBUILDCHECKBUILD BIN
ChIPanalyser 1.20.0  (landing page)
Patrick C.N. Martin
git_last_commit: ca0ec5c
git_last_commit_date: 2022-11-01 11:16:15 -0400
nebbiolo2Linux (Ubuntu 20.04.5 LTS) / x86_64  OK    OK    OK  UNNEEDED, same version is already published
palomino4Windows Server 2022 Datacenter / x64  OK    OK    OK    OK  UNNEEDED, same version is already published
lconwaymacOS 12.5.1 Monterey / x86_64  OK    OK    OK    OK  UNNEEDED, same version is already published
Package 81/636HostnameOS / ArchINSTALLBUILDCHECKBUILD BIN
ChIPComp 1.28.0  (landing page)
Li Chen
git_last_commit: 690350e
git_last_commit_date: 2022-11-01 11:12:04 -0400
nebbiolo2Linux (Ubuntu 20.04.5 LTS) / x86_64  OK    OK    OK  UNNEEDED, same version is already published
palomino4Windows Server 2022 Datacenter / x64  OK    OK    OK    OK  UNNEEDED, same version is already published
lconwaymacOS 12.5.1 Monterey / x86_64  OK    OK    OK    OK  UNNEEDED, same version is already published
Package 82/636HostnameOS / ArchINSTALLBUILDCHECKBUILD BIN
chipenrich 2.22.0  (landing page)
Raymond G. Cavalcante
git_last_commit: 9191beb
git_last_commit_date: 2022-11-01 11:08:40 -0400
nebbiolo2Linux (Ubuntu 20.04.5 LTS) / x86_64  OK    OK    OK  UNNEEDED, same version is already published
palomino4Windows Server 2022 Datacenter / x64  OK    OK    OK    OK  UNNEEDED, same version is already published
lconwaymacOS 12.5.1 Monterey / x86_64  OK    OK    OK    OK  UNNEEDED, same version is already published
Package 83/636HostnameOS / ArchINSTALLBUILDCHECKBUILD BIN
ChIPexoQual 1.22.0  (landing page)
Rene Welch
git_last_commit: 60f340b
git_last_commit_date: 2022-11-01 11:15:05 -0400
nebbiolo2Linux (Ubuntu 20.04.5 LTS) / x86_64  OK    OK    OK  UNNEEDED, same version is already published
palomino4Windows Server 2022 Datacenter / x64  OK    OK    OK    OK  UNNEEDED, same version is already published
lconwaymacOS 12.5.1 Monterey / x86_64  OK    OK    OK    OK  UNNEEDED, same version is already published
Package 84/636HostnameOS / ArchINSTALLBUILDCHECKBUILD BIN
ChIPpeakAnno 3.32.0  (landing page)
Jianhong Ou
git_last_commit: 016661f
git_last_commit_date: 2022-11-01 11:04:34 -0400
nebbiolo2Linux (Ubuntu 20.04.5 LTS) / x86_64  OK    OK    OK  UNNEEDED, same version is already published
palomino4Windows Server 2022 Datacenter / x64  OK    OK    OK    OK  UNNEEDED, same version is already published
lconwaymacOS 12.5.1 Monterey / x86_64  OK    OK    OK    OK  UNNEEDED, same version is already published
Package 85/636HostnameOS / ArchINSTALLBUILDCHECKBUILD BIN
ChIPQC 1.34.1  (landing page)
Tom Carroll , Rory Stark
git_last_commit: dabb39a
git_last_commit_date: 2023-01-10 07:39:10 -0400
nebbiolo2Linux (Ubuntu 20.04.5 LTS) / x86_64  OK    OK    WARNINGS  UNNEEDED, same version is already published
palomino4Windows Server 2022 Datacenter / x64  OK    OK    WARNINGS    OK  UNNEEDED, same version is already published
lconwaymacOS 12.5.1 Monterey / x86_64  OK    OK    WARNINGS    OK  UNNEEDED, same version is already published
Package 86/636HostnameOS / ArchINSTALLBUILDCHECKBUILD BIN
ChIPseeker 1.34.1  (landing page)
Guangchuang Yu
git_last_commit: 4bf5e4f
git_last_commit_date: 2022-11-20 22:15:00 -0400
nebbiolo2Linux (Ubuntu 20.04.5 LTS) / x86_64  OK    OK    OK  UNNEEDED, same version is already published
palomino4Windows Server 2022 Datacenter / x64  OK    OK    OK    OK  UNNEEDED, same version is already published
lconwaymacOS 12.5.1 Monterey / x86_64  OK    OK    OK    OK  UNNEEDED, same version is already published
Package 87/636HostnameOS / ArchINSTALLBUILDCHECKBUILD BIN
chipseq 1.48.0  (landing page)
Bioconductor Package Maintainer
git_last_commit: 9c78296
git_last_commit_date: 2022-11-01 11:04:29 -0400
nebbiolo2Linux (Ubuntu 20.04.5 LTS) / x86_64  OK    OK    WARNINGS  UNNEEDED, same version is already published
palomino4Windows Server 2022 Datacenter / x64  OK    OK    WARNINGS    OK  UNNEEDED, same version is already published
lconwaymacOS 12.5.1 Monterey / x86_64  OK    OK    WARNINGS    OK  UNNEEDED, same version is already published
Package 88/636HostnameOS / ArchINSTALLBUILDCHECKBUILD BIN
ChIPseqR 1.52.0  (landing page)
Peter Humburg
git_last_commit: 984d136
git_last_commit_date: 2022-11-01 11:04:43 -0400
nebbiolo2Linux (Ubuntu 20.04.5 LTS) / x86_64  OK    OK    OK  UNNEEDED, same version is already published
palomino4Windows Server 2022 Datacenter / x64  OK    OK    OK    OK  UNNEEDED, same version is already published
lconwaymacOS 12.5.1 Monterey / x86_64  OK    OK    OK    OK  UNNEEDED, same version is already published
Package 89/636HostnameOS / ArchINSTALLBUILDCHECKBUILD BIN
ChromSCape 1.8.0  (landing page)
Pacome Prompsy
git_last_commit: d32bd33
git_last_commit_date: 2022-11-01 11:23:01 -0400
nebbiolo2Linux (Ubuntu 20.04.5 LTS) / x86_64  OK    OK    WARNINGS  UNNEEDED, same version is already published
palomino4Windows Server 2022 Datacenter / x64  OK    OK    WARNINGS    OK  UNNEEDED, same version is already published
lconwaymacOS 12.5.1 Monterey / x86_64  OK    OK    WARNINGS    OK  UNNEEDED, same version is already published
Package 90/636HostnameOS / ArchINSTALLBUILDCHECKBUILD BIN
chromstaR 1.24.0  (landing page)
Aaron Taudt
git_last_commit: a38e62b
git_last_commit_date: 2022-11-01 11:13:56 -0400
nebbiolo2Linux (Ubuntu 20.04.5 LTS) / x86_64  OK    OK    OK  UNNEEDED, same version is already published
palomino4Windows Server 2022 Datacenter / x64  OK    OK    OK    OK  UNNEEDED, same version is already published
lconwaymacOS 12.5.1 Monterey / x86_64  OK    OK    OK    OK  UNNEEDED, same version is already published
Package 91/636HostnameOS / ArchINSTALLBUILDCHECKBUILD BIN
chromswitch 1.20.0  (landing page)
Selin Jessa
git_last_commit: cc484bf
git_last_commit_date: 2022-11-01 11:16:44 -0400
nebbiolo2Linux (Ubuntu 20.04.5 LTS) / x86_64  OK    OK    OK  UNNEEDED, same version is already published
palomino4Windows Server 2022 Datacenter / x64  OK    OK    OK    OK  UNNEEDED, same version is already published
lconwaymacOS 12.5.1 Monterey / x86_64  OK    OK    OK    OK  UNNEEDED, same version is already published
Package 92/636HostnameOS / ArchINSTALLBUILDCHECKBUILD BIN
chromVAR 1.20.2  (landing page)
Alicia Schep
git_last_commit: 4e0ed21
git_last_commit_date: 2023-01-19 11:15:25 -0400
nebbiolo2Linux (Ubuntu 20.04.5 LTS) / x86_64  OK    OK    OK  UNNEEDED, same version is already published
palomino4Windows Server 2022 Datacenter / x64  OK    OK    OK    OK  UNNEEDED, same version is already published
lconwaymacOS 12.5.1 Monterey / x86_64  OK    OK    OK    OK  UNNEEDED, same version is already published
Package 93/636HostnameOS / ArchINSTALLBUILDCHECKBUILD BIN
cicero 1.16.2  (landing page)
Hannah Pliner
git_last_commit: 11394fb
git_last_commit_date: 2023-02-25 16:10:49 -0400
nebbiolo2Linux (Ubuntu 20.04.5 LTS) / x86_64  OK    OK    OK  UNNEEDED, same version is already published
palomino4Windows Server 2022 Datacenter / x64  OK    OK    OK    OK  UNNEEDED, same version is already published
lconwaymacOS 12.5.1 Monterey / x86_64  OK    OK    OK    OK  UNNEEDED, same version is already published
Package 94/636HostnameOS / ArchINSTALLBUILDCHECKBUILD BIN
CINdex 1.26.0  (landing page)
Yuriy Gusev
git_last_commit: e6a247a
git_last_commit_date: 2022-11-01 11:13:24 -0400
nebbiolo2Linux (Ubuntu 20.04.5 LTS) / x86_64  OK    OK    WARNINGS  UNNEEDED, same version is already published
palomino4Windows Server 2022 Datacenter / x64  OK    OK    WARNINGS    OK  UNNEEDED, same version is already published
lconwaymacOS 12.5.1 Monterey / x86_64  OK    OK    WARNINGS    OK  UNNEEDED, same version is already published
Package 95/636HostnameOS / ArchINSTALLBUILDCHECKBUILD BIN
circRNAprofiler 1.12.2  (landing page)
Simona Aufiero
git_last_commit: e499486
git_last_commit_date: 2023-01-23 04:25:52 -0400
nebbiolo2Linux (Ubuntu 20.04.5 LTS) / x86_64  OK    OK    OK  UNNEEDED, same version is already published
palomino4Windows Server 2022 Datacenter / x64  OK    OK    OK    OK  UNNEEDED, same version is already published
lconwaymacOS 12.5.1 Monterey / x86_64  OK    OK    OK    OK  UNNEEDED, same version is already published
Package 96/636HostnameOS / ArchINSTALLBUILDCHECKBUILD BIN
CircSeqAlignTk 1.0.0  (landing page)
Jianqiang Sun
git_last_commit: 0166720
git_last_commit_date: 2022-11-01 11:27:37 -0400
nebbiolo2Linux (Ubuntu 20.04.5 LTS) / x86_64  OK    OK    OK  UNNEEDED, same version is already published
palomino4Windows Server 2022 Datacenter / x64  OK    OK    ERROR    OK  
lconwaymacOS 12.5.1 Monterey / x86_64  OK    OK    OK    OK  UNNEEDED, same version is already published
Package 97/636HostnameOS / ArchINSTALLBUILDCHECKBUILD BIN
CiteFuse 1.10.0  (landing page)
Yingxin Lin
git_last_commit: 27467f3
git_last_commit_date: 2023-02-06 23:34:12 -0400
nebbiolo2Linux (Ubuntu 20.04.5 LTS) / x86_64  OK    OK    OK  UNNEEDED, same version is already published
palomino4Windows Server 2022 Datacenter / x64  OK    OK    OK    OK  UNNEEDED, same version is already published
lconwaymacOS 12.5.1 Monterey / x86_64  OK    OK    OK    OK  UNNEEDED, same version is already published
Package 98/636HostnameOS / ArchINSTALLBUILDCHECKBUILD BIN
ClassifyR 3.2.7  (landing page)
Dario Strbenac
git_last_commit: 04d9a3e
git_last_commit_date: 2023-02-03 05:20:20 -0400
nebbiolo2Linux (Ubuntu 20.04.5 LTS) / x86_64  OK    OK    OK  UNNEEDED, same version is already published
palomino4Windows Server 2022 Datacenter / x64  OK    OK    OK    OK  UNNEEDED, same version is already published
lconwaymacOS 12.5.1 Monterey / x86_64  OK    OK    WARNINGS    OK  UNNEEDED, same version is already published
Package 99/636HostnameOS / ArchINSTALLBUILDCHECKBUILD BIN
cleanUpdTSeq 1.36.0  (landing page)
Jianhong Ou ; Lihua Julie Zhu
git_last_commit: 324eb5c
git_last_commit_date: 2022-11-01 11:08:25 -0400
nebbiolo2Linux (Ubuntu 20.04.5 LTS) / x86_64  OK    OK    OK  UNNEEDED, same version is already published
palomino4Windows Server 2022 Datacenter / x64  OK    OK    OK    OK  UNNEEDED, same version is already published
lconwaymacOS 12.5.1 Monterey / x86_64  OK    OK    OK    OK  UNNEEDED, same version is already published
Package 100/636HostnameOS / ArchINSTALLBUILDCHECKBUILD BIN
cleaver 1.36.0  (landing page)
Sebastian Gibb
git_last_commit: b3e3fd9
git_last_commit_date: 2022-11-01 11:08:19 -0400
nebbiolo2Linux (Ubuntu 20.04.5 LTS) / x86_64  OK    OK    OK  UNNEEDED, same version is already published
palomino4Windows Server 2022 Datacenter / x64  OK    OK    OK    OK  UNNEEDED, same version is already published
lconwaymacOS 12.5.1 Monterey / x86_64  OK    OK    OK    OK  UNNEEDED, same version is already published
Package 101/636HostnameOS / ArchINSTALLBUILDCHECKBUILD BIN
cliProfiler 1.4.0  (landing page)
You Zhou
git_last_commit: 39988d3
git_last_commit_date: 2022-11-01 11:25:52 -0400
nebbiolo2Linux (Ubuntu 20.04.5 LTS) / x86_64  OK    OK    OK  UNNEEDED, same version is already published
palomino4Windows Server 2022 Datacenter / x64  OK    OK    OK    OK  UNNEEDED, same version is already published
lconwaymacOS 12.5.1 Monterey / x86_64  OK    OK    OK    OK  UNNEEDED, same version is already published
Package 102/636HostnameOS / ArchINSTALLBUILDCHECKBUILD BIN
CluMSID 1.14.0  (landing page)
Tobias Depke
git_last_commit: 144ca3f
git_last_commit_date: 2022-11-01 11:19:02 -0400
nebbiolo2Linux (Ubuntu 20.04.5 LTS) / x86_64  OK    OK    WARNINGS  UNNEEDED, same version is already published
palomino4Windows Server 2022 Datacenter / x64  OK    OK    WARNINGS    OK  UNNEEDED, same version is already published
lconwaymacOS 12.5.1 Monterey / x86_64  OK    OK    WARNINGS    OK  UNNEEDED, same version is already published
Package 103/636HostnameOS / ArchINSTALLBUILDCHECKBUILD BIN
clusterExperiment 2.18.2  (landing page)
Elizabeth Purdom
git_last_commit: eae8335
git_last_commit_date: 2023-01-19 11:15:47 -0400
nebbiolo2Linux (Ubuntu 20.04.5 LTS) / x86_64  OK    OK    WARNINGS  UNNEEDED, same version is already published
palomino4Windows Server 2022 Datacenter / x64  OK    OK    WARNINGS    OK  UNNEEDED, same version is already published
lconwaymacOS 12.5.1 Monterey / x86_64  OK    OK    WARNINGS    OK  UNNEEDED, same version is already published
Package 104/636HostnameOS / ArchINSTALLBUILDCHECKBUILD BIN
clustifyr 1.10.0  (landing page)
Kent Riemondy
git_last_commit: 768cfde
git_last_commit_date: 2022-11-01 11:21:20 -0400
nebbiolo2Linux (Ubuntu 20.04.5 LTS) / x86_64  OK    OK    OK  UNNEEDED, same version is already published
palomino4Windows Server 2022 Datacenter / x64  OK    OK    OK    OK  UNNEEDED, same version is already published
lconwaymacOS 12.5.1 Monterey / x86_64  OK    OK    OK    OK  UNNEEDED, same version is already published
Package 105/636HostnameOS / ArchINSTALLBUILDCHECKBUILD BIN
cn.mops 1.44.0  (landing page)
Gundula Povysil
git_last_commit: 72945ca
git_last_commit_date: 2022-11-01 11:06:31 -0400
nebbiolo2Linux (Ubuntu 20.04.5 LTS) / x86_64  OK    OK    OK  UNNEEDED, same version is already published
palomino4Windows Server 2022 Datacenter / x64  OK    OK    OK    OK  UNNEEDED, same version is already published
lconwaymacOS 12.5.1 Monterey / x86_64  OK    OK    OK    OK  UNNEEDED, same version is already published
Package 106/636HostnameOS / ArchINSTALLBUILDCHECKBUILD BIN
CNEr 1.34.0  (landing page)
Ge Tan
git_last_commit: 878de98
git_last_commit_date: 2022-11-01 11:09:13 -0400
nebbiolo2Linux (Ubuntu 20.04.5 LTS) / x86_64  OK    OK    OK  UNNEEDED, same version is already published
palomino4Windows Server 2022 Datacenter / x64  OK    OK    WARNINGS    OK  UNNEEDED, same version is already published
lconwaymacOS 12.5.1 Monterey / x86_64  OK    OK    OK    OK  UNNEEDED, same version is already published
Package 107/636HostnameOS / ArchINSTALLBUILDCHECKBUILD BIN
CNVMetrics 1.2.0  (landing page)
Astrid Deschênes
git_last_commit: 7188f31
git_last_commit_date: 2022-11-01 11:26:14 -0400
nebbiolo2Linux (Ubuntu 20.04.5 LTS) / x86_64  OK    OK    OK  UNNEEDED, same version is already published
palomino4Windows Server 2022 Datacenter / x64  OK    OK    OK    OK  UNNEEDED, same version is already published
lconwaymacOS 12.5.1 Monterey / x86_64  OK    OK    OK    OK  UNNEEDED, same version is already published
Package 108/636HostnameOS / ArchINSTALLBUILDCHECKBUILD BIN
CNVPanelizer 1.30.0  (landing page)
Thomas Wolf
git_last_commit: e0047ba
git_last_commit_date: 2022-11-01 11:11:51 -0400
nebbiolo2Linux (Ubuntu 20.04.5 LTS) / x86_64  OK    OK    OK  UNNEEDED, same version is already published
palomino4Windows Server 2022 Datacenter / x64  OK    OK    OK    OK  UNNEEDED, same version is already published
lconwaymacOS 12.5.1 Monterey / x86_64  OK    OK    OK    OK  UNNEEDED, same version is already published
Package 109/636HostnameOS / ArchINSTALLBUILDCHECKBUILD BIN
CNVRanger 1.14.0  (landing page)
Ludwig Geistlinger
git_last_commit: 59487b4
git_last_commit_date: 2022-11-01 11:19:14 -0400
nebbiolo2Linux (Ubuntu 20.04.5 LTS) / x86_64  OK    OK    OK  UNNEEDED, same version is already published
palomino4Windows Server 2022 Datacenter / x64  OK    OK    OK    OK  UNNEEDED, same version is already published
lconwaymacOS 12.5.1 Monterey / x86_64  OK    OK    OK    OK  UNNEEDED, same version is already published
Package 110/636HostnameOS / ArchINSTALLBUILDCHECKBUILD BIN
COCOA 2.12.0  (landing page)
John Lawson
git_last_commit: 2460fac
git_last_commit_date: 2022-11-01 11:18:44 -0400
nebbiolo2Linux (Ubuntu 20.04.5 LTS) / x86_64  OK    OK    OK  UNNEEDED, same version is already published
palomino4Windows Server 2022 Datacenter / x64  OK    OK    OK    OK  UNNEEDED, same version is already published
lconwaymacOS 12.5.1 Monterey / x86_64  OK    OK    OK    OK  UNNEEDED, same version is already published
Package 111/636HostnameOS / ArchINSTALLBUILDCHECKBUILD BIN
CODEX 1.30.0  (landing page)
Yuchao Jiang
git_last_commit: 0694f11
git_last_commit_date: 2022-11-01 11:10:55 -0400
nebbiolo2Linux (Ubuntu 20.04.5 LTS) / x86_64  OK    OK    OK  UNNEEDED, same version is already published
palomino4Windows Server 2022 Datacenter / x64  OK    OK    OK    OK  UNNEEDED, same version is already published
lconwaymacOS 12.5.1 Monterey / x86_64  OK    OK    OK    OK  UNNEEDED, same version is already published
Package 112/636HostnameOS / ArchINSTALLBUILDCHECKBUILD BIN
CoGAPS 3.18.0  (landing page)
Elana J. Fertig
git_last_commit: 659a6a2
git_last_commit_date: 2022-11-01 11:05:12 -0400
nebbiolo2Linux (Ubuntu 20.04.5 LTS) / x86_64  OK    OK    WARNINGS  UNNEEDED, same version is already published
palomino4Windows Server 2022 Datacenter / x64  OK    OK    WARNINGS    OK  UNNEEDED, same version is already published
lconwaymacOS 12.5.1 Monterey / x86_64  OK    OK    WARNINGS    OK  UNNEEDED, same version is already published
Package 113/636HostnameOS / ArchINSTALLBUILDCHECKBUILD BIN
Cogito 1.4.0  (landing page)
Annika Bürger
git_last_commit: 39b4f95
git_last_commit_date: 2022-11-01 11:25:54 -0400
nebbiolo2Linux (Ubuntu 20.04.5 LTS) / x86_64  OK    OK    OK  UNNEEDED, same version is already published
palomino4Windows Server 2022 Datacenter / x64  OK    OK    OK    OK  UNNEEDED, same version is already published
lconwaymacOS 12.5.1 Monterey / x86_64  OK    OK    OK    OK  UNNEEDED, same version is already published
Package 114/636HostnameOS / ArchINSTALLBUILDCHECKBUILD BIN
comapr 1.2.0  (landing page)
Ruqian Lyu
git_last_commit: 9c69a83
git_last_commit_date: 2022-11-01 11:26:18 -0400
nebbiolo2Linux (Ubuntu 20.04.5 LTS) / x86_64  OK    OK    OK  UNNEEDED, same version is already published
palomino4Windows Server 2022 Datacenter / x64  OK    OK    OK    OK  UNNEEDED, same version is already published
lconwaymacOS 12.5.1 Monterey / x86_64  OK    OK    OK    OK  UNNEEDED, same version is already published
Package 115/636HostnameOS / ArchINSTALLBUILDCHECKBUILD BIN
coMET 1.30.0  (landing page)
Tiphaine Martin
git_last_commit: c75985c
git_last_commit_date: 2022-11-01 11:10:56 -0400
nebbiolo2Linux (Ubuntu 20.04.5 LTS) / x86_64  OK    OK    OK  UNNEEDED, same version is already published
palomino4Windows Server 2022 Datacenter / x64  OK    OK    OK    OK  UNNEEDED, same version is already published
lconwaymacOS 12.5.1 Monterey / x86_64  OK    OK    OK    OK  UNNEEDED, same version is already published
Package 116/636HostnameOS / ArchINSTALLBUILDCHECKBUILD BIN
compEpiTools 1.32.0  (landing page)
Kamal Kishore
git_last_commit: a41173d
git_last_commit_date: 2022-11-01 11:10:09 -0400
nebbiolo2Linux (Ubuntu 20.04.5 LTS) / x86_64  OK    OK    WARNINGS  UNNEEDED, same version is already published
palomino4Windows Server 2022 Datacenter / x64  OK    OK    WARNINGS    OK  UNNEEDED, same version is already published
lconwaymacOS 12.5.1 Monterey / x86_64  OK    OK    WARNINGS    OK  UNNEEDED, same version is already published
Package 117/636HostnameOS / ArchINSTALLBUILDCHECKBUILD BIN
CompoundDb 1.2.1  (landing page)
Johannes Rainer
git_last_commit: 119520b
git_last_commit_date: 2022-11-14 07:58:13 -0400
nebbiolo2Linux (Ubuntu 20.04.5 LTS) / x86_64  OK    OK    OK  UNNEEDED, same version is already published
palomino4Windows Server 2022 Datacenter / x64  OK    OK    OK    OK  UNNEEDED, same version is already published
lconwaymacOS 12.5.1 Monterey / x86_64  OK    OK    OK    OK  UNNEEDED, same version is already published
Package 118/636HostnameOS / ArchINSTALLBUILDCHECKBUILD BIN
consensusDE 1.16.0  (landing page)
Ashley J. Waardenberg
git_last_commit: 4b085f5
git_last_commit_date: 2022-11-01 11:18:46 -0400
nebbiolo2Linux (Ubuntu 20.04.5 LTS) / x86_64  OK    OK    OK  UNNEEDED, same version is already published
palomino4Windows Server 2022 Datacenter / x64  OK    OK    OK    OK  UNNEEDED, same version is already published
lconwaymacOS 12.5.1 Monterey / x86_64  OK    OK    OK    OK  UNNEEDED, same version is already published
Package 119/636HostnameOS / ArchINSTALLBUILDCHECKBUILD BIN
consensusSeekeR 1.26.0  (landing page)
Astrid Deschenes
git_last_commit: a6ebb12
git_last_commit_date: 2022-11-01 11:12:31 -0400
nebbiolo2Linux (Ubuntu 20.04.5 LTS) / x86_64  OK    OK    OK  UNNEEDED, same version is already published
palomino4Windows Server 2022 Datacenter / x64  OK    OK    OK    OK  UNNEEDED, same version is already published
lconwaymacOS 12.5.1 Monterey / x86_64  OK    OK    OK    OK  UNNEEDED, same version is already published
Package 120/636HostnameOS / ArchINSTALLBUILDCHECKBUILD BIN
contiBAIT 1.26.0  (landing page)
Kieran O'Neill
git_last_commit: e8a94bc
git_last_commit_date: 2022-11-01 11:12:55 -0400
nebbiolo2Linux (Ubuntu 20.04.5 LTS) / x86_64  OK    OK    WARNINGS  UNNEEDED, same version is already published
palomino4Windows Server 2022 Datacenter / x64  OK    OK    WARNINGS    OK  UNNEEDED, same version is already published
lconwaymacOS 12.5.1 Monterey / x86_64  OK    OK    WARNINGS    OK  UNNEEDED, same version is already published
Package 121/636HostnameOS / ArchINSTALLBUILDCHECKBUILD BIN
copynumber 1.38.0  (landing page)
Gro Nilsen
git_last_commit: 8ef3095
git_last_commit_date: 2022-11-01 11:08:08 -0400
nebbiolo2Linux (Ubuntu 20.04.5 LTS) / x86_64  OK    OK    OK  UNNEEDED, same version is already published
palomino4Windows Server 2022 Datacenter / x64  OK    ERROR  skippedskipped
lconwaymacOS 12.5.1 Monterey / x86_64  OK    ERROR  skippedskipped
Package 122/636HostnameOS / ArchINSTALLBUILDCHECKBUILD BIN
CopywriteR 2.30.0  (landing page)
Oscar Krijgsman
git_last_commit: ce2281e
git_last_commit_date: 2022-11-01 11:11:29 -0400
nebbiolo2Linux (Ubuntu 20.04.5 LTS) / x86_64  OK    OK    ERROR  
palomino4Windows Server 2022 Datacenter / x64  OK    OK    OK    OK  UNNEEDED, same version is already published
lconwaymacOS 12.5.1 Monterey / x86_64  OK    OK    OK    OK  UNNEEDED, same version is already published
Package 123/636HostnameOS / ArchINSTALLBUILDCHECKBUILD BIN
CoreGx 2.2.0  (landing page)
Benjamin Haibe-Kains
git_last_commit: 681e43d
git_last_commit_date: 2022-11-01 11:22:04 -0400
nebbiolo2Linux (Ubuntu 20.04.5 LTS) / x86_64  OK    OK    OK  UNNEEDED, same version is already published
palomino4Windows Server 2022 Datacenter / x64  OK    OK    OK    OK  UNNEEDED, same version is already published
lconwaymacOS 12.5.1 Monterey / x86_64  OK    OK    OK    OK  UNNEEDED, same version is already published
Package 124/636HostnameOS / ArchINSTALLBUILDCHECKBUILD BIN
coseq 1.22.0  (landing page)
Andrea Rau
git_last_commit: a1bc50f
git_last_commit_date: 2022-11-01 11:15:03 -0400
nebbiolo2Linux (Ubuntu 20.04.5 LTS) / x86_64  OK    OK    OK  UNNEEDED, same version is already published
palomino4Windows Server 2022 Datacenter / x64  OK    OK    OK    OK  UNNEEDED, same version is already published
lconwaymacOS 12.5.1 Monterey / x86_64  OK    OK    OK    OK  UNNEEDED, same version is already published
Package 125/636HostnameOS / ArchINSTALLBUILDCHECKBUILD BIN
CoverageView 1.36.0  (landing page)
Ernesto Lowy
git_last_commit: 76c28ab
git_last_commit_date: 2022-11-01 11:09:32 -0400
nebbiolo2Linux (Ubuntu 20.04.5 LTS) / x86_64  OK    OK    WARNINGS  UNNEEDED, same version is already published
palomino4Windows Server 2022 Datacenter / x64... NOT SUPPORTED ...
lconwaymacOS 12.5.1 Monterey / x86_64  OK    OK    WARNINGS    OK  UNNEEDED, same version is already published
Package 126/636HostnameOS / ArchINSTALLBUILDCHECKBUILD BIN
crisprBase 1.2.0  (landing page)
Jean-Philippe Fortin
git_last_commit: 0a9c86a
git_last_commit_date: 2022-11-01 11:26:16 -0400
nebbiolo2Linux (Ubuntu 20.04.5 LTS) / x86_64  OK    OK    OK  UNNEEDED, same version is already published
palomino4Windows Server 2022 Datacenter / x64  OK    OK    OK    OK  UNNEEDED, same version is already published
lconwaymacOS 12.5.1 Monterey / x86_64  OK    OK    OK    OK  UNNEEDED, same version is already published
Package 127/636HostnameOS / ArchINSTALLBUILDCHECKBUILD BIN
crisprDesign 1.0.0  (landing page)
Jean-Philippe Fortin
git_last_commit: cd58577
git_last_commit_date: 2022-11-01 11:27:20 -0400
nebbiolo2Linux (Ubuntu 20.04.5 LTS) / x86_64  OK    OK    OK  UNNEEDED, same version is already published
palomino4Windows Server 2022 Datacenter / x64  OK    OK    OK    OK  UNNEEDED, same version is already published
lconwaymacOS 12.5.1 Monterey / x86_64  OK    OK    OK    OK  UNNEEDED, same version is already published
Package 128/636HostnameOS / ArchINSTALLBUILDCHECKBUILD BIN
CRISPRseek 1.38.0  (landing page)
Lihua Julie Zhu
git_last_commit: 9f03208
git_last_commit_date: 2022-11-01 11:09:00 -0400
nebbiolo2Linux (Ubuntu 20.04.5 LTS) / x86_64  OK    OK    OK  UNNEEDED, same version is already published
palomino4Windows Server 2022 Datacenter / x64  OK    OK    OK    OK  UNNEEDED, same version is already published
lconwaymacOS 12.5.1 Monterey / x86_64  OK    OK    OK    OK  UNNEEDED, same version is already published
Package 129/636HostnameOS / ArchINSTALLBUILDCHECKBUILD BIN
CrispRVariants 1.26.0  (landing page)
Helen Lindsay
git_last_commit: f5240e3
git_last_commit_date: 2022-11-01 11:12:41 -0400
nebbiolo2Linux (Ubuntu 20.04.5 LTS) / x86_64  OK    OK    WARNINGS  UNNEEDED, same version is already published
palomino4Windows Server 2022 Datacenter / x64  OK    OK    WARNINGS    OK  UNNEEDED, same version is already published
lconwaymacOS 12.5.1 Monterey / x86_64  OK    OK    WARNINGS    OK  UNNEEDED, same version is already published
Package 130/636HostnameOS / ArchINSTALLBUILDCHECKBUILD BIN
crisprViz 1.0.0  (landing page)
Jean-Philippe Fortin
git_last_commit: 8295fb6
git_last_commit_date: 2022-11-01 11:27:33 -0400
nebbiolo2Linux (Ubuntu 20.04.5 LTS) / x86_64  OK    OK    OK  UNNEEDED, same version is already published
palomino4Windows Server 2022 Datacenter / x64  OK    OK    OK    OK  UNNEEDED, same version is already published
lconwaymacOS 12.5.1 Monterey / x86_64  OK    OK    OK    OK  UNNEEDED, same version is already published
Package 131/636HostnameOS / ArchINSTALLBUILDCHECKBUILD BIN
CSAR 1.50.0  (landing page)
Jose M Muino
git_last_commit: 3286fe6
git_last_commit_date: 2022-11-01 11:04:47 -0400
nebbiolo2Linux (Ubuntu 20.04.5 LTS) / x86_64  OK    OK    OK  UNNEEDED, same version is already published
palomino4Windows Server 2022 Datacenter / x64  OK    OK    OK    OK  UNNEEDED, same version is already published
lconwaymacOS 12.5.1 Monterey / x86_64  OK    OK    OK    OK  UNNEEDED, same version is already published
Package 132/636HostnameOS / ArchINSTALLBUILDCHECKBUILD BIN
csaw 1.32.0  (landing page)
Aaron Lun
git_last_commit: 7ab51d6
git_last_commit_date: 2022-11-01 11:10:35 -0400
nebbiolo2Linux (Ubuntu 20.04.5 LTS) / x86_64  OK    OK    OK  UNNEEDED, same version is already published
palomino4Windows Server 2022 Datacenter / x64  OK    OK    OK    OK  UNNEEDED, same version is already published
lconwaymacOS 12.5.1 Monterey / x86_64  OK    OK    OK    OK  UNNEEDED, same version is already published
Package 133/636HostnameOS / ArchINSTALLBUILDCHECKBUILD BIN
CSSQ 1.10.0  (landing page)
Fan Lab at Georgia Institute of Technology
git_last_commit: cd559b3
git_last_commit_date: 2022-11-01 11:21:05 -0400
nebbiolo2Linux (Ubuntu 20.04.5 LTS) / x86_64  OK    OK    OK  UNNEEDED, same version is already published
palomino4Windows Server 2022 Datacenter / x64  OK    OK    OK    OK  UNNEEDED, same version is already published
lconwaymacOS 12.5.1 Monterey / x86_64  OK    OK    OK    OK  UNNEEDED, same version is already published
Package 134/636HostnameOS / ArchINSTALLBUILDCHECKBUILD BIN
CTDquerier 2.6.0  (landing page)
Xavier Escribà-Montagut
git_last_commit: 97cf629
git_last_commit_date: 2022-11-01 11:24:12 -0400
nebbiolo2Linux (Ubuntu 20.04.5 LTS) / x86_64  OK    OK    WARNINGS  UNNEEDED, same version is already published
palomino4Windows Server 2022 Datacenter / x64  OK    OK    WARNINGS    OK  UNNEEDED, same version is already published
lconwaymacOS 12.5.1 Monterey / x86_64  OK    OK    WARNINGS    OK  UNNEEDED, same version is already published
Package 135/636HostnameOS / ArchINSTALLBUILDCHECKBUILD BIN
cummeRbund 2.40.0  (landing page)
Loyal A. Goff
git_last_commit: 852ad0a
git_last_commit_date: 2022-11-01 11:06:20 -0400
nebbiolo2Linux (Ubuntu 20.04.5 LTS) / x86_64  OK    OK    WARNINGS  UNNEEDED, same version is already published
palomino4Windows Server 2022 Datacenter / x64  OK    OK    WARNINGS    OK  UNNEEDED, same version is already published
lconwaymacOS 12.5.1 Monterey / x86_64  OK    OK    WARNINGS    OK  UNNEEDED, same version is already published
Package 136/636HostnameOS / ArchINSTALLBUILDCHECKBUILD BIN
customProDB 1.38.0  (landing page)
Xiaojing Wang
git_last_commit: cfe95f1
git_last_commit_date: 2022-11-01 11:08:20 -0400
nebbiolo2Linux (Ubuntu 20.04.5 LTS) / x86_64  OK    OK    OK  UNNEEDED, same version is already published
palomino4Windows Server 2022 Datacenter / x64  OK    OK    OK    OK  UNNEEDED, same version is already published
lconwaymacOS 12.5.1 Monterey / x86_64  OK    OK    OK    OK  UNNEEDED, same version is already published
Package 137/636HostnameOS / ArchINSTALLBUILDCHECKBUILD BIN
cydar 1.22.0  (landing page)
Aaron Lun
git_last_commit: 96c46a2
git_last_commit_date: 2022-11-01 11:15:23 -0400
nebbiolo2Linux (Ubuntu 20.04.5 LTS) / x86_64  OK    OK    OK  UNNEEDED, same version is already published
palomino4Windows Server 2022 Datacenter / x64  OK    OK    OK    OK  UNNEEDED, same version is already published
lconwaymacOS 12.5.1 Monterey / x86_64  OK    OK    OK    OK  UNNEEDED, same version is already published
Package 138/636HostnameOS / ArchINSTALLBUILDCHECKBUILD BIN
cytoKernel 1.4.0  (landing page)
Tusharkanti Ghosh
git_last_commit: 0aaad3e
git_last_commit_date: 2022-11-01 11:25:42 -0400
nebbiolo2Linux (Ubuntu 20.04.5 LTS) / x86_64  OK    OK    OK  UNNEEDED, same version is already published
palomino4Windows Server 2022 Datacenter / x64  OK    OK    OK    OK  UNNEEDED, same version is already published
lconwaymacOS 12.5.1 Monterey / x86_64  OK    OK    OK    OK  UNNEEDED, same version is already published
Package 139/636HostnameOS / ArchINSTALLBUILDCHECKBUILD BIN
cytomapper 1.10.1  (landing page)
Nils Eling
git_last_commit: 73da749
git_last_commit_date: 2023-01-19 07:28:12 -0400
nebbiolo2Linux (Ubuntu 20.04.5 LTS) / x86_64  OK    OK    OK  UNNEEDED, same version is already published
palomino4Windows Server 2022 Datacenter / x64  OK    OK    OK    OK  UNNEEDED, same version is already published
lconwaymacOS 12.5.1 Monterey / x86_64  OK    OK    OK    OK  UNNEEDED, same version is already published
Package 140/636HostnameOS / ArchINSTALLBUILDCHECKBUILD BIN
DAMEfinder 1.10.1  (landing page)
Stephany Orjuela
git_last_commit: 731e855
git_last_commit_date: 2022-12-06 08:47:57 -0400
nebbiolo2Linux (Ubuntu 20.04.5 LTS) / x86_64  OK    OK    OK  UNNEEDED, same version is already published
palomino4Windows Server 2022 Datacenter / x64  OK    OK    OK    OK  UNNEEDED, same version is already published
lconwaymacOS 12.5.1 Monterey / x86_64  OK    OK    OK    OK  UNNEEDED, same version is already published
Package 141/636HostnameOS / ArchINSTALLBUILDCHECKBUILD BIN
dasper 1.8.0  (landing page)
David Zhang
git_last_commit: 0bb89af
git_last_commit_date: 2022-11-01 11:23:22 -0400
nebbiolo2Linux (Ubuntu 20.04.5 LTS) / x86_64  OK    ERROR  skipped
palomino4Windows Server 2022 Datacenter / x64  OK    ERROR  skippedskipped
lconwaymacOS 12.5.1 Monterey / x86_64  OK    ERROR  skippedskipped
Package 142/636HostnameOS / ArchINSTALLBUILDCHECKBUILD BIN
debrowser 1.26.3  (landing page)
Alper Kucukural
git_last_commit: 4fb9588
git_last_commit_date: 2023-03-12 18:21:05 -0400
nebbiolo2Linux (Ubuntu 20.04.5 LTS) / x86_64  OK    OK    OK  UNNEEDED, same version is already published
palomino4Windows Server 2022 Datacenter / x64  OK    OK    OK    OK  UNNEEDED, same version is already published
lconwaymacOS 12.5.1 Monterey / x86_64  OK    OK    OK    OK  UNNEEDED, same version is already published
Package 143/636HostnameOS / ArchINSTALLBUILDCHECKBUILD BIN
DECIPHER 2.26.0  (landing page)
Erik Wright
git_last_commit: 7de99ec
git_last_commit_date: 2022-11-01 11:06:21 -0400
nebbiolo2Linux (Ubuntu 20.04.5 LTS) / x86_64  OK    OK    OK  UNNEEDED, same version is already published
palomino4Windows Server 2022 Datacenter / x64  OK    OK    OK    OK  UNNEEDED, same version is already published
lconwaymacOS 12.5.1 Monterey / x86_64  OK    OK    OK    OK  UNNEEDED, same version is already published
Package 144/636HostnameOS / ArchINSTALLBUILDCHECKBUILD BIN
decompTumor2Sig 2.14.0  (landing page)
Rosario M. Piro
git_last_commit: b172b7a
git_last_commit_date: 2022-11-01 11:18:56 -0400
nebbiolo2Linux (Ubuntu 20.04.5 LTS) / x86_64  OK    OK    OK  UNNEEDED, same version is already published
palomino4Windows Server 2022 Datacenter / x64  OK    OK    OK    OK  UNNEEDED, same version is already published
lconwaymacOS 12.5.1 Monterey / x86_64  OK    OK    OK    OK  UNNEEDED, same version is already published
Package 145/636HostnameOS / ArchINSTALLBUILDCHECKBUILD BIN
deconvR 1.4.5  (landing page)
Irem B. G�nd�z
git_last_commit: 913b1ca
git_last_commit_date: 2023-04-04 11:25:54 -0400
nebbiolo2Linux (Ubuntu 20.04.5 LTS) / x86_64  OK    OK    ERROR  
palomino4Windows Server 2022 Datacenter / x64  OK    OK    ERROR    OK  
lconwaymacOS 12.5.1 Monterey / x86_64  OK    OK    ERROR    OK  
Package 146/636HostnameOS / ArchINSTALLBUILDCHECKBUILD BIN
DEFormats 1.26.0  (landing page)
Andrzej Oleś
git_last_commit: 4c9b97c
git_last_commit_date: 2022-11-01 11:13:20 -0400
nebbiolo2Linux (Ubuntu 20.04.5 LTS) / x86_64  OK    OK    OK  UNNEEDED, same version is already published
palomino4Windows Server 2022 Datacenter / x64  OK    OK    OK    OK  UNNEEDED, same version is already published
lconwaymacOS 12.5.1 Monterey / x86_64  OK    OK    OK    OK  UNNEEDED, same version is already published
Package 147/636HostnameOS / ArchINSTALLBUILDCHECKBUILD BIN
DegNorm 1.8.2  (landing page)
Ji-Ping Wang
git_last_commit: cfa5bdd
git_last_commit_date: 2023-01-19 11:15:53 -0400
nebbiolo2Linux (Ubuntu 20.04.5 LTS) / x86_64  OK    OK    OK  UNNEEDED, same version is already published
palomino4Windows Server 2022 Datacenter / x64  OK    OK    OK    OK  UNNEEDED, same version is already published
lconwaymacOS 12.5.1 Monterey / x86_64  OK    OK    OK    OK  UNNEEDED, same version is already published
Package 148/636HostnameOS / ArchINSTALLBUILDCHECKBUILD BIN
DEGreport 1.34.0  (landing page)
Lorena Pantano
git_last_commit: 4b3a6ae
git_last_commit_date: 2022-11-01 11:09:50 -0400
nebbiolo2Linux (Ubuntu 20.04.5 LTS) / x86_64  OK    OK    OK  UNNEEDED, same version is already published
palomino4Windows Server 2022 Datacenter / x64  OK    OK    OK    OK  UNNEEDED, same version is already published
lconwaymacOS 12.5.1 Monterey / x86_64  OK    OK    OK    OK  UNNEEDED, same version is already published
Package 149/636HostnameOS / ArchINSTALLBUILDCHECKBUILD BIN
DelayedArray 0.24.0  (landing page)
Hervé Pagès
git_last_commit: 68ee3d0
git_last_commit_date: 2022-11-01 11:14:54 -0400
nebbiolo2Linux (Ubuntu 20.04.5 LTS) / x86_64  OK    OK    WARNINGS  UNNEEDED, same version is already published
palomino4Windows Server 2022 Datacenter / x64  OK    ERROR  skippedskipped
lconwaymacOS 12.5.1 Monterey / x86_64  OK    OK    WARNINGS    OK  UNNEEDED, same version is already published
Package 150/636HostnameOS / ArchINSTALLBUILDCHECKBUILD BIN
DelayedDataFrame 1.14.0  (landing page)
Qian Liu
git_last_commit: 811fc38
git_last_commit_date: 2022-11-01 11:18:59 -0400
nebbiolo2Linux (Ubuntu 20.04.5 LTS) / x86_64  OK    OK    OK  UNNEEDED, same version is already published
palomino4Windows Server 2022 Datacenter / x64  OK    OK    OK    OK  UNNEEDED, same version is already published
lconwaymacOS 12.5.1 Monterey / x86_64  OK    OK    OK    OK  UNNEEDED, same version is already published
Package 151/636HostnameOS / ArchINSTALLBUILDCHECKBUILD BIN
DelayedMatrixStats 1.20.0  (landing page)
Peter Hickey
git_last_commit: 1ed1425
git_last_commit_date: 2022-11-01 11:16:36 -0400
nebbiolo2Linux (Ubuntu 20.04.5 LTS) / x86_64  OK    OK    OK  UNNEEDED, same version is already published
palomino4Windows Server 2022 Datacenter / x64  OK    OK    OK    OK  UNNEEDED, same version is already published
lconwaymacOS 12.5.1 Monterey / x86_64  OK    OK    OK    OK  UNNEEDED, same version is already published
Package 152/636HostnameOS / ArchINSTALLBUILDCHECKBUILD BIN
derfinder 1.32.0  (landing page)
Leonardo Collado-Torres
git_last_commit: d837971
git_last_commit_date: 2022-11-01 11:10:24 -0400
nebbiolo2Linux (Ubuntu 20.04.5 LTS) / x86_64  OK    OK    OK  UNNEEDED, same version is already published
palomino4Windows Server 2022 Datacenter / x64  OK    OK    OK    OK  UNNEEDED, same version is already published
lconwaymacOS 12.5.1 Monterey / x86_64  OK    OK    OK    OK  UNNEEDED, same version is already published
Package 153/636HostnameOS / ArchINSTALLBUILDCHECKBUILD BIN
derfinderHelper 1.32.0  (landing page)
Leonardo Collado-Torres
git_last_commit: d38b592
git_last_commit_date: 2022-11-01 11:10:26 -0400
nebbiolo2Linux (Ubuntu 20.04.5 LTS) / x86_64  OK    OK    OK  UNNEEDED, same version is already published
palomino4Windows Server 2022 Datacenter / x64  OK    OK    OK    OK  UNNEEDED, same version is already published
lconwaymacOS 12.5.1 Monterey / x86_64  OK    OK    OK    OK  UNNEEDED, same version is already published
Package 154/636HostnameOS / ArchINSTALLBUILDCHECKBUILD BIN
derfinderPlot 1.32.0  (landing page)
Leonardo Collado-Torres
git_last_commit: 9245bc5
git_last_commit_date: 2022-11-01 11:10:25 -0400
nebbiolo2Linux (Ubuntu 20.04.5 LTS) / x86_64  OK    OK    OK  UNNEEDED, same version is already published
palomino4Windows Server 2022 Datacenter / x64  OK    OK    OK    OK  UNNEEDED, same version is already published
lconwaymacOS 12.5.1 Monterey / x86_64  OK    OK    OK    OK  UNNEEDED, same version is already published
Package 155/636HostnameOS / ArchINSTALLBUILDCHECKBUILD BIN
DEScan2 1.18.2  (landing page)
Dario Righelli
git_last_commit: 4898ff4
git_last_commit_date: 2023-03-07 05:25:08 -0400
nebbiolo2Linux (Ubuntu 20.04.5 LTS) / x86_64  OK    OK    OK  UNNEEDED, same version is already published
palomino4Windows Server 2022 Datacenter / x64  OK    OK    OK    OK  UNNEEDED, same version is already published
lconwaymacOS 12.5.1 Monterey / x86_64  OK    OK    OK    OK  UNNEEDED, same version is already published
Package 156/636HostnameOS / ArchINSTALLBUILDCHECKBUILD BIN
DESeq2 1.38.3  (landing page)
Michael Love
git_last_commit: c470955
git_last_commit_date: 2023-01-19 11:16:09 -0400
nebbiolo2Linux (Ubuntu 20.04.5 LTS) / x86_64  OK    OK    OK  UNNEEDED, same version is already published
palomino4Windows Server 2022 Datacenter / x64  OK    OK    OK    OK  UNNEEDED, same version is already published
lconwaymacOS 12.5.1 Monterey / x86_64  OK    OK    OK    OK  UNNEEDED, same version is already published
Package 157/636HostnameOS / ArchINSTALLBUILDCHECKBUILD BIN
DEWSeq 1.12.0  (landing page)
bioinformatics team Hentze
git_last_commit: e324b51
git_last_commit_date: 2022-11-01 11:20:50 -0400
nebbiolo2Linux (Ubuntu 20.04.5 LTS) / x86_64  OK    OK    OK  UNNEEDED, same version is already published
palomino4Windows Server 2022 Datacenter / x64  OK    OK    OK    OK  UNNEEDED, same version is already published
lconwaymacOS 12.5.1 Monterey / x86_64  OK    OK    OK    OK  UNNEEDED, same version is already published
Package 158/636HostnameOS / ArchINSTALLBUILDCHECKBUILD BIN
DEXSeq 1.44.0  (landing page)
Alejandro Reyes
git_last_commit: 9660d73
git_last_commit_date: 2022-11-01 11:05:59 -0400
nebbiolo2Linux (Ubuntu 20.04.5 LTS) / x86_64  OK    OK    OK  UNNEEDED, same version is already published
palomino4Windows Server 2022 Datacenter / x64  OK    OK    OK    OK  UNNEEDED, same version is already published
lconwaymacOS 12.5.1 Monterey / x86_64  OK    OK    OK    OK  UNNEEDED, same version is already published
Package 159/636HostnameOS / ArchINSTALLBUILDCHECKBUILD BIN
DiffBind 3.8.4  (landing page)
Rory Stark
git_last_commit: 846ee10
git_last_commit_date: 2023-01-12 07:26:55 -0400
nebbiolo2Linux (Ubuntu 20.04.5 LTS) / x86_64  OK    OK    OK  UNNEEDED, same version is already published
palomino4Windows Server 2022 Datacenter / x64  OK    OK    OK    OK  UNNEEDED, same version is already published
lconwaymacOS 12.5.1 Monterey / x86_64  OK    OK    OK    OK  UNNEEDED, same version is already published
Package 160/636HostnameOS / ArchINSTALLBUILDCHECKBUILD BIN
diffcyt 1.18.0  (landing page)
Lukas M. Weber
git_last_commit: 35290a0
git_last_commit_date: 2022-11-01 11:17:30 -0400
nebbiolo2Linux (Ubuntu 20.04.5 LTS) / x86_64  OK    OK    OK  UNNEEDED, same version is already published
palomino4Windows Server 2022 Datacenter / x64  OK    OK    OK    OK  UNNEEDED, same version is already published
lconwaymacOS 12.5.1 Monterey / x86_64  OK    OK    OK    OK  UNNEEDED, same version is already published
Package 161/636HostnameOS / ArchINSTALLBUILDCHECKBUILD BIN
diffHic 1.30.0  (landing page)
Aaron Lun
git_last_commit: c42accb
git_last_commit_date: 2022-11-01 11:11:37 -0400
nebbiolo2Linux (Ubuntu 20.04.5 LTS) / x86_64  OK    OK    OK  UNNEEDED, same version is already published
palomino4Windows Server 2022 Datacenter / x64  OK    OK    OK    OK  UNNEEDED, same version is already published
lconwaymacOS 12.5.1 Monterey / x86_64  OK    OK    OK    OK  UNNEEDED, same version is already published
Package 162/636HostnameOS / ArchINSTALLBUILDCHECKBUILD BIN
diffUTR 1.6.0  (landing page)
Pierre-Luc Germain
git_last_commit: a27bd74
git_last_commit_date: 2022-11-01 11:24:56 -0400
nebbiolo2Linux (Ubuntu 20.04.5 LTS) / x86_64  OK    OK    OK  UNNEEDED, same version is already published
palomino4Windows Server 2022 Datacenter / x64  OK    OK    OK    OK  UNNEEDED, same version is already published
lconwaymacOS 12.5.1 Monterey / x86_64  OK    OK    OK    OK  UNNEEDED, same version is already published
Package 163/636HostnameOS / ArchINSTALLBUILDCHECKBUILD BIN
Dino 1.4.0  (landing page)
Jared Brown
git_last_commit: d36593c
git_last_commit_date: 2022-11-01 11:25:18 -0400
nebbiolo2Linux (Ubuntu 20.04.5 LTS) / x86_64  OK    OK    OK  UNNEEDED, same version is already published
palomino4Windows Server 2022 Datacenter / x64  OK    OK    OK    OK  UNNEEDED, same version is already published
lconwaymacOS 12.5.1 Monterey / x86_64  OK    OK    OK    OK  UNNEEDED, same version is already published
Package 164/636HostnameOS / ArchINSTALLBUILDCHECKBUILD BIN
DirichletMultinomial 1.40.0  (landing page)
Martin Morgan
git_last_commit: 200176f
git_last_commit_date: 2022-11-01 11:06:58 -0400
nebbiolo2Linux (Ubuntu 20.04.5 LTS) / x86_64  OK    OK    OK  UNNEEDED, same version is already published
palomino4Windows Server 2022 Datacenter / x64  OK    OK    OK    OK  UNNEEDED, same version is already published
lconwaymacOS 12.5.1 Monterey / x86_64  OK    OK    OK    OK  UNNEEDED, same version is already published
Package 165/636HostnameOS / ArchINSTALLBUILDCHECKBUILD BIN
DiscoRhythm 1.14.0  (landing page)
Matthew Carlucci
git_last_commit: 9cd5a0d
git_last_commit_date: 2022-11-01 11:19:37 -0400
nebbiolo2Linux (Ubuntu 20.04.5 LTS) / x86_64  OK    OK    OK  UNNEEDED, same version is already published
palomino4Windows Server 2022 Datacenter / x64  OK    OK    OK    OK  UNNEEDED, same version is already published
lconwaymacOS 12.5.1 Monterey / x86_64  OK    OK    OK    OK  UNNEEDED, same version is already published
Package 166/636HostnameOS / ArchINSTALLBUILDCHECKBUILD BIN
dittoSeq 1.10.0  (landing page)
Daniel Bunis
git_last_commit: eaa7948
git_last_commit_date: 2022-11-01 11:21:29 -0400
nebbiolo2Linux (Ubuntu 20.04.5 LTS) / x86_64  OK    OK    OK  UNNEEDED, same version is already published
palomino4Windows Server 2022 Datacenter / x64  OK    OK    OK    OK  UNNEEDED, same version is already published
lconwaymacOS 12.5.1 Monterey / x86_64  OK    OK    OK    OK  UNNEEDED, same version is already published
Package 167/636HostnameOS / ArchINSTALLBUILDCHECKBUILD BIN
DMCFB 1.12.0  (landing page)
Farhad Shokoohi
git_last_commit: 1c24503
git_last_commit_date: 2022-11-01 11:20:38 -0400
nebbiolo2Linux (Ubuntu 20.04.5 LTS) / x86_64  OK    OK    OK  UNNEEDED, same version is already published
palomino4Windows Server 2022 Datacenter / x64  OK    OK    OK    OK  UNNEEDED, same version is already published
lconwaymacOS 12.5.1 Monterey / x86_64  OK    OK    OK    OK  UNNEEDED, same version is already published
Package 168/636HostnameOS / ArchINSTALLBUILDCHECKBUILD BIN
DMCHMM 1.20.0  (landing page)
Farhad Shokoohi
git_last_commit: 336dac0
git_last_commit_date: 2022-11-01 11:16:13 -0400
nebbiolo2Linux (Ubuntu 20.04.5 LTS) / x86_64  OK    OK    OK  UNNEEDED, same version is already published
palomino4Windows Server 2022 Datacenter / x64  OK    OK    WARNINGS    OK  UNNEEDED, same version is already published
lconwaymacOS 12.5.1 Monterey / x86_64  OK    OK    OK    OK  UNNEEDED, same version is already published
Package 169/636HostnameOS / ArchINSTALLBUILDCHECKBUILD BIN
DMRcaller 1.30.0  (landing page)
Nicolae Radu Zabet
git_last_commit: 5215cdb
git_last_commit_date: 2022-11-01 11:11:26 -0400
nebbiolo2Linux (Ubuntu 20.04.5 LTS) / x86_64  OK    OK    OK  UNNEEDED, same version is already published
palomino4Windows Server 2022 Datacenter / x64  OK    OK    OK    OK  UNNEEDED, same version is already published
lconwaymacOS 12.5.1 Monterey / x86_64  OK    OK    OK    OK  UNNEEDED, same version is already published
Package 170/636HostnameOS / ArchINSTALLBUILDCHECKBUILD BIN
DMRcate 2.12.0  (landing page)
Tim Peters
git_last_commit: 560dd50
git_last_commit_date: 2022-11-01 11:09:16 -0400
nebbiolo2Linux (Ubuntu 20.04.5 LTS) / x86_64  OK    OK    OK  UNNEEDED, same version is already published
palomino4Windows Server 2022 Datacenter / x64  OK    OK    OK    OK  UNNEEDED, same version is already published
lconwaymacOS 12.5.1 Monterey / x86_64  OK    OK    OK    OK  UNNEEDED, same version is already published
Package 171/636HostnameOS / ArchINSTALLBUILDCHECKBUILD BIN
dmrseq 1.18.1  (landing page)
Keegan Korthauer
git_last_commit: ea7a1c9
git_last_commit_date: 2023-03-29 23:50:47 -0400
nebbiolo2Linux (Ubuntu 20.04.5 LTS) / x86_64  OK    OK    OK  UNNEEDED, same version is already published
palomino4Windows Server 2022 Datacenter / x64  OK    OK    OK    OK  UNNEEDED, same version is already published
lconwaymacOS 12.5.1 Monterey / x86_64  OK    OK    OK    OK  UNNEEDED, same version is already published
Package 172/636HostnameOS / ArchINSTALLBUILDCHECKBUILD BIN
DNAfusion 1.0.0  (landing page)
Christoffer Trier Maansson
git_last_commit: 163dcf2
git_last_commit_date: 2022-11-01 11:27:49 -0400
nebbiolo2Linux (Ubuntu 20.04.5 LTS) / x86_64  OK    OK    OK  UNNEEDED, same version is already published
palomino4Windows Server 2022 Datacenter / x64  OK    OK    OK    OK  UNNEEDED, same version is already published
lconwaymacOS 12.5.1 Monterey / x86_64  OK    OK    OK    OK  UNNEEDED, same version is already published
Package 173/636HostnameOS / ArchINSTALLBUILDCHECKBUILD BIN
doseR 1.14.0  (landing page)
ake.vastermark
git_last_commit: 28a024c
git_last_commit_date: 2022-11-01 11:19:19 -0400
nebbiolo2Linux (Ubuntu 20.04.5 LTS) / x86_64  OK    OK    OK  UNNEEDED, same version is already published
palomino4Windows Server 2022 Datacenter / x64  OK    OK    OK    OK  UNNEEDED, same version is already published
lconwaymacOS 12.5.1 Monterey / x86_64  OK    OK    OK    OK  UNNEEDED, same version is already published
Package 174/636HostnameOS / ArchINSTALLBUILDCHECKBUILD BIN
DRIMSeq 1.26.0  (landing page)
Malgorzata Nowicka
git_last_commit: 69cf942
git_last_commit_date: 2022-11-01 11:13:16 -0400
nebbiolo2Linux (Ubuntu 20.04.5 LTS) / x86_64  OK    OK    WARNINGS  UNNEEDED, same version is already published
palomino4Windows Server 2022 Datacenter / x64  OK    OK    WARNINGS    OK  UNNEEDED, same version is already published
lconwaymacOS 12.5.1 Monterey / x86_64  OK    OK    WARNINGS    OK  UNNEEDED, same version is already published
Package 175/636HostnameOS / ArchINSTALLBUILDCHECKBUILD BIN
DropletUtils 1.18.1  (landing page)
Jonathan Griffiths
git_last_commit: ff37775
git_last_commit_date: 2022-11-22 02:59:05 -0400
nebbiolo2Linux (Ubuntu 20.04.5 LTS) / x86_64  OK    OK    OK  UNNEEDED, same version is already published
palomino4Windows Server 2022 Datacenter / x64  OK    OK    OK    OK  UNNEEDED, same version is already published
lconwaymacOS 12.5.1 Monterey / x86_64  OK    OK    OK    OK  UNNEEDED, same version is already published
Package 176/636HostnameOS / ArchINSTALLBUILDCHECKBUILD BIN
drugTargetInteractions 1.6.0  (landing page)
Thomas Girke
git_last_commit: e975994
git_last_commit_date: 2022-11-01 11:24:22 -0400
nebbiolo2Linux (Ubuntu 20.04.5 LTS) / x86_64  OK    OK    OK  UNNEEDED, same version is already published
palomino4Windows Server 2022 Datacenter / x64  OK    OK    OK    OK  UNNEEDED, same version is already published
lconwaymacOS 12.5.1 Monterey / x86_64  OK    OK    OK    OK  UNNEEDED, same version is already published
Package 177/636HostnameOS / ArchINSTALLBUILDCHECKBUILD BIN
dStruct 1.4.0  (landing page)
Krishna Choudhary
git_last_commit: d240736
git_last_commit_date: 2022-11-01 11:25:14 -0400
nebbiolo2Linux (Ubuntu 20.04.5 LTS) / x86_64  OK    OK    OK  UNNEEDED, same version is already published
palomino4Windows Server 2022 Datacenter / x64  OK    OK    OK    OK  UNNEEDED, same version is already published
lconwaymacOS 12.5.1 Monterey / x86_64  OK    OK    OK    OK  UNNEEDED, same version is already published
Package 178/636HostnameOS / ArchINSTALLBUILDCHECKBUILD BIN
easyRNASeq 2.34.0  (landing page)
Nicolas Delhomme
git_last_commit: 37ce549
git_last_commit_date: 2022-11-01 11:06:37 -0400
nebbiolo2Linux (Ubuntu 20.04.5 LTS) / x86_64  OK    OK    OK  UNNEEDED, same version is already published
palomino4Windows Server 2022 Datacenter / x64  OK    OK    OK    OK  UNNEEDED, same version is already published
lconwaymacOS 12.5.1 Monterey / x86_64  OK    OK    OK    OK  UNNEEDED, same version is already published
Package 179/636HostnameOS / ArchINSTALLBUILDCHECKBUILD BIN
eegc 1.24.0  (landing page)
Xiaoyuan Zhou
git_last_commit: 5ff5737
git_last_commit_date: 2022-11-01 11:14:19 -0400
nebbiolo2Linux (Ubuntu 20.04.5 LTS) / x86_64  OK    OK    WARNINGS  UNNEEDED, same version is already published
palomino4Windows Server 2022 Datacenter / x64  OK    OK    WARNINGS    OK  UNNEEDED, same version is already published
lconwaymacOS 12.5.1 Monterey / x86_64  OK    OK    WARNINGS    OK  UNNEEDED, same version is already published
Package 180/636HostnameOS / ArchINSTALLBUILDCHECKBUILD BIN
eisaR 1.10.0  (landing page)
Michael Stadler
git_last_commit: 7b66d74
git_last_commit_date: 2022-11-01 11:21:34 -0400
nebbiolo2Linux (Ubuntu 20.04.5 LTS) / x86_64  OK    OK    OK  UNNEEDED, same version is already published
palomino4Windows Server 2022 Datacenter / x64  OK    OK    OK    OK  UNNEEDED, same version is already published
lconwaymacOS 12.5.1 Monterey / x86_64  OK    OK    OK    OK  UNNEEDED, same version is already published
Package 181/636HostnameOS / ArchINSTALLBUILDCHECKBUILD BIN
ELMER 2.22.0  (landing page)
Tiago Chedraoui Silva
git_last_commit: a3d5369
git_last_commit_date: 2022-11-01 11:11:45 -0400
nebbiolo2Linux (Ubuntu 20.04.5 LTS) / x86_64  OK    OK    WARNINGS  UNNEEDED, same version is already published
palomino4Windows Server 2022 Datacenter / x64  OK    OK    WARNINGS    OK  UNNEEDED, same version is already published
lconwaymacOS 12.5.1 Monterey / x86_64  OK    OK    WARNINGS    OK  UNNEEDED, same version is already published
Package 182/636HostnameOS / ArchINSTALLBUILDCHECKBUILD BIN
enhancerHomologSearch 1.4.2  (landing page)
Jianhong Ou
git_last_commit: c30e1e0
git_last_commit_date: 2023-01-19 11:16:31 -0400
nebbiolo2Linux (Ubuntu 20.04.5 LTS) / x86_64  OK    OK    OK  UNNEEDED, same version is already published
palomino4Windows Server 2022 Datacenter / x64  OK    OK    OK    OK  UNNEEDED, same version is already published
lconwaymacOS 12.5.1 Monterey / x86_64  OK    OK    OK    OK  UNNEEDED, same version is already published
Package 183/636HostnameOS / ArchINSTALLBUILDCHECKBUILD BIN
ENmix 1.34.02  (landing page)
Zongli Xu
git_last_commit: faf0823
git_last_commit_date: 2023-03-07 15:26:14 -0400
nebbiolo2Linux (Ubuntu 20.04.5 LTS) / x86_64  OK    OK    OK  UNNEEDED, same version is already published
palomino4Windows Server 2022 Datacenter / x64  OK    OK    OK    OK  UNNEEDED, same version is already published
lconwaymacOS 12.5.1 Monterey / x86_64  OK    OK    OK    OK  UNNEEDED, same version is already published
Package 184/636HostnameOS / ArchINSTALLBUILDCHECKBUILD BIN
EnrichmentBrowser 2.28.2  (landing page)
Ludwig Geistlinger
git_last_commit: 0db911d
git_last_commit_date: 2023-03-19 19:26:11 -0400
nebbiolo2Linux (Ubuntu 20.04.5 LTS) / x86_64  OK    OK    OK  UNNEEDED, same version is already published
palomino4Windows Server 2022 Datacenter / x64  OK    OK    OK    OK  UNNEEDED, same version is already published
lconwaymacOS 12.5.1 Monterey / x86_64  OK    OK    OK    OK  UNNEEDED, same version is already published
Package 185/636HostnameOS / ArchINSTALLBUILDCHECKBUILD BIN
enrichTF 1.14.0  (landing page)
Zheng Wei
git_last_commit: 7aa6e22
git_last_commit_date: 2022-11-01 11:19:51 -0400
nebbiolo2Linux (Ubuntu 20.04.5 LTS) / x86_64  OK    OK    OK  UNNEEDED, same version is already published
palomino4Windows Server 2022 Datacenter / x64  OK    OK    OK    OK  UNNEEDED, same version is already published
lconwaymacOS 12.5.1 Monterey / x86_64  OK    OK    OK    OK  UNNEEDED, same version is already published
Package 186/636HostnameOS / ArchINSTALLBUILDCHECKBUILD BIN
ensembldb 2.22.0  (landing page)
Johannes Rainer
git_last_commit: 4dda178
git_last_commit_date: 2022-11-01 11:11:20 -0400
nebbiolo2Linux (Ubuntu 20.04.5 LTS) / x86_64  OK    OK    OK  UNNEEDED, same version is already published
palomino4Windows Server 2022 Datacenter / x64  OK    OK    OK    OK  UNNEEDED, same version is already published
lconwaymacOS 12.5.1 Monterey / x86_64  OK    OK    OK    OK  UNNEEDED, same version is already published
Package 187/636HostnameOS / ArchINSTALLBUILDCHECKBUILD BIN
ensemblVEP 1.40.0  (landing page)
Bioconductor Package Maintainer
git_last_commit: 1c081b3
git_last_commit_date: 2022-11-01 11:07:41 -0400
nebbiolo2Linux (Ubuntu 20.04.5 LTS) / x86_64  OK    ERROR  skipped
palomino4Windows Server 2022 Datacenter / x64... NOT SUPPORTED ...
lconwaymacOS 12.5.1 Monterey / x86_64  OK    ERROR  skippedskipped
Package 188/636HostnameOS / ArchINSTALLBUILDCHECKBUILD BIN
epigenomix 1.38.0  (landing page)
Hans-Ulrich Klein
git_last_commit: 3022714
git_last_commit_date: 2022-11-01 11:07:58 -0400
nebbiolo2Linux (Ubuntu 20.04.5 LTS) / x86_64  OK    OK    OK  UNNEEDED, same version is already published
palomino4Windows Server 2022 Datacenter / x64  OK    OK    OK    OK  UNNEEDED, same version is already published
lconwaymacOS 12.5.1 Monterey / x86_64  OK    OK    OK    OK  UNNEEDED, same version is already published
Package 189/636HostnameOS / ArchINSTALLBUILDCHECKBUILD BIN
epigraHMM 1.6.4  (landing page)
Pedro Baldoni
git_last_commit: 5055b06
git_last_commit_date: 2023-03-22 18:07:04 -0400
nebbiolo2Linux (Ubuntu 20.04.5 LTS) / x86_64  OK    OK    OK  UNNEEDED, same version is already published
palomino4Windows Server 2022 Datacenter / x64  OK    OK    OK    OK  UNNEEDED, same version is already published
lconwaymacOS 12.5.1 Monterey / x86_64  OK    OK    OK    OK  UNNEEDED, same version is already published
Package 190/636HostnameOS / ArchINSTALLBUILDCHECKBUILD BIN
epihet 1.14.0  (landing page)
Xiaowen Chen
git_last_commit: 3214507
git_last_commit_date: 2022-11-01 11:18:59 -0400
nebbiolo2Linux (Ubuntu 20.04.5 LTS) / x86_64  ERROR    ERROR  skipped
palomino4Windows Server 2022 Datacenter / x64  ERROR    ERROR  skippedskipped
lconwaymacOS 12.5.1 Monterey / x86_64  ERROR    ERROR  skippedskipped
Package 191/636HostnameOS / ArchINSTALLBUILDCHECKBUILD BIN
EpiMix 1.0.2  (landing page)
Yuanning Zheng
git_last_commit: ceba443
git_last_commit_date: 2023-04-03 21:04:50 -0400
nebbiolo2Linux (Ubuntu 20.04.5 LTS) / x86_64  OK    ERROR  skipped
palomino4Windows Server 2022 Datacenter / x64  OK    ERROR  skippedskipped
lconwaymacOS 12.5.1 Monterey / x86_64  OK    ERROR  skippedskipped
Package 192/636HostnameOS / ArchINSTALLBUILDCHECKBUILD BIN
epimutacions 1.2.0  (landing page)
Dolors Pelegri-Siso
git_last_commit: b5bb97c
git_last_commit_date: 2022-11-01 11:26:53 -0400
nebbiolo2Linux (Ubuntu 20.04.5 LTS) / x86_64  OK    OK    OK  UNNEEDED, same version is already published
palomino4Windows Server 2022 Datacenter / x64  OK    ERROR  skippedskipped
lconwaymacOS 12.5.1 Monterey / x86_64  OK    OK    OK    OK  UNNEEDED, same version is already published
Package 193/636HostnameOS / ArchINSTALLBUILDCHECKBUILD BIN
epistack 1.4.0  (landing page)
DEVAILLY Guillaume
git_last_commit: 6e62201
git_last_commit_date: 2022-11-01 11:25:54 -0400
nebbiolo2Linux (Ubuntu 20.04.5 LTS) / x86_64  OK    OK    OK  UNNEEDED, same version is already published
palomino4Windows Server 2022 Datacenter / x64  OK    OK    OK    OK  UNNEEDED, same version is already published
lconwaymacOS 12.5.1 Monterey / x86_64  OK    OK    OK    OK  UNNEEDED, same version is already published
Package 194/636HostnameOS / ArchINSTALLBUILDCHECKBUILD BIN
EpiTxDb 1.10.0  (landing page)
Felix G.M. Ernst
git_last_commit: 2ced971
git_last_commit_date: 2022-11-01 11:21:35 -0400
nebbiolo2Linux (Ubuntu 20.04.5 LTS) / x86_64  OK    OK    OK  UNNEEDED, same version is already published
palomino4Windows Server 2022 Datacenter / x64  OK    OK    OK    OK  UNNEEDED, same version is already published
lconwaymacOS 12.5.1 Monterey / x86_64  OK    OK    OK    OK  UNNEEDED, same version is already published
Package 195/636HostnameOS / ArchINSTALLBUILDCHECKBUILD BIN
epivizr 2.28.0  (landing page)
Hector Corrada Bravo
git_last_commit: b6baa40
git_last_commit_date: 2022-11-01 11:08:48 -0400
nebbiolo2Linux (Ubuntu 20.04.5 LTS) / x86_64  OK    OK    OK  UNNEEDED, same version is already published
palomino4Windows Server 2022 Datacenter / x64  OK    OK    OK    OK  UNNEEDED, same version is already published
lconwaymacOS 12.5.1 Monterey / x86_64  OK    OK    OK    OK  UNNEEDED, same version is already published
Package 196/636HostnameOS / ArchINSTALLBUILDCHECKBUILD BIN
epivizrData 1.26.0  (landing page)
Hector Corrada Bravo
git_last_commit: 44f48d3
git_last_commit_date: 2022-11-01 11:13:39 -0400
nebbiolo2Linux (Ubuntu 20.04.5 LTS) / x86_64  OK    OK    OK  UNNEEDED, same version is already published
palomino4Windows Server 2022 Datacenter / x64  OK    OK    OK    OK  UNNEEDED, same version is already published
lconwaymacOS 12.5.1 Monterey / x86_64  OK    OK    OK    OK  UNNEEDED, same version is already published
Package 197/636HostnameOS / ArchINSTALLBUILDCHECKBUILD BIN
epivizrStandalone 1.26.0  (landing page)
Hector Corrada Bravo
git_last_commit: 538d8d7
git_last_commit_date: 2022-11-01 11:13:43 -0400
nebbiolo2Linux (Ubuntu 20.04.5 LTS) / x86_64  OK    OK    OK  UNNEEDED, same version is already published
palomino4Windows Server 2022 Datacenter / x64  OK    OK    OK    OK  UNNEEDED, same version is already published
lconwaymacOS 12.5.1 Monterey / x86_64  OK    OK    OK    OK  UNNEEDED, same version is already published
Package 198/636HostnameOS / ArchINSTALLBUILDCHECKBUILD BIN
erma 1.14.0  (landing page)
VJ Carey
git_last_commit: b240e98
git_last_commit_date: 2022-11-01 11:11:49 -0400
nebbiolo2Linux (Ubuntu 20.04.5 LTS) / x86_64  OK    OK    OK  UNNEEDED, same version is already published
palomino4Windows Server 2022 Datacenter / x64  OK    OK    OK    OK  UNNEEDED, same version is already published
lconwaymacOS 12.5.1 Monterey / x86_64  OK    OK    OK    OK  UNNEEDED, same version is already published
Package 199/636HostnameOS / ArchINSTALLBUILDCHECKBUILD BIN
esATAC 1.20.0  (landing page)
Zheng Wei
git_last_commit: 6c9fe81
git_last_commit_date: 2022-11-01 11:16:47 -0400
nebbiolo2Linux (Ubuntu 20.04.5 LTS) / x86_64  OK    OK    WARNINGS  UNNEEDED, same version is already published
palomino4Windows Server 2022 Datacenter / x64  OK    OK    WARNINGS    OK  UNNEEDED, same version is already published
lconwaymacOS 12.5.1 Monterey / x86_64  OK    OK    WARNINGS    OK  UNNEEDED, same version is already published
Package 200/636HostnameOS / ArchINSTALLBUILDCHECKBUILD BIN
EventPointer 3.6.0  (landing page)
Juan A. Ferrer-Bonsoms
git_last_commit: f5fba8a
git_last_commit_date: 2022-12-14 06:47:35 -0400
nebbiolo2Linux (Ubuntu 20.04.5 LTS) / x86_64  OK    OK    OK  UNNEEDED, same version is already published
palomino4Windows Server 2022 Datacenter / x64  OK    OK    OK    OK  UNNEEDED, same version is already published
lconwaymacOS 12.5.1 Monterey / x86_64  OK    OK    OK    OK  UNNEEDED, same version is already published
Package 201/636HostnameOS / ArchINSTALLBUILDCHECKBUILD BIN
exomePeak2 1.10.0  (landing page)
Zhen Wei
git_last_commit: ca31d66
git_last_commit_date: 2022-11-01 11:21:28 -0400
nebbiolo2Linux (Ubuntu 20.04.5 LTS) / x86_64  OK    OK    OK  UNNEEDED, same version is already published
palomino4Windows Server 2022 Datacenter / x64  OK    OK    OK    OK  UNNEEDED, same version is already published
lconwaymacOS 12.5.1 Monterey / x86_64  OK    OK    OK    OK  UNNEEDED, same version is already published
Package 202/636HostnameOS / ArchINSTALLBUILDCHECKBUILD BIN
ExperimentHub 2.6.0  (landing page)
Bioconductor Package Maintainer
git_last_commit: 557ba29
git_last_commit_date: 2022-11-01 11:13:01 -0400
nebbiolo2Linux (Ubuntu 20.04.5 LTS) / x86_64  OK    OK    OK  UNNEEDED, same version is already published
palomino4Windows Server 2022 Datacenter / x64  OK    OK    OK    OK  UNNEEDED, same version is already published
lconwaymacOS 12.5.1 Monterey / x86_64  OK    OK    OK    OK  UNNEEDED, same version is already published
Package 203/636HostnameOS / ArchINSTALLBUILDCHECKBUILD BIN
ExperimentHubData 1.24.0  (landing page)
Bioconductor Package Maintainer
git_last_commit: 276f420
git_last_commit_date: 2022-11-01 11:13:02 -0400
nebbiolo2Linux (Ubuntu 20.04.5 LTS) / x86_64  OK    OK    OK  UNNEEDED, same version is already published
palomino4Windows Server 2022 Datacenter / x64  OK    OK    OK    OK  UNNEEDED, same version is already published
lconwaymacOS 12.5.1 Monterey / x86_64  OK    OK    OK    OK  UNNEEDED, same version is already published
Package 204/636HostnameOS / ArchINSTALLBUILDCHECKBUILD BIN
ExperimentSubset 1.8.0  (landing page)
Irzam Sarfraz
git_last_commit: e9fa864
git_last_commit_date: 2022-11-01 11:23:10 -0400
nebbiolo2Linux (Ubuntu 20.04.5 LTS) / x86_64  OK    OK    OK  UNNEEDED, same version is already published
palomino4Windows Server 2022 Datacenter / x64  OK    OK    OK    OK  UNNEEDED, same version is already published
lconwaymacOS 12.5.1 Monterey / x86_64  OK    OK    OK    OK  UNNEEDED, same version is already published
Package 205/636HostnameOS / ArchINSTALLBUILDCHECKBUILD BIN
ExploreModelMatrix 1.10.0  (landing page)
Charlotte Soneson
git_last_commit: e71d8a4
git_last_commit_date: 2022-11-01 11:21:45 -0400
nebbiolo2Linux (Ubuntu 20.04.5 LTS) / x86_64  OK    OK    OK  UNNEEDED, same version is already published
palomino4Windows Server 2022 Datacenter / x64  OK    OK    OK    OK  UNNEEDED, same version is already published
lconwaymacOS 12.5.1 Monterey / x86_64  OK    OK    OK    OK  UNNEEDED, same version is already published
Package 206/636HostnameOS / ArchINSTALLBUILDCHECKBUILD BIN
ExpressionAtlas 1.26.0  (landing page)
Pedro Madrigal
git_last_commit: f57a05e
git_last_commit_date: 2022-11-01 11:12:57 -0400
nebbiolo2Linux (Ubuntu 20.04.5 LTS) / x86_64  OK    OK