Back to Multiple platform build/check report for BioC 3.16:   simplified   long
ABCDEFGHIJKL[M]NOPQRSTUVWXYZ

This page was generated on 2023-02-08 11:04:48 -0500 (Wed, 08 Feb 2023).

HostnameOSArch (*)R versionInstalled pkgs
nebbiolo2Linux (Ubuntu 20.04.5 LTS)x86_644.2.2 (2022-10-31) -- "Innocent and Trusting" 4511
palomino4Windows Server 2022 Datacenterx644.2.2 (2022-10-31 ucrt) -- "Innocent and Trusting" 4289
lconwaymacOS 12.5.1 Montereyx86_644.2.2 (2022-10-31) -- "Innocent and Trusting" 4318
Click on any hostname to see more info about the system (e.g. compilers)      (*) as reported by 'uname -p', except on Windows and Mac OS X

All results for package monocle


To the developers/maintainers of the monocle package:
- Please allow up to 24 hours (and sometimes 48 hours) for your latest push to git@git.bioconductor.org:packages/monocle.git to
reflect on this report. See How and When does the builder pull? When will my changes propagate? for more information.
- Make sure to use the following settings in order to reproduce any error or warning you see on this page.

raw results

Package 1248/2183HostnameOS / ArchINSTALLBUILDCHECKBUILD BIN
monocle 2.26.0  (landing page)
Cole Trapnell
Snapshot Date: 2023-02-07 14:00:04 -0500 (Tue, 07 Feb 2023)
git_url: https://git.bioconductor.org/packages/monocle
git_branch: RELEASE_3_16
git_last_commit: ec2dcba
git_last_commit_date: 2022-11-01 11:09:44 -0500 (Tue, 01 Nov 2022)
nebbiolo2Linux (Ubuntu 20.04.5 LTS) / x86_64  OK    OK    OK  UNNEEDED, same version is already published
palomino4Windows Server 2022 Datacenter / x64  OK    OK    OK    OK  UNNEEDED, same version is already published
lconwaymacOS 12.5.1 Monterey / x86_64  OK    OK    OK    OK  UNNEEDED, same version is already published

Results for Bioconductor software packages that depend directly on package monocle

QUICK STATSOS / ArchINSTALLBUILDCHECKBUILD BIN
nebbiolo2Linux (Ubuntu 20.04.5 LTS) / x86_64
013
022
0011
palomino4Windows Server 2022 Datacenter / x64
013
022
0011
002
lconwaymacOS 12.5.1 Monterey / x86_64
013
022
0011
002
Package 1/4HostnameOS / ArchINSTALLBUILDCHECKBUILD BIN
cicero 1.16.0  (landing page)
Hannah Pliner
git_last_commit: b7a9b8d
git_last_commit_date: 2022-11-01 11:18:33 -0500
nebbiolo2Linux (Ubuntu 20.04.5 LTS) / x86_64  OK    OK    OK  UNNEEDED, same version is already published
palomino4Windows Server 2022 Datacenter / x64  OK    OK    OK    OK  UNNEEDED, same version is already published
lconwaymacOS 12.5.1 Monterey / x86_64  OK    OK    OK    OK  UNNEEDED, same version is already published
Package 2/4HostnameOS / ArchINSTALLBUILDCHECKBUILD BIN
ctgGEM 1.10.0  (landing page)
USD Biomedical Engineering
git_last_commit: 4e46726
git_last_commit_date: 2022-11-01 11:21:23 -0500
nebbiolo2Linux (Ubuntu 20.04.5 LTS) / x86_64  ERROR    ERROR  skipped
palomino4Windows Server 2022 Datacenter / x64  ERROR    ERROR  skippedskipped
lconwaymacOS 12.5.1 Monterey / x86_64  ERROR    ERROR  skippedskipped
Package 3/4HostnameOS / ArchINSTALLBUILDCHECKBUILD BIN
phemd 1.14.0  (landing page)
William S Chen
git_last_commit: ad24776
git_last_commit_date: 2022-11-01 11:27:31 -0500
nebbiolo2Linux (Ubuntu 20.04.5 LTS) / x86_64  OK    ERROR  skipped
palomino4Windows Server 2022 Datacenter / x64  OK    ERROR  skippedskipped
lconwaymacOS 12.5.1 Monterey / x86_64  OK    ERROR  skippedskipped
Package 4/4HostnameOS / ArchINSTALLBUILDCHECKBUILD BIN
uSORT 1.24.0  (landing page)
Hao Chen
git_last_commit: 7ee1886
git_last_commit_date: 2022-11-01 11:14:28 -0500
nebbiolo2Linux (Ubuntu 20.04.5 LTS) / x86_64  OK    OK    WARNINGS  UNNEEDED, same version is already published
palomino4Windows Server 2022 Datacenter / x64  OK    OK    WARNINGS    OK  UNNEEDED, same version is already published
lconwaymacOS 12.5.1 Monterey / x86_64  OK    OK    WARNINGS    OK  UNNEEDED, same version is already published