Back to Multiple platform build/check report for BioC 3.16:   simplified   long
ABCDEFGHIJKL[M]NOPQRSTUVWXYZ

This page was generated on 2023-02-03 11:05:05 -0500 (Fri, 03 Feb 2023).

HostnameOSArch (*)R versionInstalled pkgs
nebbiolo2Linux (Ubuntu 20.04.5 LTS)x86_644.2.2 (2022-10-31) -- "Innocent and Trusting" 4511
palomino4Windows Server 2022 Datacenterx644.2.2 (2022-10-31 ucrt) -- "Innocent and Trusting" 4289
lconwaymacOS 12.5.1 Montereyx86_644.2.2 (2022-10-31) -- "Innocent and Trusting" 4318
Click on any hostname to see more info about the system (e.g. compilers)      (*) as reported by 'uname -p', except on Windows and Mac OS X

All results for package minfi


To the developers/maintainers of the minfi package:
- Please allow up to 24 hours (and sometimes 48 hours) for your latest push to git@git.bioconductor.org:packages/minfi.git to
reflect on this report. See How and When does the builder pull? When will my changes propagate? for more information.
- Make sure to use the following settings in order to reproduce any error or warning you see on this page.

raw results

Package 1208/2183HostnameOS / ArchINSTALLBUILDCHECKBUILD BIN
minfi 1.44.0  (landing page)
Kasper Daniel Hansen
Snapshot Date: 2023-02-02 14:00:04 -0500 (Thu, 02 Feb 2023)
git_url: https://git.bioconductor.org/packages/minfi
git_branch: RELEASE_3_16
git_last_commit: 7c89fef
git_last_commit_date: 2022-11-01 11:06:23 -0500 (Tue, 01 Nov 2022)
nebbiolo2Linux (Ubuntu 20.04.5 LTS) / x86_64  OK    OK    OK  UNNEEDED, same version is already published
palomino4Windows Server 2022 Datacenter / x64  OK    OK    OK    OK  UNNEEDED, same version is already published
lconwaymacOS 12.5.1 Monterey / x86_64  OK    OK    OK    OK  UNNEEDED, same version is already published

Results for Bioconductor software packages that depend directly on package minfi

QUICK STATSOS / ArchINSTALLBUILDCHECKBUILD BIN
nebbiolo2Linux (Ubuntu 20.04.5 LTS) / x86_64
0021
0021
00615
palomino4Windows Server 2022 Datacenter / x64
0020
0119
00613
0019
lconwaymacOS 12.5.1 Monterey / x86_64
0021
0021
00615
0021
Package 1/21HostnameOS / ArchINSTALLBUILDCHECKBUILD BIN
bigmelon 1.24.0  (landing page)
Tyler J. Gorrie-Stone
git_last_commit: 77478bf
git_last_commit_date: 2022-11-01 11:14:27 -0500
nebbiolo2Linux (Ubuntu 20.04.5 LTS) / x86_64  OK    OK    WARNINGS  UNNEEDED, same version is already published
palomino4Windows Server 2022 Datacenter / x64  OK    OK    WARNINGS    OK  UNNEEDED, same version is already published
lconwaymacOS 12.5.1 Monterey / x86_64  OK    OK    WARNINGS    OK  UNNEEDED, same version is already published
Package 2/21HostnameOS / ArchINSTALLBUILDCHECKBUILD BIN
ChAMP 2.28.0  (landing page)
Yuan Tian
git_last_commit: 3d27ac6
git_last_commit_date: 2022-11-01 11:08:56 -0500
nebbiolo2Linux (Ubuntu 20.04.5 LTS) / x86_64  OK    OK    WARNINGS  UNNEEDED, same version is already published
palomino4Windows Server 2022 Datacenter / x64  OK    OK    WARNINGS    OK  UNNEEDED, same version is already published
lconwaymacOS 12.5.1 Monterey / x86_64  OK    OK    WARNINGS    OK  UNNEEDED, same version is already published
Package 3/21HostnameOS / ArchINSTALLBUILDCHECKBUILD BIN
conumee 1.32.0  (landing page)
Volker Hovestadt
git_last_commit: edde24c
git_last_commit_date: 2022-11-01 11:11:32 -0500
nebbiolo2Linux (Ubuntu 20.04.5 LTS) / x86_64  OK    OK    OK  UNNEEDED, same version is already published
palomino4Windows Server 2022 Datacenter / x64... NOT SUPPORTED ...
lconwaymacOS 12.5.1 Monterey / x86_64  OK    OK    OK    OK  UNNEEDED, same version is already published
Package 4/21HostnameOS / ArchINSTALLBUILDCHECKBUILD BIN
deconvR 1.4.3  (landing page)
Irem B. Gündüz
git_last_commit: 8ccbdb9
git_last_commit_date: 2022-12-03 12:17:10 -0500
nebbiolo2Linux (Ubuntu 20.04.5 LTS) / x86_64  OK    OK    OK  UNNEEDED, same version is already published
palomino4Windows Server 2022 Datacenter / x64  OK    OK    OK    OK  UNNEEDED, same version is already published
lconwaymacOS 12.5.1 Monterey / x86_64  OK    OK    OK    OK  UNNEEDED, same version is already published
Package 5/21HostnameOS / ArchINSTALLBUILDCHECKBUILD BIN
DMRcate 2.12.0  (landing page)
Tim Peters
git_last_commit: 560dd50
git_last_commit_date: 2022-11-01 11:09:16 -0500
nebbiolo2Linux (Ubuntu 20.04.5 LTS) / x86_64  OK    OK    OK  UNNEEDED, same version is already published
palomino4Windows Server 2022 Datacenter / x64  OK    OK    OK    OK  UNNEEDED, same version is already published
lconwaymacOS 12.5.1 Monterey / x86_64  OK    OK    OK    OK  UNNEEDED, same version is already published
Package 6/21HostnameOS / ArchINSTALLBUILDCHECKBUILD BIN
ENmix 1.34.0  (landing page)
Zongli Xu
git_last_commit: 53c9d0d
git_last_commit_date: 2022-11-01 11:11:34 -0500
nebbiolo2Linux (Ubuntu 20.04.5 LTS) / x86_64  OK    OK    OK  UNNEEDED, same version is already published
palomino4Windows Server 2022 Datacenter / x64  OK    OK    OK    OK  UNNEEDED, same version is already published
lconwaymacOS 12.5.1 Monterey / x86_64  OK    OK    OK    OK  UNNEEDED, same version is already published
Package 7/21HostnameOS / ArchINSTALLBUILDCHECKBUILD BIN
epimutacions 1.2.0  (landing page)
Dolors Pelegri-Siso
git_last_commit: b5bb97c
git_last_commit_date: 2022-11-01 11:26:53 -0500
nebbiolo2Linux (Ubuntu 20.04.5 LTS) / x86_64  OK    OK    OK  UNNEEDED, same version is already published
palomino4Windows Server 2022 Datacenter / x64  OK    ERROR  skippedskipped
lconwaymacOS 12.5.1 Monterey / x86_64  OK    OK    OK    OK  UNNEEDED, same version is already published
Package 8/21HostnameOS / ArchINSTALLBUILDCHECKBUILD BIN
funtooNorm 1.22.0  (landing page)
Kathleen Klein
git_last_commit: ed7339f
git_last_commit_date: 2022-11-01 11:15:04 -0500
nebbiolo2Linux (Ubuntu 20.04.5 LTS) / x86_64  OK    OK    WARNINGS  UNNEEDED, same version is already published
palomino4Windows Server 2022 Datacenter / x64  OK    OK    WARNINGS    OK  UNNEEDED, same version is already published
lconwaymacOS 12.5.1 Monterey / x86_64  OK    OK    WARNINGS    OK  UNNEEDED, same version is already published
Package 9/21HostnameOS / ArchINSTALLBUILDCHECKBUILD BIN
MEAL 1.28.0  (landing page)
Xavier Escribà Montagut
git_last_commit: 9faea2e
git_last_commit_date: 2022-11-01 11:12:19 -0500
nebbiolo2Linux (Ubuntu 20.04.5 LTS) / x86_64  OK    OK    WARNINGS  UNNEEDED, same version is already published
palomino4Windows Server 2022 Datacenter / x64  OK    OK    WARNINGS    OK  UNNEEDED, same version is already published
lconwaymacOS 12.5.1 Monterey / x86_64  OK    OK    WARNINGS    OK  UNNEEDED, same version is already published
Package 10/21HostnameOS / ArchINSTALLBUILDCHECKBUILD BIN
MEAT 1.10.0  (landing page)
Sarah Voisin
git_last_commit: 6a7e235
git_last_commit_date: 2022-11-01 11:21:18 -0500
nebbiolo2Linux (Ubuntu 20.04.5 LTS) / x86_64  OK    OK    WARNINGS  UNNEEDED, same version is already published
palomino4Windows Server 2022 Datacenter / x64  OK    OK    WARNINGS    OK  UNNEEDED, same version is already published
lconwaymacOS 12.5.1 Monterey / x86_64  OK    OK    WARNINGS    OK  UNNEEDED, same version is already published
Package 11/21HostnameOS / ArchINSTALLBUILDCHECKBUILD BIN
MethylAid 1.32.0  (landing page)
L.J.Sinke
git_last_commit: 49b0870
git_last_commit_date: 2022-11-01 11:09:45 -0500
nebbiolo2Linux (Ubuntu 20.04.5 LTS) / x86_64  OK    OK    OK  UNNEEDED, same version is already published
palomino4Windows Server 2022 Datacenter / x64  OK    OK    OK    OK  UNNEEDED, same version is already published
lconwaymacOS 12.5.1 Monterey / x86_64  OK    OK    OK    OK  UNNEEDED, same version is already published
Package 12/21HostnameOS / ArchINSTALLBUILDCHECKBUILD BIN
methylCC 1.12.0  (landing page)
Stephanie C. Hicks
git_last_commit: 4a79f51
git_last_commit_date: 2022-11-01 11:20:39 -0500
nebbiolo2Linux (Ubuntu 20.04.5 LTS) / x86_64  OK    OK    OK  UNNEEDED, same version is already published
palomino4Windows Server 2022 Datacenter / x64  OK    OK    OK    OK  UNNEEDED, same version is already published
lconwaymacOS 12.5.1 Monterey / x86_64  OK    OK    OK    OK  UNNEEDED, same version is already published
Package 13/21HostnameOS / ArchINSTALLBUILDCHECKBUILD BIN
methylclock 1.4.0  (landing page)
Dolors Pelegri-Siso
git_last_commit: af3c8d8
git_last_commit_date: 2022-11-01 11:25:16 -0500
nebbiolo2Linux (Ubuntu 20.04.5 LTS) / x86_64  OK    OK    OK  UNNEEDED, same version is already published
palomino4Windows Server 2022 Datacenter / x64  OK    OK    OK    OK  UNNEEDED, same version is already published
lconwaymacOS 12.5.1 Monterey / x86_64  OK    OK    OK    OK  UNNEEDED, same version is already published
Package 14/21HostnameOS / ArchINSTALLBUILDCHECKBUILD BIN
methylumi 2.44.0  (landing page)
Sean Davis
git_last_commit: 8f1f1f9
git_last_commit_date: 2022-11-01 11:04:28 -0500
nebbiolo2Linux (Ubuntu 20.04.5 LTS) / x86_64  OK    OK    OK  UNNEEDED, same version is already published
palomino4Windows Server 2022 Datacenter / x64  OK    OK    OK    OK  UNNEEDED, same version is already published
lconwaymacOS 12.5.1 Monterey / x86_64  OK    OK    OK    OK  UNNEEDED, same version is already published
Package 15/21HostnameOS / ArchINSTALLBUILDCHECKBUILD BIN
missMethyl 1.32.0  (landing page)
Belinda Phipson
git_last_commit: 969b892
git_last_commit_date: 2022-11-01 11:10:01 -0500
nebbiolo2Linux (Ubuntu 20.04.5 LTS) / x86_64  OK    OK    OK  UNNEEDED, same version is already published
palomino4Windows Server 2022 Datacenter / x64  OK    OK    OK    OK  UNNEEDED, same version is already published
lconwaymacOS 12.5.1 Monterey / x86_64  OK    OK    OK    OK  UNNEEDED, same version is already published
Package 16/21HostnameOS / ArchINSTALLBUILDCHECKBUILD BIN
quantro 1.32.0  (landing page)
Stephanie Hicks
git_last_commit: 0c70b78
git_last_commit_date: 2022-11-01 11:10:08 -0500
nebbiolo2Linux (Ubuntu 20.04.5 LTS) / x86_64  OK    OK    OK  UNNEEDED, same version is already published
palomino4Windows Server 2022 Datacenter / x64  OK    OK    OK    OK  UNNEEDED, same version is already published
lconwaymacOS 12.5.1 Monterey / x86_64  OK    OK    OK    OK  UNNEEDED, same version is already published
Package 17/21HostnameOS / ArchINSTALLBUILDCHECKBUILD BIN
recountmethylation 1.8.3  (landing page)
Sean K Maden
git_last_commit: 364dfb4
git_last_commit_date: 2022-12-21 22:41:35 -0500
nebbiolo2Linux (Ubuntu 20.04.5 LTS) / x86_64  OK    OK    WARNINGS  UNNEEDED, same version is already published
palomino4Windows Server 2022 Datacenter / x64  OK    OK    WARNINGS    OK  UNNEEDED, same version is already published
lconwaymacOS 12.5.1 Monterey / x86_64  OK    OK    WARNINGS    OK  UNNEEDED, same version is already published
Package 18/21HostnameOS / ArchINSTALLBUILDCHECKBUILD BIN
REMP 1.22.0  (landing page)
Yinan Zheng
git_last_commit: 1312141
git_last_commit_date: 2022-11-01 11:15:10 -0500
nebbiolo2Linux (Ubuntu 20.04.5 LTS) / x86_64  OK    OK    OK  UNNEEDED, same version is already published
palomino4Windows Server 2022 Datacenter / x64  OK    OK    OK    OK  UNNEEDED, same version is already published
lconwaymacOS 12.5.1 Monterey / x86_64  OK    OK    OK    OK  UNNEEDED, same version is already published
Package 19/21HostnameOS / ArchINSTALLBUILDCHECKBUILD BIN
shinyepico 1.6.0  (landing page)
Octavio Morante-Palacios
git_last_commit: 628f63d
git_last_commit_date: 2022-11-01 11:23:28 -0500
nebbiolo2Linux (Ubuntu 20.04.5 LTS) / x86_64  OK    OK    OK  UNNEEDED, same version is already published
palomino4Windows Server 2022 Datacenter / x64  OK    OK    OK    OK  UNNEEDED, same version is already published
lconwaymacOS 12.5.1 Monterey / x86_64  OK    OK    OK    OK  UNNEEDED, same version is already published
Package 20/21HostnameOS / ArchINSTALLBUILDCHECKBUILD BIN
shinyMethyl 1.34.0  (landing page)
Jean-Philippe Fortin
git_last_commit: fc4bc50
git_last_commit_date: 2022-11-01 11:09:56 -0500
nebbiolo2Linux (Ubuntu 20.04.5 LTS) / x86_64  OK    OK    OK  UNNEEDED, same version is already published
palomino4Windows Server 2022 Datacenter / x64  OK    OK    OK    OK  UNNEEDED, same version is already published
lconwaymacOS 12.5.1 Monterey / x86_64  OK    OK    OK    OK  UNNEEDED, same version is already published
Package 21/21HostnameOS / ArchINSTALLBUILDCHECKBUILD BIN
skewr 1.30.0  (landing page)
Ryan Putney
git_last_commit: 6bdb40f
git_last_commit_date: 2022-11-01 11:11:10 -0500
nebbiolo2Linux (Ubuntu 20.04.5 LTS) / x86_64  OK    OK    OK  UNNEEDED, same version is already published
palomino4Windows Server 2022 Datacenter / x64  OK    OK    OK    OK  UNNEEDED, same version is already published
lconwaymacOS 12.5.1 Monterey / x86_64  OK    OK    OK    OK  UNNEEDED, same version is already published