Back to Multiple platform build/check report for BioC 3.16:   simplified   long
ABCDEFGHIJKLM[N]OPQRSTUVWXYZ

This page was generated on 2023-03-22 11:05:40 -0400 (Wed, 22 Mar 2023).

HostnameOSArch (*)R versionInstalled pkgs
nebbiolo2Linux (Ubuntu 20.04.5 LTS)x86_644.2.3 (2023-03-15) -- "Shortstop Beagle" 4271
palomino4Windows Server 2022 Datacenterx644.2.3 (2023-03-15 ucrt) -- "Shortstop Beagle" 4214
lconwaymacOS 12.5.1 Montereyx86_644.2.3 (2023-03-15) -- "Shortstop Beagle" 4259
Click on any hostname to see more info about the system (e.g. compilers)      (*) as reported by 'uname -p', except on Windows and Mac OS X

BUILD BIN results for netboxr on palomino4


To the developers/maintainers of the netboxr package:
- Please allow up to 24 hours (and sometimes 48 hours) for your latest push to git@git.bioconductor.org:packages/netboxr.git to
reflect on this report. See How and When does the builder pull? When will my changes propagate? for more information.
- Make sure to use the following settings in order to reproduce any error or warning you see on this page.

raw results

Package 1341/2183HostnameOS / ArchINSTALLBUILDCHECKBUILD BIN
netboxr 1.10.0  (landing page)
Eirc Minwei Liu
Snapshot Date: 2023-03-20 14:00:04 -0400 (Mon, 20 Mar 2023)
git_url: https://git.bioconductor.org/packages/netboxr
git_branch: RELEASE_3_16
git_last_commit: 39428cc
git_last_commit_date: 2022-11-01 11:21:01 -0400 (Tue, 01 Nov 2022)
nebbiolo2Linux (Ubuntu 20.04.5 LTS) / x86_64  OK    OK    ERROR  
palomino4Windows Server 2022 Datacenter / x64  OK    OK    ERROR    OK  
lconwaymacOS 12.5.1 Monterey / x86_64  OK    OK    ERROR    OK  

Summary

Package: netboxr
Version: 1.10.0
Command: rm -rf netboxr.buildbin-libdir && mkdir netboxr.buildbin-libdir && F:\biocbuild\bbs-3.16-bioc\R\bin\R.exe CMD INSTALL --build --library=netboxr.buildbin-libdir netboxr_1.10.0.tar.gz
StartedAt: 2023-03-21 08:55:59 -0400 (Tue, 21 Mar 2023)
EndedAt: 2023-03-21 08:56:30 -0400 (Tue, 21 Mar 2023)
EllapsedTime: 31.0 seconds
RetCode: 0
Status:   OK  
PackageFile: netboxr_1.10.0.zip
PackageFileSize: 1.844 MiB

Command output

##############################################################################
##############################################################################
###
### Running command:
###
###   rm -rf netboxr.buildbin-libdir && mkdir netboxr.buildbin-libdir && F:\biocbuild\bbs-3.16-bioc\R\bin\R.exe CMD INSTALL --build --library=netboxr.buildbin-libdir netboxr_1.10.0.tar.gz
###
##############################################################################
##############################################################################


* installing *source* package 'netboxr' ...
** using staged installation
** R
** data
*** moving datasets to lazyload DB
** inst
** byte-compile and prepare package for lazy loading
** help
*** installing help indices
** building package indices
** installing vignettes
** testing if installed package can be loaded from temporary location
** testing if installed package can be loaded from final location
** testing if installed package keeps a record of temporary installation path
* MD5 sums
packaged installation of 'netboxr' as netboxr_1.10.0.zip
* DONE (netboxr)