Back to Multiple platform build/check report for BioC 3.16:   simplified   long
[A]BCDEFGHIJKLMNOPQRSTUVWXYZ

This page was generated on 2023-03-29 11:05:58 -0400 (Wed, 29 Mar 2023).

HostnameOSArch (*)R versionInstalled pkgs
nebbiolo2Linux (Ubuntu 20.04.5 LTS)x86_644.2.3 (2023-03-15) -- "Shortstop Beagle" 4482
palomino4Windows Server 2022 Datacenterx644.2.3 (2023-03-15 ucrt) -- "Shortstop Beagle" 4278
lconwaymacOS 12.5.1 Montereyx86_644.2.3 (2023-03-15) -- "Shortstop Beagle" 4306
Click on any hostname to see more info about the system (e.g. compilers)      (*) as reported by 'uname -p', except on Windows and Mac OS X

CHECK results for ASpli on lconway


To the developers/maintainers of the ASpli package:
- Please allow up to 24 hours (and sometimes 48 hours) for your latest push to git@git.bioconductor.org:packages/ASpli.git to
reflect on this report. See How and When does the builder pull? When will my changes propagate? for more information.
- Make sure to use the following settings in order to reproduce any error or warning you see on this page.

raw results

Package 87/2183HostnameOS / ArchINSTALLBUILDCHECKBUILD BIN
ASpli 2.8.0  (landing page)
Estefania Mancini
Snapshot Date: 2023-03-27 14:00:04 -0400 (Mon, 27 Mar 2023)
git_url: https://git.bioconductor.org/packages/ASpli
git_branch: RELEASE_3_16
git_last_commit: ff40685
git_last_commit_date: 2022-11-01 11:14:10 -0400 (Tue, 01 Nov 2022)
nebbiolo2Linux (Ubuntu 20.04.5 LTS) / x86_64  OK    OK    OK  UNNEEDED, same version is already published
palomino4Windows Server 2022 Datacenter / x64  OK    OK    OK    OK  UNNEEDED, same version is already published
lconwaymacOS 12.5.1 Monterey / x86_64  OK    OK    OK    OK  UNNEEDED, same version is already published

Summary

Package: ASpli
Version: 2.8.0
Command: /Library/Frameworks/R.framework/Resources/bin/R CMD check --install=check:ASpli.install-out.txt --library=/Library/Frameworks/R.framework/Resources/library --no-vignettes --timings ASpli_2.8.0.tar.gz
StartedAt: 2023-03-27 18:54:41 -0400 (Mon, 27 Mar 2023)
EndedAt: 2023-03-27 19:10:05 -0400 (Mon, 27 Mar 2023)
EllapsedTime: 924.0 seconds
RetCode: 0
Status:   OK  
CheckDir: ASpli.Rcheck
Warnings: 0

Command output

##############################################################################
##############################################################################
###
### Running command:
###
###   /Library/Frameworks/R.framework/Resources/bin/R CMD check --install=check:ASpli.install-out.txt --library=/Library/Frameworks/R.framework/Resources/library --no-vignettes --timings ASpli_2.8.0.tar.gz
###
##############################################################################
##############################################################################


* using log directory ‘/Users/biocbuild/bbs-3.16-bioc/meat/ASpli.Rcheck’
* using R version 4.2.3 (2023-03-15)
* using platform: x86_64-apple-darwin17.0 (64-bit)
* using session charset: UTF-8
* using option ‘--no-vignettes’
* checking for file ‘ASpli/DESCRIPTION’ ... OK
* checking extension type ... Package
* this is package ‘ASpli’ version ‘2.8.0’
* checking package namespace information ... OK
* checking package dependencies ... OK
* checking if this is a source package ... OK
* checking if there is a namespace ... OK
* checking for hidden files and directories ... OK
* checking for portable file names ... OK
* checking for sufficient/correct file permissions ... OK
* checking whether package ‘ASpli’ can be installed ... OK
* checking installed package size ... OK
* checking package directory ... OK
* checking ‘build’ directory ... OK
* checking DESCRIPTION meta-information ... OK
* checking top-level files ... OK
* checking for left-over files ... OK
* checking index information ... OK
* checking package subdirectories ... OK
* checking R files for non-ASCII characters ... OK
* checking R files for syntax errors ... OK
* checking whether the package can be loaded ... OK
* checking whether the package can be loaded with stated dependencies ... OK
* checking whether the package can be unloaded cleanly ... OK
* checking whether the namespace can be loaded with stated dependencies ... OK
* checking whether the namespace can be unloaded cleanly ... OK
* checking dependencies in R code ... OK
* checking S3 generic/method consistency ... OK
* checking replacement functions ... OK
* checking foreign function calls ... OK
* checking R code for possible problems ... OK
* checking Rd files ... OK
* checking Rd metadata ... OK
* checking Rd cross-references ... OK
* checking for missing documentation entries ... OK
* checking for code/documentation mismatches ... OK
* checking Rd \usage sections ... OK
* checking Rd contents ... OK
* checking for unstated dependencies in examples ... OK
* checking sizes of PDF files under ‘inst/doc’ ... OK
* checking installed files from ‘inst/doc’ ... OK
* checking files in ‘vignettes’ ... OK
* checking examples ... OK
Examples with CPU (user + system) or elapsed time > 5s
                           user system elapsed
ASpli-package           119.394  0.617 120.565
exportSplicingReports    64.031  0.382  64.771
exportIntegratedSignals  63.321  0.373  64.030
jDUreport                60.470  0.447  61.393
integrateSignals         59.908  0.438  60.755
jCounts-methods          59.824  0.429  60.637
splicingReport           59.063  0.417  59.881
gbCounts                 56.690  0.263  57.213
gbDUreport-method        56.157  0.279  56.714
* checking for unstated dependencies in vignettes ... OK
* checking package vignettes in ‘inst/doc’ ... OK
* checking running R code from vignettes ... SKIPPED
* checking re-building of vignette outputs ... SKIPPED
* checking PDF version of manual ... OK
* DONE

Status: OK


Installation output

ASpli.Rcheck/00install.out

##############################################################################
##############################################################################
###
### Running command:
###
###   /Library/Frameworks/R.framework/Resources/bin/R CMD INSTALL ASpli
###
##############################################################################
##############################################################################


* installing to library ‘/Library/Frameworks/R.framework/Versions/4.2/Resources/library’
* installing *source* package ‘ASpli’ ...
** using staged installation
** R
** inst
** byte-compile and prepare package for lazy loading
** help
*** installing help indices
** building package indices
** installing vignettes
** testing if installed package can be loaded from temporary location
** testing if installed package can be loaded from final location
** testing if installed package keeps a record of temporary installation path
* DONE (ASpli)

Tests output


Example timings

ASpli.Rcheck/ASpli-Ex.timings

nameusersystemelapsed
ASpli-package119.394 0.617120.565
DUreport000
DUreport.norm000
DUreport.offset0.0010.0000.000
DUreportBinSplice-method000
acc_AS000
acc_DU0.0000.0000.001
acc_counts0.0000.0000.001
acc_features0.1660.0010.169
binGenome3.2910.0273.332
containsJunctions-function0.0000.0000.001
example_data0.0000.0000.001
exportIntegratedSignals63.321 0.37364.030
exportSplicingReports64.031 0.38264.771
filterDU-method0.0000.0010.000
filterSignals0.0000.0000.001
gbCounts56.690 0.26357.213
gbDUreport-method56.157 0.27956.714
getConditions-function0.0000.0000.001
integrateSignals59.908 0.43860.755
jCounts-methods59.824 0.42960.637
jDUreport60.470 0.44761.393
junctionDUreport000
loadBAM000
mergeBinDUAS-method0.0000.0010.000
plotBins0.0000.0010.001
plotGenomicRegions000
rds000
splicingReport59.063 0.41759.881
subset-methods0.0000.0040.020