Back to Multiple platform build/check report for BioC 3.16:   simplified   long
ABCDEFGHIJKLMNOPQRS[T]UVWXYZ

This page was generated on 2023-03-20 11:06:25 -0400 (Mon, 20 Mar 2023).

HostnameOSArch (*)R versionInstalled pkgs
nebbiolo2Linux (Ubuntu 20.04.5 LTS)x86_644.2.2 (2022-10-31) -- "Innocent and Trusting" 4516
palomino4Windows Server 2022 Datacenterx644.2.2 (2022-10-31 ucrt) -- "Innocent and Trusting" 4295
lconwaymacOS 12.5.1 Montereyx86_644.2.2 (2022-10-31) -- "Innocent and Trusting" 4324
Click on any hostname to see more info about the system (e.g. compilers)      (*) as reported by 'uname -p', except on Windows and Mac OS X

BUILD BIN results for TrajectoryUtils on lconway


To the developers/maintainers of the TrajectoryUtils package:
- Please allow up to 24 hours (and sometimes 48 hours) for your latest push to git@git.bioconductor.org:packages/TrajectoryUtils.git to
reflect on this report. See How and When does the builder pull? When will my changes propagate? for more information.
- Make sure to use the following settings in order to reproduce any error or warning you see on this page.

raw results

Package 2075/2183HostnameOS / ArchINSTALLBUILDCHECKBUILD BIN
TrajectoryUtils 1.6.0  (landing page)
Aaron Lun
Snapshot Date: 2023-03-17 14:00:04 -0400 (Fri, 17 Mar 2023)
git_url: https://git.bioconductor.org/packages/TrajectoryUtils
git_branch: RELEASE_3_16
git_last_commit: 60747e6
git_last_commit_date: 2022-11-01 11:23:54 -0400 (Tue, 01 Nov 2022)
nebbiolo2Linux (Ubuntu 20.04.5 LTS) / x86_64  OK    OK    OK  UNNEEDED, same version is already published
palomino4Windows Server 2022 Datacenter / x64  OK    OK    OK    OK  UNNEEDED, same version is already published
lconwaymacOS 12.5.1 Monterey / x86_64  OK    OK    OK    OK  UNNEEDED, same version is already published

Summary

Package: TrajectoryUtils
Version: 1.6.0
Command: rm -rf TrajectoryUtils.buildbin-libdir && mkdir TrajectoryUtils.buildbin-libdir && /Users/biocbuild/BBS/utils/build-universal.sh TrajectoryUtils_1.6.0.tar.gz /Library/Frameworks/R.framework/Resources/bin/R TrajectoryUtils.buildbin-libdir
StartedAt: 2023-03-18 00:20:58 -0400 (Sat, 18 Mar 2023)
EndedAt: 2023-03-18 00:21:24 -0400 (Sat, 18 Mar 2023)
EllapsedTime: 26.6 seconds
RetCode: 0
Status:   OK  
PackageFile: TrajectoryUtils_1.6.0.tgz
PackageFileSize: 494.8 KiB

Command output

##############################################################################
##############################################################################
###
### Running command:
###
###   rm -rf TrajectoryUtils.buildbin-libdir && mkdir TrajectoryUtils.buildbin-libdir && /Users/biocbuild/BBS/utils/build-universal.sh TrajectoryUtils_1.6.0.tar.gz /Library/Frameworks/R.framework/Resources/bin/R TrajectoryUtils.buildbin-libdir
###
##############################################################################
##############################################################################


>>>>>>> 
>>>>>>> INSTALLATION WITH 'R CMD INSTALL --preclean --no-multiarch --library=TrajectoryUtils.buildbin-libdir TrajectoryUtils_1.6.0.tar.gz'
>>>>>>> 

* installing *source* package ‘TrajectoryUtils’ ...
** using staged installation
** R
** inst
** byte-compile and prepare package for lazy loading
** help
*** installing help indices
** building package indices
** installing vignettes
** testing if installed package can be loaded from temporary location
** testing if installed package can be loaded from final location
** testing if installed package keeps a record of temporary installation path
* DONE (TrajectoryUtils)