Back to Multiple platform build/check report for BioC 3.16: simplified long |
|
This page was generated on 2023-04-12 11:05:42 -0400 (Wed, 12 Apr 2023).
Hostname | OS | Arch (*) | R version | Installed pkgs |
---|---|---|---|---|
nebbiolo2 | Linux (Ubuntu 20.04.5 LTS) | x86_64 | 4.2.3 (2023-03-15) -- "Shortstop Beagle" | 4502 |
palomino4 | Windows Server 2022 Datacenter | x64 | 4.2.3 (2023-03-15 ucrt) -- "Shortstop Beagle" | 4282 |
lconway | macOS 12.5.1 Monterey | x86_64 | 4.2.3 (2023-03-15) -- "Shortstop Beagle" | 4310 |
Click on any hostname to see more info about the system (e.g. compilers) (*) as reported by 'uname -p', except on Windows and Mac OS X |
To the developers/maintainers of the musicatk package: - Please allow up to 24 hours (and sometimes 48 hours) for your latest push to git@git.bioconductor.org:packages/musicatk.git to reflect on this report. See How and When does the builder pull? When will my changes propagate? for more information. - Make sure to use the following settings in order to reproduce any error or warning you see on this page. |
Package 1312/2183 | Hostname | OS / Arch | INSTALL | BUILD | CHECK | BUILD BIN | ||||||||
musicatk 1.8.0 (landing page) Aaron Chevalier
| nebbiolo2 | Linux (Ubuntu 20.04.5 LTS) / x86_64 | OK | OK | OK | ![]() | ||||||||
palomino4 | Windows Server 2022 Datacenter / x64 | OK | OK | OK | OK | ![]() | ||||||||
lconway | macOS 12.5.1 Monterey / x86_64 | OK | OK | OK | OK | ![]() | ||||||||
Package: musicatk |
Version: 1.8.0 |
Command: F:\biocbuild\bbs-3.16-bioc\R\bin\R.exe CMD check --no-multiarch --install=check:musicatk.install-out.txt --library=F:\biocbuild\bbs-3.16-bioc\R\library --no-vignettes --timings musicatk_1.8.0.tar.gz |
StartedAt: 2023-04-11 03:49:27 -0400 (Tue, 11 Apr 2023) |
EndedAt: 2023-04-11 03:55:27 -0400 (Tue, 11 Apr 2023) |
EllapsedTime: 360.2 seconds |
RetCode: 0 |
Status: OK |
CheckDir: musicatk.Rcheck |
Warnings: 0 |
############################################################################## ############################################################################## ### ### Running command: ### ### F:\biocbuild\bbs-3.16-bioc\R\bin\R.exe CMD check --no-multiarch --install=check:musicatk.install-out.txt --library=F:\biocbuild\bbs-3.16-bioc\R\library --no-vignettes --timings musicatk_1.8.0.tar.gz ### ############################################################################## ############################################################################## * using log directory 'F:/biocbuild/bbs-3.16-bioc/meat/musicatk.Rcheck' * using R version 4.2.3 (2023-03-15 ucrt) * using platform: x86_64-w64-mingw32 (64-bit) * using session charset: UTF-8 * using option '--no-vignettes' * checking for file 'musicatk/DESCRIPTION' ... OK * checking extension type ... Package * this is package 'musicatk' version '1.8.0' * package encoding: UTF-8 * checking package namespace information ... OK * checking package dependencies ... OK * checking if this is a source package ... OK * checking if there is a namespace ... OK * checking for hidden files and directories ... OK * checking for portable file names ... OK * checking whether package 'musicatk' can be installed ... OK * checking installed package size ... OK * checking package directory ... OK * checking 'build' directory ... OK * checking DESCRIPTION meta-information ... OK * checking top-level files ... OK * checking for left-over files ... OK * checking index information ... OK * checking package subdirectories ... OK * checking R files for non-ASCII characters ... OK * checking R files for syntax errors ... OK * checking whether the package can be loaded ... OK * checking whether the package can be loaded with stated dependencies ... OK * checking whether the package can be unloaded cleanly ... OK * checking whether the namespace can be loaded with stated dependencies ... OK * checking whether the namespace can be unloaded cleanly ... OK * checking dependencies in R code ... NOTE Namespaces in Imports field not imported from: 'TCGAbiolinks' 'shinyBS' 'shinyalert' 'shinybusy' 'shinydashboard' 'shinyjqui' 'shinyjs' 'sortable' All declared Imports should be used. * checking S3 generic/method consistency ... OK * checking replacement functions ... OK * checking foreign function calls ... OK * checking R code for possible problems ... OK * checking Rd files ... OK * checking Rd metadata ... OK * checking Rd cross-references ... OK * checking for missing documentation entries ... OK * checking for code/documentation mismatches ... OK * checking Rd \usage sections ... OK * checking Rd contents ... OK * checking for unstated dependencies in examples ... OK * checking contents of 'data' directory ... OK * checking data for non-ASCII characters ... OK * checking LazyData ... OK * checking data for ASCII and uncompressed saves ... OK * checking files in 'vignettes' ... OK * checking examples ... OK Examples with CPU (user + system) or elapsed time > 5s user system elapsed build_standard_table 8.25 1.55 9.80 plot_cluster 5.07 0.14 5.24 create_umap 5.12 0.06 5.30 * checking for unstated dependencies in 'tests' ... OK * checking tests ... Running 'testthat.R' OK * checking for unstated dependencies in vignettes ... OK * checking package vignettes in 'inst/doc' ... OK * checking running R code from vignettes ... SKIPPED * checking re-building of vignette outputs ... SKIPPED * checking PDF version of manual ... OK * DONE Status: 1 NOTE See 'F:/biocbuild/bbs-3.16-bioc/meat/musicatk.Rcheck/00check.log' for details.
musicatk.Rcheck/00install.out
############################################################################## ############################################################################## ### ### Running command: ### ### F:\biocbuild\bbs-3.16-bioc\R\bin\R.exe CMD INSTALL musicatk ### ############################################################################## ############################################################################## * installing to library 'F:/biocbuild/bbs-3.16-bioc/R/library' * installing *source* package 'musicatk' ... ** using staged installation ** R ** data *** moving datasets to lazyload DB ** inst ** byte-compile and prepare package for lazy loading ** help *** installing help indices ** building package indices ** installing vignettes ** testing if installed package can be loaded from temporary location ** testing if installed package can be loaded from final location ** testing if installed package keeps a record of temporary installation path * DONE (musicatk)
musicatk.Rcheck/tests/testthat.Rout
R version 4.2.3 (2023-03-15 ucrt) -- "Shortstop Beagle" Copyright (C) 2023 The R Foundation for Statistical Computing Platform: x86_64-w64-mingw32/x64 (64-bit) R is free software and comes with ABSOLUTELY NO WARRANTY. You are welcome to redistribute it under certain conditions. Type 'license()' or 'licence()' for distribution details. R is a collaborative project with many contributors. Type 'contributors()' for more information and 'citation()' on how to cite R or R packages in publications. Type 'demo()' for some demos, 'help()' for on-line help, or 'help.start()' for an HTML browser interface to help. Type 'q()' to quit R. > library("testthat") > library("musicatk") Loading required package: NMF Loading required package: registry Loading required package: rngtools Loading required package: cluster NMF - BioConductor layer [OK] | Shared memory capabilities [NO: windows] | Cores 2/2 Attaching package: 'NMF' The following object is masked from 'package:testthat': compare > > test_check("musicatk") [ FAIL 0 | WARN 5 | SKIP 0 | PASS 42 ] [ FAIL 0 | WARN 5 | SKIP 0 | PASS 42 ] > > proc.time() user system elapsed 20.56 1.10 23.75
musicatk.Rcheck/musicatk-Ex.timings
name | user | system | elapsed | |
add_flank_to_variants | 3.14 | 0.31 | 3.45 | |
add_variant_type | 0.03 | 0.00 | 0.03 | |
annotate_replication_strand | 0.22 | 0.01 | 0.23 | |
annotate_transcript_strand | 2.08 | 0.03 | 2.11 | |
annotate_variant_length | 0.00 | 0.00 | 0.01 | |
annotate_variant_type | 0 | 0 | 0 | |
auto_predict_grid | 2.20 | 0.02 | 2.24 | |
build_custom_table | 0.94 | 0.04 | 0.98 | |
build_standard_table | 8.25 | 1.55 | 9.80 | |
built_tables | 0 | 0 | 0 | |
cluster_exposure | 0.03 | 0.00 | 0.03 | |
combine_count_tables | 2.28 | 0.51 | 2.80 | |
combine_predict_grid | 2.09 | 0.06 | 2.19 | |
compare_cosmic_v2 | 2.35 | 0.03 | 2.38 | |
compare_cosmic_v3 | 1.06 | 0.02 | 1.07 | |
compare_results | 1.40 | 0.02 | 1.43 | |
cosmic_v2_subtype_map | 0 | 0 | 0 | |
create_musica | 0.85 | 0.34 | 1.40 | |
create_umap | 5.12 | 0.06 | 5.30 | |
discover_signatures | 0.69 | 0.16 | 0.84 | |
drop_annotation | 0.00 | 0.01 | 0.02 | |
exposure_differential_analysis | 0.02 | 0.00 | 0.01 | |
exposures | 0.01 | 0.00 | 0.02 | |
extract_count_tables | 0 | 0 | 0 | |
extract_variants | 4.85 | 0.10 | 4.95 | |
extract_variants_from_maf | 0.15 | 0.01 | 0.18 | |
extract_variants_from_maf_file | 0.13 | 0.02 | 0.14 | |
extract_variants_from_matrix | 0.14 | 0.00 | 0.14 | |
extract_variants_from_vcf | 0.90 | 0.01 | 0.92 | |
extract_variants_from_vcf_file | 0.5 | 0.0 | 0.5 | |
generate_result_grid | 0.31 | 0.00 | 0.31 | |
get_musica | 0.02 | 0.00 | 0.02 | |
k_select | 0.89 | 0.05 | 0.94 | |
musicatk | 0 | 0 | 0 | |
name_signatures | 0.01 | 0.00 | 0.01 | |
pipe | 0 | 0 | 0 | |
plot_cluster | 5.07 | 0.14 | 5.24 | |
plot_differential_analysis | 0.15 | 0.03 | 0.18 | |
plot_exposures | 0.17 | 0.00 | 0.17 | |
plot_heatmap | 0.63 | 0.03 | 0.66 | |
plot_sample_counts | 0.34 | 0.00 | 0.34 | |
plot_sample_reconstruction_error | 0.57 | 0.00 | 0.57 | |
plot_signatures | 0.48 | 0.02 | 0.50 | |
plot_umap | 4.58 | 0.07 | 4.70 | |
predict_exposure | 1.06 | 0.18 | 1.23 | |
rc | 0 | 0 | 0 | |
samp_annot | 0.02 | 0.00 | 0.02 | |
sample_names | 0 | 0 | 0 | |
select_genome | 0 | 0 | 0 | |
signatures | 0 | 0 | 0 | |
subset_musica_by_annotation | 0.00 | 0.01 | 0.01 | |
subset_musica_by_counts | 0.03 | 0.00 | 0.03 | |
subset_variant_by_type | 0.00 | 0.02 | 0.02 | |
subset_variants_by_samples | 0 | 0 | 0 | |
table_selected | 0 | 0 | 0 | |
tables | 0.01 | 0.00 | 0.02 | |
umap | 0.02 | 0.00 | 0.01 | |
variants | 0.01 | 0.00 | 0.02 | |