Back to Multiple platform build/check report for BioC 3.16
ABCD[E]FGHIJKLMNOPQRSTUVWXYZ

This page was generated on 2023-01-31 11:04:57 -0500 (Tue, 31 Jan 2023).

HostnameOSArch (*)R versionInstalled pkgs
nebbiolo2Linux (Ubuntu 20.04.5 LTS)x86_644.2.2 (2022-10-31) -- "Innocent and Trusting" 4511
palomino4Windows Server 2022 Datacenterx644.2.2 (2022-10-31 ucrt) -- "Innocent and Trusting" 4289
lconwaymacOS 12.5.1 Montereyx86_644.2.2 (2022-10-31) -- "Innocent and Trusting" 4318
Click on any hostname to see more info about the system (e.g. compilers)      (*) as reported by 'uname -p', except on Windows and Mac OS X

All results for package ExperimentHub


To the developers/maintainers of the ExperimentHub package:
- Please allow up to 24 hours (and sometimes 48 hours) for your latest push to git@git.bioconductor.org:packages/ExperimentHub.git to
reflect on this report. See How and When does the builder pull? When will my changes propagate? for more information.
- Make sure to use the following settings in order to reproduce any error or warning you see on this page.

raw results

Package 647/2183HostnameOS / ArchINSTALLBUILDCHECKBUILD BIN
ExperimentHub 2.6.0  (landing page)
Bioconductor Package Maintainer
Snapshot Date: 2023-01-30 14:00:05 -0500 (Mon, 30 Jan 2023)
git_url: https://git.bioconductor.org/packages/ExperimentHub
git_branch: RELEASE_3_16
git_last_commit: 557ba29
git_last_commit_date: 2022-11-01 11:13:01 -0500 (Tue, 01 Nov 2022)
nebbiolo2Linux (Ubuntu 20.04.5 LTS) / x86_64  OK    OK    OK  UNNEEDED, same version is already published
palomino4Windows Server 2022 Datacenter / x64  OK    OK    OK    OK  UNNEEDED, same version is already published
lconwaymacOS 12.5.1 Monterey / x86_64  OK    OK    OK    OK  UNNEEDED, same version is already published

Results for Bioconductor software packages that depend directly on package ExperimentHub

QUICK STATSOS / ArchINSTALLBUILDCHECKBUILD BIN
nebbiolo2Linux (Ubuntu 20.04.5 LTS) / x86_64
0021
0120
00317
palomino4Windows Server 2022 Datacenter / x64
0020
0317
00314
0017
lconwaymacOS 12.5.1 Monterey / x86_64
0021
0120
00317
0020
Package 1/21HostnameOS / ArchINSTALLBUILDCHECKBUILD BIN
adductomicsR 1.14.0  (landing page)
Josie Hayes
git_last_commit: 90b4fbd
git_last_commit_date: 2022-11-01 11:19:09 -0500
nebbiolo2Linux (Ubuntu 20.04.5 LTS) / x86_64  OK    OK    WARNINGS  UNNEEDED, same version is already published
palomino4Windows Server 2022 Datacenter / x64  OK    OK    WARNINGS    OK  UNNEEDED, same version is already published
lconwaymacOS 12.5.1 Monterey / x86_64  OK    OK    WARNINGS    OK  UNNEEDED, same version is already published
Package 2/21HostnameOS / ArchINSTALLBUILDCHECKBUILD BIN
BloodGen3Module 1.6.0  (landing page)
Darawan Rinchai
git_last_commit: abb8ce4
git_last_commit_date: 2022-11-01 11:25:01 -0500
nebbiolo2Linux (Ubuntu 20.04.5 LTS) / x86_64  OK    OK    WARNINGS  UNNEEDED, same version is already published
palomino4Windows Server 2022 Datacenter / x64  OK    OK    WARNINGS    OK  UNNEEDED, same version is already published
lconwaymacOS 12.5.1 Monterey / x86_64  OK    OK    WARNINGS    OK  UNNEEDED, same version is already published
Package 3/21HostnameOS / ArchINSTALLBUILDCHECKBUILD BIN
coMethDMR 1.2.0  (landing page)
Fernanda Veitzman
git_last_commit: 366ee96
git_last_commit_date: 2022-11-01 11:26:14 -0500
nebbiolo2Linux (Ubuntu 20.04.5 LTS) / x86_64  OK    OK    OK  UNNEEDED, same version is already published
palomino4Windows Server 2022 Datacenter / x64  OK    OK    OK    OK  UNNEEDED, same version is already published
lconwaymacOS 12.5.1 Monterey / x86_64  OK    OK    OK    OK  UNNEEDED, same version is already published
Package 4/21HostnameOS / ArchINSTALLBUILDCHECKBUILD BIN
DMRcate 2.12.0  (landing page)
Tim Peters
git_last_commit: 560dd50
git_last_commit_date: 2022-11-01 11:09:16 -0500
nebbiolo2Linux (Ubuntu 20.04.5 LTS) / x86_64  OK    OK    OK  UNNEEDED, same version is already published
palomino4Windows Server 2022 Datacenter / x64  OK    OK    OK    OK  UNNEEDED, same version is already published
lconwaymacOS 12.5.1 Monterey / x86_64  OK    OK    OK    OK  UNNEEDED, same version is already published
Package 5/21HostnameOS / ArchINSTALLBUILDCHECKBUILD BIN
ENmix 1.34.0  (landing page)
Zongli Xu
git_last_commit: 53c9d0d
git_last_commit_date: 2022-11-01 11:11:34 -0500
nebbiolo2Linux (Ubuntu 20.04.5 LTS) / x86_64  OK    OK    OK  UNNEEDED, same version is already published
palomino4Windows Server 2022 Datacenter / x64  OK    OK    OK    OK  UNNEEDED, same version is already published
lconwaymacOS 12.5.1 Monterey / x86_64  OK    OK    OK    OK  UNNEEDED, same version is already published
Package 6/21HostnameOS / ArchINSTALLBUILDCHECKBUILD BIN
EpiMix 1.0.0  (landing page)
Yuanning Zheng
git_last_commit: 4842331
git_last_commit_date: 2022-11-01 11:27:17 -0500
nebbiolo2Linux (Ubuntu 20.04.5 LTS) / x86_64  OK    ERROR  skipped
palomino4Windows Server 2022 Datacenter / x64  OK    ERROR  skippedskipped
lconwaymacOS 12.5.1 Monterey / x86_64  OK    ERROR  skippedskipped
Package 7/21HostnameOS / ArchINSTALLBUILDCHECKBUILD BIN
epimutacions 1.2.0  (landing page)
Dolors Pelegri-Siso
git_last_commit: b5bb97c
git_last_commit_date: 2022-11-01 11:26:53 -0500
nebbiolo2Linux (Ubuntu 20.04.5 LTS) / x86_64  OK    OK    OK  UNNEEDED, same version is already published
palomino4Windows Server 2022 Datacenter / x64  OK    ERROR  skippedskipped
lconwaymacOS 12.5.1 Monterey / x86_64  OK    OK    OK    OK  UNNEEDED, same version is already published
Package 8/21HostnameOS / ArchINSTALLBUILDCHECKBUILD BIN
ExperimentHubData 1.24.0  (landing page)
Bioconductor Package Maintainer
git_last_commit: 276f420
git_last_commit_date: 2022-11-01 11:13:02 -0500
nebbiolo2Linux (Ubuntu 20.04.5 LTS) / x86_64  OK    OK    OK  UNNEEDED, same version is already published
palomino4Windows Server 2022 Datacenter / x64  OK    OK    OK    OK  UNNEEDED, same version is already published
lconwaymacOS 12.5.1 Monterey / x86_64  OK    OK    OK    OK  UNNEEDED, same version is already published
Package 9/21HostnameOS / ArchINSTALLBUILDCHECKBUILD BIN
GSEABenchmarkeR 1.18.0  (landing page)
Ludwig Geistlinger
git_last_commit: 144181f
git_last_commit_date: 2022-11-01 11:17:24 -0500
nebbiolo2Linux (Ubuntu 20.04.5 LTS) / x86_64  OK    OK    OK  UNNEEDED, same version is already published
palomino4Windows Server 2022 Datacenter / x64  OK    OK    OK    OK  UNNEEDED, same version is already published
lconwaymacOS 12.5.1 Monterey / x86_64  OK    OK    OK    OK  UNNEEDED, same version is already published
Package 10/21HostnameOS / ArchINSTALLBUILDCHECKBUILD BIN
iSEEhub 1.0.0  (landing page)
Kevin Rue-Albrecht
git_last_commit: b704dd0
git_last_commit_date: 2022-11-01 11:27:32 -0500
nebbiolo2Linux (Ubuntu 20.04.5 LTS) / x86_64  OK    OK    OK  UNNEEDED, same version is already published
palomino4Windows Server 2022 Datacenter / x64  OK    OK    OK    OK  UNNEEDED, same version is already published
lconwaymacOS 12.5.1 Monterey / x86_64  OK    OK    OK    OK  UNNEEDED, same version is already published
Package 11/21HostnameOS / ArchINSTALLBUILDCHECKBUILD BIN
LRcell 1.6.0  (landing page)
Wenjing Ma
git_last_commit: dd108d3
git_last_commit_date: 2022-11-01 11:24:31 -0500
nebbiolo2Linux (Ubuntu 20.04.5 LTS) / x86_64  OK    OK    OK  UNNEEDED, same version is already published
palomino4Windows Server 2022 Datacenter / x64  OK    OK    OK    OK  UNNEEDED, same version is already published
lconwaymacOS 12.5.1 Monterey / x86_64  OK    OK    OK    OK  UNNEEDED, same version is already published
Package 12/21HostnameOS / ArchINSTALLBUILDCHECKBUILD BIN
m6Aboost 1.4.0  (landing page)
You Zhou
git_last_commit: 3b70603
git_last_commit_date: 2022-11-01 11:25:12 -0500
nebbiolo2Linux (Ubuntu 20.04.5 LTS) / x86_64  OK    OK    OK  UNNEEDED, same version is already published
palomino4Windows Server 2022 Datacenter / x64  OK    OK    OK    OK  UNNEEDED, same version is already published
lconwaymacOS 12.5.1 Monterey / x86_64  OK    OK    OK    OK  UNNEEDED, same version is already published
Package 13/21HostnameOS / ArchINSTALLBUILDCHECKBUILD BIN
MACSr 1.6.0  (landing page)
Qiang Hu
git_last_commit: 39839d4
git_last_commit_date: 2022-11-01 11:23:57 -0500
nebbiolo2Linux (Ubuntu 20.04.5 LTS) / x86_64  OK    OK    OK  UNNEEDED, same version is already published
palomino4Windows Server 2022 Datacenter / x64... NOT SUPPORTED ...
lconwaymacOS 12.5.1 Monterey / x86_64  OK    OK    OK    OK  UNNEEDED, same version is already published
Package 14/21HostnameOS / ArchINSTALLBUILDCHECKBUILD BIN
MethReg 1.8.0  (landing page)
Tiago Silva
git_last_commit: 6235257
git_last_commit_date: 2022-11-01 11:22:54 -0500
nebbiolo2Linux (Ubuntu 20.04.5 LTS) / x86_64  OK    OK    WARNINGS  UNNEEDED, same version is already published
palomino4Windows Server 2022 Datacenter / x64  OK    OK    WARNINGS    OK  UNNEEDED, same version is already published
lconwaymacOS 12.5.1 Monterey / x86_64  OK    OK    WARNINGS    OK  UNNEEDED, same version is already published
Package 15/21HostnameOS / ArchINSTALLBUILDCHECKBUILD BIN
methylclock 1.4.0  (landing page)
Dolors Pelegri-Siso
git_last_commit: af3c8d8
git_last_commit_date: 2022-11-01 11:25:16 -0500
nebbiolo2Linux (Ubuntu 20.04.5 LTS) / x86_64  OK    OK    OK  UNNEEDED, same version is already published
palomino4Windows Server 2022 Datacenter / x64  OK    OK    OK    OK  UNNEEDED, same version is already published
lconwaymacOS 12.5.1 Monterey / x86_64  OK    OK    OK    OK  UNNEEDED, same version is already published
Package 16/21HostnameOS / ArchINSTALLBUILDCHECKBUILD BIN
octad 1.0.0  (landing page)
E. Chekalin
git_last_commit: 9ea3c9a
git_last_commit_date: 2022-11-01 11:27:51 -0500
nebbiolo2Linux (Ubuntu 20.04.5 LTS) / x86_64  OK    OK    OK  UNNEEDED, same version is already published
palomino4Windows Server 2022 Datacenter / x64  OK    OK    OK    OK  UNNEEDED, same version is already published
lconwaymacOS 12.5.1 Monterey / x86_64  OK    OK    OK    OK  UNNEEDED, same version is already published
Package 17/21HostnameOS / ArchINSTALLBUILDCHECKBUILD BIN
PhyloProfile 1.12.4  (landing page)
Vinh Tran
git_last_commit: ee7af1f
git_last_commit_date: 2023-01-10 12:16:44 -0500
nebbiolo2Linux (Ubuntu 20.04.5 LTS) / x86_64  OK    OK    OK  UNNEEDED, same version is already published
palomino4Windows Server 2022 Datacenter / x64  OK    OK    OK    OK  UNNEEDED, same version is already published
lconwaymacOS 12.5.1 Monterey / x86_64  OK    OK    OK    OK  UNNEEDED, same version is already published
Package 18/21HostnameOS / ArchINSTALLBUILDCHECKBUILD BIN
restfulSE 1.20.0  (landing page)
Shweta Gopaulakrishnan
git_last_commit: 0d059b0
git_last_commit_date: 2022-11-01 11:16:25 -0500
nebbiolo2Linux (Ubuntu 20.04.5 LTS) / x86_64  OK    OK    OK  UNNEEDED, same version is already published
palomino4Windows Server 2022 Datacenter / x64  OK    ERROR  skippedskipped
lconwaymacOS 12.5.1 Monterey / x86_64  OK    OK    OK    OK  UNNEEDED, same version is already published
Package 19/21HostnameOS / ArchINSTALLBUILDCHECKBUILD BIN
SeqSQC 1.20.0  (landing page)
Qian Liu
git_last_commit: 56cafce
git_last_commit_date: 2022-11-01 11:16:40 -0500
nebbiolo2Linux (Ubuntu 20.04.5 LTS) / x86_64  OK    OK    OK  UNNEEDED, same version is already published
palomino4Windows Server 2022 Datacenter / x64  OK    OK    OK    OK  UNNEEDED, same version is already published
lconwaymacOS 12.5.1 Monterey / x86_64  OK    OK    OK    OK  UNNEEDED, same version is already published
Package 20/21HostnameOS / ArchINSTALLBUILDCHECKBUILD BIN
signatureSearch 1.12.0  (landing page)
Brendan Gongol
git_last_commit: b007162
git_last_commit_date: 2022-11-01 11:20:59 -0500
nebbiolo2Linux (Ubuntu 20.04.5 LTS) / x86_64  OK    OK    OK  UNNEEDED, same version is already published
palomino4Windows Server 2022 Datacenter / x64  OK    OK    OK    OK  UNNEEDED, same version is already published
lconwaymacOS 12.5.1 Monterey / x86_64  OK    OK    OK    OK  UNNEEDED, same version is already published
Package 21/21HostnameOS / ArchINSTALLBUILDCHECKBUILD BIN
singleCellTK 2.8.0  (landing page)
Yichen Wang
git_last_commit: 711d2ed
git_last_commit_date: 2022-11-01 11:17:41 -0500
nebbiolo2Linux (Ubuntu 20.04.5 LTS) / x86_64  OK    OK    OK  UNNEEDED, same version is already published
palomino4Windows Server 2022 Datacenter / x64  OK    OK    OK    OK  UNNEEDED, same version is already published
lconwaymacOS 12.5.1 Monterey / x86_64  OK    OK    OK    OK  UNNEEDED, same version is already published