Back to Multiple platform build/check report for BioC 3.16:   simplified   long
ABCDEF[G]HIJKLMNOPQRSTUVWXYZ

This page was generated on 2023-04-12 11:04:36 -0400 (Wed, 12 Apr 2023).

HostnameOSArch (*)R versionInstalled pkgs
nebbiolo2Linux (Ubuntu 20.04.5 LTS)x86_644.2.3 (2023-03-15) -- "Shortstop Beagle" 4502
palomino4Windows Server 2022 Datacenterx644.2.3 (2023-03-15 ucrt) -- "Shortstop Beagle" 4282
lconwaymacOS 12.5.1 Montereyx86_644.2.3 (2023-03-15) -- "Shortstop Beagle" 4310
Click on any hostname to see more info about the system (e.g. compilers)      (*) as reported by 'uname -p', except on Windows and Mac OS X

All results for package GenomicRanges


To the developers/maintainers of the GenomicRanges package:
- Please allow up to 24 hours (and sometimes 48 hours) for your latest push to git@git.bioconductor.org:packages/GenomicRanges.git to
reflect on this report. See How and When does the builder pull? When will my changes propagate? for more information.
- Make sure to use the following settings in order to reproduce any error or warning you see on this page.

raw results

Package 791/2183HostnameOS / ArchINSTALLBUILDCHECKBUILD BIN
GenomicRanges 1.50.2  (landing page)
Hervé Pagès
Snapshot Date: 2023-04-10 14:00:05 -0400 (Mon, 10 Apr 2023)
git_url: https://git.bioconductor.org/packages/GenomicRanges
git_branch: RELEASE_3_16
git_last_commit: 6125839
git_last_commit_date: 2022-12-15 13:51:02 -0400 (Thu, 15 Dec 2022)
nebbiolo2Linux (Ubuntu 20.04.5 LTS) / x86_64  OK    OK    OK  UNNEEDED, same version is already published
palomino4Windows Server 2022 Datacenter / x64  OK    OK    OK    OK  UNNEEDED, same version is already published
lconwaymacOS 12.5.1 Monterey / x86_64  OK    OK    OK    OK  UNNEEDED, same version is already published

Results for Bioconductor software packages that depend directly on package GenomicRanges

QUICK STATSOS / ArchINSTALLBUILDCHECKBUILD BIN
nebbiolo2Linux (Ubuntu 20.04.5 LTS) / x86_64
09519
016512
21587408
palomino4Windows Server 2022 Datacenter / x64
07507
017497
01191395
00497
lconwaymacOS 12.5.1 Monterey / x86_64
011515
021505
01387405
00505
Package 1/528HostnameOS / ArchINSTALLBUILDCHECKBUILD BIN
ACE 1.16.0  (landing page)
Jos B Poell
git_last_commit: 44fa7a7
git_last_commit_date: 2022-11-01 11:18:08 -0400
nebbiolo2Linux (Ubuntu 20.04.5 LTS) / x86_64  OK    OK    OK  UNNEEDED, same version is already published
palomino4Windows Server 2022 Datacenter / x64  OK    OK    OK    OK  UNNEEDED, same version is already published
lconwaymacOS 12.5.1 Monterey / x86_64  OK    OK    OK    OK  UNNEEDED, same version is already published
Package 2/528HostnameOS / ArchINSTALLBUILDCHECKBUILD BIN
ALDEx2 1.30.0  (landing page)
Greg Gloor
git_last_commit: cb66705
git_last_commit_date: 2022-11-01 11:10:23 -0400
nebbiolo2Linux (Ubuntu 20.04.5 LTS) / x86_64  OK    OK    OK  UNNEEDED, same version is already published
palomino4Windows Server 2022 Datacenter / x64  OK    OK    OK    OK  UNNEEDED, same version is already published
lconwaymacOS 12.5.1 Monterey / x86_64  OK    OK    OK    OK  UNNEEDED, same version is already published
Package 3/528HostnameOS / ArchINSTALLBUILDCHECKBUILD BIN
AllelicImbalance 1.36.0  (landing page)
Jesper R Gadin
git_last_commit: cb4910c
git_last_commit_date: 2022-11-01 11:08:46 -0400
nebbiolo2Linux (Ubuntu 20.04.5 LTS) / x86_64  OK    OK    OK  UNNEEDED, same version is already published
palomino4Windows Server 2022 Datacenter / x64  OK    OK    OK    OK  UNNEEDED, same version is already published
lconwaymacOS 12.5.1 Monterey / x86_64  OK    OK    OK    OK  UNNEEDED, same version is already published
Package 4/528HostnameOS / ArchINSTALLBUILDCHECKBUILD BIN
alpine 1.24.0  (landing page)
Michael Love
git_last_commit: 7e734d4
git_last_commit_date: 2022-11-01 11:14:18 -0400
nebbiolo2Linux (Ubuntu 20.04.5 LTS) / x86_64  OK    OK    OK  UNNEEDED, same version is already published
palomino4Windows Server 2022 Datacenter / x64  OK    OK    OK    OK  UNNEEDED, same version is already published
lconwaymacOS 12.5.1 Monterey / x86_64  OK    OK    OK    OK  UNNEEDED, same version is already published
Package 5/528HostnameOS / ArchINSTALLBUILDCHECKBUILD BIN
amplican 1.20.0  (landing page)
Eivind Valen
git_last_commit: eafd080
git_last_commit_date: 2022-11-01 11:16:19 -0400
nebbiolo2Linux (Ubuntu 20.04.5 LTS) / x86_64  ERROR    ERROR  skipped
palomino4Windows Server 2022 Datacenter / x64  ERROR    ERROR  skippedskipped
lconwaymacOS 12.5.1 Monterey / x86_64  ERROR    ERROR  skippedskipped
Package 6/528HostnameOS / ArchINSTALLBUILDCHECKBUILD BIN
AneuFinder 1.26.0  (landing page)
Aaron Taudt
git_last_commit: 7cd59a1
git_last_commit_date: 2022-11-01 11:13:19 -0400
nebbiolo2Linux (Ubuntu 20.04.5 LTS) / x86_64  ERROR    ERROR  skipped
palomino4Windows Server 2022 Datacenter / x64  ERROR    ERROR  skippedskipped
lconwaymacOS 12.5.1 Monterey / x86_64  ERROR    ERROR  skippedskipped
Package 7/528HostnameOS / ArchINSTALLBUILDCHECKBUILD BIN
annmap 1.40.0  (landing page)
Chris Wirth
git_last_commit: 02e02b1
git_last_commit_date: 2022-11-01 11:07:03 -0400
nebbiolo2Linux (Ubuntu 20.04.5 LTS) / x86_64  OK    OK    WARNINGS  UNNEEDED, same version is already published
palomino4Windows Server 2022 Datacenter / x64... NOT SUPPORTED ...
lconwaymacOS 12.5.1 Monterey / x86_64  OK    OK    WARNINGS    OK  UNNEEDED, same version is already published
Package 8/528HostnameOS / ArchINSTALLBUILDCHECKBUILD BIN
AnnotationFilter 1.22.0  (landing page)
Bioconductor Package Maintainer
git_last_commit: c9fea4a
git_last_commit_date: 2022-11-01 11:15:27 -0400
nebbiolo2Linux (Ubuntu 20.04.5 LTS) / x86_64  OK    OK    OK  UNNEEDED, same version is already published
palomino4Windows Server 2022 Datacenter / x64  OK    OK    OK    OK  UNNEEDED, same version is already published
lconwaymacOS 12.5.1 Monterey / x86_64  OK    OK    OK    OK  UNNEEDED, same version is already published
Package 9/528HostnameOS / ArchINSTALLBUILDCHECKBUILD BIN
AnnotationHubData 1.28.0  (landing page)
Bioconductor Package Maintainer
git_last_commit: 37f43f7
git_last_commit_date: 2022-11-01 11:12:08 -0400
nebbiolo2Linux (Ubuntu 20.04.5 LTS) / x86_64  OK    OK    WARNINGS  UNNEEDED, same version is already published
palomino4Windows Server 2022 Datacenter / x64  OK    OK    WARNINGS    OK  UNNEEDED, same version is already published
lconwaymacOS 12.5.1 Monterey / x86_64  OK    OK    WARNINGS    OK  UNNEEDED, same version is already published
Package 10/528HostnameOS / ArchINSTALLBUILDCHECKBUILD BIN
annotatr 1.24.0  (landing page)
Raymond G. Cavalcante
git_last_commit: 84619b5
git_last_commit_date: 2022-11-01 11:14:43 -0400
nebbiolo2Linux (Ubuntu 20.04.5 LTS) / x86_64  OK    OK    OK  UNNEEDED, same version is already published
palomino4Windows Server 2022 Datacenter / x64  OK    OK    OK    OK  UNNEEDED, same version is already published
lconwaymacOS 12.5.1 Monterey / x86_64  OK    OK    OK    OK  UNNEEDED, same version is already published
Package 11/528HostnameOS / ArchINSTALLBUILDCHECKBUILD BIN
APAlyzer 1.12.0  (landing page)
Ruijia Wang
git_last_commit: 46cf23c
git_last_commit_date: 2022-11-01 11:20:19 -0400
nebbiolo2Linux (Ubuntu 20.04.5 LTS) / x86_64  OK    OK    WARNINGS  UNNEEDED, same version is already published
palomino4Windows Server 2022 Datacenter / x64  OK    OK    WARNINGS    OK  UNNEEDED, same version is already published
lconwaymacOS 12.5.1 Monterey / x86_64  OK    OK    WARNINGS    OK  UNNEEDED, same version is already published
Package 12/528HostnameOS / ArchINSTALLBUILDCHECKBUILD BIN
apeglm 1.20.0  (landing page)
Anqi Zhu
git_last_commit: 213e75c
git_last_commit_date: 2022-11-01 11:16:16 -0400
nebbiolo2Linux (Ubuntu 20.04.5 LTS) / x86_64  OK    OK    OK  UNNEEDED, same version is already published
palomino4Windows Server 2022 Datacenter / x64  OK    OK    OK    OK  UNNEEDED, same version is already published
lconwaymacOS 12.5.1 Monterey / x86_64  OK    OK    OK    OK  UNNEEDED, same version is already published
Package 13/528HostnameOS / ArchINSTALLBUILDCHECKBUILD BIN
appreci8R 1.16.0  (landing page)
Sarah Sandmann
git_last_commit: e035de3
git_last_commit_date: 2022-11-01 11:18:06 -0400
nebbiolo2Linux (Ubuntu 20.04.5 LTS) / x86_64  OK    OK    OK  UNNEEDED, same version is already published
palomino4Windows Server 2022 Datacenter / x64  OK    OK    OK    OK  UNNEEDED, same version is already published
lconwaymacOS 12.5.1 Monterey / x86_64  OK    OK    OK    OK  UNNEEDED, same version is already published
Package 14/528HostnameOS / ArchINSTALLBUILDCHECKBUILD BIN
ArrayExpressHTS 1.48.0  (landing page)
Angela Goncalves , Andrew Tikhonov
git_last_commit: 3dbd3e8
git_last_commit_date: 2022-11-01 11:05:54 -0400
nebbiolo2Linux (Ubuntu 20.04.5 LTS) / x86_64  ERROR    ERROR  skipped
palomino4Windows Server 2022 Datacenter / x64... NOT SUPPORTED ...
lconwaymacOS 12.5.1 Monterey / x86_64  ERROR    ERROR  skippedskipped
Package 15/528HostnameOS / ArchINSTALLBUILDCHECKBUILD BIN
ASpediaFI 1.12.0  (landing page)
Doyeong Yu
git_last_commit: ad0dc91
git_last_commit_date: 2022-11-01 11:20:47 -0400
nebbiolo2Linux (Ubuntu 20.04.5 LTS) / x86_64  ERROR    ERROR  skipped
palomino4Windows Server 2022 Datacenter / x64  ERROR    ERROR  skippedskipped
lconwaymacOS 12.5.1 Monterey / x86_64  ERROR    ERROR  skippedskipped
Package 16/528HostnameOS / ArchINSTALLBUILDCHECKBUILD BIN
ASpli 2.8.0  (landing page)
Estefania Mancini
git_last_commit: ff40685
git_last_commit_date: 2022-11-01 11:14:10 -0400
nebbiolo2Linux (Ubuntu 20.04.5 LTS) / x86_64  OK    OK    OK  UNNEEDED, same version is already published
palomino4Windows Server 2022 Datacenter / x64  OK    OK    OK    OK  UNNEEDED, same version is already published
lconwaymacOS 12.5.1 Monterey / x86_64  OK    OK    OK    OK  UNNEEDED, same version is already published
Package 17/528HostnameOS / ArchINSTALLBUILDCHECKBUILD BIN
AssessORF 1.16.0  (landing page)
Deepank Korandla
git_last_commit: 0a35f1b
git_last_commit_date: 2022-11-01 11:18:47 -0400
nebbiolo2Linux (Ubuntu 20.04.5 LTS) / x86_64  OK    OK    OK  UNNEEDED, same version is already published
palomino4Windows Server 2022 Datacenter / x64  OK    OK    OK    OK  UNNEEDED, same version is already published
lconwaymacOS 12.5.1 Monterey / x86_64  OK    OK    OK    OK  UNNEEDED, same version is already published
Package 18/528HostnameOS / ArchINSTALLBUILDCHECKBUILD BIN
ATACCoGAPS 1.0.0  (landing page)
Rossin Erbe
git_last_commit: f320695
git_last_commit_date: 2022-11-01 11:27:16 -0400
nebbiolo2Linux (Ubuntu 20.04.5 LTS) / x86_64  OK    OK    OK  UNNEEDED, same version is already published
palomino4Windows Server 2022 Datacenter / x64  OK    OK    OK    OK  UNNEEDED, same version is already published
lconwaymacOS 12.5.1 Monterey / x86_64  OK    OK    OK    OK  UNNEEDED, same version is already published
Package 19/528HostnameOS / ArchINSTALLBUILDCHECKBUILD BIN
ATACseqQC 1.22.0  (landing page)
Jianhong Ou
git_last_commit: be03c44
git_last_commit_date: 2022-11-01 11:15:41 -0400
nebbiolo2Linux (Ubuntu 20.04.5 LTS) / x86_64  OK    OK    OK  UNNEEDED, same version is already published
palomino4Windows Server 2022 Datacenter / x64  OK    OK    OK    OK  UNNEEDED, same version is already published
lconwaymacOS 12.5.1 Monterey / x86_64  OK    OK    OK    OK  UNNEEDED, same version is already published
Package 20/528HostnameOS / ArchINSTALLBUILDCHECKBUILD BIN
ATACseqTFEA 1.0.1  (landing page)
Jianhong Ou
git_last_commit: ba0fb29
git_last_commit_date: 2022-11-04 14:12:12 -0400
nebbiolo2Linux (Ubuntu 20.04.5 LTS) / x86_64  OK    OK    OK  UNNEEDED, same version is already published
palomino4Windows Server 2022 Datacenter / x64  OK    OK    OK    OK  UNNEEDED, same version is already published
lconwaymacOS 12.5.1 Monterey / x86_64  OK    OK    OK    OK  UNNEEDED, same version is already published
Package 21/528HostnameOS / ArchINSTALLBUILDCHECKBUILD BIN
atena 1.4.1  (landing page)
Beatriz Calvo-Serra
git_last_commit: c41a0fb
git_last_commit_date: 2023-02-03 09:18:06 -0400
nebbiolo2Linux (Ubuntu 20.04.5 LTS) / x86_64  OK    OK    OK  UNNEEDED, same version is already published
palomino4Windows Server 2022 Datacenter / x64  OK    OK    OK    OK  UNNEEDED, same version is already published
lconwaymacOS 12.5.1 Monterey / x86_64  OK    OK    OK    OK  UNNEEDED, same version is already published
Package 22/528HostnameOS / ArchINSTALLBUILDCHECKBUILD BIN
BaalChIP 1.24.0  (landing page)
Ines de Santiago
git_last_commit: d4145fe
git_last_commit_date: 2022-11-01 11:14:26 -0400
nebbiolo2Linux (Ubuntu 20.04.5 LTS) / x86_64  OK    OK    WARNINGS  UNNEEDED, same version is already published
palomino4Windows Server 2022 Datacenter / x64  OK    OK    WARNINGS    OK  UNNEEDED, same version is already published
lconwaymacOS 12.5.1 Monterey / x86_64  OK    OK    WARNINGS    OK  UNNEEDED, same version is already published
Package 23/528HostnameOS / ArchINSTALLBUILDCHECKBUILD BIN
BadRegionFinder 1.26.0  (landing page)
Sarah Sandmann
git_last_commit: 328cbd2
git_last_commit_date: 2022-11-01 11:13:25 -0400
nebbiolo2Linux (Ubuntu 20.04.5 LTS) / x86_64  OK    OK    OK  UNNEEDED, same version is already published
palomino4Windows Server 2022 Datacenter / x64  OK    OK    OK    OK  UNNEEDED, same version is already published
lconwaymacOS 12.5.1 Monterey / x86_64  OK    OK    OK    OK  UNNEEDED, same version is already published
Package 24/528HostnameOS / ArchINSTALLBUILDCHECKBUILD BIN
ballgown 2.30.0  (landing page)
Jack Fu
git_last_commit: 70655cf
git_last_commit_date: 2022-11-01 11:10:01 -0400
nebbiolo2Linux (Ubuntu 20.04.5 LTS) / x86_64  OK    OK    OK  UNNEEDED, same version is already published
palomino4Windows Server 2022 Datacenter / x64  OK    OK    OK    OK  UNNEEDED, same version is already published
lconwaymacOS 12.5.1 Monterey / x86_64  OK    OK    OK    OK  UNNEEDED, same version is already published
Package 25/528HostnameOS / ArchINSTALLBUILDCHECKBUILD BIN
bambu 3.0.8  (landing page)
Ying Chen
git_last_commit: a946653
git_last_commit_date: 2023-02-14 20:59:35 -0400
nebbiolo2Linux (Ubuntu 20.04.5 LTS) / x86_64  OK    OK    OK  UNNEEDED, same version is already published
palomino4Windows Server 2022 Datacenter / x64  OK    OK    OK    OK  UNNEEDED, same version is already published
lconwaymacOS 12.5.1 Monterey / x86_64  OK    OK    OK    OK  UNNEEDED, same version is already published
Package 26/528HostnameOS / ArchINSTALLBUILDCHECKBUILD BIN
bamsignals 1.30.0  (landing page)
Johannes Helmuth
git_last_commit: aac37df
git_last_commit_date: 2022-11-01 11:11:17 -0400
nebbiolo2Linux (Ubuntu 20.04.5 LTS) / x86_64  OK    OK    OK  UNNEEDED, same version is already published
palomino4Windows Server 2022 Datacenter / x64  OK    OK    OK    OK  UNNEEDED, same version is already published
lconwaymacOS 12.5.1 Monterey / x86_64  OK    OK    OK    OK  UNNEEDED, same version is already published
Package 27/528HostnameOS / ArchINSTALLBUILDCHECKBUILD BIN
Basic4Cseq 1.34.0  (landing page)
Carolin Walter
git_last_commit: 53ec861
git_last_commit_date: 2022-11-01 11:09:18 -0400
nebbiolo2Linux (Ubuntu 20.04.5 LTS) / x86_64  OK    OK    OK  UNNEEDED, same version is already published
palomino4Windows Server 2022 Datacenter / x64  OK    OK    OK    OK  UNNEEDED, same version is already published
lconwaymacOS 12.5.1 Monterey / x86_64  OK    OK    OK    OK  UNNEEDED, same version is already published
Package 28/528HostnameOS / ArchINSTALLBUILDCHECKBUILD BIN
BasicSTARRseq 1.26.0  (landing page)
Annika Buerger
git_last_commit: b156a23
git_last_commit_date: 2022-11-01 11:12:51 -0400
nebbiolo2Linux (Ubuntu 20.04.5 LTS) / x86_64  OK    OK    OK  UNNEEDED, same version is already published
palomino4Windows Server 2022 Datacenter / x64  OK    OK    OK    OK  UNNEEDED, same version is already published
lconwaymacOS 12.5.1 Monterey / x86_64  OK    OK    OK    OK  UNNEEDED, same version is already published
Package 29/528HostnameOS / ArchINSTALLBUILDCHECKBUILD BIN
baySeq 2.32.0  (landing page)
Thomas J. Hardcastle
git_last_commit: c6e69d6
git_last_commit_date: 2022-11-01 11:04:42 -0400
nebbiolo2Linux (Ubuntu 20.04.5 LTS) / x86_64  OK    OK    ERROR  
palomino4Windows Server 2022 Datacenter / x64  OK    OK    OK    OK  UNNEEDED, same version is already published
lconwaymacOS 12.5.1 Monterey / x86_64  OK    OK    OK    OK  UNNEEDED, same version is already published
Package 30/528HostnameOS / ArchINSTALLBUILDCHECKBUILD BIN
BBCAnalyzer 1.28.0  (landing page)
Sarah Sandmann
git_last_commit: 136e385
git_last_commit_date: 2022-11-01 11:12:03 -0400
nebbiolo2Linux (Ubuntu 20.04.5 LTS) / x86_64  OK    OK    OK  UNNEEDED, same version is already published
palomino4Windows Server 2022 Datacenter / x64  OK    OK    WARNINGS    OK  UNNEEDED, same version is already published
lconwaymacOS 12.5.1 Monterey / x86_64  OK    OK    OK    OK  UNNEEDED, same version is already published
Package 31/528HostnameOS / ArchINSTALLBUILDCHECKBUILD BIN
beadarray 2.48.0  (landing page)
Mark Dunning
git_last_commit: 3db0e75
git_last_commit_date: 2022-11-01 10:40:39 -0400
nebbiolo2Linux (Ubuntu 20.04.5 LTS) / x86_64  OK    OK    OK  UNNEEDED, same version is already published
palomino4Windows Server 2022 Datacenter / x64  OK    OK    OK    OK  UNNEEDED, same version is already published
lconwaymacOS 12.5.1 Monterey / x86_64  OK    OK    OK    OK  UNNEEDED, same version is already published
Package 32/528HostnameOS / ArchINSTALLBUILDCHECKBUILD BIN
BEAT 1.36.0  (landing page)
Kemal Akman
git_last_commit: 4ad65bd
git_last_commit_date: 2022-11-01 11:09:07 -0400
nebbiolo2Linux (Ubuntu 20.04.5 LTS) / x86_64  OK    OK    OK  UNNEEDED, same version is already published
palomino4Windows Server 2022 Datacenter / x64  OK    OK    OK    OK  UNNEEDED, same version is already published
lconwaymacOS 12.5.1 Monterey / x86_64  OK    OK    OK    OK  UNNEEDED, same version is already published
Package 33/528HostnameOS / ArchINSTALLBUILDCHECKBUILD BIN
BiFET 1.18.0  (landing page)
Ahrim Youn
git_last_commit: 186c421
git_last_commit_date: 2022-11-01 11:16:59 -0400
nebbiolo2Linux (Ubuntu 20.04.5 LTS) / x86_64  OK    OK    OK  UNNEEDED, same version is already published
palomino4Windows Server 2022 Datacenter / x64  OK    OK    OK    OK  UNNEEDED, same version is already published
lconwaymacOS 12.5.1 Monterey / x86_64  OK    OK    OK    OK  UNNEEDED, same version is already published
Package 34/528HostnameOS / ArchINSTALLBUILDCHECKBUILD BIN
BindingSiteFinder 1.4.0  (landing page)
Mirko Brüggemann
git_last_commit: c66cdc8
git_last_commit_date: 2022-11-01 11:25:21 -0400
nebbiolo2Linux (Ubuntu 20.04.5 LTS) / x86_64  OK    OK    OK  UNNEEDED, same version is already published
palomino4Windows Server 2022 Datacenter / x64  OK    OK    OK    OK  UNNEEDED, same version is already published
lconwaymacOS 12.5.1 Monterey / x86_64  OK    OK    OK    OK  UNNEEDED, same version is already published
Package 35/528HostnameOS / ArchINSTALLBUILDCHECKBUILD BIN
BiocOncoTK 1.18.0  (landing page)
VJ Carey
git_last_commit: bd29ac7
git_last_commit_date: 2022-11-01 11:17:47 -0400
nebbiolo2Linux (Ubuntu 20.04.5 LTS) / x86_64  OK    OK    WARNINGS  UNNEEDED, same version is already published
palomino4Windows Server 2022 Datacenter / x64  OK    OK    WARNINGS    OK  UNNEEDED, same version is already published
lconwaymacOS 12.5.1 Monterey / x86_64  OK    OK    WARNINGS    OK  UNNEEDED, same version is already published
Package 36/528HostnameOS / ArchINSTALLBUILDCHECKBUILD BIN
biomvRCNS 1.38.0  (landing page)
Yang Du
git_last_commit: 911a52a
git_last_commit_date: 2022-11-01 11:07:53 -0400
nebbiolo2Linux (Ubuntu 20.04.5 LTS) / x86_64  OK    OK    OK  UNNEEDED, same version is already published
palomino4Windows Server 2022 Datacenter / x64  OK    OK    OK    OK  UNNEEDED, same version is already published
lconwaymacOS 12.5.1 Monterey / x86_64  OK    OK    OK    OK  UNNEEDED, same version is already published
Package 37/528HostnameOS / ArchINSTALLBUILDCHECKBUILD BIN
BioTIP 1.12.0  (landing page)
Yuxi (Jennifer) Sun , Zhezhen Wang , and X Holly Yang
git_last_commit: 0cb382e
git_last_commit_date: 2022-11-01 11:20:36 -0400
nebbiolo2Linux (Ubuntu 20.04.5 LTS) / x86_64  OK    OK    WARNINGS  UNNEEDED, same version is already published
palomino4Windows Server 2022 Datacenter / x64  OK    OK    WARNINGS    OK  UNNEEDED, same version is already published
lconwaymacOS 12.5.1 Monterey / x86_64  OK    OK    WARNINGS    OK  UNNEEDED, same version is already published
Package 38/528HostnameOS / ArchINSTALLBUILDCHECKBUILD BIN
biovizBase 1.46.0  (landing page)
Michael Lawrence
git_last_commit: a47060c
git_last_commit_date: 2022-11-01 11:06:19 -0400
nebbiolo2Linux (Ubuntu 20.04.5 LTS) / x86_64  OK    OK    WARNINGS  UNNEEDED, same version is already published
palomino4Windows Server 2022 Datacenter / x64  OK    OK    WARNINGS    OK  UNNEEDED, same version is already published
lconwaymacOS 12.5.1 Monterey / x86_64  OK    OK    WARNINGS    OK  UNNEEDED, same version is already published
Package 39/528HostnameOS / ArchINSTALLBUILDCHECKBUILD BIN
biscuiteer 1.12.0  (landing page)
Jacob Morrison
git_last_commit: 236bbc1
git_last_commit_date: 2022-11-01 11:20:50 -0400
nebbiolo2Linux (Ubuntu 20.04.5 LTS) / x86_64  OK    OK    WARNINGS  UNNEEDED, same version is already published
palomino4Windows Server 2022 Datacenter / x64  OK    OK    WARNINGS    OK  UNNEEDED, same version is already published
lconwaymacOS 12.5.1 Monterey / x86_64  OK    OK    WARNINGS    OK  UNNEEDED, same version is already published
Package 40/528HostnameOS / ArchINSTALLBUILDCHECKBUILD BIN
BiSeq 1.38.0  (landing page)
Katja Hebestreit
git_last_commit: 2291602
git_last_commit_date: 2022-11-01 11:08:12 -0400
nebbiolo2Linux (Ubuntu 20.04.5 LTS) / x86_64  OK    OK    OK  UNNEEDED, same version is already published
palomino4Windows Server 2022 Datacenter / x64  OK    OK    OK    OK  UNNEEDED, same version is already published
lconwaymacOS 12.5.1 Monterey / x86_64  OK    OK    OK    OK  UNNEEDED, same version is already published
Package 41/528HostnameOS / ArchINSTALLBUILDCHECKBUILD BIN
bnbc 1.20.0  (landing page)
Kipper Fletez-Brant
git_last_commit: aad63b8
git_last_commit_date: 2022-11-01 11:16:33 -0400
nebbiolo2Linux (Ubuntu 20.04.5 LTS) / x86_64  OK    OK    OK  UNNEEDED, same version is already published
palomino4Windows Server 2022 Datacenter / x64  OK    OK    OK    OK  UNNEEDED, same version is already published
lconwaymacOS 12.5.1 Monterey / x86_64  OK    OK    OK    OK  UNNEEDED, same version is already published
Package 42/528HostnameOS / ArchINSTALLBUILDCHECKBUILD BIN
BOBaFIT 1.2.0  (landing page)
Gaia Mazzocchetti
git_last_commit: e5675d1
git_last_commit_date: 2022-11-01 11:26:16 -0400
nebbiolo2Linux (Ubuntu 20.04.5 LTS) / x86_64  OK    OK    WARNINGS  UNNEEDED, same version is already published
palomino4Windows Server 2022 Datacenter / x64  OK    OK    WARNINGS    OK  UNNEEDED, same version is already published
lconwaymacOS 12.5.1 Monterey / x86_64  OK    OK    WARNINGS    OK  UNNEEDED, same version is already published
Package 43/528HostnameOS / ArchINSTALLBUILDCHECKBUILD BIN
borealis 1.2.2  (landing page)
Garrett Jenkinson
git_last_commit: 3993da3
git_last_commit_date: 2022-12-30 13:25:50 -0400
nebbiolo2Linux (Ubuntu 20.04.5 LTS) / x86_64  OK    OK    OK  UNNEEDED, same version is already published
palomino4Windows Server 2022 Datacenter / x64  OK    OK    OK    OK  UNNEEDED, same version is already published
lconwaymacOS 12.5.1 Monterey / x86_64  OK    OK    OK    OK  UNNEEDED, same version is already published
Package 44/528HostnameOS / ArchINSTALLBUILDCHECKBUILD BIN
BPRMeth 1.24.2  (landing page)
Chantriolnt-Andreas Kapourani
git_last_commit: 0543cfa
git_last_commit_date: 2023-01-19 11:15:05 -0400
nebbiolo2Linux (Ubuntu 20.04.5 LTS) / x86_64  OK    OK    OK  UNNEEDED, same version is already published
palomino4Windows Server 2022 Datacenter / x64  OK    OK    OK    OK  UNNEEDED, same version is already published
lconwaymacOS 12.5.1 Monterey / x86_64  OK    OK    OK    OK  UNNEEDED, same version is already published
Package 45/528HostnameOS / ArchINSTALLBUILDCHECKBUILD BIN
brainflowprobes 1.12.0  (landing page)
Amanda Price
git_last_commit: 2039aa8
git_last_commit_date: 2022-11-01 11:20:58 -0400
nebbiolo2Linux (Ubuntu 20.04.5 LTS) / x86_64  OK    OK    OK  UNNEEDED, same version is already published
palomino4Windows Server 2022 Datacenter / x64  OK    OK    OK    OK  UNNEEDED, same version is already published
lconwaymacOS 12.5.1 Monterey / x86_64  OK    OK    OK    OK  UNNEEDED, same version is already published
Package 46/528HostnameOS / ArchINSTALLBUILDCHECKBUILD BIN
branchpointer 1.24.0  (landing page)
Beth Signal
git_last_commit: 60877dc
git_last_commit_date: 2022-11-01 11:15:20 -0400
nebbiolo2Linux (Ubuntu 20.04.5 LTS) / x86_64  OK    OK    OK  UNNEEDED, same version is already published
palomino4Windows Server 2022 Datacenter / x64  OK    OK    OK    OK  UNNEEDED, same version is already published
lconwaymacOS 12.5.1 Monterey / x86_64  OK    OK    OK    OK  UNNEEDED, same version is already published
Package 47/528HostnameOS / ArchINSTALLBUILDCHECKBUILD BIN
breakpointR 1.16.0  (landing page)
David Porubsky
git_last_commit: 04d0691
git_last_commit_date: 2022-11-01 11:18:28 -0400
nebbiolo2Linux (Ubuntu 20.04.5 LTS) / x86_64  OK    OK    OK  UNNEEDED, same version is already published
palomino4Windows Server 2022 Datacenter / x64  OK    OK    OK    OK  UNNEEDED, same version is already published
lconwaymacOS 12.5.1 Monterey / x86_64  OK    OK    OK    OK  UNNEEDED, same version is already published
Package 48/528HostnameOS / ArchINSTALLBUILDCHECKBUILD BIN
BRGenomics 1.10.0  (landing page)
Mike DeBerardine
git_last_commit: 966826e
git_last_commit_date: 2022-11-01 11:21:40 -0400
nebbiolo2Linux (Ubuntu 20.04.5 LTS) / x86_64  OK    OK    WARNINGS  UNNEEDED, same version is already published
palomino4Windows Server 2022 Datacenter / x64  OK    OK    WARNINGS    OK  UNNEEDED, same version is already published
lconwaymacOS 12.5.1 Monterey / x86_64  OK    OK    WARNINGS    OK  UNNEEDED, same version is already published
Package 49/528HostnameOS / ArchINSTALLBUILDCHECKBUILD BIN
BSgenome 1.66.3  (landing page)
Hervé Pagès
git_last_commit: f2f40e0
git_last_commit_date: 2023-02-16 10:38:29 -0400
nebbiolo2Linux (Ubuntu 20.04.5 LTS) / x86_64  OK    OK    WARNINGS  UNNEEDED, same version is already published
palomino4Windows Server 2022 Datacenter / x64  OK    OK    WARNINGS    OK  UNNEEDED, same version is already published
lconwaymacOS 12.5.1 Monterey / x86_64  OK    OK    WARNINGS    OK  UNNEEDED, same version is already published
Package 50/528HostnameOS / ArchINSTALLBUILDCHECKBUILD BIN
bsseq 1.34.0  (landing page)
Kasper Daniel Hansen
git_last_commit: 98239c0
git_last_commit_date: 2022-11-01 11:07:09 -0400
nebbiolo2Linux (Ubuntu 20.04.5 LTS) / x86_64  OK    OK    OK  UNNEEDED, same version is already published
palomino4Windows Server 2022 Datacenter / x64  OK    OK    OK    OK  UNNEEDED, same version is already published
lconwaymacOS 12.5.1 Monterey / x86_64  OK    OK    OK    OK  UNNEEDED, same version is already published
Package 51/528HostnameOS / ArchINSTALLBUILDCHECKBUILD BIN
BubbleTree 2.28.0  (landing page)
Todd Creasy , Wei Zhu
git_last_commit: a9640da
git_last_commit_date: 2022-11-01 11:11:07 -0400
nebbiolo2Linux (Ubuntu 20.04.5 LTS) / x86_64  OK    OK    OK  UNNEEDED, same version is already published
palomino4Windows Server 2022 Datacenter / x64  OK    OK    OK    OK  UNNEEDED, same version is already published
lconwaymacOS 12.5.1 Monterey / x86_64  OK    OK    OK    OK  UNNEEDED, same version is already published
Package 52/528HostnameOS / ArchINSTALLBUILDCHECKBUILD BIN
bumphunter 1.40.0  (landing page)
Tamilselvi Guharaj
git_last_commit: 3de207a
git_last_commit_date: 2022-11-01 16:40:40 -0400
nebbiolo2Linux (Ubuntu 20.04.5 LTS) / x86_64  OK    OK    OK  UNNEEDED, same version is already published
palomino4Windows Server 2022 Datacenter / x64  OK    OK    OK    OK  UNNEEDED, same version is already published
lconwaymacOS 12.5.1 Monterey / x86_64  OK    OK    OK    OK  UNNEEDED, same version is already published
Package 53/528HostnameOS / ArchINSTALLBUILDCHECKBUILD BIN
BUSpaRse 1.12.2  (landing page)
Lambda Moses
git_last_commit: 071ebd9
git_last_commit_date: 2023-01-19 11:15:07 -0400
nebbiolo2Linux (Ubuntu 20.04.5 LTS) / x86_64  OK    OK    OK  UNNEEDED, same version is already published
palomino4Windows Server 2022 Datacenter / x64  OK    OK    OK    OK  UNNEEDED, same version is already published
lconwaymacOS 12.5.1 Monterey / x86_64  OK    OK    OK    OK  UNNEEDED, same version is already published
Package 54/528HostnameOS / ArchINSTALLBUILDCHECKBUILD BIN
CAFE 1.34.0  (landing page)
Sander Bollen
git_last_commit: 61e9936
git_last_commit_date: 2022-11-01 11:09:18 -0400
nebbiolo2Linux (Ubuntu 20.04.5 LTS) / x86_64  OK    OK    WARNINGS  UNNEEDED, same version is already published
palomino4Windows Server 2022 Datacenter / x64  OK    OK    WARNINGS    OK  UNNEEDED, same version is already published
lconwaymacOS 12.5.1 Monterey / x86_64  OK    OK    WARNINGS    OK  UNNEEDED, same version is already published
Package 55/528HostnameOS / ArchINSTALLBUILDCHECKBUILD BIN
CAGEfightR 1.18.0  (landing page)
Malte Thodberg
git_last_commit: de07aac
git_last_commit_date: 2022-11-01 11:17:49 -0400
nebbiolo2Linux (Ubuntu 20.04.5 LTS) / x86_64  OK    OK    OK  UNNEEDED, same version is already published
palomino4Windows Server 2022 Datacenter / x64  OK    OK    OK    OK  UNNEEDED, same version is already published
lconwaymacOS 12.5.1 Monterey / x86_64  OK    OK    OK    OK  UNNEEDED, same version is already published
Package 56/528HostnameOS / ArchINSTALLBUILDCHECKBUILD BIN
cageminer 1.4.0  (landing page)
Fabrício Almeida-Silva
git_last_commit: f734ab4
git_last_commit_date: 2023-03-14 07:03:05 -0400
nebbiolo2Linux (Ubuntu 20.04.5 LTS) / x86_64  OK    OK    OK  UNNEEDED, same version is already published
palomino4Windows Server 2022 Datacenter / x64  OK    OK    OK    OK  UNNEEDED, same version is already published
lconwaymacOS 12.5.1 Monterey / x86_64  OK    OK    OK    OK  UNNEEDED, same version is already published
Package 57/528HostnameOS / ArchINSTALLBUILDCHECKBUILD BIN
CAGEr 2.4.0  (landing page)
Charles Plessy
git_last_commit: 4ce371f
git_last_commit_date: 2022-11-01 11:07:54 -0400
nebbiolo2Linux (Ubuntu 20.04.5 LTS) / x86_64  OK    OK    OK  UNNEEDED, same version is already published
palomino4Windows Server 2022 Datacenter / x64  OK    OK    OK    OK  UNNEEDED, same version is already published
lconwaymacOS 12.5.1 Monterey / x86_64  OK    OK    OK    OK  UNNEEDED, same version is already published
Package 58/528HostnameOS / ArchINSTALLBUILDCHECKBUILD BIN
cardelino 1.0.0  (landing page)
Jeffrey Pullin
git_last_commit: f77a6f6
git_last_commit_date: 2022-11-01 11:27:45 -0400
nebbiolo2Linux (Ubuntu 20.04.5 LTS) / x86_64  OK    OK    OK  UNNEEDED, same version is already published
palomino4Windows Server 2022 Datacenter / x64  OK    OK    OK    OK  UNNEEDED, same version is already published
lconwaymacOS 12.5.1 Monterey / x86_64  OK    OK    OK    OK  UNNEEDED, same version is already published
Package 59/528HostnameOS / ArchINSTALLBUILDCHECKBUILD BIN
casper 2.32.0  (landing page)
David Rossell
git_last_commit: d0c72cf
git_last_commit_date: 2022-11-01 11:07:47 -0400
nebbiolo2Linux (Ubuntu 20.04.5 LTS) / x86_64  OK    OK    WARNINGS  UNNEEDED, same version is already published
palomino4Windows Server 2022 Datacenter / x64  OK    OK    WARNINGS    OK  UNNEEDED, same version is already published
lconwaymacOS 12.5.1 Monterey / x86_64  OK    ERROR  skippedskipped
Package 60/528HostnameOS / ArchINSTALLBUILDCHECKBUILD BIN
cBioPortalData 2.10.3  (landing page)
Marcel Ramos
git_last_commit: 8302e09
git_last_commit_date: 2023-01-03 18:28:56 -0400
nebbiolo2Linux (Ubuntu 20.04.5 LTS) / x86_64  OK    OK    OK  UNNEEDED, same version is already published
palomino4Windows Server 2022 Datacenter / x64  OK    OK    OK    OK  UNNEEDED, same version is already published
lconwaymacOS 12.5.1 Monterey / x86_64  OK    OK    OK    OK  UNNEEDED, same version is already published
Package 61/528HostnameOS / ArchINSTALLBUILDCHECKBUILD BIN
CexoR 1.36.0  (landing page)
Pedro Madrigal
git_last_commit: 69bd679
git_last_commit_date: 2022-11-01 11:25:46 -0400
nebbiolo2Linux (Ubuntu 20.04.5 LTS) / x86_64  OK    OK    OK  UNNEEDED, same version is already published
palomino4Windows Server 2022 Datacenter / x64  OK    OK    OK    OK  UNNEEDED, same version is already published
lconwaymacOS 12.5.1 Monterey / x86_64  OK    OK    OK    OK  UNNEEDED, same version is already published
Package 62/528HostnameOS / ArchINSTALLBUILDCHECKBUILD BIN
cfDNAPro 1.4.0  (landing page)
Haichao Wang
git_last_commit: e32b87d
git_last_commit_date: 2022-11-01 11:25:24 -0400
nebbiolo2Linux (Ubuntu 20.04.5 LTS) / x86_64  OK    OK    OK  UNNEEDED, same version is already published
palomino4Windows Server 2022 Datacenter / x64  OK    OK    OK    OK  UNNEEDED, same version is already published
lconwaymacOS 12.5.1 Monterey / x86_64  OK    OK    OK    OK  UNNEEDED, same version is already published
Package 63/528HostnameOS / ArchINSTALLBUILDCHECKBUILD BIN
ChAMP 2.28.0  (landing page)
Yuan Tian
git_last_commit: 3d27ac6
git_last_commit_date: 2022-11-01 11:08:56 -0400
nebbiolo2Linux (Ubuntu 20.04.5 LTS) / x86_64  OK    OK    WARNINGS  UNNEEDED, same version is already published
palomino4Windows Server 2022 Datacenter / x64  OK    OK    WARNINGS    OK  UNNEEDED, same version is already published
lconwaymacOS 12.5.1 Monterey / x86_64  OK    OK    WARNINGS    OK  UNNEEDED, same version is already published
Package 64/528HostnameOS / ArchINSTALLBUILDCHECKBUILD BIN
ChIC 1.18.0  (landing page)
Carmen Maria Livi
git_last_commit: 728615f
git_last_commit_date: 2022-11-01 11:17:36 -0400
nebbiolo2Linux (Ubuntu 20.04.5 LTS) / x86_64  ERROR    ERROR  skipped
palomino4Windows Server 2022 Datacenter / x64... NOT SUPPORTED ...
lconwaymacOS 12.5.1 Monterey / x86_64  ERROR    ERROR  skippedskipped
Package 65/528HostnameOS / ArchINSTALLBUILDCHECKBUILD BIN
chimeraviz 1.24.0  (landing page)
Stian Lågstad
git_last_commit: 0f9835a
git_last_commit_date: 2022-11-01 11:14:55 -0400
nebbiolo2Linux (Ubuntu 20.04.5 LTS) / x86_64  OK    OK    OK  UNNEEDED, same version is already published
palomino4Windows Server 2022 Datacenter / x64  OK    OK    OK    OK  UNNEEDED, same version is already published
lconwaymacOS 12.5.1 Monterey / x86_64  OK    OK    OK    OK  UNNEEDED, same version is already published
Package 66/528HostnameOS / ArchINSTALLBUILDCHECKBUILD BIN
ChIPanalyser 1.20.0  (landing page)
Patrick C.N. Martin
git_last_commit: ca0ec5c
git_last_commit_date: 2022-11-01 11:16:15 -0400
nebbiolo2Linux (Ubuntu 20.04.5 LTS) / x86_64  OK    OK    OK  UNNEEDED, same version is already published
palomino4Windows Server 2022 Datacenter / x64  OK    OK    OK    OK  UNNEEDED, same version is already published
lconwaymacOS 12.5.1 Monterey / x86_64  OK    OK    OK    OK  UNNEEDED, same version is already published
Package 67/528HostnameOS / ArchINSTALLBUILDCHECKBUILD BIN
ChIPComp 1.28.0  (landing page)
Li Chen
git_last_commit: 690350e
git_last_commit_date: 2022-11-01 11:12:04 -0400
nebbiolo2Linux (Ubuntu 20.04.5 LTS) / x86_64  OK    OK    OK  UNNEEDED, same version is already published
palomino4Windows Server 2022 Datacenter / x64  OK    OK    OK    OK  UNNEEDED, same version is already published
lconwaymacOS 12.5.1 Monterey / x86_64  OK    OK    OK    OK  UNNEEDED, same version is already published
Package 68/528HostnameOS / ArchINSTALLBUILDCHECKBUILD BIN
chipenrich 2.22.0  (landing page)
Raymond G. Cavalcante
git_last_commit: 9191beb
git_last_commit_date: 2022-11-01 11:08:40 -0400
nebbiolo2Linux (Ubuntu 20.04.5 LTS) / x86_64  OK    OK    OK  UNNEEDED, same version is already published
palomino4Windows Server 2022 Datacenter / x64  OK    OK    OK    OK  UNNEEDED, same version is already published
lconwaymacOS 12.5.1 Monterey / x86_64  OK    OK    OK    OK  UNNEEDED, same version is already published
Package 69/528HostnameOS / ArchINSTALLBUILDCHECKBUILD BIN
ChIPexoQual 1.22.0  (landing page)
Rene Welch
git_last_commit: 60f340b
git_last_commit_date: 2022-11-01 11:15:05 -0400
nebbiolo2Linux (Ubuntu 20.04.5 LTS) / x86_64  OK    OK    OK  UNNEEDED, same version is already published
palomino4Windows Server 2022 Datacenter / x64  OK    OK    OK    OK  UNNEEDED, same version is already published
lconwaymacOS 12.5.1 Monterey / x86_64  OK    OK    OK    OK  UNNEEDED, same version is already published
Package 70/528HostnameOS / ArchINSTALLBUILDCHECKBUILD BIN
ChIPpeakAnno 3.32.0  (landing page)
Jianhong Ou
git_last_commit: 016661f
git_last_commit_date: 2022-11-01 11:04:34 -0400
nebbiolo2Linux (Ubuntu 20.04.5 LTS) / x86_64  OK    OK    OK  UNNEEDED, same version is already published
palomino4Windows Server 2022 Datacenter / x64  OK    OK    OK    OK  UNNEEDED, same version is already published
lconwaymacOS 12.5.1 Monterey / x86_64  OK    OK    OK    OK  UNNEEDED, same version is already published
Package 71/528HostnameOS / ArchINSTALLBUILDCHECKBUILD BIN
ChIPQC 1.34.1  (landing page)
Tom Carroll , Rory Stark
git_last_commit: dabb39a
git_last_commit_date: 2023-01-10 07:39:10 -0400
nebbiolo2Linux (Ubuntu 20.04.5 LTS) / x86_64  OK    OK    WARNINGS  UNNEEDED, same version is already published
palomino4Windows Server 2022 Datacenter / x64  OK    OK    WARNINGS    OK  UNNEEDED, same version is already published
lconwaymacOS 12.5.1 Monterey / x86_64  OK    OK    WARNINGS    OK  UNNEEDED, same version is already published
Package 72/528HostnameOS / ArchINSTALLBUILDCHECKBUILD BIN
ChIPseeker 1.34.1  (landing page)
Guangchuang Yu
git_last_commit: 4bf5e4f
git_last_commit_date: 2022-11-20 22:15:00 -0400
nebbiolo2Linux (Ubuntu 20.04.5 LTS) / x86_64  OK    OK    OK  UNNEEDED, same version is already published
palomino4Windows Server 2022 Datacenter / x64  OK    OK    OK    OK  UNNEEDED, same version is already published
lconwaymacOS 12.5.1 Monterey / x86_64  OK    OK    OK    OK  UNNEEDED, same version is already published
Package 73/528HostnameOS / ArchINSTALLBUILDCHECKBUILD BIN
chipseq 1.48.0  (landing page)
Bioconductor Package Maintainer
git_last_commit: 9c78296
git_last_commit_date: 2022-11-01 11:04:29 -0400
nebbiolo2Linux (Ubuntu 20.04.5 LTS) / x86_64  OK    OK    WARNINGS  UNNEEDED, same version is already published
palomino4Windows Server 2022 Datacenter / x64  OK    OK    WARNINGS    OK  UNNEEDED, same version is already published
lconwaymacOS 12.5.1 Monterey / x86_64  OK    OK    WARNINGS    OK  UNNEEDED, same version is already published
Package 74/528HostnameOS / ArchINSTALLBUILDCHECKBUILD BIN
ChIPseqR 1.52.0  (landing page)
Peter Humburg
git_last_commit: 984d136
git_last_commit_date: 2022-11-01 11:04:43 -0400
nebbiolo2Linux (Ubuntu 20.04.5 LTS) / x86_64  OK    OK    OK  UNNEEDED, same version is already published
palomino4Windows Server 2022 Datacenter / x64  OK    OK    OK    OK  UNNEEDED, same version is already published
lconwaymacOS 12.5.1 Monterey / x86_64  OK    OK    OK    OK  UNNEEDED, same version is already published
Package 75/528HostnameOS / ArchINSTALLBUILDCHECKBUILD BIN
chromDraw 2.28.0  (landing page)
Jan Janecka
git_last_commit: 6922aac
git_last_commit_date: 2022-11-01 11:10:54 -0400
nebbiolo2Linux (Ubuntu 20.04.5 LTS) / x86_64  OK    OK    WARNINGS  UNNEEDED, same version is already published
palomino4Windows Server 2022 Datacenter / x64  OK    OK    WARNINGS    OK  UNNEEDED, same version is already published
lconwaymacOS 12.5.1 Monterey / x86_64  OK    OK    WARNINGS    OK  UNNEEDED, same version is already published
Package 76/528HostnameOS / ArchINSTALLBUILDCHECKBUILD BIN
ChromHeatMap 1.52.0  (landing page)
Tim F. Rayner
git_last_commit: eebc617
git_last_commit_date: 2022-11-01 11:04:42 -0400
nebbiolo2Linux (Ubuntu 20.04.5 LTS) / x86_64  OK    OK    OK  UNNEEDED, same version is already published
palomino4Windows Server 2022 Datacenter / x64  OK    OK    OK    OK  UNNEEDED, same version is already published
lconwaymacOS 12.5.1 Monterey / x86_64  OK    OK    OK    OK  UNNEEDED, same version is already published
Package 77/528HostnameOS / ArchINSTALLBUILDCHECKBUILD BIN
chromPlot 1.26.0  (landing page)
Karen Y. Orostica
git_last_commit: 72130bb
git_last_commit_date: 2022-11-01 11:12:58 -0400
nebbiolo2Linux (Ubuntu 20.04.5 LTS) / x86_64  OK    OK    OK  UNNEEDED, same version is already published
palomino4Windows Server 2022 Datacenter / x64  OK    OK    WARNINGS    OK  UNNEEDED, same version is already published
lconwaymacOS 12.5.1 Monterey / x86_64  OK    OK    OK    OK  UNNEEDED, same version is already published
Package 78/528HostnameOS / ArchINSTALLBUILDCHECKBUILD BIN
ChromSCape 1.8.0  (landing page)
Pacome Prompsy
git_last_commit: d32bd33
git_last_commit_date: 2022-11-01 11:23:01 -0400
nebbiolo2Linux (Ubuntu 20.04.5 LTS) / x86_64  OK    OK    WARNINGS  UNNEEDED, same version is already published
palomino4Windows Server 2022 Datacenter / x64  OK    OK    WARNINGS    OK  UNNEEDED, same version is already published
lconwaymacOS 12.5.1 Monterey / x86_64  OK    OK    WARNINGS    OK  UNNEEDED, same version is already published
Package 79/528HostnameOS / ArchINSTALLBUILDCHECKBUILD BIN
chromstaR 1.24.0  (landing page)
Aaron Taudt
git_last_commit: a38e62b
git_last_commit_date: 2022-11-01 11:13:56 -0400
nebbiolo2Linux (Ubuntu 20.04.5 LTS) / x86_64  OK    OK    OK  UNNEEDED, same version is already published
palomino4Windows Server 2022 Datacenter / x64  OK    OK    OK    OK  UNNEEDED, same version is already published
lconwaymacOS 12.5.1 Monterey / x86_64  OK    OK    OK    OK  UNNEEDED, same version is already published
Package 80/528HostnameOS / ArchINSTALLBUILDCHECKBUILD BIN
chromswitch 1.20.0  (landing page)
Selin Jessa
git_last_commit: cc484bf
git_last_commit_date: 2022-11-01 11:16:44 -0400
nebbiolo2Linux (Ubuntu 20.04.5 LTS) / x86_64  OK    OK    OK  UNNEEDED, same version is already published
palomino4Windows Server 2022 Datacenter / x64  OK    OK    OK    OK  UNNEEDED, same version is already published
lconwaymacOS 12.5.1 Monterey / x86_64  OK    OK    OK    OK  UNNEEDED, same version is already published
Package 81/528HostnameOS / ArchINSTALLBUILDCHECKBUILD BIN
chromVAR 1.20.2  (landing page)
Alicia Schep
git_last_commit: 4e0ed21
git_last_commit_date: 2023-01-19 11:15:25 -0400
nebbiolo2Linux (Ubuntu 20.04.5 LTS) / x86_64  OK    OK    OK  UNNEEDED, same version is already published
palomino4Windows Server 2022 Datacenter / x64  OK    OK    OK    OK  UNNEEDED, same version is already published
lconwaymacOS 12.5.1 Monterey / x86_64  OK    OK    OK    OK  UNNEEDED, same version is already published
Package 82/528HostnameOS / ArchINSTALLBUILDCHECKBUILD BIN
cicero 1.16.2  (landing page)
Hannah Pliner
git_last_commit: 11394fb
git_last_commit_date: 2023-02-25 16:10:49 -0400
nebbiolo2Linux (Ubuntu 20.04.5 LTS) / x86_64  OK    OK    OK  UNNEEDED, same version is already published
palomino4Windows Server 2022 Datacenter / x64  OK    OK    OK    OK  UNNEEDED, same version is already published
lconwaymacOS 12.5.1 Monterey / x86_64  OK    OK    OK    OK  UNNEEDED, same version is already published
Package 83/528HostnameOS / ArchINSTALLBUILDCHECKBUILD BIN
CINdex 1.26.0  (landing page)
Yuriy Gusev
git_last_commit: e6a247a
git_last_commit_date: 2022-11-01 11:13:24 -0400
nebbiolo2Linux (Ubuntu 20.04.5 LTS) / x86_64  OK    OK    WARNINGS  UNNEEDED, same version is already published
palomino4Windows Server 2022 Datacenter / x64  OK    OK    WARNINGS    OK  UNNEEDED, same version is already published
lconwaymacOS 12.5.1 Monterey / x86_64  OK    OK    WARNINGS    OK  UNNEEDED, same version is already published
Package 84/528HostnameOS / ArchINSTALLBUILDCHECKBUILD BIN
circRNAprofiler 1.12.2  (landing page)
Simona Aufiero
git_last_commit: e499486
git_last_commit_date: 2023-01-23 04:25:52 -0400
nebbiolo2Linux (Ubuntu 20.04.5 LTS) / x86_64  OK    OK    OK  UNNEEDED, same version is already published
palomino4Windows Server 2022 Datacenter / x64  OK    OK    OK    OK  UNNEEDED, same version is already published
lconwaymacOS 12.5.1 Monterey / x86_64  OK    OK    OK    OK  UNNEEDED, same version is already published
Package 85/528HostnameOS / ArchINSTALLBUILDCHECKBUILD BIN
cleanUpdTSeq 1.36.0  (landing page)
Jianhong Ou ; Lihua Julie Zhu
git_last_commit: 324eb5c
git_last_commit_date: 2022-11-01 11:08:25 -0400
nebbiolo2Linux (Ubuntu 20.04.5 LTS) / x86_64  OK    OK    OK  UNNEEDED, same version is already published
palomino4Windows Server 2022 Datacenter / x64  OK    OK    OK    OK  UNNEEDED, same version is already published
lconwaymacOS 12.5.1 Monterey / x86_64  OK    OK    OK    OK  UNNEEDED, same version is already published
Package 86/528HostnameOS / ArchINSTALLBUILDCHECKBUILD BIN
cliProfiler 1.4.0  (landing page)
You Zhou
git_last_commit: 39988d3
git_last_commit_date: 2022-11-01 11:25:52 -0400
nebbiolo2Linux (Ubuntu 20.04.5 LTS) / x86_64  OK    OK    OK  UNNEEDED, same version is already published
palomino4Windows Server 2022 Datacenter / x64  OK    OK    OK    OK  UNNEEDED, same version is already published
lconwaymacOS 12.5.1 Monterey / x86_64  OK    OK    OK    OK  UNNEEDED, same version is already published
Package 87/528HostnameOS / ArchINSTALLBUILDCHECKBUILD BIN
cn.mops 1.44.0  (landing page)
Gundula Povysil
git_last_commit: 72945ca
git_last_commit_date: 2022-11-01 11:06:31 -0400
nebbiolo2Linux (Ubuntu 20.04.5 LTS) / x86_64  OK    OK    OK  UNNEEDED, same version is already published
palomino4Windows Server 2022 Datacenter / x64  OK    OK    OK    OK  UNNEEDED, same version is already published
lconwaymacOS 12.5.1 Monterey / x86_64  OK    OK    OK    OK  UNNEEDED, same version is already published
Package 88/528HostnameOS / ArchINSTALLBUILDCHECKBUILD BIN
CNEr 1.34.0  (landing page)
Ge Tan
git_last_commit: 878de98
git_last_commit_date: 2022-11-01 11:09:13 -0400
nebbiolo2Linux (Ubuntu 20.04.5 LTS) / x86_64  OK    OK    OK  UNNEEDED, same version is already published
palomino4Windows Server 2022 Datacenter / x64  OK    OK    WARNINGS    OK  UNNEEDED, same version is already published
lconwaymacOS 12.5.1 Monterey / x86_64  OK    OK    OK    OK  UNNEEDED, same version is already published
Package 89/528HostnameOS / ArchINSTALLBUILDCHECKBUILD BIN
CNVfilteR 1.12.2  (landing page)
Jose Marcos Moreno-Cabrera
git_last_commit: 77c9d47
git_last_commit_date: 2023-03-20 11:30:58 -0400
nebbiolo2Linux (Ubuntu 20.04.5 LTS) / x86_64  OK    OK    OK  UNNEEDED, same version is already published
palomino4Windows Server 2022 Datacenter / x64  OK    OK    OK    OK  UNNEEDED, same version is already published
lconwaymacOS 12.5.1 Monterey / x86_64  OK    OK    OK    OK  UNNEEDED, same version is already published
Package 90/528HostnameOS / ArchINSTALLBUILDCHECKBUILD BIN
cnvGSA 1.42.0  (landing page)
Joseph Lugo
git_last_commit: da464c8
git_last_commit_date: 2022-11-01 11:06:52 -0400
nebbiolo2Linux (Ubuntu 20.04.5 LTS) / x86_64  OK    OK    OK  UNNEEDED, same version is already published
palomino4Windows Server 2022 Datacenter / x64  OK    OK    OK    OK  UNNEEDED, same version is already published
lconwaymacOS 12.5.1 Monterey / x86_64  OK    OK    OK    OK  UNNEEDED, same version is already published
Package 91/528HostnameOS / ArchINSTALLBUILDCHECKBUILD BIN
CNViz 1.6.0  (landing page)
Rebecca Greenblatt
git_last_commit: a44a348
git_last_commit_date: 2022-11-01 11:24:36 -0400
nebbiolo2Linux (Ubuntu 20.04.5 LTS) / x86_64  OK    OK    OK  UNNEEDED, same version is already published
palomino4Windows Server 2022 Datacenter / x64  OK    OK    OK    OK  UNNEEDED, same version is already published
lconwaymacOS 12.5.1 Monterey / x86_64  OK    OK    OK    OK  UNNEEDED, same version is already published
Package 92/528HostnameOS / ArchINSTALLBUILDCHECKBUILD BIN
CNVMetrics 1.2.0  (landing page)
Astrid Deschênes
git_last_commit: 7188f31
git_last_commit_date: 2022-11-01 11:26:14 -0400
nebbiolo2Linux (Ubuntu 20.04.5 LTS) / x86_64  OK    OK    OK  UNNEEDED, same version is already published
palomino4Windows Server 2022 Datacenter / x64  OK    OK    OK    OK  UNNEEDED, same version is already published
lconwaymacOS 12.5.1 Monterey / x86_64  OK    OK    OK    OK  UNNEEDED, same version is already published
Package 93/528HostnameOS / ArchINSTALLBUILDCHECKBUILD BIN
CNVPanelizer 1.30.0  (landing page)
Thomas Wolf
git_last_commit: e0047ba
git_last_commit_date: 2022-11-01 11:11:51 -0400
nebbiolo2Linux (Ubuntu 20.04.5 LTS) / x86_64  OK    OK    OK  UNNEEDED, same version is already published
palomino4Windows Server 2022 Datacenter / x64  OK    OK    OK    OK  UNNEEDED, same version is already published
lconwaymacOS 12.5.1 Monterey / x86_64  OK    OK    OK    OK  UNNEEDED, same version is already published
Package 94/528HostnameOS / ArchINSTALLBUILDCHECKBUILD BIN
CNVRanger 1.14.0  (landing page)
Ludwig Geistlinger
git_last_commit: 59487b4
git_last_commit_date: 2022-11-01 11:19:14 -0400
nebbiolo2Linux (Ubuntu 20.04.5 LTS) / x86_64  OK    OK    OK  UNNEEDED, same version is already published
palomino4Windows Server 2022 Datacenter / x64  OK    OK    OK    OK  UNNEEDED, same version is already published
lconwaymacOS 12.5.1 Monterey / x86_64  OK    OK    OK    OK  UNNEEDED, same version is already published
Package 95/528HostnameOS / ArchINSTALLBUILDCHECKBUILD BIN
COCOA 2.12.0  (landing page)
John Lawson
git_last_commit: 2460fac
git_last_commit_date: 2022-11-01 11:18:44 -0400
nebbiolo2Linux (Ubuntu 20.04.5 LTS) / x86_64  OK    OK    OK  UNNEEDED, same version is already published
palomino4Windows Server 2022 Datacenter / x64  OK    OK    OK    OK  UNNEEDED, same version is already published
lconwaymacOS 12.5.1 Monterey / x86_64  OK    OK    OK    OK  UNNEEDED, same version is already published
Package 96/528HostnameOS / ArchINSTALLBUILDCHECKBUILD BIN
Cogito 1.4.0  (landing page)
Annika Bürger
git_last_commit: 39b4f95
git_last_commit_date: 2022-11-01 11:25:54 -0400
nebbiolo2Linux (Ubuntu 20.04.5 LTS) / x86_64  OK    OK    OK  UNNEEDED, same version is already published
palomino4Windows Server 2022 Datacenter / x64  OK    OK    OK    OK  UNNEEDED, same version is already published
lconwaymacOS 12.5.1 Monterey / x86_64  OK    OK    OK    OK  UNNEEDED, same version is already published
Package 97/528HostnameOS / ArchINSTALLBUILDCHECKBUILD BIN
comapr 1.2.0  (landing page)
Ruqian Lyu
git_last_commit: 9c69a83
git_last_commit_date: 2022-11-01 11:26:18 -0400
nebbiolo2Linux (Ubuntu 20.04.5 LTS) / x86_64  OK    OK    OK  UNNEEDED, same version is already published
palomino4Windows Server 2022 Datacenter / x64  OK    OK    OK    OK  UNNEEDED, same version is already published
lconwaymacOS 12.5.1 Monterey / x86_64  OK    OK    OK    OK  UNNEEDED, same version is already published
Package 98/528HostnameOS / ArchINSTALLBUILDCHECKBUILD BIN
coMET 1.30.0  (landing page)
Tiphaine Martin
git_last_commit: c75985c
git_last_commit_date: 2022-11-01 11:10:56 -0400
nebbiolo2Linux (Ubuntu 20.04.5 LTS) / x86_64  OK    OK    OK  UNNEEDED, same version is already published
palomino4Windows Server 2022 Datacenter / x64  OK    OK    OK    OK  UNNEEDED, same version is already published
lconwaymacOS 12.5.1 Monterey / x86_64  OK    OK    OK    OK  UNNEEDED, same version is already published
Package 99/528HostnameOS / ArchINSTALLBUILDCHECKBUILD BIN
coMethDMR 1.2.0  (landing page)
Fernanda Veitzman
git_last_commit: 366ee96
git_last_commit_date: 2022-11-01 11:26:14 -0400
nebbiolo2Linux (Ubuntu 20.04.5 LTS) / x86_64  OK    OK    OK  UNNEEDED, same version is already published
palomino4Windows Server 2022 Datacenter / x64  OK    OK    OK    OK  UNNEEDED, same version is already published
lconwaymacOS 12.5.1 Monterey / x86_64  OK    OK    OK    OK  UNNEEDED, same version is already published
Package 100/528HostnameOS / ArchINSTALLBUILDCHECKBUILD BIN
compartmap 1.16.0  (landing page)
Benjamin Johnson
git_last_commit: 146416b
git_last_commit_date: 2022-11-01 11:18:52 -0400
nebbiolo2Linux (Ubuntu 20.04.5 LTS) / x86_64  OK    OK    OK  UNNEEDED, same version is already published
palomino4Windows Server 2022 Datacenter / x64  OK    OK    OK    OK  UNNEEDED, same version is already published
lconwaymacOS 12.5.1 Monterey / x86_64  OK    OK    OK    OK  UNNEEDED, same version is already published
Package 101/528HostnameOS / ArchINSTALLBUILDCHECKBUILD BIN
compEpiTools 1.32.0  (landing page)
Kamal Kishore
git_last_commit: a41173d
git_last_commit_date: 2022-11-01 11:10:09 -0400
nebbiolo2Linux (Ubuntu 20.04.5 LTS) / x86_64  OK    OK    WARNINGS  UNNEEDED, same version is already published
palomino4Windows Server 2022 Datacenter / x64  OK    OK    WARNINGS    OK  UNNEEDED, same version is already published
lconwaymacOS 12.5.1 Monterey / x86_64  OK    OK    WARNINGS    OK  UNNEEDED, same version is already published
Package 102/528HostnameOS / ArchINSTALLBUILDCHECKBUILD BIN
consensusSeekeR 1.26.0  (landing page)
Astrid Deschenes
git_last_commit: a6ebb12
git_last_commit_date: 2022-11-01 11:12:31 -0400
nebbiolo2Linux (Ubuntu 20.04.5 LTS) / x86_64  OK    OK    OK  UNNEEDED, same version is already published
palomino4Windows Server 2022 Datacenter / x64  OK    OK    OK    OK  UNNEEDED, same version is already published
lconwaymacOS 12.5.1 Monterey / x86_64  OK    OK    OK    OK  UNNEEDED, same version is already published
Package 103/528HostnameOS / ArchINSTALLBUILDCHECKBUILD BIN
contiBAIT 1.26.0  (landing page)
Kieran O'Neill
git_last_commit: e8a94bc
git_last_commit_date: 2022-11-01 11:12:55 -0400
nebbiolo2Linux (Ubuntu 20.04.5 LTS) / x86_64  OK    OK    WARNINGS  UNNEEDED, same version is already published
palomino4Windows Server 2022 Datacenter / x64  OK    OK    WARNINGS    OK  UNNEEDED, same version is already published
lconwaymacOS 12.5.1 Monterey / x86_64  OK    OK    WARNINGS    OK  UNNEEDED, same version is already published
Package 104/528HostnameOS / ArchINSTALLBUILDCHECKBUILD BIN
conumee 1.32.0  (landing page)
Volker Hovestadt
git_last_commit: edde24c
git_last_commit_date: 2022-11-01 11:11:32 -0400
nebbiolo2Linux (Ubuntu 20.04.5 LTS) / x86_64  OK    OK    OK  UNNEEDED, same version is already published
palomino4Windows Server 2022 Datacenter / x64... NOT SUPPORTED ...
lconwaymacOS 12.5.1 Monterey / x86_64  OK    OK    OK    OK  UNNEEDED, same version is already published
Package 105/528HostnameOS / ArchINSTALLBUILDCHECKBUILD BIN
copynumber 1.38.0  (landing page)
Gro Nilsen
git_last_commit: 8ef3095
git_last_commit_date: 2022-11-01 11:08:08 -0400
nebbiolo2Linux (Ubuntu 20.04.5 LTS) / x86_64  OK    OK    OK  UNNEEDED, same version is already published
palomino4Windows Server 2022 Datacenter / x64  OK    ERROR  skippedskipped
lconwaymacOS 12.5.1 Monterey / x86_64  OK    ERROR  skippedskipped
Package 106/528HostnameOS / ArchINSTALLBUILDCHECKBUILD BIN
CopyNumberPlots 1.14.0  (landing page)
Bernat Gel
git_last_commit: aa4e71a
git_last_commit_date: 2022-11-01 11:19:46 -0400
nebbiolo2Linux (Ubuntu 20.04.5 LTS) / x86_64  OK    OK    OK  UNNEEDED, same version is already published
palomino4Windows Server 2022 Datacenter / x64  OK    OK    OK    OK  UNNEEDED, same version is already published
lconwaymacOS 12.5.1 Monterey / x86_64  OK    OK    OK    OK  UNNEEDED, same version is already published
Package 107/528HostnameOS / ArchINSTALLBUILDCHECKBUILD BIN
CopywriteR 2.30.0  (landing page)
Oscar Krijgsman
git_last_commit: ce2281e
git_last_commit_date: 2022-11-01 11:11:29 -0400
nebbiolo2Linux (Ubuntu 20.04.5 LTS) / x86_64  OK    OK    ERROR  
palomino4Windows Server 2022 Datacenter / x64  OK    OK    OK    OK  UNNEEDED, same version is already published
lconwaymacOS 12.5.1 Monterey / x86_64  OK    OK    OK    OK  UNNEEDED, same version is already published
Package 108/528HostnameOS / ArchINSTALLBUILDCHECKBUILD BIN
CoverageView 1.36.0  (landing page)
Ernesto Lowy
git_last_commit: 76c28ab
git_last_commit_date: 2022-11-01 11:09:32 -0400
nebbiolo2Linux (Ubuntu 20.04.5 LTS) / x86_64  OK    OK    WARNINGS  UNNEEDED, same version is already published
palomino4Windows Server 2022 Datacenter / x64... NOT SUPPORTED ...
lconwaymacOS 12.5.1 Monterey / x86_64  OK    OK    WARNINGS    OK  UNNEEDED, same version is already published
Package 109/528HostnameOS / ArchINSTALLBUILDCHECKBUILD BIN
crisprBase 1.2.0  (landing page)
Jean-Philippe Fortin
git_last_commit: 0a9c86a
git_last_commit_date: 2022-11-01 11:26:16 -0400
nebbiolo2Linux (Ubuntu 20.04.5 LTS) / x86_64  OK    OK    OK  UNNEEDED, same version is already published
palomino4Windows Server 2022 Datacenter / x64  OK    OK    OK    OK  UNNEEDED, same version is already published
lconwaymacOS 12.5.1 Monterey / x86_64  OK    OK    OK    OK  UNNEEDED, same version is already published
Package 110/528HostnameOS / ArchINSTALLBUILDCHECKBUILD BIN
crisprBowtie 1.2.0  (landing page)
Jean-Philippe Fortin
git_last_commit: 9f9868b
git_last_commit_date: 2022-11-01 11:26:28 -0400
nebbiolo2Linux (Ubuntu 20.04.5 LTS) / x86_64  OK    OK    OK  UNNEEDED, same version is already published
palomino4Windows Server 2022 Datacenter / x64  OK    OK    OK    OK  UNNEEDED, same version is already published
lconwaymacOS 12.5.1 Monterey / x86_64  OK    OK    OK    OK  UNNEEDED, same version is already published
Package 111/528HostnameOS / ArchINSTALLBUILDCHECKBUILD BIN
crisprDesign 1.0.0  (landing page)
Jean-Philippe Fortin
git_last_commit: cd58577
git_last_commit_date: 2022-11-01 11:27:20 -0400
nebbiolo2Linux (Ubuntu 20.04.5 LTS) / x86_64  OK    OK    OK  UNNEEDED, same version is already published
palomino4Windows Server 2022 Datacenter / x64  OK    OK    OK    OK  UNNEEDED, same version is already published
lconwaymacOS 12.5.1 Monterey / x86_64  OK    OK    OK    OK  UNNEEDED, same version is already published
Package 112/528HostnameOS / ArchINSTALLBUILDCHECKBUILD BIN
CRISPRseek 1.38.0  (landing page)
Lihua Julie Zhu
git_last_commit: 9f03208
git_last_commit_date: 2022-11-01 11:09:00 -0400
nebbiolo2Linux (Ubuntu 20.04.5 LTS) / x86_64  OK    OK    OK  UNNEEDED, same version is already published
palomino4Windows Server 2022 Datacenter / x64  OK    OK    OK    OK  UNNEEDED, same version is already published
lconwaymacOS 12.5.1 Monterey / x86_64  OK    OK    OK    OK  UNNEEDED, same version is already published
Package 113/528HostnameOS / ArchINSTALLBUILDCHECKBUILD BIN
crisprseekplus 1.24.0  (landing page)
Alper Kucukural
git_last_commit: 95b4b22
git_last_commit_date: 2022-11-01 11:14:42 -0400
nebbiolo2Linux (Ubuntu 20.04.5 LTS) / x86_64  OK    OK    OK  UNNEEDED, same version is already published
palomino4Windows Server 2022 Datacenter / x64  OK    OK    OK    OK  UNNEEDED, same version is already published
lconwaymacOS 12.5.1 Monterey / x86_64  OK    OK    OK    OK  UNNEEDED, same version is already published
Package 114/528HostnameOS / ArchINSTALLBUILDCHECKBUILD BIN
CrispRVariants 1.26.0  (landing page)
Helen Lindsay
git_last_commit: f5240e3
git_last_commit_date: 2022-11-01 11:12:41 -0400
nebbiolo2Linux (Ubuntu 20.04.5 LTS) / x86_64  OK    OK    WARNINGS  UNNEEDED, same version is already published
palomino4Windows Server 2022 Datacenter / x64  OK    OK    WARNINGS    OK  UNNEEDED, same version is already published
lconwaymacOS 12.5.1 Monterey / x86_64  OK    OK    WARNINGS    OK  UNNEEDED, same version is already published
Package 115/528HostnameOS / ArchINSTALLBUILDCHECKBUILD BIN
crisprViz 1.0.0  (landing page)
Jean-Philippe Fortin
git_last_commit: 8295fb6
git_last_commit_date: 2022-11-01 11:27:33 -0400
nebbiolo2Linux (Ubuntu 20.04.5 LTS) / x86_64  OK    OK    OK  UNNEEDED, same version is already published
palomino4Windows Server 2022 Datacenter / x64  OK    OK    OK    OK  UNNEEDED, same version is already published
lconwaymacOS 12.5.1 Monterey / x86_64  OK    OK    OK    OK  UNNEEDED, same version is already published
Package 116/528HostnameOS / ArchINSTALLBUILDCHECKBUILD BIN
CSAR 1.50.0  (landing page)
Jose M Muino
git_last_commit: 3286fe6
git_last_commit_date: 2022-11-01 11:04:47 -0400
nebbiolo2Linux (Ubuntu 20.04.5 LTS) / x86_64  OK    OK    OK  UNNEEDED, same version is already published
palomino4Windows Server 2022 Datacenter / x64  OK    OK    OK    OK  UNNEEDED, same version is already published
lconwaymacOS 12.5.1 Monterey / x86_64  OK    OK    OK    OK  UNNEEDED, same version is already published
Package 117/528HostnameOS / ArchINSTALLBUILDCHECKBUILD BIN
csaw 1.32.0  (landing page)
Aaron Lun
git_last_commit: 7ab51d6
git_last_commit_date: 2022-11-01 11:10:35 -0400
nebbiolo2Linux (Ubuntu 20.04.5 LTS) / x86_64  OK    OK    OK  UNNEEDED, same version is already published
palomino4Windows Server 2022 Datacenter / x64  OK    OK    OK    OK  UNNEEDED, same version is already published
lconwaymacOS 12.5.1 Monterey / x86_64  OK    OK    OK    OK  UNNEEDED, same version is already published
Package 118/528HostnameOS / ArchINSTALLBUILDCHECKBUILD BIN
CSSQ 1.10.0  (landing page)
Fan Lab at Georgia Institute of Technology
git_last_commit: cd559b3
git_last_commit_date: 2022-11-01 11:21:05 -0400
nebbiolo2Linux (Ubuntu 20.04.5 LTS) / x86_64  OK    OK    OK  UNNEEDED, same version is already published
palomino4Windows Server 2022 Datacenter / x64  OK    OK    OK    OK  UNNEEDED, same version is already published
lconwaymacOS 12.5.1 Monterey / x86_64  OK    OK    OK    OK  UNNEEDED, same version is already published
Package 119/528HostnameOS / ArchINSTALLBUILDCHECKBUILD BIN
customProDB 1.38.0  (landing page)
Xiaojing Wang
git_last_commit: cfe95f1
git_last_commit_date: 2022-11-01 11:08:20 -0400
nebbiolo2Linux (Ubuntu 20.04.5 LTS) / x86_64  OK    OK    OK  UNNEEDED, same version is already published
palomino4Windows Server 2022 Datacenter / x64  OK    OK    OK    OK  UNNEEDED, same version is already published
lconwaymacOS 12.5.1 Monterey / x86_64  OK    OK    OK    OK  UNNEEDED, same version is already published
Package 120/528HostnameOS / ArchINSTALLBUILDCHECKBUILD BIN
DAMEfinder 1.10.1  (landing page)
Stephany Orjuela
git_last_commit: 731e855
git_last_commit_date: 2022-12-06 08:47:57 -0400
nebbiolo2Linux (Ubuntu 20.04.5 LTS) / x86_64  OK    OK    OK  UNNEEDED, same version is already published
palomino4Windows Server 2022 Datacenter / x64  OK    OK    OK    OK  UNNEEDED, same version is already published
lconwaymacOS 12.5.1 Monterey / x86_64  OK    OK    OK    OK  UNNEEDED, same version is already published
Package 121/528HostnameOS / ArchINSTALLBUILDCHECKBUILD BIN
dasper 1.8.0  (landing page)
David Zhang
git_last_commit: 0bb89af
git_last_commit_date: 2022-11-01 11:23:22 -0400
nebbiolo2Linux (Ubuntu 20.04.5 LTS) / x86_64  OK    ERROR  skipped
palomino4Windows Server 2022 Datacenter / x64  OK    ERROR  skippedskipped
lconwaymacOS 12.5.1 Monterey / x86_64  OK    ERROR  skippedskipped
Package 122/528HostnameOS / ArchINSTALLBUILDCHECKBUILD BIN
debrowser 1.26.3  (landing page)
Alper Kucukural
git_last_commit: 4fb9588
git_last_commit_date: 2023-03-12 18:21:05 -0400
nebbiolo2Linux (Ubuntu 20.04.5 LTS) / x86_64  OK    OK    OK  UNNEEDED, same version is already published
palomino4Windows Server 2022 Datacenter / x64  OK    OK    OK    OK  UNNEEDED, same version is already published
lconwaymacOS 12.5.1 Monterey / x86_64  OK    OK    OK    OK  UNNEEDED, same version is already published
Package 123/528HostnameOS / ArchINSTALLBUILDCHECKBUILD BIN
decompTumor2Sig 2.14.0  (landing page)
Rosario M. Piro
git_last_commit: b172b7a
git_last_commit_date: 2022-11-01 11:18:56 -0400
nebbiolo2Linux (Ubuntu 20.04.5 LTS) / x86_64  OK    OK    OK  UNNEEDED, same version is already published
palomino4Windows Server 2022 Datacenter / x64  OK    OK    OK    OK  UNNEEDED, same version is already published
lconwaymacOS 12.5.1 Monterey / x86_64  OK    OK    OK    OK  UNNEEDED, same version is already published
Package 124/528HostnameOS / ArchINSTALLBUILDCHECKBUILD BIN
deconvR 1.4.5  (landing page)
Irem B. G�nd�z
git_last_commit: 913b1ca
git_last_commit_date: 2023-04-04 11:25:54 -0400
nebbiolo2Linux (Ubuntu 20.04.5 LTS) / x86_64  OK    OK    ERROR  
palomino4Windows Server 2022 Datacenter / x64  OK    OK    ERROR    OK  
lconwaymacOS 12.5.1 Monterey / x86_64  OK    OK    ERROR    OK  
Package 125/528HostnameOS / ArchINSTALLBUILDCHECKBUILD BIN
DeepBlueR 1.24.1  (landing page)
Felipe Albrecht , Markus List , Quirin Manz
git_last_commit: d404c5b
git_last_commit_date: 2023-01-10 05:22:00 -0400
nebbiolo2Linux (Ubuntu 20.04.5 LTS) / x86_64  OK    OK    OK  UNNEEDED, same version is already published
palomino4Windows Server 2022 Datacenter / x64  OK    OK    OK    OK  UNNEEDED, same version is already published
lconwaymacOS 12.5.1 Monterey / x86_64  OK    OK    OK    OK  UNNEEDED, same version is already published
Package 126/528HostnameOS / ArchINSTALLBUILDCHECKBUILD BIN
deepSNV 1.44.0  (landing page)
Moritz Gerstung
git_last_commit: a36f965
git_last_commit_date: 2022-11-01 11:06:40 -0400
nebbiolo2Linux (Ubuntu 20.04.5 LTS) / x86_64  OK    OK    OK  UNNEEDED, same version is already published
palomino4Windows Server 2022 Datacenter / x64  OK    OK    OK    OK  UNNEEDED, same version is already published
lconwaymacOS 12.5.1 Monterey / x86_64  OK    OK    OK    OK  UNNEEDED, same version is already published
Package 127/528HostnameOS / ArchINSTALLBUILDCHECKBUILD BIN
DEFormats 1.26.0  (landing page)
Andrzej Oleś
git_last_commit: 4c9b97c
git_last_commit_date: 2022-11-01 11:13:20 -0400
nebbiolo2Linux (Ubuntu 20.04.5 LTS) / x86_64  OK    OK    OK  UNNEEDED, same version is already published
palomino4Windows Server 2022 Datacenter / x64  OK    OK    OK    OK  UNNEEDED, same version is already published
lconwaymacOS 12.5.1 Monterey / x86_64  OK    OK    OK    OK  UNNEEDED, same version is already published
Package 128/528HostnameOS / ArchINSTALLBUILDCHECKBUILD BIN
DegNorm 1.8.2  (landing page)
Ji-Ping Wang
git_last_commit: cfa5bdd
git_last_commit_date: 2023-01-19 11:15:53 -0400
nebbiolo2Linux (Ubuntu 20.04.5 LTS) / x86_64  OK    OK    OK  UNNEEDED, same version is already published
palomino4Windows Server 2022 Datacenter / x64  OK    OK    OK    OK  UNNEEDED, same version is already published
lconwaymacOS 12.5.1 Monterey / x86_64  OK    OK    OK    OK  UNNEEDED, same version is already published
Package 129/528HostnameOS / ArchINSTALLBUILDCHECKBUILD BIN
deltaCaptureC 1.12.0  (landing page)
Michael Shapiro
git_last_commit: 6902612
git_last_commit_date: 2022-11-01 11:20:27 -0400
nebbiolo2Linux (Ubuntu 20.04.5 LTS) / x86_64  OK    ERROR  skipped
palomino4Windows Server 2022 Datacenter / x64  OK    ERROR  skippedskipped
lconwaymacOS 12.5.1 Monterey / x86_64  OK    ERROR  skippedskipped
Package 130/528HostnameOS / ArchINSTALLBUILDCHECKBUILD BIN
derfinder 1.32.0  (landing page)
Leonardo Collado-Torres
git_last_commit: d837971
git_last_commit_date: 2022-11-01 11:10:24 -0400
nebbiolo2Linux (Ubuntu 20.04.5 LTS) / x86_64  OK    OK    OK  UNNEEDED, same version is already published
palomino4Windows Server 2022 Datacenter / x64  OK    OK    OK    OK  UNNEEDED, same version is already published
lconwaymacOS 12.5.1 Monterey / x86_64  OK    OK    OK    OK  UNNEEDED, same version is already published
Package 131/528HostnameOS / ArchINSTALLBUILDCHECKBUILD BIN
derfinderPlot 1.32.0  (landing page)
Leonardo Collado-Torres
git_last_commit: 9245bc5
git_last_commit_date: 2022-11-01 11:10:25 -0400
nebbiolo2Linux (Ubuntu 20.04.5 LTS) / x86_64  OK    OK    OK  UNNEEDED, same version is already published
palomino4Windows Server 2022 Datacenter / x64  OK    OK    OK    OK  UNNEEDED, same version is already published
lconwaymacOS 12.5.1 Monterey / x86_64  OK    OK    OK    OK  UNNEEDED, same version is already published
Package 132/528HostnameOS / ArchINSTALLBUILDCHECKBUILD BIN
DEScan2 1.18.2  (landing page)
Dario Righelli
git_last_commit: 4898ff4
git_last_commit_date: 2023-03-07 05:25:08 -0400
nebbiolo2Linux (Ubuntu 20.04.5 LTS) / x86_64  OK    OK    OK  UNNEEDED, same version is already published
palomino4Windows Server 2022 Datacenter / x64  OK    OK    OK    OK  UNNEEDED, same version is already published
lconwaymacOS 12.5.1 Monterey / x86_64  OK    OK    OK    OK  UNNEEDED, same version is already published
Package 133/528HostnameOS / ArchINSTALLBUILDCHECKBUILD BIN
DESeq2 1.38.3  (landing page)
Michael Love
git_last_commit: c470955
git_last_commit_date: 2023-01-19 11:16:09 -0400
nebbiolo2Linux (Ubuntu 20.04.5 LTS) / x86_64  OK    OK    OK  UNNEEDED, same version is already published
palomino4Windows Server 2022 Datacenter / x64  OK    OK    OK    OK  UNNEEDED, same version is already published
lconwaymacOS 12.5.1 Monterey / x86_64  OK    OK    OK    OK  UNNEEDED, same version is already published
Package 134/528HostnameOS / ArchINSTALLBUILDCHECKBUILD BIN
DEWSeq 1.12.0  (landing page)
bioinformatics team Hentze
git_last_commit: e324b51
git_last_commit_date: 2022-11-01 11:20:50 -0400
nebbiolo2Linux (Ubuntu 20.04.5 LTS) / x86_64  OK    OK    OK  UNNEEDED, same version is already published
palomino4Windows Server 2022 Datacenter / x64  OK    OK    OK    OK  UNNEEDED, same version is already published
lconwaymacOS 12.5.1 Monterey / x86_64  OK    OK    OK    OK  UNNEEDED, same version is already published
Package 135/528HostnameOS / ArchINSTALLBUILDCHECKBUILD BIN
DEXSeq 1.44.0  (landing page)
Alejandro Reyes
git_last_commit: 9660d73
git_last_commit_date: 2022-11-01 11:05:59 -0400
nebbiolo2Linux (Ubuntu 20.04.5 LTS) / x86_64  OK    OK    OK  UNNEEDED, same version is already published
palomino4Windows Server 2022 Datacenter / x64  OK    OK    OK    OK  UNNEEDED, same version is already published
lconwaymacOS 12.5.1 Monterey / x86_64  OK    OK    OK    OK  UNNEEDED, same version is already published
Package 136/528HostnameOS / ArchINSTALLBUILDCHECKBUILD BIN
DiffBind 3.8.4  (landing page)
Rory Stark
git_last_commit: 846ee10
git_last_commit_date: 2023-01-12 07:26:55 -0400
nebbiolo2Linux (Ubuntu 20.04.5 LTS) / x86_64  OK    OK    OK  UNNEEDED, same version is already published
palomino4Windows Server 2022 Datacenter / x64  OK    OK    OK    OK  UNNEEDED, same version is already published
lconwaymacOS 12.5.1 Monterey / x86_64  OK    OK    OK    OK  UNNEEDED, same version is already published
Package 137/528HostnameOS / ArchINSTALLBUILDCHECKBUILD BIN
diffHic 1.30.0  (landing page)
Aaron Lun
git_last_commit: c42accb
git_last_commit_date: 2022-11-01 11:11:37 -0400
nebbiolo2Linux (Ubuntu 20.04.5 LTS) / x86_64  OK    OK    OK  UNNEEDED, same version is already published
palomino4Windows Server 2022 Datacenter / x64  OK    OK    OK    OK  UNNEEDED, same version is already published
lconwaymacOS 12.5.1 Monterey / x86_64  OK    OK    OK    OK  UNNEEDED, same version is already published
Package 138/528HostnameOS / ArchINSTALLBUILDCHECKBUILD BIN
diffUTR 1.6.0  (landing page)
Pierre-Luc Germain
git_last_commit: a27bd74
git_last_commit_date: 2022-11-01 11:24:56 -0400
nebbiolo2Linux (Ubuntu 20.04.5 LTS) / x86_64  OK    OK    OK  UNNEEDED, same version is already published
palomino4Windows Server 2022 Datacenter / x64  OK    OK    OK    OK  UNNEEDED, same version is already published
lconwaymacOS 12.5.1 Monterey / x86_64  OK    OK    OK    OK  UNNEEDED, same version is already published
Package 139/528HostnameOS / ArchINSTALLBUILDCHECKBUILD BIN
DMCFB 1.12.0  (landing page)
Farhad Shokoohi
git_last_commit: 1c24503
git_last_commit_date: 2022-11-01 11:20:38 -0400
nebbiolo2Linux (Ubuntu 20.04.5 LTS) / x86_64  OK    OK    OK  UNNEEDED, same version is already published
palomino4Windows Server 2022 Datacenter / x64  OK    OK    OK    OK  UNNEEDED, same version is already published
lconwaymacOS 12.5.1 Monterey / x86_64  OK    OK    OK    OK  UNNEEDED, same version is already published
Package 140/528HostnameOS / ArchINSTALLBUILDCHECKBUILD BIN
DMCHMM 1.20.0  (landing page)
Farhad Shokoohi
git_last_commit: 336dac0
git_last_commit_date: 2022-11-01 11:16:13 -0400
nebbiolo2Linux (Ubuntu 20.04.5 LTS) / x86_64  OK    OK    OK  UNNEEDED, same version is already published
palomino4Windows Server 2022 Datacenter / x64  OK    OK    WARNINGS    OK  UNNEEDED, same version is already published
lconwaymacOS 12.5.1 Monterey / x86_64  OK    OK    OK    OK  UNNEEDED, same version is already published
Package 141/528HostnameOS / ArchINSTALLBUILDCHECKBUILD BIN
DMRcaller 1.30.0  (landing page)
Nicolae Radu Zabet
git_last_commit: 5215cdb
git_last_commit_date: 2022-11-01 11:11:26 -0400
nebbiolo2Linux (Ubuntu 20.04.5 LTS) / x86_64  OK    OK    OK  UNNEEDED, same version is already published
palomino4Windows Server 2022 Datacenter / x64  OK    OK    OK    OK  UNNEEDED, same version is already published
lconwaymacOS 12.5.1 Monterey / x86_64  OK    OK    OK    OK  UNNEEDED, same version is already published
Package 142/528HostnameOS / ArchINSTALLBUILDCHECKBUILD BIN
DMRcate 2.12.0  (landing page)
Tim Peters
git_last_commit: 560dd50
git_last_commit_date: 2022-11-01 11:09:16 -0400
nebbiolo2Linux (Ubuntu 20.04.5 LTS) / x86_64  OK    OK    OK  UNNEEDED, same version is already published
palomino4Windows Server 2022 Datacenter / x64  OK    OK    OK    OK  UNNEEDED, same version is already published
lconwaymacOS 12.5.1 Monterey / x86_64  OK    OK    OK    OK  UNNEEDED, same version is already published
Package 143/528HostnameOS / ArchINSTALLBUILDCHECKBUILD BIN
DMRforPairs 1.34.0  (landing page)
Martin Rijlaarsdam
git_last_commit: 31b89f6
git_last_commit_date: 2022-11-01 11:09:34 -0400
nebbiolo2Linux (Ubuntu 20.04.5 LTS) / x86_64  OK    OK    OK  UNNEEDED, same version is already published
palomino4Windows Server 2022 Datacenter / x64  OK    OK    OK    OK  UNNEEDED, same version is already published
lconwaymacOS 12.5.1 Monterey / x86_64  OK    OK    OK    OK  UNNEEDED, same version is already published
Package 144/528HostnameOS / ArchINSTALLBUILDCHECKBUILD BIN
DMRScan 1.20.0  (landing page)
Christian M Page
git_last_commit: b1ff7fb
git_last_commit_date: 2022-11-01 11:15:04 -0400
nebbiolo2Linux (Ubuntu 20.04.5 LTS) / x86_64  OK    OK    OK  UNNEEDED, same version is already published
palomino4Windows Server 2022 Datacenter / x64  OK    OK    OK    OK  UNNEEDED, same version is already published
lconwaymacOS 12.5.1 Monterey / x86_64  OK    OK    OK    OK  UNNEEDED, same version is already published
Package 145/528HostnameOS / ArchINSTALLBUILDCHECKBUILD BIN
dmrseq 1.18.1  (landing page)
Keegan Korthauer
git_last_commit: ea7a1c9
git_last_commit_date: 2023-03-29 23:50:47 -0400
nebbiolo2Linux (Ubuntu 20.04.5 LTS) / x86_64  OK    OK    OK  UNNEEDED, same version is already published
palomino4Windows Server 2022 Datacenter / x64  OK    OK    OK    OK  UNNEEDED, same version is already published
lconwaymacOS 12.5.1 Monterey / x86_64  OK    OK    OK    OK  UNNEEDED, same version is already published
Package 146/528HostnameOS / ArchINSTALLBUILDCHECKBUILD BIN
DNAfusion 1.0.0  (landing page)
Christoffer Trier Maansson
git_last_commit: 163dcf2
git_last_commit_date: 2022-11-01 11:27:49 -0400
nebbiolo2Linux (Ubuntu 20.04.5 LTS) / x86_64  OK    OK    OK  UNNEEDED, same version is already published
palomino4Windows Server 2022 Datacenter / x64  OK    OK    OK    OK  UNNEEDED, same version is already published
lconwaymacOS 12.5.1 Monterey / x86_64  OK    OK    OK    OK  UNNEEDED, same version is already published
Package 147/528HostnameOS / ArchINSTALLBUILDCHECKBUILD BIN
DNAshapeR 1.26.0  (landing page)
Tsu-Pei Chiu
git_last_commit: f0f4eb1
git_last_commit_date: 2022-11-01 11:13:14 -0400
nebbiolo2Linux (Ubuntu 20.04.5 LTS) / x86_64  OK    OK    OK  UNNEEDED, same version is already published
palomino4Windows Server 2022 Datacenter / x64  OK    OK    OK    OK  UNNEEDED, same version is already published
lconwaymacOS 12.5.1 Monterey / x86_64  OK    OK    OK    OK  UNNEEDED, same version is already published
Package 148/528HostnameOS / ArchINSTALLBUILDCHECKBUILD BIN
DominoEffect 1.18.0  (landing page)
Marija Buljan
git_last_commit: 36be327
git_last_commit_date: 2022-11-01 11:17:11 -0400
nebbiolo2Linux (Ubuntu 20.04.5 LTS) / x86_64  OK    OK    OK  UNNEEDED, same version is already published
palomino4Windows Server 2022 Datacenter / x64  OK    OK    OK    OK  UNNEEDED, same version is already published
lconwaymacOS 12.5.1 Monterey / x86_64  OK    OK    OK    OK  UNNEEDED, same version is already published
Package 149/528HostnameOS / ArchINSTALLBUILDCHECKBUILD BIN
DRIMSeq 1.26.0  (landing page)
Malgorzata Nowicka
git_last_commit: 69cf942
git_last_commit_date: 2022-11-01 11:13:16 -0400
nebbiolo2Linux (Ubuntu 20.04.5 LTS) / x86_64  OK    OK    WARNINGS  UNNEEDED, same version is already published
palomino4Windows Server 2022 Datacenter / x64  OK    OK    WARNINGS    OK  UNNEEDED, same version is already published
lconwaymacOS 12.5.1 Monterey / x86_64  OK    OK    WARNINGS    OK  UNNEEDED, same version is already published
Package 150/528HostnameOS / ArchINSTALLBUILDCHECKBUILD BIN
DropletUtils 1.18.1  (landing page)
Jonathan Griffiths
git_last_commit: ff37775
git_last_commit_date: 2022-11-22 02:59:05 -0400
nebbiolo2Linux (Ubuntu 20.04.5 LTS) / x86_64  OK    OK    OK  UNNEEDED, same version is already published
palomino4Windows Server 2022 Datacenter / x64  OK    OK    OK    OK  UNNEEDED, same version is already published
lconwaymacOS 12.5.1 Monterey / x86_64  OK    OK    OK    OK  UNNEEDED, same version is already published
Package 151/528HostnameOS / ArchINSTALLBUILDCHECKBUILD BIN
easyRNASeq 2.34.0  (landing page)
Nicolas Delhomme
git_last_commit: 37ce549
git_last_commit_date: 2022-11-01 11:06:37 -0400
nebbiolo2Linux (Ubuntu 20.04.5 LTS) / x86_64  OK    OK    OK  UNNEEDED, same version is already published
palomino4Windows Server 2022 Datacenter / x64  OK    OK    OK    OK  UNNEEDED, same version is already published
lconwaymacOS 12.5.1 Monterey / x86_64  OK    OK    OK    OK  UNNEEDED, same version is already published
Package 152/528HostnameOS / ArchINSTALLBUILDCHECKBUILD BIN
EDASeq 2.32.0  (landing page)
Davide Risso
git_last_commit: 06df5a3
git_last_commit_date: 2022-11-01 11:06:16 -0400
nebbiolo2Linux (Ubuntu 20.04.5 LTS) / x86_64  OK    OK    OK  UNNEEDED, same version is already published
palomino4Windows Server 2022 Datacenter / x64  OK    OK    OK    OK  UNNEEDED, same version is already published
lconwaymacOS 12.5.1 Monterey / x86_64  OK    OK    OK    OK  UNNEEDED, same version is already published
Package 153/528HostnameOS / ArchINSTALLBUILDCHECKBUILD BIN
eisaR 1.10.0  (landing page)
Michael Stadler
git_last_commit: 7b66d74
git_last_commit_date: 2022-11-01 11:21:34 -0400
nebbiolo2Linux (Ubuntu 20.04.5 LTS) / x86_64  OK    OK    OK  UNNEEDED, same version is already published
palomino4Windows Server 2022 Datacenter / x64  OK    OK    OK    OK  UNNEEDED, same version is already published
lconwaymacOS 12.5.1 Monterey / x86_64  OK    OK    OK    OK  UNNEEDED, same version is already published
Package 154/528HostnameOS / ArchINSTALLBUILDCHECKBUILD BIN
ELMER 2.22.0  (landing page)
Tiago Chedraoui Silva
git_last_commit: a3d5369
git_last_commit_date: 2022-11-01 11:11:45 -0400
nebbiolo2Linux (Ubuntu 20.04.5 LTS) / x86_64  OK    OK    WARNINGS  UNNEEDED, same version is already published
palomino4Windows Server 2022 Datacenter / x64  OK    OK    WARNINGS    OK  UNNEEDED, same version is already published
lconwaymacOS 12.5.1 Monterey / x86_64  OK    OK    WARNINGS    OK  UNNEEDED, same version is already published
Package 155/528HostnameOS / ArchINSTALLBUILDCHECKBUILD BIN
enhancerHomologSearch 1.4.2  (landing page)
Jianhong Ou
git_last_commit: c30e1e0
git_last_commit_date: 2023-01-19 11:16:31 -0400
nebbiolo2Linux (Ubuntu 20.04.5 LTS) / x86_64  OK    OK    OK  UNNEEDED, same version is already published
palomino4Windows Server 2022 Datacenter / x64  OK    OK    OK    OK  UNNEEDED, same version is already published
lconwaymacOS 12.5.1 Monterey / x86_64  OK    OK    OK    OK  UNNEEDED, same version is already published
Package 156/528HostnameOS / ArchINSTALLBUILDCHECKBUILD BIN
EnrichedHeatmap 1.28.1  (landing page)
Zuguang Gu
git_last_commit: 668edeb
git_last_commit_date: 2023-03-19 04:03:02 -0400
nebbiolo2Linux (Ubuntu 20.04.5 LTS) / x86_64  OK    OK    OK  UNNEEDED, same version is already published
palomino4Windows Server 2022 Datacenter / x64  OK    OK    OK    OK  UNNEEDED, same version is already published
lconwaymacOS 12.5.1 Monterey / x86_64  OK    OK    OK    OK  UNNEEDED, same version is already published
Package 157/528HostnameOS / ArchINSTALLBUILDCHECKBUILD BIN
enrichTF 1.14.0  (landing page)
Zheng Wei
git_last_commit: 7aa6e22
git_last_commit_date: 2022-11-01 11:19:51 -0400
nebbiolo2Linux (Ubuntu 20.04.5 LTS) / x86_64  OK    OK    OK  UNNEEDED, same version is already published
palomino4Windows Server 2022 Datacenter / x64  OK    OK    OK    OK  UNNEEDED, same version is already published
lconwaymacOS 12.5.1 Monterey / x86_64  OK    OK    OK    OK  UNNEEDED, same version is already published
Package 158/528HostnameOS / ArchINSTALLBUILDCHECKBUILD BIN
ensembldb 2.22.0  (landing page)
Johannes Rainer
git_last_commit: 4dda178
git_last_commit_date: 2022-11-01 11:11:20 -0400
nebbiolo2Linux (Ubuntu 20.04.5 LTS) / x86_64  OK    OK    OK  UNNEEDED, same version is already published
palomino4Windows Server 2022 Datacenter / x64  OK    OK    OK    OK  UNNEEDED, same version is already published
lconwaymacOS 12.5.1 Monterey / x86_64  OK    OK    OK    OK  UNNEEDED, same version is already published
Package 159/528HostnameOS / ArchINSTALLBUILDCHECKBUILD BIN
ensemblVEP 1.40.0  (landing page)
Bioconductor Package Maintainer
git_last_commit: 1c081b3
git_last_commit_date: 2022-11-01 11:07:41 -0400
nebbiolo2Linux (Ubuntu 20.04.5 LTS) / x86_64  OK    ERROR  skipped
palomino4Windows Server 2022 Datacenter / x64... NOT SUPPORTED ...
lconwaymacOS 12.5.1 Monterey / x86_64  OK    ERROR  skippedskipped
Package 160/528HostnameOS / ArchINSTALLBUILDCHECKBUILD BIN
epialleleR 1.6.1  (landing page)
Oleksii Nikolaienko
git_last_commit: 8bc723f
git_last_commit_date: 2023-02-19 10:08:33 -0400
nebbiolo2Linux (Ubuntu 20.04.5 LTS) / x86_64  OK    OK    OK  UNNEEDED, same version is already published
palomino4Windows Server 2022 Datacenter / x64  OK    OK    OK    OK  UNNEEDED, same version is already published
lconwaymacOS 12.5.1 Monterey / x86_64  OK    OK    OK    OK  UNNEEDED, same version is already published
Package 161/528HostnameOS / ArchINSTALLBUILDCHECKBUILD BIN
EpiCompare 1.2.0  (landing page)
Sera Choi
git_last_commit: c1e27ec
git_last_commit_date: 2022-11-01 11:27:02 -0400
nebbiolo2Linux (Ubuntu 20.04.5 LTS) / x86_64  OK    OK    OK  UNNEEDED, same version is already published
palomino4Windows Server 2022 Datacenter / x64  OK    OK    OK    OK  UNNEEDED, same version is already published
lconwaymacOS 12.5.1 Monterey / x86_64  OK    OK    OK    OK  UNNEEDED, same version is already published
Package 162/528HostnameOS / ArchINSTALLBUILDCHECKBUILD BIN
epidecodeR 1.6.0  (landing page)
Kandarp Joshi
git_last_commit: fd482c0
git_last_commit_date: 2022-11-01 11:24:32 -0400
nebbiolo2Linux (Ubuntu 20.04.5 LTS) / x86_64  OK    OK    OK  UNNEEDED, same version is already published
palomino4Windows Server 2022 Datacenter / x64  OK    OK    OK    OK  UNNEEDED, same version is already published
lconwaymacOS 12.5.1 Monterey / x86_64  OK    OK    OK    OK  UNNEEDED, same version is already published
Package 163/528HostnameOS / ArchINSTALLBUILDCHECKBUILD BIN
epigenomix 1.38.0  (landing page)
Hans-Ulrich Klein
git_last_commit: 3022714
git_last_commit_date: 2022-11-01 11:07:58 -0400
nebbiolo2Linux (Ubuntu 20.04.5 LTS) / x86_64  OK    OK    OK  UNNEEDED, same version is already published
palomino4Windows Server 2022 Datacenter / x64  OK    OK    OK    OK  UNNEEDED, same version is already published
lconwaymacOS 12.5.1 Monterey / x86_64  OK    OK    OK    OK  UNNEEDED, same version is already published
Package 164/528HostnameOS / ArchINSTALLBUILDCHECKBUILD BIN
epigraHMM 1.6.4  (landing page)
Pedro Baldoni
git_last_commit: 5055b06
git_last_commit_date: 2023-03-22 18:07:04 -0400
nebbiolo2Linux (Ubuntu 20.04.5 LTS) / x86_64  OK    OK    OK  UNNEEDED, same version is already published
palomino4Windows Server 2022 Datacenter / x64  OK    OK    OK    OK  UNNEEDED, same version is already published
lconwaymacOS 12.5.1 Monterey / x86_64  OK    OK    OK    OK  UNNEEDED, same version is already published
Package 165/528HostnameOS / ArchINSTALLBUILDCHECKBUILD BIN
epihet 1.14.0  (landing page)
Xiaowen Chen
git_last_commit: 3214507
git_last_commit_date: 2022-11-01 11:18:59 -0400
nebbiolo2Linux (Ubuntu 20.04.5 LTS) / x86_64  ERROR    ERROR  skipped
palomino4Windows Server 2022 Datacenter / x64  ERROR    ERROR  skippedskipped
lconwaymacOS 12.5.1 Monterey / x86_64  ERROR    ERROR  skippedskipped
Package 166/528HostnameOS / ArchINSTALLBUILDCHECKBUILD BIN
EpiMix 1.0.2  (landing page)
Yuanning Zheng
git_last_commit: ceba443
git_last_commit_date: 2023-04-03 21:04:50 -0400
nebbiolo2Linux (Ubuntu 20.04.5 LTS) / x86_64  OK    ERROR  skipped
palomino4Windows Server 2022 Datacenter / x64  OK    ERROR  skippedskipped
lconwaymacOS 12.5.1 Monterey / x86_64  OK    ERROR  skippedskipped
Package 167/528HostnameOS / ArchINSTALLBUILDCHECKBUILD BIN
epimutacions 1.2.0  (landing page)
Dolors Pelegri-Siso
git_last_commit: b5bb97c
git_last_commit_date: 2022-11-01 11:26:53 -0400
nebbiolo2Linux (Ubuntu 20.04.5 LTS) / x86_64  OK    OK    OK  UNNEEDED, same version is already published
palomino4Windows Server 2022 Datacenter / x64  OK    ERROR  skippedskipped
lconwaymacOS 12.5.1 Monterey / x86_64  OK    OK    OK    OK  UNNEEDED, same version is already published
Package 168/528HostnameOS / ArchINSTALLBUILDCHECKBUILD BIN
epistack 1.4.0  (landing page)
DEVAILLY Guillaume
git_last_commit: 6e62201
git_last_commit_date: 2022-11-01 11:25:54 -0400
nebbiolo2Linux (Ubuntu 20.04.5 LTS) / x86_64  OK    OK    OK  UNNEEDED, same version is already published
palomino4Windows Server 2022 Datacenter / x64  OK    OK    OK    OK  UNNEEDED, same version is already published
lconwaymacOS 12.5.1 Monterey / x86_64  OK    OK    OK    OK  UNNEEDED, same version is already published
Package 169/528HostnameOS / ArchINSTALLBUILDCHECKBUILD BIN
EpiTxDb 1.10.0  (landing page)
Felix G.M. Ernst
git_last_commit: 2ced971
git_last_commit_date: 2022-11-01 11:21:35 -0400
nebbiolo2Linux (Ubuntu 20.04.5 LTS) / x86_64  OK    OK    OK  UNNEEDED, same version is already published
palomino4Windows Server 2022 Datacenter / x64  OK    OK    OK    OK  UNNEEDED, same version is already published
lconwaymacOS 12.5.1 Monterey / x86_64  OK    OK    OK    OK  UNNEEDED, same version is already published
Package 170/528HostnameOS / ArchINSTALLBUILDCHECKBUILD BIN
epivizr 2.28.0  (landing page)
Hector Corrada Bravo
git_last_commit: b6baa40
git_last_commit_date: 2022-11-01 11:08:48 -0400
nebbiolo2Linux (Ubuntu 20.04.5 LTS) / x86_64  OK    OK    OK  UNNEEDED, same version is already published
palomino4Windows Server 2022 Datacenter / x64  OK    OK    OK    OK  UNNEEDED, same version is already published
lconwaymacOS 12.5.1 Monterey / x86_64  OK    OK    OK    OK  UNNEEDED, same version is already published
Package 171/528HostnameOS / ArchINSTALLBUILDCHECKBUILD BIN
epivizrData 1.26.0  (landing page)
Hector Corrada Bravo
git_last_commit: 44f48d3
git_last_commit_date: 2022-11-01 11:13:39 -0400
nebbiolo2Linux (Ubuntu 20.04.5 LTS) / x86_64  OK    OK    OK  UNNEEDED, same version is already published
palomino4Windows Server 2022 Datacenter / x64  OK    OK    OK    OK  UNNEEDED, same version is already published
lconwaymacOS 12.5.1 Monterey / x86_64  OK    OK    OK    OK  UNNEEDED, same version is already published
Package 172/528HostnameOS / ArchINSTALLBUILDCHECKBUILD BIN
erma 1.14.0  (landing page)
VJ Carey
git_last_commit: b240e98
git_last_commit_date: 2022-11-01 11:11:49 -0400
nebbiolo2Linux (Ubuntu 20.04.5 LTS) / x86_64  OK    OK    OK  UNNEEDED, same version is already published
palomino4Windows Server 2022 Datacenter / x64  OK    OK    OK    OK  UNNEEDED, same version is already published
lconwaymacOS 12.5.1 Monterey / x86_64  OK    OK    OK    OK  UNNEEDED, same version is already published
Package 173/528HostnameOS / ArchINSTALLBUILDCHECKBUILD BIN
esATAC 1.20.0  (landing page)
Zheng Wei
git_last_commit: 6c9fe81
git_last_commit_date: 2022-11-01 11:16:47 -0400
nebbiolo2Linux (Ubuntu 20.04.5 LTS) / x86_64  OK    OK    WARNINGS  UNNEEDED, same version is already published
palomino4Windows Server 2022 Datacenter / x64  OK    OK    WARNINGS    OK  UNNEEDED, same version is already published
lconwaymacOS 12.5.1 Monterey / x86_64  OK    OK    WARNINGS    OK  UNNEEDED, same version is already published
Package 174/528HostnameOS / ArchINSTALLBUILDCHECKBUILD BIN
EventPointer 3.6.0  (landing page)
Juan A. Ferrer-Bonsoms
git_last_commit: f5fba8a
git_last_commit_date: 2022-12-14 06:47:35 -0400
nebbiolo2Linux (Ubuntu 20.04.5 LTS) / x86_64  OK    OK    OK  UNNEEDED, same version is already published
palomino4Windows Server 2022 Datacenter / x64  OK    OK    OK    OK  UNNEEDED, same version is already published
lconwaymacOS 12.5.1 Monterey / x86_64  OK    OK    OK    OK  UNNEEDED, same version is already published
Package 175/528HostnameOS / ArchINSTALLBUILDCHECKBUILD BIN
ExCluster 1.16.0  (landing page)
R. Matthew Tanner
git_last_commit: 11c15d0
git_last_commit_date: 2022-11-01 11:18:31 -0400
nebbiolo2Linux (Ubuntu 20.04.5 LTS) / x86_64  OK    OK    OK  UNNEEDED, same version is already published
palomino4Windows Server 2022 Datacenter / x64... NOT SUPPORTED ...
lconwaymacOS 12.5.1 Monterey / x86_64  OK    OK    OK    OK  UNNEEDED, same version is already published
Package 176/528HostnameOS / ArchINSTALLBUILDCHECKBUILD BIN
exomeCopy 1.44.0  (landing page)
Michael Love
git_last_commit: 2dd6598
git_last_commit_date: 2022-11-01 11:06:27 -0400
nebbiolo2Linux (Ubuntu 20.04.5 LTS) / x86_64  OK    OK    OK  UNNEEDED, same version is already published
palomino4Windows Server 2022 Datacenter / x64  OK    OK    OK    OK  UNNEEDED, same version is already published
lconwaymacOS 12.5.1 Monterey / x86_64  OK    OK    OK    OK  UNNEEDED, same version is already published
Package 177/528HostnameOS / ArchINSTALLBUILDCHECKBUILD BIN
exomePeak2 1.10.0  (landing page)
Zhen Wei
git_last_commit: ca31d66
git_last_commit_date: 2022-11-01 11:21:28 -0400
nebbiolo2Linux (Ubuntu 20.04.5 LTS) / x86_64  OK    OK    OK  UNNEEDED, same version is already published
palomino4Windows Server 2022 Datacenter / x64  OK    OK    OK    OK  UNNEEDED, same version is already published
lconwaymacOS 12.5.1 Monterey / x86_64  OK    OK    OK    OK  UNNEEDED, same version is already published
Package 178/528HostnameOS / ArchINSTALLBUILDCHECKBUILD BIN
extraChIPs 1.2.4  (landing page)
Stephen Pederson
git_last_commit: 52e1f70
git_last_commit_date: 2023-01-31 08:58:44 -0400
nebbiolo2Linux (Ubuntu 20.04.5 LTS) / x86_64  OK    OK    OK  UNNEEDED, same version is already published
palomino4Windows Server 2022 Datacenter / x64  OK    OK    OK    OK  UNNEEDED, same version is already published
lconwaymacOS 12.5.1 Monterey / x86_64  OK    OK    OK    OK  UNNEEDED, same version is already published
Package 179/528HostnameOS / ArchINSTALLBUILDCHECKBUILD BIN
factR 1.0.0  (landing page)
Fursham Hamid
git_last_commit: aec2060
git_last_commit_date: 2022-11-01 11:27:13 -0400
nebbiolo2Linux (Ubuntu 20.04.5 LTS) / x86_64  OK    OK    OK  UNNEEDED, same version is already published
palomino4Windows Server 2022 Datacenter / x64  OK    OK    OK    OK  UNNEEDED, same version is already published
lconwaymacOS 12.5.1 Monterey / x86_64  OK    OK    OK    OK  UNNEEDED, same version is already published
Package 180/528HostnameOS / ArchINSTALLBUILDCHECKBUILD BIN
fastseg 1.44.0  (landing page)
Alexander Blume
git_last_commit: 96cf905
git_last_commit_date: 2022-11-01 11:06:32 -0400
nebbiolo2Linux (Ubuntu 20.04.5 LTS) / x86_64  OK    OK    OK  UNNEEDED, same version is already published
palomino4Windows Server 2022 Datacenter / x64  OK    OK    OK    OK  UNNEEDED, same version is already published
lconwaymacOS 12.5.1 Monterey / x86_64  OK    OK    OK    OK  UNNEEDED, same version is already published
Package 181/528HostnameOS / ArchINSTALLBUILDCHECKBUILD BIN
fCCAC 1.24.0  (landing page)
Pedro Madrigal
git_last_commit: 96dac36
git_last_commit_date: 2022-11-01 11:14:49 -0400
nebbiolo2Linux (Ubuntu 20.04.5 LTS) / x86_64  OK    OK    OK  UNNEEDED, same version is already published
palomino4Windows Server 2022 Datacenter / x64  OK    OK    OK    OK  UNNEEDED, same version is already published
lconwaymacOS 12.5.1 Monterey / x86_64  OK    OK    OK    OK  UNNEEDED, same version is already published
Package 182/528HostnameOS / ArchINSTALLBUILDCHECKBUILD BIN
fcScan 1.12.0  (landing page)
Pierre Khoueiry Abdullah El-Kurdi
git_last_commit: 5c1bb30
git_last_commit_date: 2022-11-01 11:20:19 -0400
nebbiolo2Linux (Ubuntu 20.04.5 LTS) / x86_64  OK    OK    OK  UNNEEDED, same version is already published
palomino4Windows Server 2022 Datacenter / x64  OK    OK    OK    OK  UNNEEDED, same version is already published
lconwaymacOS 12.5.1 Monterey / x86_64  OK    OK    OK    OK  UNNEEDED, same version is already published
Package 183/528HostnameOS / ArchINSTALLBUILDCHECKBUILD BIN
FilterFFPE 1.8.0  (landing page)
Lanying Wei
git_last_commit: 8561ba8
git_last_commit_date: 2022-11-01 11:22:50 -0400
nebbiolo2Linux (Ubuntu 20.04.5 LTS) / x86_64  OK    OK    OK  UNNEEDED, same version is already published
palomino4Windows Server 2022 Datacenter / x64  OK    OK    OK    OK  UNNEEDED, same version is already published
lconwaymacOS 12.5.1 Monterey / x86_64  OK    OK    OK    OK  UNNEEDED, same version is already published
Package 184/528HostnameOS / ArchINSTALLBUILDCHECKBUILD BIN
FindIT2 1.4.0  (landing page)
Guandong Shang
git_last_commit: 081e7ae
git_last_commit_date: 2022-11-01 11:25:15 -0400
nebbiolo2Linux (Ubuntu 20.04.5 LTS) / x86_64  OK    OK    OK  UNNEEDED, same version is already published
palomino4Windows Server 2022 Datacenter / x64  OK    OK    OK    OK  UNNEEDED, same version is already published
lconwaymacOS 12.5.1 Monterey / x86_64  OK    OK    OK    OK  UNNEEDED, same version is already published
Package 185/528HostnameOS / ArchINSTALLBUILDCHECKBUILD BIN
fishpond 2.4.1  (landing page)
Michael Love
git_last_commit: 92e0c13
git_last_commit_date: 2023-01-23 16:34:38 -0400
nebbiolo2Linux (Ubuntu 20.04.5 LTS) / x86_64  OK    OK    OK  UNNEEDED, same version is already published
palomino4Windows Server 2022 Datacenter / x64  OK    OK    OK    OK  UNNEEDED, same version is already published
lconwaymacOS 12.5.1 Monterey / x86_64  OK    OK    OK    OK  UNNEEDED, same version is already published
Package 186/528HostnameOS / ArchINSTALLBUILDCHECKBUILD BIN
FLAMES 1.4.3  (landing page)
Oliver Voogd
git_last_commit: 8e3c42d
git_last_commit_date: 2023-03-06 01:05:53 -0400
nebbiolo2Linux (Ubuntu 20.04.5 LTS) / x86_64  OK    OK    OK  UNNEEDED, same version is already published
palomino4Windows Server 2022 Datacenter / x64  OK    OK    OK    OK  UNNEEDED, same version is already published
lconwaymacOS 12.5.1 Monterey / x86_64  OK    OK    OK    OK  UNNEEDED, same version is already published
Package 187/528HostnameOS / ArchINSTALLBUILDCHECKBUILD BIN
FRASER 1.10.2  (landing page)
Christian Mertes
git_last_commit: 411304e
git_last_commit_date: 2023-01-19 11:17:01 -0400
nebbiolo2Linux (Ubuntu 20.04.5 LTS) / x86_64  OK    OK    OK  UNNEEDED, same version is already published
palomino4Windows Server 2022 Datacenter / x64  OK    OK    OK    OK  UNNEEDED, same version is already published
lconwaymacOS 12.5.1 Monterey / x86_64  OK    OK    OK    OK  UNNEEDED, same version is already published
Package 188/528HostnameOS / ArchINSTALLBUILDCHECKBUILD BIN
FunChIP 1.24.0  (landing page)
Alice Parodi
git_last_commit: 88132da
git_last_commit_date: 2022-11-01 11:13:49 -0400
nebbiolo2Linux (Ubuntu 20.04.5 LTS) / x86_64  OK    OK    WARNINGS  UNNEEDED, same version is already published
palomino4Windows Server 2022 Datacenter / x64  OK    OK    WARNINGS    OK  UNNEEDED, same version is already published
lconwaymacOS 12.5.1 Monterey / x86_64  OK    OK    OK    OK  UNNEEDED, same version is already published
Package 189/528HostnameOS / ArchINSTALLBUILDCHECKBUILD BIN
GA4GHclient 1.22.0  (landing page)
Welliton Souza
git_last_commit: f24ce9b
git_last_commit_date: 2022-11-01 11:15:24 -0400
nebbiolo2Linux (Ubuntu 20.04.5 LTS) / x86_64  OK    OK    OK  UNNEEDED, same version is already published
palomino4Windows Server 2022 Datacenter / x64  OK    OK    OK    OK  UNNEEDED, same version is already published
lconwaymacOS 12.5.1 Monterey / x86_64  OK    OK    OK    OK  UNNEEDED, same version is already published
Package 190/528HostnameOS / ArchINSTALLBUILDCHECKBUILD BIN
gcapc 1.22.0  (landing page)
Mingxiang Teng
git_last_commit: 968eb62
git_last_commit_date: 2022-11-01 11:14:56 -0400
nebbiolo2Linux (Ubuntu 20.04.5 LTS) / x86_64  OK    OK    OK  UNNEEDED, same version is already published
palomino4Windows Server 2022 Datacenter / x64  OK    OK    OK    OK  UNNEEDED, same version is already published
lconwaymacOS 12.5.1 Monterey / x86_64  OK    OK    OK    OK  UNNEEDED, same version is already published
Package 191/528HostnameOS / ArchINSTALLBUILDCHECKBUILD BIN
genbankr 1.26.0  (landing page)
Gabriel Becker
git_last_commit: e825650
git_last_commit_date: 2022-11-01 11:13:33 -0400
nebbiolo2Linux (Ubuntu 20.04.5 LTS) / x86_64  OK    OK    OK  UNNEEDED, same version is already published
palomino4Windows Server 2022 Datacenter / x64  OK    OK    OK    OK  UNNEEDED, same version is already published
lconwaymacOS 12.5.1 Monterey / x86_64  OK    OK    OK    OK  UNNEEDED, same version is already published
Package 192/528HostnameOS / ArchINSTALLBUILDCHECKBUILD BIN
geneAttribution 1.24.0  (landing page)
Arthur Wuster
git_last_commit: ddf1343
git_last_commit_date: 2022-11-01 11:14:21 -0400
nebbiolo2Linux (Ubuntu 20.04.5 LTS) / x86_64  OK    OK    OK  UNNEEDED, same version is already published
palomino4Windows Server 2022 Datacenter / x64  OK    OK    OK    OK  UNNEEDED, same version is already published
lconwaymacOS 12.5.1 Monterey / x86_64  OK    OK    OK    OK  UNNEEDED, same version is already published
Package 193/528HostnameOS / ArchINSTALLBUILDCHECKBUILD BIN
GeneBreak 1.28.0  (landing page)
Evert van den Broek
git_last_commit: 1cc8091
git_last_commit_date: 2022-11-01 11:12:24 -0400
nebbiolo2Linux (Ubuntu 20.04.5 LTS) / x86_64  OK    OK    OK  UNNEEDED, same version is already published
palomino4Windows Server 2022 Datacenter / x64  OK    OK    OK    OK  UNNEEDED, same version is already published
lconwaymacOS 12.5.1 Monterey / x86_64  OK    OK    OK    OK  UNNEEDED, same version is already published
Package 194/528HostnameOS / ArchINSTALLBUILDCHECKBUILD BIN
GeneGeneInteR 1.24.0  (landing page)
Mathieu Emily
git_last_commit: b97e029
git_last_commit_date: 2022-11-01 11:14:08 -0400
nebbiolo2Linux (Ubuntu 20.04.5 LTS) / x86_64  OK    OK    OK  UNNEEDED, same version is already published
palomino4Windows Server 2022 Datacenter / x64  OK    OK    OK    OK  UNNEEDED, same version is already published
lconwaymacOS 12.5.1 Monterey / x86_64  OK    OK    OK    OK  UNNEEDED, same version is already published
Package 195/528HostnameOS / ArchINSTALLBUILDCHECKBUILD BIN
geneRxCluster 1.34.0  (landing page)
Charles Berry
git_last_commit: 78f1a72
git_last_commit_date: 2022-11-01 11:09:05 -0400
nebbiolo2Linux (Ubuntu 20.04.5 LTS) / x86_64  OK    OK    OK  UNNEEDED, same version is already published
palomino4Windows Server 2022 Datacenter / x64  OK    OK    OK    OK  UNNEEDED, same version is already published
lconwaymacOS 12.5.1 Monterey / x86_64  OK    OK    OK    OK  UNNEEDED, same version is already published
Package 196/528HostnameOS / ArchINSTALLBUILDCHECKBUILD BIN
GENESIS 2.28.0  (landing page)
Stephanie M. Gogarten
git_last_commit: 5ed68a0
git_last_commit_date: 2022-11-01 11:11:18 -0400
nebbiolo2Linux (Ubuntu 20.04.5 LTS) / x86_64  OK    OK    OK  UNNEEDED, same version is already published
palomino4Windows Server 2022 Datacenter / x64  OK    OK    OK    OK  UNNEEDED, same version is already published
lconwaymacOS 12.5.1 Monterey / x86_64  OK    OK    OK    OK  UNNEEDED, same version is already published
Package 197/528HostnameOS / ArchINSTALLBUILDCHECKBUILD BIN
GeneStructureTools 1.18.0  (landing page)
Beth Signal
git_last_commit: d5d143a
git_last_commit_date: 2022-11-01 11:17:16 -0400
nebbiolo2Linux (Ubuntu 20.04.5 LTS) / x86_64  OK    OK    OK  UNNEEDED, same version is already published
palomino4Windows Server 2022 Datacenter / x64  OK    OK    OK    OK  UNNEEDED, same version is already published
lconwaymacOS 12.5.1 Monterey / x86_64  OK    OK    OK    OK  UNNEEDED, same version is already published
Package 198/528HostnameOS / ArchINSTALLBUILDCHECKBUILD BIN
genomation 1.30.0  (landing page)
Altuna Akalin , Vedran Franke
git_last_commit: 99239c1
git_last_commit_date: 2022-11-01 11:10:49 -0400
nebbiolo2Linux (Ubuntu 20.04.5 LTS) / x86_64  OK    OK    WARNINGS  UNNEEDED, same version is already published
palomino4Windows Server 2022 Datacenter / x64  OK    OK    WARNINGS    OK  UNNEEDED, same version is already published
lconwaymacOS 12.5.1 Monterey / x86_64  OK    OK    WARNINGS    OK  UNNEEDED, same version is already published
Package 199/528HostnameOS / ArchINSTALLBUILDCHECKBUILD BIN
GenomAutomorphism 1.0.3  (landing page)
Robersy Sanchez
git_last_commit: 4ed0e65
git_last_commit_date: 2023-02-24 16:00:57 -0400
nebbiolo2Linux (Ubuntu 20.04.5 LTS) / x86_64  OK    OK    WARNINGS  UNNEEDED, same version is already published
palomino4Windows Server 2022 Datacenter / x64  OK    OK    WARNINGS    OK  UNNEEDED, same version is already published
lconwaymacOS 12.5.1 Monterey / x86_64  OK    OK    WARNINGS    OK  UNNEEDED, same version is already published
Package 200/528HostnameOS / ArchINSTALLBUILDCHECKBUILD BIN
genomeIntervals 1.54.0  (landing page)
Julien Gagneur
git_last_commit: a1bab6a
git_last_commit_date: 2022-11-01 11:04:21 -0400
nebbiolo2Linux (Ubuntu 20.04.5 LTS) / x86_64  OK    OK    OK  UNNEEDED, same version is already published
palomino4Windows Server 2022 Datacenter / x64  OK    OK    OK    OK  UNNEEDED, same version is already published
lconwaymacOS 12.5.1 Monterey / x86_64  OK    OK    OK    OK  UNNEEDED, same version is already published
Package 201/528HostnameOS / ArchINSTALLBUILDCHECKBUILD BIN
GenomicAlignments 1.34.1  (landing page)
Hervé Pagès
git_last_commit: f65563c
git_last_commit_date: 2023-03-08 18:26:20 -0400
nebbiolo2Linux (Ubuntu 20.04.5 LTS) / x86_64  OK    OK    OK  UNNEEDED, same version is already published
palomino4Windows Server 2022 Datacenter / x64  OK    OK    OK    OK  UNNEEDED, same version is already published
lconwaymacOS 12.5.1 Monterey / x86_64  OK    OK    OK    OK  UNNEEDED, same version is already published
Package 202/528HostnameOS / ArchINSTALLBUILDCHECKBUILD BIN
GenomicDataCommons 1.22.3  (landing page)
Sean Davis
git_last_commit: bd48c6b
git_last_commit_date: 2023-04-10 10:53:00 -0400
nebbiolo2Linux (Ubuntu 20.04.5 LTS) / x86_64  OK    OK    OK  YES
palomino4Windows Server 2022 Datacenter / x64  OK    OK    OK    OK  YES
lconwaymacOS 12.5.1 Monterey / x86_64  OK    OK    OK    OK  YES
Package 203/528HostnameOS / ArchINSTALLBUILDCHECKBUILD BIN
GenomicDistributions 1.6.0  (landing page)
Kristyna Kupkova
git_last_commit: a89bb3d
git_last_commit_date: 2022-11-01 11:23:45 -0400
nebbiolo2Linux (Ubuntu 20.04.5 LTS) / x86_64  OK    OK    OK  UNNEEDED, same version is already published
palomino4Windows Server 2022 Datacenter / x64  OK    OK    OK    OK  UNNEEDED, same version is already published
lconwaymacOS 12.5.1 Monterey / x86_64  OK    OK    OK    OK  UNNEEDED, same version is already published
Package 204/528HostnameOS / ArchINSTALLBUILDCHECKBUILD BIN
GenomicFeatures 1.50.4  (landing page)
H. Pagès
git_last_commit: 68bf6e1
git_last_commit_date: 2022-12-14 21:06:06 -0400
nebbiolo2Linux (Ubuntu 20.04.5 LTS) / x86_64  OK    OK    OK  UNNEEDED, same version is already published
palomino4Windows Server 2022 Datacenter / x64  OK    OK    OK    OK  UNNEEDED, same version is already published
lconwaymacOS 12.5.1 Monterey / x86_64  OK    OK    OK    OK  UNNEEDED, same version is already published
Package 205/528HostnameOS / ArchINSTALLBUILDCHECKBUILD BIN
GenomicFiles 1.34.0  (landing page)
Bioconductor Package Maintainer
git_last_commit: 65f9a64
git_last_commit_date: 2022-11-01 11:09:37 -0400
nebbiolo2Linux (Ubuntu 20.04.5 LTS) / x86_64  OK    OK    OK  UNNEEDED, same version is already published
palomino4Windows Server 2022 Datacenter / x64  OK    OK    OK    OK  UNNEEDED, same version is already published
lconwaymacOS 12.5.1 Monterey / x86_64  OK    OK    OK    OK  UNNEEDED, same version is already published
Package 206/528HostnameOS / ArchINSTALLBUILDCHECKBUILD BIN
GenomicInteractionNodes 1.2.0  (landing page)
Jianhong Ou
git_last_commit: a61a04f
git_last_commit_date: 2022-11-01 11:26:54 -0400
nebbiolo2Linux (Ubuntu 20.04.5 LTS) / x86_64  OK    OK    OK  UNNEEDED, same version is already published
palomino4Windows Server 2022 Datacenter / x64  OK    OK    OK    OK  UNNEEDED, same version is already published
lconwaymacOS 12.5.1 Monterey / x86_64  OK    OK    OK    OK  UNNEEDED, same version is already published
Package 207/528HostnameOS / ArchINSTALLBUILDCHECKBUILD BIN
GenomicInteractions 1.32.0  (landing page)
Liz Ing-Simmons
git_last_commit: bc2d152