Back to Multiple platform build/check report for BioC 3.16:   simplified   long
ABCD[E]FGHIJKLMNOPQRSTUVWXYZ

This page was generated on 2023-04-12 11:04:33 -0400 (Wed, 12 Apr 2023).

HostnameOSArch (*)R versionInstalled pkgs
nebbiolo2Linux (Ubuntu 20.04.5 LTS)x86_644.2.3 (2023-03-15) -- "Shortstop Beagle" 4502
palomino4Windows Server 2022 Datacenterx644.2.3 (2023-03-15 ucrt) -- "Shortstop Beagle" 4282
lconwaymacOS 12.5.1 Montereyx86_644.2.3 (2023-03-15) -- "Shortstop Beagle" 4310
Click on any hostname to see more info about the system (e.g. compilers)      (*) as reported by 'uname -p', except on Windows and Mac OS X

All results for package edgeR


To the developers/maintainers of the edgeR package:
- Please allow up to 24 hours (and sometimes 48 hours) for your latest push to git@git.bioconductor.org:packages/edgeR.git to
reflect on this report. See How and When does the builder pull? When will my changes propagate? for more information.
- Make sure to use the following settings in order to reproduce any error or warning you see on this page.

raw results

Package 595/2183HostnameOS / ArchINSTALLBUILDCHECKBUILD BIN
edgeR 3.40.2  (landing page)
Yunshun Chen , Gordon Smyth , Aaron Lun , Mark Robinson
Snapshot Date: 2023-04-10 14:00:05 -0400 (Mon, 10 Apr 2023)
git_url: https://git.bioconductor.org/packages/edgeR
git_branch: RELEASE_3_16
git_last_commit: ddb1cb9
git_last_commit_date: 2023-01-19 11:16:26 -0400 (Thu, 19 Jan 2023)
nebbiolo2Linux (Ubuntu 20.04.5 LTS) / x86_64  OK    OK    OK  UNNEEDED, same version is already published
palomino4Windows Server 2022 Datacenter / x64  OK    OK    OK    OK  UNNEEDED, same version is already published
lconwaymacOS 12.5.1 Monterey / x86_64  OK    OK    OK    OK  UNNEEDED, same version is already published

Results for Bioconductor software packages that depend directly on package edgeR

QUICK STATSOS / ArchINSTALLBUILDCHECKBUILD BIN
nebbiolo2Linux (Ubuntu 20.04.5 LTS) / x86_64
02111
06107
041687
palomino4Windows Server 2022 Datacenter / x64
01110
05106
011689
00106
lconwaymacOS 12.5.1 Monterey / x86_64
02111
08105
011688
00105
Package 1/113HostnameOS / ArchINSTALLBUILDCHECKBUILD BIN
affycoretools 1.70.0  (landing page)
James W. MacDonald
git_last_commit: f09a788
git_last_commit_date: 2022-11-01 10:40:10 -0400
nebbiolo2Linux (Ubuntu 20.04.5 LTS) / x86_64  OK    OK    OK  UNNEEDED, same version is already published
palomino4Windows Server 2022 Datacenter / x64  OK    OK    OK    OK  UNNEEDED, same version is already published
lconwaymacOS 12.5.1 Monterey / x86_64  OK    OK    OK    OK  UNNEEDED, same version is already published
Package 2/113HostnameOS / ArchINSTALLBUILDCHECKBUILD BIN
anota2seq 1.20.0  (landing page)
Christian Oertlin , Julie Lorent
git_last_commit: ae46d48
git_last_commit_date: 2022-11-01 11:16:31 -0400
nebbiolo2Linux (Ubuntu 20.04.5 LTS) / x86_64  OK    OK    WARNINGS  UNNEEDED, same version is already published
palomino4Windows Server 2022 Datacenter / x64  OK    OK    OK    OK  UNNEEDED, same version is already published
lconwaymacOS 12.5.1 Monterey / x86_64  OK    OK    OK    OK  UNNEEDED, same version is already published
Package 3/113HostnameOS / ArchINSTALLBUILDCHECKBUILD BIN
ArrayExpressHTS 1.48.0  (landing page)
Angela Goncalves , Andrew Tikhonov
git_last_commit: 3dbd3e8
git_last_commit_date: 2022-11-01 11:05:54 -0400
nebbiolo2Linux (Ubuntu 20.04.5 LTS) / x86_64  ERROR    ERROR  skipped
palomino4Windows Server 2022 Datacenter / x64... NOT SUPPORTED ...
lconwaymacOS 12.5.1 Monterey / x86_64  ERROR    ERROR  skippedskipped
Package 4/113HostnameOS / ArchINSTALLBUILDCHECKBUILD BIN
ASpli 2.8.0  (landing page)
Estefania Mancini
git_last_commit: ff40685
git_last_commit_date: 2022-11-01 11:14:10 -0400
nebbiolo2Linux (Ubuntu 20.04.5 LTS) / x86_64  OK    OK    OK  UNNEEDED, same version is already published
palomino4Windows Server 2022 Datacenter / x64  OK    OK    OK    OK  UNNEEDED, same version is already published
lconwaymacOS 12.5.1 Monterey / x86_64  OK    OK    OK    OK  UNNEEDED, same version is already published
Package 5/113HostnameOS / ArchINSTALLBUILDCHECKBUILD BIN
ATACseqQC 1.22.0  (landing page)
Jianhong Ou
git_last_commit: be03c44
git_last_commit_date: 2022-11-01 11:15:41 -0400
nebbiolo2Linux (Ubuntu 20.04.5 LTS) / x86_64  OK    OK    OK  UNNEEDED, same version is already published
palomino4Windows Server 2022 Datacenter / x64  OK    OK    OK    OK  UNNEEDED, same version is already published
lconwaymacOS 12.5.1 Monterey / x86_64  OK    OK    OK    OK  UNNEEDED, same version is already published
Package 6/113HostnameOS / ArchINSTALLBUILDCHECKBUILD BIN
autonomics 1.6.0  (landing page)
Aditya Bhagwat
git_last_commit: 6768188
git_last_commit_date: 2022-11-01 11:24:11 -0400
nebbiolo2Linux (Ubuntu 20.04.5 LTS) / x86_64  OK    OK    WARNINGS  UNNEEDED, same version is already published
palomino4Windows Server 2022 Datacenter / x64  OK    OK    WARNINGS    OK  UNNEEDED, same version is already published
lconwaymacOS 12.5.1 Monterey / x86_64  OK    OK    WARNINGS    OK  UNNEEDED, same version is already published
Package 7/113HostnameOS / ArchINSTALLBUILDCHECKBUILD BIN
AWFisher 1.12.0  (landing page)
Zhiguang Huo
git_last_commit: 431750b
git_last_commit_date: 2022-11-01 11:20:10 -0400
nebbiolo2Linux (Ubuntu 20.04.5 LTS) / x86_64  OK    OK    OK  UNNEEDED, same version is already published
palomino4Windows Server 2022 Datacenter / x64  OK    OK    OK    OK  UNNEEDED, same version is already published
lconwaymacOS 12.5.1 Monterey / x86_64  OK    OK    OK    OK  UNNEEDED, same version is already published
Package 8/113HostnameOS / ArchINSTALLBUILDCHECKBUILD BIN
baySeq 2.32.0  (landing page)
Thomas J. Hardcastle
git_last_commit: c6e69d6
git_last_commit_date: 2022-11-01 11:04:42 -0400
nebbiolo2Linux (Ubuntu 20.04.5 LTS) / x86_64  OK    OK    ERROR  
palomino4Windows Server 2022 Datacenter / x64  OK    OK    OK    OK  UNNEEDED, same version is already published
lconwaymacOS 12.5.1 Monterey / x86_64  OK    OK    OK    OK  UNNEEDED, same version is already published
Package 9/113HostnameOS / ArchINSTALLBUILDCHECKBUILD BIN
beer 1.2.0  (landing page)
Athena Chen
git_last_commit: bbed750
git_last_commit_date: 2022-11-01 11:26:26 -0400
nebbiolo2Linux (Ubuntu 20.04.5 LTS) / x86_64  OK    OK    OK  UNNEEDED, same version is already published
palomino4Windows Server 2022 Datacenter / x64  OK    OK    OK    OK  UNNEEDED, same version is already published
lconwaymacOS 12.5.1 Monterey / x86_64  OK    OK    OK    OK  UNNEEDED, same version is already published
Package 10/113HostnameOS / ArchINSTALLBUILDCHECKBUILD BIN
benchdamic 1.4.0  (landing page)
Matteo Calgaro
git_last_commit: 0e7363b
git_last_commit_date: 2022-11-01 11:25:57 -0400
nebbiolo2Linux (Ubuntu 20.04.5 LTS) / x86_64  OK    OK    OK  UNNEEDED, same version is already published
palomino4Windows Server 2022 Datacenter / x64  OK    OK    OK    OK  UNNEEDED, same version is already published
lconwaymacOS 12.5.1 Monterey / x86_64  OK    OK    OK    OK  UNNEEDED, same version is already published
Package 11/113HostnameOS / ArchINSTALLBUILDCHECKBUILD BIN
BioQC 1.26.0  (landing page)
Jitao David Zhang
git_last_commit: c4cfa15
git_last_commit_date: 2022-11-01 11:12:35 -0400
nebbiolo2Linux (Ubuntu 20.04.5 LTS) / x86_64  OK    OK    OK  UNNEEDED, same version is already published
palomino4Windows Server 2022 Datacenter / x64  OK    OK    OK    OK  UNNEEDED, same version is already published
lconwaymacOS 12.5.1 Monterey / x86_64  OK    OK    OK    OK  UNNEEDED, same version is already published
Package 12/113HostnameOS / ArchINSTALLBUILDCHECKBUILD BIN
censcyt 1.6.1  (landing page)
Reto Gerber
git_last_commit: 91a9cbe
git_last_commit_date: 2023-02-16 01:19:13 -0400
nebbiolo2Linux (Ubuntu 20.04.5 LTS) / x86_64  OK    OK    OK  UNNEEDED, same version is already published
palomino4Windows Server 2022 Datacenter / x64  OK    OK    OK    OK  UNNEEDED, same version is already published
lconwaymacOS 12.5.1 Monterey / x86_64  OK    OK    OK    OK  UNNEEDED, same version is already published
Package 13/113HostnameOS / ArchINSTALLBUILDCHECKBUILD BIN
ChromSCape 1.8.0  (landing page)
Pacome Prompsy
git_last_commit: d32bd33
git_last_commit_date: 2022-11-01 11:23:01 -0400
nebbiolo2Linux (Ubuntu 20.04.5 LTS) / x86_64  OK    OK    WARNINGS  UNNEEDED, same version is already published
palomino4Windows Server 2022 Datacenter / x64  OK    OK    WARNINGS    OK  UNNEEDED, same version is already published
lconwaymacOS 12.5.1 Monterey / x86_64  OK    OK    WARNINGS    OK  UNNEEDED, same version is already published
Package 14/113HostnameOS / ArchINSTALLBUILDCHECKBUILD BIN
circRNAprofiler 1.12.2  (landing page)
Simona Aufiero
git_last_commit: e499486
git_last_commit_date: 2023-01-23 04:25:52 -0400
nebbiolo2Linux (Ubuntu 20.04.5 LTS) / x86_64  OK    OK    OK  UNNEEDED, same version is already published
palomino4Windows Server 2022 Datacenter / x64  OK    OK    OK    OK  UNNEEDED, same version is already published
lconwaymacOS 12.5.1 Monterey / x86_64  OK    OK    OK    OK  UNNEEDED, same version is already published
Package 15/113HostnameOS / ArchINSTALLBUILDCHECKBUILD BIN
clusterExperiment 2.18.2  (landing page)
Elizabeth Purdom
git_last_commit: eae8335
git_last_commit_date: 2023-01-19 11:15:47 -0400
nebbiolo2Linux (Ubuntu 20.04.5 LTS) / x86_64  OK    OK    WARNINGS  UNNEEDED, same version is already published
palomino4Windows Server 2022 Datacenter / x64  OK    OK    WARNINGS    OK  UNNEEDED, same version is already published
lconwaymacOS 12.5.1 Monterey / x86_64  OK    OK    WARNINGS    OK  UNNEEDED, same version is already published
Package 16/113HostnameOS / ArchINSTALLBUILDCHECKBUILD BIN
CNVRanger 1.14.0  (landing page)
Ludwig Geistlinger
git_last_commit: 59487b4
git_last_commit_date: 2022-11-01 11:19:14 -0400
nebbiolo2Linux (Ubuntu 20.04.5 LTS) / x86_64  OK    OK    OK  UNNEEDED, same version is already published
palomino4Windows Server 2022 Datacenter / x64  OK    OK    OK    OK  UNNEEDED, same version is already published
lconwaymacOS 12.5.1 Monterey / x86_64  OK    OK    OK    OK  UNNEEDED, same version is already published
Package 17/113HostnameOS / ArchINSTALLBUILDCHECKBUILD BIN
compcodeR 1.34.0  (landing page)
Charlotte Soneson
git_last_commit: 0febb89
git_last_commit_date: 2022-11-01 11:09:36 -0400
nebbiolo2Linux (Ubuntu 20.04.5 LTS) / x86_64  OK    OK    OK  UNNEEDED, same version is already published
palomino4Windows Server 2022 Datacenter / x64  OK    OK    OK    OK  UNNEEDED, same version is already published
lconwaymacOS 12.5.1 Monterey / x86_64  OK    OK    OK    OK  UNNEEDED, same version is already published
Package 18/113HostnameOS / ArchINSTALLBUILDCHECKBUILD BIN
consensusDE 1.16.0  (landing page)
Ashley J. Waardenberg
git_last_commit: 4b085f5
git_last_commit_date: 2022-11-01 11:18:46 -0400
nebbiolo2Linux (Ubuntu 20.04.5 LTS) / x86_64  OK    OK    OK  UNNEEDED, same version is already published
palomino4Windows Server 2022 Datacenter / x64  OK    OK    OK    OK  UNNEEDED, same version is already published
lconwaymacOS 12.5.1 Monterey / x86_64  OK    OK    OK    OK  UNNEEDED, same version is already published
Package 19/113HostnameOS / ArchINSTALLBUILDCHECKBUILD BIN
coseq 1.22.0  (landing page)
Andrea Rau
git_last_commit: a1bc50f
git_last_commit_date: 2022-11-01 11:15:03 -0400
nebbiolo2Linux (Ubuntu 20.04.5 LTS) / x86_64  OK    OK    OK  UNNEEDED, same version is already published
palomino4Windows Server 2022 Datacenter / x64  OK    OK    OK    OK  UNNEEDED, same version is already published
lconwaymacOS 12.5.1 Monterey / x86_64  OK    OK    OK    OK  UNNEEDED, same version is already published
Package 20/113HostnameOS / ArchINSTALLBUILDCHECKBUILD BIN
countsimQC 1.16.1  (landing page)
Charlotte Soneson
git_last_commit: 9278fe5
git_last_commit_date: 2022-12-16 04:19:54 -0400
nebbiolo2Linux (Ubuntu 20.04.5 LTS) / x86_64  OK    OK    OK  UNNEEDED, same version is already published
palomino4Windows Server 2022 Datacenter / x64  OK    OK    OK    OK  UNNEEDED, same version is already published
lconwaymacOS 12.5.1 Monterey / x86_64  OK    OK    OK    OK  UNNEEDED, same version is already published
Package 21/113HostnameOS / ArchINSTALLBUILDCHECKBUILD BIN
crossmeta 1.24.0  (landing page)
Alex Pickering
git_last_commit: 6c5c2d8
git_last_commit_date: 2022-11-01 11:13:53 -0400
nebbiolo2Linux (Ubuntu 20.04.5 LTS) / x86_64  OK    OK    OK  UNNEEDED, same version is already published
palomino4Windows Server 2022 Datacenter / x64  OK    OK    OK    OK  UNNEEDED, same version is already published
lconwaymacOS 12.5.1 Monterey / x86_64  OK    OK    OK    OK  UNNEEDED, same version is already published
Package 22/113HostnameOS / ArchINSTALLBUILDCHECKBUILD BIN
csaw 1.32.0  (landing page)
Aaron Lun
git_last_commit: 7ab51d6
git_last_commit_date: 2022-11-01 11:10:35 -0400
nebbiolo2Linux (Ubuntu 20.04.5 LTS) / x86_64  OK    OK    OK  UNNEEDED, same version is already published
palomino4Windows Server 2022 Datacenter / x64  OK    OK    OK    OK  UNNEEDED, same version is already published
lconwaymacOS 12.5.1 Monterey / x86_64  OK    OK    OK    OK  UNNEEDED, same version is already published
Package 23/113HostnameOS / ArchINSTALLBUILDCHECKBUILD BIN
DaMiRseq 2.10.0  (landing page)
Mattia Chiesa
git_last_commit: 2bf8822
git_last_commit_date: 2022-11-01 11:15:21 -0400
nebbiolo2Linux (Ubuntu 20.04.5 LTS) / x86_64  OK    OK    OK  UNNEEDED, same version is already published
palomino4Windows Server 2022 Datacenter / x64  OK    OK    OK    OK  UNNEEDED, same version is already published
lconwaymacOS 12.5.1 Monterey / x86_64  OK    OK    OK    OK  UNNEEDED, same version is already published
Package 24/113HostnameOS / ArchINSTALLBUILDCHECKBUILD BIN
dce 1.6.0  (landing page)
Kim Philipp Jablonski
git_last_commit: c96a8ad
git_last_commit_date: 2022-11-01 11:24:07 -0400
nebbiolo2Linux (Ubuntu 20.04.5 LTS) / x86_64  OK    OK    OK  UNNEEDED, same version is already published
palomino4Windows Server 2022 Datacenter / x64  OK    OK    OK    OK  UNNEEDED, same version is already published
lconwaymacOS 12.5.1 Monterey / x86_64  OK    OK    OK    OK  UNNEEDED, same version is already published
Package 25/113HostnameOS / ArchINSTALLBUILDCHECKBUILD BIN
debrowser 1.26.3  (landing page)
Alper Kucukural
git_last_commit: 4fb9588
git_last_commit_date: 2023-03-12 18:21:05 -0400
nebbiolo2Linux (Ubuntu 20.04.5 LTS) / x86_64  OK    OK    OK  UNNEEDED, same version is already published
palomino4Windows Server 2022 Datacenter / x64  OK    OK    OK    OK  UNNEEDED, same version is already published
lconwaymacOS 12.5.1 Monterey / x86_64  OK    OK    OK    OK  UNNEEDED, same version is already published
Package 26/113HostnameOS / ArchINSTALLBUILDCHECKBUILD BIN
DEComplexDisease 1.18.0  (landing page)
Guofeng Meng
git_last_commit: a0839b6
git_last_commit_date: 2022-11-01 11:17:06 -0400
nebbiolo2Linux (Ubuntu 20.04.5 LTS) / x86_64  OK    OK    ERROR  
palomino4Windows Server 2022 Datacenter / x64  OK    OK    WARNINGS    OK  UNNEEDED, same version is already published
lconwaymacOS 12.5.1 Monterey / x86_64  OK    OK    WARNINGS    OK  UNNEEDED, same version is already published
Package 27/113HostnameOS / ArchINSTALLBUILDCHECKBUILD BIN
DEFormats 1.26.0  (landing page)
Andrzej Oleś
git_last_commit: 4c9b97c
git_last_commit_date: 2022-11-01 11:13:20 -0400
nebbiolo2Linux (Ubuntu 20.04.5 LTS) / x86_64  OK    OK    OK  UNNEEDED, same version is already published
palomino4Windows Server 2022 Datacenter / x64  OK    OK    OK    OK  UNNEEDED, same version is already published
lconwaymacOS 12.5.1 Monterey / x86_64  OK    OK    OK    OK  UNNEEDED, same version is already published
Package 28/113HostnameOS / ArchINSTALLBUILDCHECKBUILD BIN
DEGreport 1.34.0  (landing page)
Lorena Pantano
git_last_commit: 4b3a6ae
git_last_commit_date: 2022-11-01 11:09:50 -0400
nebbiolo2Linux (Ubuntu 20.04.5 LTS) / x86_64  OK    OK    OK  UNNEEDED, same version is already published
palomino4Windows Server 2022 Datacenter / x64  OK    OK    OK    OK  UNNEEDED, same version is already published
lconwaymacOS 12.5.1 Monterey / x86_64  OK    OK    OK    OK  UNNEEDED, same version is already published
Package 29/113HostnameOS / ArchINSTALLBUILDCHECKBUILD BIN
DEsubs 1.24.0  (landing page)
Aristidis G. Vrahatis , Panos Balomenos
git_last_commit: 4ff00fc
git_last_commit_date: 2022-11-01 11:14:32 -0400
nebbiolo2Linux (Ubuntu 20.04.5 LTS) / x86_64  OK    OK    OK  UNNEEDED, same version is already published
palomino4Windows Server 2022 Datacenter / x64  OK    OK    OK    OK  UNNEEDED, same version is already published
lconwaymacOS 12.5.1 Monterey / x86_64  OK    OK    OK    OK  UNNEEDED, same version is already published
Package 30/113HostnameOS / ArchINSTALLBUILDCHECKBUILD BIN
diffcyt 1.18.0  (landing page)
Lukas M. Weber
git_last_commit: 35290a0
git_last_commit_date: 2022-11-01 11:17:30 -0400
nebbiolo2Linux (Ubuntu 20.04.5 LTS) / x86_64  OK    OK    OK  UNNEEDED, same version is already published
palomino4Windows Server 2022 Datacenter / x64  OK    OK    OK    OK  UNNEEDED, same version is already published
lconwaymacOS 12.5.1 Monterey / x86_64  OK    OK    OK    OK  UNNEEDED, same version is already published
Package 31/113HostnameOS / ArchINSTALLBUILDCHECKBUILD BIN
diffHic 1.30.0  (landing page)
Aaron Lun
git_last_commit: c42accb
git_last_commit_date: 2022-11-01 11:11:37 -0400
nebbiolo2Linux (Ubuntu 20.04.5 LTS) / x86_64  OK    OK    OK  UNNEEDED, same version is already published
palomino4Windows Server 2022 Datacenter / x64  OK    OK    OK    OK  UNNEEDED, same version is already published
lconwaymacOS 12.5.1 Monterey / x86_64  OK    OK    OK    OK  UNNEEDED, same version is already published
Package 32/113HostnameOS / ArchINSTALLBUILDCHECKBUILD BIN
diffUTR 1.6.0  (landing page)
Pierre-Luc Germain
git_last_commit: a27bd74
git_last_commit_date: 2022-11-01 11:24:56 -0400
nebbiolo2Linux (Ubuntu 20.04.5 LTS) / x86_64  OK    OK    OK  UNNEEDED, same version is already published
palomino4Windows Server 2022 Datacenter / x64  OK    OK    OK    OK  UNNEEDED, same version is already published
lconwaymacOS 12.5.1 Monterey / x86_64  OK    OK    OK    OK  UNNEEDED, same version is already published
Package 33/113HostnameOS / ArchINSTALLBUILDCHECKBUILD BIN
DMRcate 2.12.0  (landing page)
Tim Peters
git_last_commit: 560dd50
git_last_commit_date: 2022-11-01 11:09:16 -0400
nebbiolo2Linux (Ubuntu 20.04.5 LTS) / x86_64  OK    OK    OK  UNNEEDED, same version is already published
palomino4Windows Server 2022 Datacenter / x64  OK    OK    OK    OK  UNNEEDED, same version is already published
lconwaymacOS 12.5.1 Monterey / x86_64  OK    OK    OK    OK  UNNEEDED, same version is already published
Package 34/113HostnameOS / ArchINSTALLBUILDCHECKBUILD BIN
doseR 1.14.0  (landing page)
ake.vastermark
git_last_commit: 28a024c
git_last_commit_date: 2022-11-01 11:19:19 -0400
nebbiolo2Linux (Ubuntu 20.04.5 LTS) / x86_64  OK    OK    OK  UNNEEDED, same version is already published
palomino4Windows Server 2022 Datacenter / x64  OK    OK    OK    OK  UNNEEDED, same version is already published
lconwaymacOS 12.5.1 Monterey / x86_64  OK    OK    OK    OK  UNNEEDED, same version is already published
Package 35/113HostnameOS / ArchINSTALLBUILDCHECKBUILD BIN
DRIMSeq 1.26.0  (landing page)
Malgorzata Nowicka
git_last_commit: 69cf942
git_last_commit_date: 2022-11-01 11:13:16 -0400
nebbiolo2Linux (Ubuntu 20.04.5 LTS) / x86_64  OK    OK    WARNINGS  UNNEEDED, same version is already published
palomino4Windows Server 2022 Datacenter / x64  OK    OK    WARNINGS    OK  UNNEEDED, same version is already published
lconwaymacOS 12.5.1 Monterey / x86_64  OK    OK    WARNINGS    OK  UNNEEDED, same version is already published
Package 36/113HostnameOS / ArchINSTALLBUILDCHECKBUILD BIN
DropletUtils 1.18.1  (landing page)
Jonathan Griffiths
git_last_commit: ff37775
git_last_commit_date: 2022-11-22 02:59:05 -0400
nebbiolo2Linux (Ubuntu 20.04.5 LTS) / x86_64  OK    OK    OK  UNNEEDED, same version is already published
palomino4Windows Server 2022 Datacenter / x64  OK    OK    OK    OK  UNNEEDED, same version is already published
lconwaymacOS 12.5.1 Monterey / x86_64  OK    OK    OK    OK  UNNEEDED, same version is already published
Package 37/113HostnameOS / ArchINSTALLBUILDCHECKBUILD BIN
easyRNASeq 2.34.0  (landing page)
Nicolas Delhomme
git_last_commit: 37ce549
git_last_commit_date: 2022-11-01 11:06:37 -0400
nebbiolo2Linux (Ubuntu 20.04.5 LTS) / x86_64  OK    OK    OK  UNNEEDED, same version is already published
palomino4Windows Server 2022 Datacenter / x64  OK    OK    OK    OK  UNNEEDED, same version is already published
lconwaymacOS 12.5.1 Monterey / x86_64  OK    OK    OK    OK  UNNEEDED, same version is already published
Package 38/113HostnameOS / ArchINSTALLBUILDCHECKBUILD BIN
eegc 1.24.0  (landing page)
Xiaoyuan Zhou
git_last_commit: 5ff5737
git_last_commit_date: 2022-11-01 11:14:19 -0400
nebbiolo2Linux (Ubuntu 20.04.5 LTS) / x86_64  OK    OK    WARNINGS  UNNEEDED, same version is already published
palomino4Windows Server 2022 Datacenter / x64  OK    OK    WARNINGS    OK  UNNEEDED, same version is already published
lconwaymacOS 12.5.1 Monterey / x86_64  OK    OK    WARNINGS    OK  UNNEEDED, same version is already published
Package 39/113HostnameOS / ArchINSTALLBUILDCHECKBUILD BIN
EGSEA 1.26.0  (landing page)
Monther Alhamdoosh
git_last_commit: c3e5f41
git_last_commit_date: 2022-11-01 11:13:40 -0400
nebbiolo2Linux (Ubuntu 20.04.5 LTS) / x86_64  OK    OK    WARNINGS  UNNEEDED, same version is already published
palomino4Windows Server 2022 Datacenter / x64  OK    OK    WARNINGS    OK  UNNEEDED, same version is already published
lconwaymacOS 12.5.1 Monterey / x86_64  OK    OK    WARNINGS    OK  UNNEEDED, same version is already published
Package 40/113HostnameOS / ArchINSTALLBUILDCHECKBUILD BIN
eisaR 1.10.0  (landing page)
Michael Stadler
git_last_commit: 7b66d74
git_last_commit_date: 2022-11-01 11:21:34 -0400
nebbiolo2Linux (Ubuntu 20.04.5 LTS) / x86_64  OK    OK    OK  UNNEEDED, same version is already published
palomino4Windows Server 2022 Datacenter / x64  OK    OK    OK    OK  UNNEEDED, same version is already published
lconwaymacOS 12.5.1 Monterey / x86_64  OK    OK    OK    OK  UNNEEDED, same version is already published
Package 41/113HostnameOS / ArchINSTALLBUILDCHECKBUILD BIN
EnrichmentBrowser 2.28.2  (landing page)
Ludwig Geistlinger
git_last_commit: 0db911d
git_last_commit_date: 2023-03-19 19:26:11 -0400
nebbiolo2Linux (Ubuntu 20.04.5 LTS) / x86_64  OK    OK    OK  UNNEEDED, same version is already published
palomino4Windows Server 2022 Datacenter / x64  OK    OK    OK    OK  UNNEEDED, same version is already published
lconwaymacOS 12.5.1 Monterey / x86_64  OK    OK    OK    OK  UNNEEDED, same version is already published
Package 42/113HostnameOS / ArchINSTALLBUILDCHECKBUILD BIN
erccdashboard 1.32.0  (landing page)
Sarah Munro
git_last_commit: e374442
git_last_commit_date: 2022-11-01 11:10:10 -0400
nebbiolo2Linux (Ubuntu 20.04.5 LTS) / x86_64  OK    OK    OK  UNNEEDED, same version is already published
palomino4Windows Server 2022 Datacenter / x64  OK    OK    OK    OK  UNNEEDED, same version is already published
lconwaymacOS 12.5.1 Monterey / x86_64  OK    OK    OK    OK  UNNEEDED, same version is already published
Package 43/113HostnameOS / ArchINSTALLBUILDCHECKBUILD BIN
ERSSA 1.16.0  (landing page)
Zixuan Shao
git_last_commit: cb8f4ab
git_last_commit_date: 2022-11-01 11:18:28 -0400
nebbiolo2Linux (Ubuntu 20.04.5 LTS) / x86_64  OK    OK    OK  UNNEEDED, same version is already published
palomino4Windows Server 2022 Datacenter / x64  OK    OK    OK    OK  UNNEEDED, same version is already published
lconwaymacOS 12.5.1 Monterey / x86_64  OK    OK    OK    OK  UNNEEDED, same version is already published
Package 44/113HostnameOS / ArchINSTALLBUILDCHECKBUILD BIN
extraChIPs 1.2.4  (landing page)
Stephen Pederson
git_last_commit: 52e1f70
git_last_commit_date: 2023-01-31 08:58:44 -0400
nebbiolo2Linux (Ubuntu 20.04.5 LTS) / x86_64  OK    OK    OK  UNNEEDED, same version is already published
palomino4Windows Server 2022 Datacenter / x64  OK    OK    OK    OK  UNNEEDED, same version is already published
lconwaymacOS 12.5.1 Monterey / x86_64  OK    OK    OK    OK  UNNEEDED, same version is already published
Package 45/113HostnameOS / ArchINSTALLBUILDCHECKBUILD BIN
GDCRNATools 1.18.0  (landing page)
Ruidong Li
git_last_commit: 3d1e731
git_last_commit_date: 2022-11-01 11:17:01 -0400
nebbiolo2Linux (Ubuntu 20.04.5 LTS) / x86_64  OK    OK    OK  UNNEEDED, same version is already published
palomino4Windows Server 2022 Datacenter / x64  OK    OK    OK    OK  UNNEEDED, same version is already published
lconwaymacOS 12.5.1 Monterey / x86_64  OK    OK    OK    OK  UNNEEDED, same version is already published
Package 46/113HostnameOS / ArchINSTALLBUILDCHECKBUILD BIN
Glimma 2.8.0  (landing page)
Shian Su
git_last_commit: 09cec82
git_last_commit_date: 2022-11-01 11:13:28 -0400
nebbiolo2Linux (Ubuntu 20.04.5 LTS) / x86_64  OK    OK    OK  UNNEEDED, same version is already published
palomino4Windows Server 2022 Datacenter / x64  OK    OK    OK    OK  UNNEEDED, same version is already published
lconwaymacOS 12.5.1 Monterey / x86_64  OK    OK    OK    OK  UNNEEDED, same version is already published
Package 47/113HostnameOS / ArchINSTALLBUILDCHECKBUILD BIN
GSEABenchmarkeR 1.18.0  (landing page)
Ludwig Geistlinger
git_last_commit: 144181f
git_last_commit_date: 2022-11-01 11:17:24 -0400
nebbiolo2Linux (Ubuntu 20.04.5 LTS) / x86_64  OK    OK    OK  UNNEEDED, same version is already published
palomino4Windows Server 2022 Datacenter / x64  OK    OK    OK    OK  UNNEEDED, same version is already published
lconwaymacOS 12.5.1 Monterey / x86_64  OK    OK    OK    OK  UNNEEDED, same version is already published
Package 48/113HostnameOS / ArchINSTALLBUILDCHECKBUILD BIN
hermes 1.2.0  (landing page)
Daniel Sabanés Bové
git_last_commit: e704cda
git_last_commit_date: 2022-11-01 11:26:13 -0400
nebbiolo2Linux (Ubuntu 20.04.5 LTS) / x86_64  OK    OK    OK  UNNEEDED, same version is already published
palomino4Windows Server 2022 Datacenter / x64  OK    OK    OK    OK  UNNEEDED, same version is already published
lconwaymacOS 12.5.1 Monterey / x86_64  OK    OK    OK    OK  UNNEEDED, same version is already published
Package 49/113HostnameOS / ArchINSTALLBUILDCHECKBUILD BIN
HTSFilter 1.38.0  (landing page)
Andrea Rau
git_last_commit: fdc6147
git_last_commit_date: 2022-11-01 11:07:49 -0400
nebbiolo2Linux (Ubuntu 20.04.5 LTS) / x86_64  OK    OK    OK  UNNEEDED, same version is already published
palomino4Windows Server 2022 Datacenter / x64  OK    OK    OK    OK  UNNEEDED, same version is already published
lconwaymacOS 12.5.1 Monterey / x86_64  OK    OK    OK    OK  UNNEEDED, same version is already published
Package 50/113HostnameOS / ArchINSTALLBUILDCHECKBUILD BIN
icetea 1.16.0  (landing page)
Vivek Bhardwaj
git_last_commit: d148550
git_last_commit_date: 2022-11-01 11:18:00 -0400
nebbiolo2Linux (Ubuntu 20.04.5 LTS) / x86_64  OK    OK    OK  UNNEEDED, same version is already published
palomino4Windows Server 2022 Datacenter / x64  OK    OK    OK    OK  UNNEEDED, same version is already published
lconwaymacOS 12.5.1 Monterey / x86_64  OK    OK    OK    OK  UNNEEDED, same version is already published
Package 51/113HostnameOS / ArchINSTALLBUILDCHECKBUILD BIN
infercnv 1.14.2  (landing page)
Christophe Georgescu
git_last_commit: 1cf5a95
git_last_commit_date: 2023-03-08 11:11:29 -0400
nebbiolo2Linux (Ubuntu 20.04.5 LTS) / x86_64  OK    OK    OK  UNNEEDED, same version is already published
palomino4Windows Server 2022 Datacenter / x64  OK    OK    OK    OK  UNNEEDED, same version is already published
lconwaymacOS 12.5.1 Monterey / x86_64  OK    OK    OK    OK  UNNEEDED, same version is already published
Package 52/113HostnameOS / ArchINSTALLBUILDCHECKBUILD BIN
IntEREst 1.22.2  (landing page)
Ali Oghabian , Mikko Frilander
git_last_commit: 4c44b57
git_last_commit_date: 2022-11-07 08:34:48 -0400
nebbiolo2Linux (Ubuntu 20.04.5 LTS) / x86_64  OK    OK    OK  UNNEEDED, same version is already published
palomino4Windows Server 2022 Datacenter / x64  OK    OK    OK    OK  UNNEEDED, same version is already published
lconwaymacOS 12.5.1 Monterey / x86_64  OK    OK    OK    OK  UNNEEDED, same version is already published
Package 53/113HostnameOS / ArchINSTALLBUILDCHECKBUILD BIN
IsoformSwitchAnalyzeR 1.20.0  (landing page)
Kristoffer Vitting-Seerup
git_last_commit: bde4595
git_last_commit_date: 2022-11-01 11:15:48 -0400
nebbiolo2Linux (Ubuntu 20.04.5 LTS) / x86_64  OK    ERROR  skipped
palomino4Windows Server 2022 Datacenter / x64  OK    ERROR  skippedskipped
lconwaymacOS 12.5.1 Monterey / x86_64  OK    ERROR  skippedskipped
Package 54/113HostnameOS / ArchINSTALLBUILDCHECKBUILD BIN
KnowSeq 1.12.0  (landing page)
Daniel Castillo-Secilla
git_last_commit: 74e466f
git_last_commit_date: 2022-11-01 11:20:07 -0400
nebbiolo2Linux (Ubuntu 20.04.5 LTS) / x86_64  OK    OK    OK  UNNEEDED, same version is already published
palomino4Windows Server 2022 Datacenter / x64  OK    OK    OK    OK  UNNEEDED, same version is already published
lconwaymacOS 12.5.1 Monterey / x86_64  OK    OK    OK    OK  UNNEEDED, same version is already published
Package 55/113HostnameOS / ArchINSTALLBUILDCHECKBUILD BIN
Maaslin2 1.12.0  (landing page)
Lauren McIver
git_last_commit: db35cac
git_last_commit_date: 2022-11-01 11:20:14 -0400
nebbiolo2Linux (Ubuntu 20.04.5 LTS) / x86_64  OK    OK    OK  UNNEEDED, same version is already published
palomino4Windows Server 2022 Datacenter / x64  OK    OK    OK    OK  UNNEEDED, same version is already published
lconwaymacOS 12.5.1 Monterey / x86_64  OK    OK    OK    OK  UNNEEDED, same version is already published
Package 56/113HostnameOS / ArchINSTALLBUILDCHECKBUILD BIN
MEDIPS 1.50.0  (landing page)
Lukas Chavez
git_last_commit: 04e00ee
git_last_commit_date: 2022-11-01 11:05:24 -0400
nebbiolo2Linux (Ubuntu 20.04.5 LTS) / x86_64  OK    OK    OK  UNNEEDED, same version is already published
palomino4Windows Server 2022 Datacenter / x64  OK    OK    OK    OK  UNNEEDED, same version is already published
lconwaymacOS 12.5.1 Monterey / x86_64  OK    OK    OK    OK  UNNEEDED, same version is already published
Package 57/113HostnameOS / ArchINSTALLBUILDCHECKBUILD BIN
metaseqR2 1.10.0  (landing page)
Panagiotis Moulos
git_last_commit: 73e2738
git_last_commit_date: 2022-11-01 11:22:03 -0400
nebbiolo2Linux (Ubuntu 20.04.5 LTS) / x86_64  OK    OK    WARNINGS  UNNEEDED, same version is already published
palomino4Windows Server 2022 Datacenter / x64  OK    OK    WARNINGS    OK  UNNEEDED, same version is already published
lconwaymacOS 12.5.1 Monterey / x86_64  OK    OK    WARNINGS    OK  UNNEEDED, same version is already published
Package 58/113HostnameOS / ArchINSTALLBUILDCHECKBUILD BIN
methylMnM 1.36.0  (landing page)
Yan Zhou
git_last_commit: 930c886
git_last_commit_date: 2022-11-01 11:08:50 -0400
nebbiolo2Linux (Ubuntu 20.04.5 LTS) / x86_64  OK    OK    OK  UNNEEDED, same version is already published
palomino4Windows Server 2022 Datacenter / x64  OK    OK    OK    OK  UNNEEDED, same version is already published
lconwaymacOS 12.5.1 Monterey / x86_64  OK    OK    OK    OK  UNNEEDED, same version is already published
Package 59/113HostnameOS / ArchINSTALLBUILDCHECKBUILD BIN
microbiomeMarker 1.4.0  (landing page)
Yang Cao
git_last_commit: ab8f294
git_last_commit_date: 2022-11-01 11:25:50 -0400
nebbiolo2Linux (Ubuntu 20.04.5 LTS) / x86_64  OK    OK    OK  UNNEEDED, same version is already published
palomino4Windows Server 2022 Datacenter / x64  OK    OK    OK    OK  UNNEEDED, same version is already published
lconwaymacOS 12.5.1 Monterey / x86_64  OK    OK    OK    OK  UNNEEDED, same version is already published
Package 60/113HostnameOS / ArchINSTALLBUILDCHECKBUILD BIN
MIGSA 1.22.0  (landing page)
Juan C. Rodriguez
git_last_commit: 1fc847d
git_last_commit_date: 2022-11-01 11:15:16 -0400
nebbiolo2Linux (Ubuntu 20.04.5 LTS) / x86_64  OK    ERROR  skipped
palomino4Windows Server 2022 Datacenter / x64  OK    ERROR  skippedskipped
lconwaymacOS 12.5.1 Monterey / x86_64  OK    ERROR  skippedskipped
Package 61/113HostnameOS / ArchINSTALLBUILDCHECKBUILD BIN
miloR 1.6.0  (landing page)
Mike Morgan
git_last_commit: 9f2b6cb
git_last_commit_date: 2022-11-01 11:24:51 -0400
nebbiolo2Linux (Ubuntu 20.04.5 LTS) / x86_64  OK    OK    OK  UNNEEDED, same version is already published
palomino4Windows Server 2022 Datacenter / x64  OK    OK    OK    OK  UNNEEDED, same version is already published
lconwaymacOS 12.5.1 Monterey / x86_64  OK    OK    OK    OK  UNNEEDED, same version is already published
Package 62/113HostnameOS / ArchINSTALLBUILDCHECKBUILD BIN
MLSeq 2.16.0  (landing page)
Gokmen Zararsiz
git_last_commit: 42c5e33
git_last_commit_date: 2022-11-01 11:09:20 -0400
nebbiolo2Linux (Ubuntu 20.04.5 LTS) / x86_64  OK    OK    OK  UNNEEDED, same version is already published
palomino4Windows Server 2022 Datacenter / x64  OK    OK    OK    OK  UNNEEDED, same version is already published
lconwaymacOS 12.5.1 Monterey / x86_64  OK    OK    OK    OK  UNNEEDED, same version is already published
Package 63/113HostnameOS / ArchINSTALLBUILDCHECKBUILD BIN
moanin 1.6.0  (landing page)
Nelle Varoquaux
git_last_commit: 02230d6
git_last_commit_date: 2022-11-01 11:23:27 -0400
nebbiolo2Linux (Ubuntu 20.04.5 LTS) / x86_64  OK    OK    OK  UNNEEDED, same version is already published
palomino4Windows Server 2022 Datacenter / x64  OK    OK    OK    OK  UNNEEDED, same version is already published
lconwaymacOS 12.5.1 Monterey / x86_64  OK    OK    OK    OK  UNNEEDED, same version is already published
Package 64/113HostnameOS / ArchINSTALLBUILDCHECKBUILD BIN
Motif2Site 1.2.0  (landing page)
Peyman Zarrineh
git_last_commit: 6015b74
git_last_commit_date: 2022-11-01 11:26:28 -0400
nebbiolo2Linux (Ubuntu 20.04.5 LTS) / x86_64  OK    OK    OK  UNNEEDED, same version is already published
palomino4Windows Server 2022 Datacenter / x64  OK    OK    OK    OK  UNNEEDED, same version is already published
lconwaymacOS 12.5.1 Monterey / x86_64  OK    OK    OK    OK  UNNEEDED, same version is already published
Package 65/113HostnameOS / ArchINSTALLBUILDCHECKBUILD BIN
msgbsR 1.22.0  (landing page)
Benjamin Mayne
git_last_commit: a480eaf
git_last_commit_date: 2022-11-01 11:15:43 -0400
nebbiolo2Linux (Ubuntu 20.04.5 LTS) / x86_64  OK    OK    OK  UNNEEDED, same version is already published
palomino4Windows Server 2022 Datacenter / x64  OK    OK    OK    OK  UNNEEDED, same version is already published
lconwaymacOS 12.5.1 Monterey / x86_64  OK    OK    OK    OK  UNNEEDED, same version is already published
Package 66/113HostnameOS / ArchINSTALLBUILDCHECKBUILD BIN
msmsTests 1.36.0  (landing page)
Josep Gregori i Font
git_last_commit: 9273375
git_last_commit_date: 2022-11-01 11:08:31 -0400
nebbiolo2Linux (Ubuntu 20.04.5 LTS) / x86_64  OK    OK    OK  UNNEEDED, same version is already published
palomino4Windows Server 2022 Datacenter / x64  OK    OK    OK    OK  UNNEEDED, same version is already published
lconwaymacOS 12.5.1 Monterey / x86_64  OK    OK    OK    OK  UNNEEDED, same version is already published
Package 67/113HostnameOS / ArchINSTALLBUILDCHECKBUILD BIN
multiHiCcompare 1.16.0  (landing page)
John Stansfield , Mikhail Dozmorov
git_last_commit: 26aac53
git_last_commit_date: 2022-11-01 11:18:16 -0400
nebbiolo2Linux (Ubuntu 20.04.5 LTS) / x86_64  OK    OK    OK  UNNEEDED, same version is already published
palomino4Windows Server 2022 Datacenter / x64  OK    OK    OK    OK  UNNEEDED, same version is already published
lconwaymacOS 12.5.1 Monterey / x86_64  OK    OK    OK    OK  UNNEEDED, same version is already published
Package 68/113HostnameOS / ArchINSTALLBUILDCHECKBUILD BIN
muscat 1.12.1  (landing page)
Helena L. Crowell
git_last_commit: ae0feb7
git_last_commit_date: 2023-02-08 11:43:59 -0400
nebbiolo2Linux (Ubuntu 20.04.5 LTS) / x86_64  OK    OK    OK  UNNEEDED, same version is already published
palomino4Windows Server 2022 Datacenter / x64  OK    OK    ERROR    OK  
lconwaymacOS 12.5.1 Monterey / x86_64  OK    ERROR  skippedskipped
Package 69/113HostnameOS / ArchINSTALLBUILDCHECKBUILD BIN
NBSplice 1.16.0  (landing page)
Gabriela Merino
git_last_commit: 83dd630
git_last_commit_date: 2022-11-01 11:18:07 -0400
nebbiolo2Linux (Ubuntu 20.04.5 LTS) / x86_64  ERROR    ERROR  skipped
palomino4Windows Server 2022 Datacenter / x64  ERROR    ERROR  skippedskipped
lconwaymacOS 12.5.1 Monterey / x86_64  ERROR    ERROR  skippedskipped
Package 70/113HostnameOS / ArchINSTALLBUILDCHECKBUILD BIN
octad 1.0.0  (landing page)
E. Chekalin
git_last_commit: 9ea3c9a
git_last_commit_date: 2022-11-01 11:27:51 -0400
nebbiolo2Linux (Ubuntu 20.04.5 LTS) / x86_64  OK    OK    OK  UNNEEDED, same version is already published
palomino4Windows Server 2022 Datacenter / x64  OK    OK    OK    OK  UNNEEDED, same version is already published
lconwaymacOS 12.5.1 Monterey / x86_64  OK    OK    OK    OK  UNNEEDED, same version is already published
Package 71/113HostnameOS / ArchINSTALLBUILDCHECKBUILD BIN
PathoStat 1.24.0  (landing page)
Solaiappan Manimaran
git_last_commit: 0a8d481
git_last_commit_date: 2022-11-01 11:14:37 -0400
nebbiolo2Linux (Ubuntu 20.04.5 LTS) / x86_64  OK    OK    OK  UNNEEDED, same version is already published
palomino4Windows Server 2022 Datacenter / x64  OK    OK    OK    OK  UNNEEDED, same version is already published
lconwaymacOS 12.5.1 Monterey / x86_64  OK    OK    OK    OK  UNNEEDED, same version is already published
Package 72/113HostnameOS / ArchINSTALLBUILDCHECKBUILD BIN
PhIPData 1.6.0  (landing page)
Athena Chen
git_last_commit: 0b4522b
git_last_commit_date: 2022-11-01 11:24:09 -0400
nebbiolo2Linux (Ubuntu 20.04.5 LTS) / x86_64  OK    OK    OK  UNNEEDED, same version is already published
palomino4Windows Server 2022 Datacenter / x64  OK    OK    OK    OK  UNNEEDED, same version is already published
lconwaymacOS 12.5.1 Monterey / x86_64  OK    OK    OK    OK  UNNEEDED, same version is already published
Package 73/113HostnameOS / ArchINSTALLBUILDCHECKBUILD BIN
ppcseq 1.6.0  (landing page)
Stefano Mangiola
git_last_commit: 366ea46
git_last_commit_date: 2022-11-01 11:24:40 -0400
nebbiolo2Linux (Ubuntu 20.04.5 LTS) / x86_64  OK    OK    OK  UNNEEDED, same version is already published
palomino4Windows Server 2022 Datacenter / x64  OK    OK    OK    OK  UNNEEDED, same version is already published
lconwaymacOS 12.5.1 Monterey / x86_64  OK    OK    OK    OK  UNNEEDED, same version is already published
Package 74/113HostnameOS / ArchINSTALLBUILDCHECKBUILD BIN
PROPER 1.30.0  (landing page)
Hao Wu
git_last_commit: bf62862
git_last_commit_date: 2022-11-01 11:10:52 -0400
nebbiolo2Linux (Ubuntu 20.04.5 LTS) / x86_64  OK    OK    WARNINGS  UNNEEDED, same version is already published
palomino4Windows Server 2022 Datacenter / x64  OK    OK    WARNINGS    OK  UNNEEDED, same version is already published
lconwaymacOS 12.5.1 Monterey / x86_64  OK    OK    WARNINGS    OK  UNNEEDED, same version is already published
Package 75/113HostnameOS / ArchINSTALLBUILDCHECKBUILD BIN
psichomics 1.24.0  (landing page)
Nuno Saraiva-Agostinho
git_last_commit: ff95655
git_last_commit_date: 2022-11-01 11:14:40 -0400
nebbiolo2Linux (Ubuntu 20.04.5 LTS) / x86_64  OK    OK    OK  UNNEEDED, same version is already published
palomino4Windows Server 2022 Datacenter / x64  OK    OK    OK    OK  UNNEEDED, same version is already published
lconwaymacOS 12.5.1 Monterey / x86_64  OK    ERROR  skippedskipped
Package 76/113HostnameOS / ArchINSTALLBUILDCHECKBUILD BIN
RCM 1.14.0  (landing page)
Stijn Hawinkel
git_last_commit: 9b7c6fb
git_last_commit_date: 2022-11-01 11:19:03 -0400
nebbiolo2Linux (Ubuntu 20.04.5 LTS) / x86_64  OK    OK    OK  UNNEEDED, same version is already published
palomino4Windows Server 2022 Datacenter / x64  OK    OK    OK    OK  UNNEEDED, same version is already published
lconwaymacOS 12.5.1 Monterey / x86_64  OK    OK    OK    OK  UNNEEDED, same version is already published
Package 77/113HostnameOS / ArchINSTALLBUILDCHECKBUILD BIN
regsplice 1.24.0  (landing page)
Lukas M. Weber
git_last_commit: 72ba021
git_last_commit_date: 2022-11-01 11:14:46 -0400
nebbiolo2Linux (Ubuntu 20.04.5 LTS) / x86_64  OK    OK    OK  UNNEEDED, same version is already published
palomino4Windows Server 2022 Datacenter / x64  OK    OK    OK    OK  UNNEEDED, same version is already published
lconwaymacOS 12.5.1 Monterey / x86_64  OK    OK    OK    OK  UNNEEDED, same version is already published
Package 78/113HostnameOS / ArchINSTALLBUILDCHECKBUILD BIN
Repitools 1.44.0  (landing page)
Mark Robinson
git_last_commit: 5f359d2
git_last_commit_date: 2022-11-01 11:06:01 -0400
nebbiolo2Linux (Ubuntu 20.04.5 LTS) / x86_64  OK    OK    OK  UNNEEDED, same version is already published
palomino4Windows Server 2022 Datacenter / x64  OK    OK    OK    OK  UNNEEDED, same version is already published
lconwaymacOS 12.5.1 Monterey / x86_64  OK    OK    OK    OK  UNNEEDED, same version is already published
Package 79/113HostnameOS / ArchINSTALLBUILDCHECKBUILD BIN
ReportingTools 2.38.0  (landing page)
Jason A. Hackney , Gabriel Becker
git_last_commit: 5c4971e
git_last_commit_date: 2022-11-01 11:07:25 -0400
nebbiolo2Linux (Ubuntu 20.04.5 LTS) / x86_64  OK    ERROR  skipped
palomino4Windows Server 2022 Datacenter / x64  OK    ERROR  skippedskipped
lconwaymacOS 12.5.1 Monterey / x86_64  OK    ERROR  skippedskipped
Package 80/113HostnameOS / ArchINSTALLBUILDCHECKBUILD BIN
RNASeqR 1.16.0  (landing page)
Kuan-Hao Chao
git_last_commit: 0f6d741
git_last_commit_date: 2022-11-01 11:18:37 -0400
nebbiolo2Linux (Ubuntu 20.04.5 LTS) / x86_64  OK    OK    ERROR  
palomino4Windows Server 2022 Datacenter / x64... NOT SUPPORTED ...
lconwaymacOS 12.5.1 Monterey / x86_64  OK    OK    ERROR    OK  
Package 81/113HostnameOS / ArchINSTALLBUILDCHECKBUILD BIN
RnaSeqSampleSize 2.8.0  (landing page)
Shilin Zhao Developer
git_last_commit: 01c7c52
git_last_commit_date: 2022-11-01 11:23:06 -0400
nebbiolo2Linux (Ubuntu 20.04.5 LTS) / x86_64  OK    OK    OK  UNNEEDED, same version is already published
palomino4Windows Server 2022 Datacenter / x64  OK    OK    OK    OK  UNNEEDED, same version is already published
lconwaymacOS 12.5.1 Monterey / x86_64  OK    OK    OK    OK  UNNEEDED, same version is already published
Package 82/113HostnameOS / ArchINSTALLBUILDCHECKBUILD BIN
ROSeq 1.10.0  (landing page)
Krishan Gupta
git_last_commit: a68c870
git_last_commit_date: 2022-11-01 11:21:57 -0400
nebbiolo2Linux (Ubuntu 20.04.5 LTS) / x86_64  OK    OK    WARNINGS  UNNEEDED, same version is already published
palomino4Windows Server 2022 Datacenter / x64  OK    OK    WARNINGS    OK  UNNEEDED, same version is already published
lconwaymacOS 12.5.1 Monterey / x86_64  OK    OK    WARNINGS    OK  UNNEEDED, same version is already published
Package 83/113HostnameOS / ArchINSTALLBUILDCHECKBUILD BIN
RUVSeq 1.32.0  (landing page)
Davide Risso
git_last_commit: 800ee8e
git_last_commit_date: 2022-11-01 11:09:48 -0400
nebbiolo2Linux (Ubuntu 20.04.5 LTS) / x86_64  OK    OK    OK  UNNEEDED, same version is already published
palomino4Windows Server 2022 Datacenter / x64  OK    OK    OK    OK  UNNEEDED, same version is already published
lconwaymacOS 12.5.1 Monterey / x86_64  OK    OK    OK    OK  UNNEEDED, same version is already published
Package 84/113HostnameOS / ArchINSTALLBUILDCHECKBUILD BIN
scCB2 1.8.0  (landing page)
Zijian Ni
git_last_commit: e5f084d
git_last_commit_date: 2022-11-01 11:22:23 -0400
nebbiolo2Linux (Ubuntu 20.04.5 LTS) / x86_64  OK    OK    OK  UNNEEDED, same version is already published
palomino4Windows Server 2022 Datacenter / x64  OK    OK    OK    OK  UNNEEDED, same version is already published
lconwaymacOS 12.5.1 Monterey / x86_64  OK    OK    OK    OK  UNNEEDED, same version is already published
Package 85/113HostnameOS / ArchINSTALLBUILDCHECKBUILD BIN
scde 2.26.2  (landing page)
Jean Fan
git_last_commit: 42cdc08
git_last_commit_date: 2023-01-19 11:18:19 -0400
nebbiolo2Linux (Ubuntu 20.04.5 LTS) / x86_64  OK    OK    WARNINGS  UNNEEDED, same version is already published
palomino4Windows Server 2022 Datacenter / x64  OK    OK    WARNINGS    OK  UNNEEDED, same version is already published
lconwaymacOS 12.5.1 Monterey / x86_64  OK    OK    WARNINGS    OK  UNNEEDED, same version is already published
Package 86/113HostnameOS / ArchINSTALLBUILDCHECKBUILD BIN
scone 1.22.0  (landing page)
Davide Risso
git_last_commit: ce782b3
git_last_commit_date: 2022-11-01 11:15:00 -0400
nebbiolo2Linux (Ubuntu 20.04.5 LTS) / x86_64  OK    OK    OK  UNNEEDED, same version is already published
palomino4Windows Server 2022 Datacenter / x64  OK    OK    OK    OK  UNNEEDED, same version is already published
lconwaymacOS 12.5.1 Monterey / x86_64  OK    OK    OK    OK  UNNEEDED, same version is already published
Package 87/113HostnameOS / ArchINSTALLBUILDCHECKBUILD BIN
scran 1.26.2  (landing page)
Aaron Lun
git_last_commit: 0cdaef6
git_last_commit_date: 2023-01-19 11:18:27 -0400
nebbiolo2Linux (Ubuntu 20.04.5 LTS) / x86_64  OK    OK    WARNINGS  UNNEEDED, same version is already published
palomino4Windows Server 2022 Datacenter / x64  OK    OK    WARNINGS    OK  UNNEEDED, same version is already published
lconwaymacOS 12.5.1 Monterey / x86_64  OK    OK    WARNINGS    OK  UNNEEDED, same version is already published
Package 88/113HostnameOS / ArchINSTALLBUILDCHECKBUILD BIN
ScreenR 1.0.0  (landing page)
Emanuel Michele Soda
git_last_commit: e401f4b
git_last_commit_date: 2022-11-01 11:27:09 -0400
nebbiolo2Linux (Ubuntu 20.04.5 LTS) / x86_64  OK    OK    OK  UNNEEDED, same version is already published
palomino4Windows Server 2022 Datacenter / x64  OK    OK    OK    OK  UNNEEDED, same version is already published
lconwaymacOS 12.5.1 Monterey / x86_64  OK    OK    OK    OK  UNNEEDED, same version is already published
Package 89/113HostnameOS / ArchINSTALLBUILDCHECKBUILD BIN
SEtools 1.12.0  (landing page)
Pierre-Luc Germain
git_last_commit: ed5fccf
git_last_commit_date: 2022-11-01 11:20:30 -0400
nebbiolo2Linux (Ubuntu 20.04.5 LTS) / x86_64  OK    OK    OK  UNNEEDED, same version is already published
palomino4Windows Server 2022 Datacenter / x64  OK    OK    OK    OK  UNNEEDED, same version is already published
lconwaymacOS 12.5.1 Monterey / x86_64  OK    OK    OK    OK  UNNEEDED, same version is already published
Package 90/113HostnameOS / ArchINSTALLBUILDCHECKBUILD BIN
SIMD 1.16.0  (landing page)
Jiadi Zhu
git_last_commit: 61c0e03
git_last_commit_date: 2022-11-01 11:18:27 -0400
nebbiolo2Linux (Ubuntu 20.04.5 LTS) / x86_64  OK    OK    OK  UNNEEDED, same version is already published
palomino4Windows Server 2022 Datacenter / x64  OK    OK    OK    OK  UNNEEDED, same version is already published
lconwaymacOS 12.5.1 Monterey / x86_64  OK    OK    OK    OK  UNNEEDED, same version is already published
Package 91/113HostnameOS / ArchINSTALLBUILDCHECKBUILD BIN
SingleCellSignalR 1.10.0  (landing page)
Jacques Colinge
git_last_commit: f59a771
git_last_commit_date: 2022-11-01 11:22:02 -0400
nebbiolo2Linux (Ubuntu 20.04.5 LTS) / x86_64  OK    OK    WARNINGS  UNNEEDED, same version is already published
palomino4Windows Server 2022 Datacenter / x64  OK    OK    WARNINGS    OK  UNNEEDED, same version is already published
lconwaymacOS 12.5.1 Monterey / x86_64  OK    OK    WARNINGS    OK  UNNEEDED, same version is already published
Package 92/113HostnameOS / ArchINSTALLBUILDCHECKBUILD BIN
singscore 1.18.0  (landing page)
Dharmesh D. Bhuva
git_last_commit: c1f64d2
git_last_commit_date: 2022-11-01 11:17:48 -0400
nebbiolo2Linux (Ubuntu 20.04.5 LTS) / x86_64  OK    OK    OK  UNNEEDED, same version is already published
palomino4Windows Server 2022 Datacenter / x64  OK    OK    OK    OK  UNNEEDED, same version is already published
lconwaymacOS 12.5.1 Monterey / x86_64  OK    OK    OK    OK  UNNEEDED, same version is already published
Package 93/113HostnameOS / ArchINSTALLBUILDCHECKBUILD BIN
sparrow 1.4.0  (landing page)
Steve Lianoglou
git_last_commit: 71b4d4c
git_last_commit_date: 2022-11-01 11:25:47 -0400
nebbiolo2Linux (Ubuntu 20.04.5 LTS) / x86_64  OK    OK    OK  UNNEEDED, same version is already published
palomino4Windows Server 2022 Datacenter / x64  OK    OK    OK    OK  UNNEEDED, same version is already published
lconwaymacOS 12.5.1 Monterey / x86_64  OK    OK    OK    OK  UNNEEDED, same version is already published
Package 94/113HostnameOS / ArchINSTALLBUILDCHECKBUILD BIN
spatialHeatmap 2.4.0  (landing page)
Jianhai Zhang
git_last_commit: ed77bd2
git_last_commit_date: 2022-11-01 11:23:02 -0400
nebbiolo2Linux (Ubuntu 20.04.5 LTS) / x86_64  OK    OK    OK  UNNEEDED, same version is already published
palomino4Windows Server 2022 Datacenter / x64  OK    OK    OK    OK  UNNEEDED, same version is already published
lconwaymacOS 12.5.1 Monterey / x86_64  OK    OK    OK    OK  UNNEEDED, same version is already published
Package 95/113HostnameOS / ArchINSTALLBUILDCHECKBUILD BIN
splatter 1.22.1  (landing page)
Luke Zappia
git_last_commit: 22d3e70
git_last_commit_date: 2023-01-30 05:25:12 -0400
nebbiolo2Linux (Ubuntu 20.04.5 LTS) / x86_64  OK    OK    OK  UNNEEDED, same version is already published
palomino4Windows Server 2022 Datacenter / x64  OK    OK    OK    OK  UNNEEDED, same version is already published
lconwaymacOS 12.5.1 Monterey / x86_64  OK    OK    OK    OK  UNNEEDED, same version is already published
Package 96/113HostnameOS / ArchINSTALLBUILDCHECKBUILD BIN
SPsimSeq 1.8.0  (landing page)
Joris Meys
git_last_commit: e7dc76b
git_last_commit_date: 2022-11-01 11:22:15 -0400
nebbiolo2Linux (Ubuntu 20.04.5 LTS) / x86_64  OK    OK    OK  UNNEEDED, same version is already published
palomino4Windows Server 2022 Datacenter / x64  OK    OK    OK    OK  UNNEEDED, same version is already published
lconwaymacOS 12.5.1 Monterey / x86_64  OK    OK    OK    OK  UNNEEDED, same version is already published
Package 97/113HostnameOS / ArchINSTALLBUILDCHECKBUILD BIN
srnadiff 1.18.2  (landing page)
Zytnicki Matthias
git_last_commit: 53b3bbd
git_last_commit_date: 2023-03-06 15:38:52 -0400
nebbiolo2Linux (Ubuntu 20.04.5 LTS) / x86_64  OK    OK    WARNINGS  UNNEEDED, same version is already published
palomino4Windows Server 2022 Datacenter / x64  OK    OK    WARNINGS    OK  UNNEEDED, same version is already published
lconwaymacOS 12.5.1 Monterey / x86_64  OK    OK    WARNINGS    OK  UNNEEDED, same version is already published
Package 98/113HostnameOS / ArchINSTALLBUILDCHECKBUILD BIN
sSNAPPY 1.2.5  (landing page)
Wenjun Liu
git_last_commit: 483e456
git_last_commit_date: 2023-03-28 20:18:03 -0400
nebbiolo2Linux (Ubuntu 20.04.5 LTS) / x86_64  OK    OK    OK  UNNEEDED, same version is already published
palomino4Windows Server 2022 Datacenter / x64  OK    OK    OK    OK  UNNEEDED, same version is already published
lconwaymacOS 12.5.1 Monterey / x86_64  OK    OK    OK    OK  UNNEEDED, same version is already published
Package 99/113HostnameOS / ArchINSTALLBUILDCHECKBUILD BIN
standR 1.2.2  (landing page)
Ning Liu
git_last_commit: 90adf62
git_last_commit_date: 2023-02-06 19:56:21 -0400
nebbiolo2Linux (Ubuntu 20.04.5 LTS) / x86_64  OK    OK    OK  UNNEEDED, same version is already published
palomino4Windows Server 2022 Datacenter / x64  OK    OK    OK    OK  UNNEEDED, same version is already published
lconwaymacOS 12.5.1 Monterey / x86_64  OK    OK    OK    OK  UNNEEDED, same version is already published
Package 100/113HostnameOS / ArchINSTALLBUILDCHECKBUILD BIN
STATegRa 1.34.0  (landing page)
David Gomez-Cabrero , Núria Planell
git_last_commit: d046aca
git_last_commit_date: 2022-11-01 11:10:35 -0400
nebbiolo2Linux (Ubuntu 20.04.5 LTS) / x86_64  OK    OK    OK  UNNEEDED, same version is already published
palomino4Windows Server 2022 Datacenter / x64  OK    OK    OK    OK  UNNEEDED, same version is already published
lconwaymacOS 12.5.1 Monterey / x86_64  OK    OK    OK    OK  UNNEEDED, same version is already published
Package 101/113HostnameOS / ArchINSTALLBUILDCHECKBUILD BIN
sva 3.46.0  (landing page)
Jeffrey T. Leek , John D. Storey
git_last_commit: 4aac49c
git_last_commit_date: 2022-11-01 11:06:24 -0400
nebbiolo2Linux (Ubuntu 20.04.5 LTS) / x86_64  OK    OK    OK  UNNEEDED, same version is already published
palomino4Windows Server 2022 Datacenter / x64  OK    OK    OK    OK  UNNEEDED, same version is already published
lconwaymacOS 12.5.1 Monterey / x86_64  OK    OK    OK    OK  UNNEEDED, same version is already published
Package 102/113HostnameOS / ArchINSTALLBUILDCHECKBUILD BIN
TBSignatureProfiler 1.10.0  (landing page)
Aubrey R. Odom-Mabey
git_last_commit: d5d3e43
git_last_commit_date: 2022-11-01 11:21:57 -0400
nebbiolo2Linux (Ubuntu 20.04.5 LTS) / x86_64  OK    OK    ERROR  
palomino4Windows Server 2022 Datacenter / x64  OK    OK    OK    OK  UNNEEDED, same version is already published
lconwaymacOS 12.5.1 Monterey / x86_64  OK    OK    OK    OK  UNNEEDED, same version is already published
Package 103/113HostnameOS / ArchINSTALLBUILDCHECKBUILD BIN
TCC 1.38.0  (landing page)
Jianqiang Sun
git_last_commit: 81d0810
git_last_commit_date: 2022-11-01 11:08:38 -0400
nebbiolo2Linux (Ubuntu 20.04.5 LTS) / x86_64  OK    OK    OK  UNNEEDED, same version is already published
palomino4Windows Server 2022 Datacenter / x64  OK    OK    OK    OK  UNNEEDED, same version is already published
lconwaymacOS 12.5.1 Monterey / x86_64  OK    OK    OK    OK  UNNEEDED, same version is already published
Package 104/113HostnameOS / ArchINSTALLBUILDCHECKBUILD BIN
TCseq 1.22.6  (landing page)
Mengjun Wu
git_last_commit: 768d487
git_last_commit_date: 2023-01-30 12:53:26 -0400
nebbiolo2Linux (Ubuntu 20.04.5 LTS) / x86_64  OK    OK    WARNINGS  UNNEEDED, same version is already published
palomino4Windows Server 2022 Datacenter / x64  OK    OK    WARNINGS    OK  UNNEEDED, same version is already published
lconwaymacOS 12.5.1 Monterey / x86_64  OK    OK    WARNINGS    OK  UNNEEDED, same version is already published
Package 105/113HostnameOS / ArchINSTALLBUILDCHECKBUILD BIN
TimeSeriesExperiment 1.16.0  (landing page)
Lan Huong Nguyen
git_last_commit: 341d228
git_last_commit_date: 2022-11-01 11:18:50 -0400
nebbiolo2Linux (Ubuntu 20.04.5 LTS) / x86_64  OK    ERROR  skipped
palomino4Windows Server 2022 Datacenter / x64  OK    ERROR  skippedskipped
lconwaymacOS 12.5.1 Monterey / x86_64  OK    ERROR  skippedskipped
Package 106/113HostnameOS / ArchINSTALLBUILDCHECKBUILD BIN
tradeSeq 1.12.0  (landing page)
Hector Roux de Bezieux
git_last_commit: 5fdc85b
git_last_commit_date: 2022-11-01 11:20:58 -0400
nebbiolo2Linux (Ubuntu 20.04.5 LTS) / x86_64  OK    OK    OK  UNNEEDED, same version is already published
palomino4Windows Server 2022 Datacenter / x64  OK    OK    OK    OK  UNNEEDED, same version is already published
lconwaymacOS 12.5.1 Monterey / x86_64  OK    OK    OK    OK  UNNEEDED, same version is already published
Package 107/113HostnameOS / ArchINSTALLBUILDCHECKBUILD BIN
tRanslatome 1.36.0  (landing page)
Toma Tebaldi , Erik Dassi
git_last_commit: a17b63e
git_last_commit_date: 2022-11-01 11:08:17 -0400
nebbiolo2Linux (Ubuntu 20.04.5 LTS) / x86_64  OK    OK    WARNINGS  UNNEEDED, same version is already published
palomino4Windows Server 2022 Datacenter / x64  OK    OK    WARNINGS    OK  UNNEEDED, same version is already published
lconwaymacOS 12.5.1 Monterey / x86_64  OK    OK    WARNINGS    OK  UNNEEDED, same version is already published
Package 108/113HostnameOS / ArchINSTALLBUILDCHECKBUILD BIN
treekoR 1.6.1  (landing page)
Adam Chan
git_last_commit: dedc94c
git_last_commit_date: 2023-02-08 17:45:47 -0400
nebbiolo2Linux (Ubuntu 20.04.5 LTS) / x86_64  OK    OK    OK  UNNEEDED, same version is already published
palomino4Windows Server 2022 Datacenter / x64  OK    OK    OK    OK  UNNEEDED, same version is already published
lconwaymacOS 12.5.1 Monterey / x86_64  OK    OK    OK    OK  UNNEEDED, same version is already published
Package 109/113HostnameOS / ArchINSTALLBUILDCHECKBUILD BIN
tweeDEseq 1.44.0  (landing page)
Juan R Gonzalez
git_last_commit: 8bd23d4
git_last_commit_date: 2022-11-01 11:06:29 -0400
nebbiolo2Linux (Ubuntu 20.04.5 LTS) / x86_64  OK    OK    OK  UNNEEDED, same version is already published
palomino4Windows Server 2022 Datacenter / x64  OK    OK    OK    OK  UNNEEDED, same version is already published
lconwaymacOS 12.5.1 Monterey / x86_64  OK    OK    OK    OK  UNNEEDED, same version is already published
Package 110/113HostnameOS / ArchINSTALLBUILDCHECKBUILD BIN
vidger 1.18.0  (landing page)
Brandon Monier
git_last_commit: dfad737
git_last_commit_date: 2022-11-01 11:17:14 -0400
nebbiolo2Linux (Ubuntu 20.04.5 LTS) / x86_64  OK    OK    OK  UNNEEDED, same version is already published
palomino4Windows Server 2022 Datacenter / x64  OK    OK    OK    OK  UNNEEDED, same version is already published
lconwaymacOS 12.5.1 Monterey / x86_64  OK    OK    OK    OK  UNNEEDED, same version is already published
Package 111/113HostnameOS / ArchINSTALLBUILDCHECKBUILD BIN
xcore 1.2.0  (landing page)
Maciej Migdał
git_last_commit: ec0fc51
git_last_commit_date: 2022-11-01 11:26:34 -0400
nebbiolo2Linux (Ubuntu 20.04.5 LTS) / x86_64  OK    OK    OK  UNNEEDED, same version is already published
palomino4Windows Server 2022 Datacenter / x64  OK    OK    OK    OK  UNNEEDED, same version is already published
lconwaymacOS 12.5.1 Monterey / x86_64  OK    OK    OK    OK  UNNEEDED, same version is already published
Package 112/113HostnameOS / ArchINSTALLBUILDCHECKBUILD BIN
yarn 1.24.0  (landing page)
Joseph N Paulson
git_last_commit: d3a9c5c
git_last_commit_date: 2022-11-01 11:14:50 -0400
nebbiolo2Linux (Ubuntu 20.04.5 LTS) / x86_64  OK    OK    OK  UNNEEDED, same version is already published
palomino4Windows Server 2022 Datacenter / x64  OK    OK    OK    OK  UNNEEDED, same version is already published
lconwaymacOS 12.5.1 Monterey / x86_64  OK    OK    OK    OK  UNNEEDED, same version is already published
Package 113/113HostnameOS / ArchINSTALLBUILDCHECKBUILD BIN
zinbwave 1.20.0  (landing page)
Davide Risso
git_last_commit: e1ee417
git_last_commit_date: 2022-11-01 11:15:49 -0400
nebbiolo2Linux (Ubuntu 20.04.5 LTS) / x86_64  OK    OK    OK  UNNEEDED, same version is already published
palomino4Windows Server 2022 Datacenter / x64  OK    OK    OK    OK  UNNEEDED, same version is already published
lconwaymacOS 12.5.1 Monterey / x86_64  OK    OK    OK    OK  UNNEEDED, same version is already published