Back to Multiple platform build/check report for BioC 3.16
ABCDEFGHIJKL[M]NOPQRSTUVWXYZ

This page was generated on 2022-08-12 11:06:26 -0400 (Fri, 12 Aug 2022).

HostnameOSArch (*)R versionInstalled pkgs
nebbiolo2Linux (Ubuntu 20.04.4 LTS)x86_644.2.1 (2022-06-23) -- "Funny-Looking Kid" 4375
palomino4Windows Server 2022 Datacenterx644.2.1 (2022-06-23 ucrt) -- "Funny-Looking Kid" 4159
lconwaymacOS 12.2.1 Montereyx86_644.2.1 Patched (2022-07-09 r82577) -- "Funny-Looking Kid" 4167
Click on any hostname to see more info about the system (e.g. compilers)      (*) as reported by 'uname -p', except on Windows and Mac OS X

BUILD results for MetaboSignal on palomino4


To the developers/maintainers of the MetaboSignal package:
- Please allow up to 24 hours (and sometimes 48 hours) for your latest push to git@git.bioconductor.org:packages/MetaboSignal.git to
reflect on this report. See How and When does the builder pull? When will my changes propagate? for more information.
- Make sure to use the following settings in order to reproduce any error or warning you see on this page.

raw results

Package 1123/2139HostnameOS / ArchINSTALLBUILDCHECKBUILD BIN
MetaboSignal 1.27.2  (landing page)
Andrea Rodriguez-Martinez
Snapshot Date: 2022-08-11 14:00:04 -0400 (Thu, 11 Aug 2022)
git_url: https://git.bioconductor.org/packages/MetaboSignal
git_branch: master
git_last_commit: 5277df4
git_last_commit_date: 2022-07-27 03:42:22 -0400 (Wed, 27 Jul 2022)
nebbiolo2Linux (Ubuntu 20.04.4 LTS) / x86_64  OK    OK    OK  UNNEEDED, same version is already published
palomino4Windows Server 2022 Datacenter / x64  OK    OK    OK    OK  UNNEEDED, same version is already published
lconwaymacOS 12.2.1 Monterey / x86_64  OK    OK    OK    OK  UNNEEDED, same version is already published

Summary

Package: MetaboSignal
Version: 1.27.2
Command: chmod a+r MetaboSignal -R && F:\biocbuild\bbs-3.16-bioc\R\bin\R.exe CMD build --keep-empty-dirs --no-resave-data MetaboSignal
StartedAt: 2022-08-11 19:34:39 -0400 (Thu, 11 Aug 2022)
EndedAt: 2022-08-11 19:36:35 -0400 (Thu, 11 Aug 2022)
EllapsedTime: 115.9 seconds
RetCode: 0
Status:   OK  
PackageFile: MetaboSignal_1.27.2.tar.gz
PackageFileSize: 2.089 MiB

Command output

##############################################################################
##############################################################################
###
### Running command:
###
###   chmod a+r MetaboSignal -R && F:\biocbuild\bbs-3.16-bioc\R\bin\R.exe CMD build --keep-empty-dirs --no-resave-data MetaboSignal
###
##############################################################################
##############################################################################


* checking for file 'MetaboSignal/DESCRIPTION' ... OK
* preparing 'MetaboSignal':
* checking DESCRIPTION meta-information ... OK
* installing the package to build vignettes
* creating vignettes ... OK
Warning: 'inst/doc' files
    'MetaboSignal.html', 'MetaboSignal2.html'
  ignored as vignettes have been rebuilt.
  Run R CMD build with --no-build-vignettes to prevent rebuilding.
* checking for LF line-endings in source and make files and shell scripts
* checking for empty or unneeded directories
* building 'MetaboSignal_1.27.2.tar.gz'