Back to Multiple platform build/check report for BioC 3.16
ABCDEFGHIJKL[M]NOPQRSTUVWXYZ

This page was generated on 2022-08-19 12:12:08 -0400 (Fri, 19 Aug 2022).

HostnameOSArch (*)R versionInstalled pkgs
nebbiolo2Linux (Ubuntu 20.04.4 LTS)x86_644.2.1 (2022-06-23) -- "Funny-Looking Kid" 4387
lconwaymacOS 12.2.1 Montereyx86_644.2.1 Patched (2022-07-09 r82577) -- "Funny-Looking Kid" 4177
Click on any hostname to see more info about the system (e.g. compilers)      (*) as reported by 'uname -p', except on Windows and Mac OS X

BUILD BIN results for MethReg on lconway


To the developers/maintainers of the MethReg package:
- Please allow up to 24 hours (and sometimes 48 hours) for your latest push to git@git.bioconductor.org:packages/MethReg.git to
reflect on this report. See How and When does the builder pull? When will my changes propagate? for more information.
- Make sure to use the following settings in order to reproduce any error or warning you see on this page.

raw results

Package 1147/2144HostnameOS / ArchINSTALLBUILDCHECKBUILD BIN
MethReg 1.7.0  (landing page)
Tiago Silva
Snapshot Date: 2022-08-18 14:00:04 -0400 (Thu, 18 Aug 2022)
git_url: https://git.bioconductor.org/packages/MethReg
git_branch: master
git_last_commit: 062b8a4
git_last_commit_date: 2022-04-28 13:32:26 -0400 (Thu, 28 Apr 2022)
nebbiolo2Linux (Ubuntu 20.04.4 LTS) / x86_64  OK    OK    WARNINGS  UNNEEDED, same version is already published
lconwaymacOS 12.2.1 Monterey / x86_64  OK    OK    WARNINGS    OK  UNNEEDED, same version is already published

Summary

Package: MethReg
Version: 1.7.0
Command: rm -rf MethReg.buildbin-libdir && mkdir MethReg.buildbin-libdir && /Users/biocbuild/BBS/utils/build-universal.sh MethReg_1.7.0.tar.gz /Library/Frameworks/R.framework/Resources/bin/R MethReg.buildbin-libdir
StartedAt: 2022-08-18 23:33:52 -0400 (Thu, 18 Aug 2022)
EndedAt: 2022-08-18 23:34:39 -0400 (Thu, 18 Aug 2022)
EllapsedTime: 47.8 seconds
RetCode: 0
Status:   OK  
PackageFile: MethReg_1.7.0.tgz
PackageFileSize: 4.252 MiB

Command output

##############################################################################
##############################################################################
###
### Running command:
###
###   rm -rf MethReg.buildbin-libdir && mkdir MethReg.buildbin-libdir && /Users/biocbuild/BBS/utils/build-universal.sh MethReg_1.7.0.tar.gz /Library/Frameworks/R.framework/Resources/bin/R MethReg.buildbin-libdir
###
##############################################################################
##############################################################################


>>>>>>> 
>>>>>>> INSTALLATION WITH 'R CMD INSTALL --preclean --no-multiarch --library=MethReg.buildbin-libdir MethReg_1.7.0.tar.gz'
>>>>>>> 

* installing *source* package ‘MethReg’ ...
** using staged installation
** R
** data
*** moving datasets to lazyload DB
** inst
** byte-compile and prepare package for lazy loading
** help
*** installing help indices
** building package indices
** installing vignettes
** testing if installed package can be loaded from temporary location
** testing if installed package can be loaded from final location
** testing if installed package keeps a record of temporary installation path
* DONE (MethReg)