Back to Multiple platform build/check report for BioC 3.16:   simplified   long
AB[C]DEFGHIJKLMNOPQRSTUVWXYZ

This page was generated on 2023-03-31 11:05:28 -0400 (Fri, 31 Mar 2023).

HostnameOSArch (*)R versionInstalled pkgs
nebbiolo2Linux (Ubuntu 20.04.5 LTS)x86_644.2.3 (2023-03-15) -- "Shortstop Beagle" 4498
palomino4Windows Server 2022 Datacenterx644.2.3 (2023-03-15 ucrt) -- "Shortstop Beagle" 4278
lconwaymacOS 12.5.1 Montereyx86_644.2.3 (2023-03-15) -- "Shortstop Beagle" 4306
Click on any hostname to see more info about the system (e.g. compilers)      (*) as reported by 'uname -p', except on Windows and Mac OS X

CHECK results for ChIPpeakAnno on nebbiolo2


To the developers/maintainers of the ChIPpeakAnno package:
- Please allow up to 24 hours (and sometimes 48 hours) for your latest push to git@git.bioconductor.org:packages/ChIPpeakAnno.git to
reflect on this report. See How and When does the builder pull? When will my changes propagate? for more information.
- Make sure to use the following settings in order to reproduce any error or warning you see on this page.

raw results

Package 313/2183HostnameOS / ArchINSTALLBUILDCHECKBUILD BIN
ChIPpeakAnno 3.32.0  (landing page)
Jianhong Ou
Snapshot Date: 2023-03-29 14:00:04 -0400 (Wed, 29 Mar 2023)
git_url: https://git.bioconductor.org/packages/ChIPpeakAnno
git_branch: RELEASE_3_16
git_last_commit: 016661f
git_last_commit_date: 2022-11-01 11:04:34 -0400 (Tue, 01 Nov 2022)
nebbiolo2Linux (Ubuntu 20.04.5 LTS) / x86_64  OK    OK    OK  UNNEEDED, same version is already published
palomino4Windows Server 2022 Datacenter / x64  OK    OK    OK    OK  UNNEEDED, same version is already published
lconwaymacOS 12.5.1 Monterey / x86_64  OK    OK    OK    OK  UNNEEDED, same version is already published

Summary

Package: ChIPpeakAnno
Version: 3.32.0
Command: /home/biocbuild/bbs-3.16-bioc/R/bin/R CMD check --install=check:ChIPpeakAnno.install-out.txt --library=/home/biocbuild/bbs-3.16-bioc/R/site-library --timings ChIPpeakAnno_3.32.0.tar.gz
StartedAt: 2023-03-29 19:28:19 -0400 (Wed, 29 Mar 2023)
EndedAt: 2023-03-29 19:44:10 -0400 (Wed, 29 Mar 2023)
EllapsedTime: 950.6 seconds
RetCode: 0
Status:   OK  
CheckDir: ChIPpeakAnno.Rcheck
Warnings: 0

Command output

##############################################################################
##############################################################################
###
### Running command:
###
###   /home/biocbuild/bbs-3.16-bioc/R/bin/R CMD check --install=check:ChIPpeakAnno.install-out.txt --library=/home/biocbuild/bbs-3.16-bioc/R/site-library --timings ChIPpeakAnno_3.32.0.tar.gz
###
##############################################################################
##############################################################################


* using log directory ‘/home/biocbuild/bbs-3.16-bioc/meat/ChIPpeakAnno.Rcheck’
* using R version 4.2.3 (2023-03-15)
* using platform: x86_64-pc-linux-gnu (64-bit)
* using session charset: UTF-8
* checking for file ‘ChIPpeakAnno/DESCRIPTION’ ... OK
* checking extension type ... Package
* this is package ‘ChIPpeakAnno’ version ‘3.32.0’
* package encoding: UTF-8
* checking package namespace information ... OK
* checking package dependencies ... OK
* checking if this is a source package ... OK
* checking if there is a namespace ... OK
* checking for hidden files and directories ... OK
* checking for portable file names ... OK
* checking for sufficient/correct file permissions ... OK
* checking whether package ‘ChIPpeakAnno’ can be installed ... OK
* checking installed package size ... NOTE
  installed size is 19.1Mb
  sub-directories of 1Mb or more:
    data     12.6Mb
    extdata   5.2Mb
* checking package directory ... OK
* checking ‘build’ directory ... OK
* checking DESCRIPTION meta-information ... OK
* checking top-level files ... OK
* checking for left-over files ... OK
* checking index information ... OK
* checking package subdirectories ... OK
* checking R files for non-ASCII characters ... OK
* checking R files for syntax errors ... OK
* checking whether the package can be loaded ... OK
* checking whether the package can be loaded with stated dependencies ... OK
* checking whether the package can be unloaded cleanly ... OK
* checking whether the namespace can be loaded with stated dependencies ... OK
* checking whether the namespace can be unloaded cleanly ... OK
* checking loading without being on the library search path ... OK
* checking dependencies in R code ... OK
* checking S3 generic/method consistency ... OK
* checking replacement functions ... OK
* checking foreign function calls ... OK
* checking R code for possible problems ... NOTE
oligoFrequency : <anonymous>: no visible global function definition for
  'oligonucleotideFrequency'
Undefined global functions or variables:
  oligonucleotideFrequency
* checking Rd files ... OK
* checking Rd metadata ... OK
* checking Rd cross-references ... OK
* checking for missing documentation entries ... OK
* checking for code/documentation mismatches ... OK
* checking Rd \usage sections ... OK
* checking Rd contents ... OK
* checking for unstated dependencies in examples ... OK
* checking contents of ‘data’ directory ... OK
* checking data for non-ASCII characters ... OK
* checking LazyData ... OK
* checking data for ASCII and uncompressed saves ... OK
* checking files in ‘vignettes’ ... OK
* checking examples ... OK
Examples with CPU (user + system) or elapsed time > 5s
                           user system elapsed
findEnhancers            20.325  0.239  20.566
findMotifsInPromoterSeqs 13.196  0.204  13.403
annotatePeakInBatch      11.575  0.288  11.864
* checking for unstated dependencies in ‘tests’ ... OK
* checking tests ...
  Running ‘runTests.R’
 OK
* checking for unstated dependencies in vignettes ... OK
* checking package vignettes in ‘inst/doc’ ... OK
* checking running R code from vignettes ...
  ‘ChIPpeakAnno.Rmd’ using ‘UTF-8’... OK
  ‘FAQs.Rmd’ using ‘UTF-8’... OK
  ‘pipeline.Rmd’ using ‘UTF-8’... OK
  ‘quickStart.Rmd’ using ‘UTF-8’... OK
 NONE
* checking re-building of vignette outputs ... OK
* checking PDF version of manual ... OK
* DONE

Status: 2 NOTEs
See
  ‘/home/biocbuild/bbs-3.16-bioc/meat/ChIPpeakAnno.Rcheck/00check.log’
for details.



Installation output

ChIPpeakAnno.Rcheck/00install.out

##############################################################################
##############################################################################
###
### Running command:
###
###   /home/biocbuild/bbs-3.16-bioc/R/bin/R CMD INSTALL ChIPpeakAnno
###
##############################################################################
##############################################################################


* installing to library ‘/home/biocbuild/bbs-3.16-bioc/R/site-library’
* installing *source* package ‘ChIPpeakAnno’ ...
** using staged installation
** R
** data
*** moving datasets to lazyload DB
** inst
** byte-compile and prepare package for lazy loading
** help
*** installing help indices
** building package indices
** installing vignettes
** testing if installed package can be loaded from temporary location
** testing if installed package can be loaded from final location
** testing if installed package keeps a record of temporary installation path
* DONE (ChIPpeakAnno)

Tests output

ChIPpeakAnno.Rcheck/tests/runTests.Rout


R version 4.2.3 (2023-03-15) -- "Shortstop Beagle"
Copyright (C) 2023 The R Foundation for Statistical Computing
Platform: x86_64-pc-linux-gnu (64-bit)

R is free software and comes with ABSOLUTELY NO WARRANTY.
You are welcome to redistribute it under certain conditions.
Type 'license()' or 'licence()' for distribution details.

R is a collaborative project with many contributors.
Type 'contributors()' for more information and
'citation()' on how to cite R or R packages in publications.

Type 'demo()' for some demos, 'help()' for on-line help, or
'help.start()' for an HTML browser interface to help.
Type 'q()' to quit R.

> require("ChIPpeakAnno") || stop("unable to load Package:ChIPpeakAnno")
Loading required package: ChIPpeakAnno
Loading required package: IRanges
Loading required package: BiocGenerics

Attaching package: 'BiocGenerics'

The following objects are masked from 'package:stats':

    IQR, mad, sd, var, xtabs

The following objects are masked from 'package:base':

    Filter, Find, Map, Position, Reduce, anyDuplicated, aperm, append,
    as.data.frame, basename, cbind, colnames, dirname, do.call,
    duplicated, eval, evalq, get, grep, grepl, intersect, is.unsorted,
    lapply, mapply, match, mget, order, paste, pmax, pmax.int, pmin,
    pmin.int, rank, rbind, rownames, sapply, setdiff, sort, table,
    tapply, union, unique, unsplit, which.max, which.min

Loading required package: S4Vectors
Loading required package: stats4

Attaching package: 'S4Vectors'

The following objects are masked from 'package:base':

    I, expand.grid, unname

Loading required package: GenomicRanges
Loading required package: GenomeInfoDb
[1] TRUE
> require("BSgenome.Drerio.UCSC.danRer7") || stop("unable to load Package:BSgenome.Drerio.UCSC.danRer7")
Loading required package: BSgenome.Drerio.UCSC.danRer7
Loading required package: BSgenome
Loading required package: Biostrings
Loading required package: XVector

Attaching package: 'Biostrings'

The following object is masked from 'package:base':

    strsplit

Loading required package: rtracklayer
[1] TRUE
> require("org.Hs.eg.db") || stop("unable to load Package:org.Hs.eg.db")
Loading required package: org.Hs.eg.db
Loading required package: AnnotationDbi
Loading required package: Biobase
Welcome to Bioconductor

    Vignettes contain introductory material; view with
    'browseVignettes()'. To cite Bioconductor, see
    'citation("Biobase")', and for packages 'citation("pkgname")'.


[1] TRUE
> require("org.Ce.eg.db") || stop("unable to load Package:org.Ce.eg.db")
Loading required package: org.Ce.eg.db

[1] TRUE
> require("BSgenome.Celegans.UCSC.ce10") || stop("unable to load Package:BSgenome.Celegans.UCSC.ce10")
Loading required package: BSgenome.Celegans.UCSC.ce10
[1] TRUE
> require("EnsDb.Hsapiens.v79") || stop("unable to load Package:EnsDb.Hsapiens.v79")
Loading required package: EnsDb.Hsapiens.v79
Loading required package: ensembldb
Loading required package: GenomicFeatures
Loading required package: AnnotationFilter

Attaching package: 'ensembldb'

The following object is masked from 'package:stats':

    filter

[1] TRUE
> require("TxDb.Hsapiens.UCSC.hg38.knownGene") || stop("unable to load TxDb.Hsapiens.UCSC.hg38.knownGene")
Loading required package: TxDb.Hsapiens.UCSC.hg38.knownGene
[1] TRUE
> require("biomaRt") || stop("unable to load biomaRt")
Loading required package: biomaRt
[1] TRUE
> require("reactome.db") || stop("unable to load reactome.db")
Loading required package: reactome.db
[1] TRUE
> require("testthat") || stop("unable to load testthat")
Loading required package: testthat

Attaching package: 'testthat'

The following object is masked from 'package:AnnotationFilter':

    not

[1] TRUE
> test_check("ChIPpeakAnno")
[ FAIL 0 | WARN 4 | SKIP 6 | PASS 316 ]

══ Skipped tests ═══════════════════════════════════════════════════════════════
• empty test (6)

[ FAIL 0 | WARN 4 | SKIP 6 | PASS 316 ]
> 
> proc.time()
   user  system elapsed 
168.550   4.948 176.546 

Example timings

ChIPpeakAnno.Rcheck/ChIPpeakAnno-Ex.timings

nameusersystemelapsed
ChIPpeakAnno-package000
ExonPlusUtr.human.GRCh373.4350.2043.638
HOT.spots0.1300.0070.138
IDRfilter0.0010.0010.001
Peaks.Ste12.Replicate10.0490.0000.048
Peaks.Ste12.Replicate20.0110.0000.010
Peaks.Ste12.Replicate30.010.000.01
TSS.human.GRCh370.1900.0160.205
TSS.human.GRCh380.1380.0150.153
TSS.human.NCBI360.1100.0050.114
TSS.mouse.GRCm380.0880.0200.108
TSS.mouse.NCBIM370.0950.0080.103
TSS.rat.RGSC3.40.0780.0080.087
TSS.rat.Rnor_5.00.0600.0120.071
TSS.zebrafish.Zv80.0590.0160.075
TSS.zebrafish.Zv90.0840.0040.089
addAncestors1.0410.0351.078
addGeneIDs1.6320.1271.761
addMetadata1.4840.0561.539
annoGR0.0010.0010.001
annoPeaks2.7620.1923.596
annotatePeakInBatch11.575 0.28811.864
annotatedPeak0.0590.0000.058
assignChromosomeRegion0.0010.0000.001
bdp0.0010.0000.000
binOverFeature0.6930.0120.704
binOverGene000
binOverRegions000
condenseMatrixByColnames0.0090.0000.009
convert2EntrezID0.4130.0040.417
countPatternInSeqs0.1720.0000.172
cumulativePercentage0.0010.0000.000
downstreams0.0210.0000.021
egOrgMap000
enrichedGO0.0020.0000.002
enrichmentPlot0.4440.0000.443
estFragmentLength000
estLibSize0.0010.0000.000
featureAlignedDistribution0.2090.0000.209
featureAlignedExtendSignal0.0010.0000.000
featureAlignedHeatmap0.3900.0040.394
featureAlignedSignal0.1800.0080.188
findEnhancers20.325 0.23920.566
findMotifsInPromoterSeqs13.196 0.20413.403
findOverlappingPeaks0.0010.0000.001
findOverlapsOfPeaks1.8310.0121.842
genomicElementDistribution0.0010.0000.001
genomicElementUpSetR0.0010.0000.000
getAllPeakSequence0.5450.0040.549
getAnnotation0.0010.0000.001
getEnrichedGO0.0080.0000.008
getEnrichedPATH0.0010.0000.000
getGO000
getGeneSeq0.0010.0000.001
getUniqueGOidCount0.0010.0000.001
getVennCounts0.0010.0000.000
hyperGtest0.0010.0000.001
makeVennDiagram0.0010.0000.002
mergePlusMinusPeaks0.0000.0000.001
metagenePlot2.2620.0242.288
myPeakList0.0150.0000.015
oligoFrequency0.1830.0000.183
oligoSummary000
peakPermTest0.0000.0010.001
peaksNearBDP000
pie10.0040.0010.005
plotBinOverRegions0.0000.0000.001
preparePool000
reCenterPeaks0.0250.0000.025
summarizeOverlapsByBins3.1350.4163.215
summarizePatternInPeaks0.5200.0320.552
tileCount0.2900.1500.396
tileGRanges0.1740.1160.034
toGRanges0.0890.0040.093
translatePattern000
wgEncodeTfbsV30.2180.0040.221
write2FASTA0.0150.0000.015
xget0.1030.0080.111