Back to Multiple platform build/check report for BioC 3.16 |
|
This page was generated on 2022-08-06 11:04:49 -0400 (Sat, 06 Aug 2022).
Hostname | OS | Arch (*) | R version | Installed pkgs |
---|---|---|---|---|
nebbiolo2 | Linux (Ubuntu 20.04.4 LTS) | x86_64 | 4.2.1 (2022-06-23) -- "Funny-Looking Kid" | 4371 |
palomino4 | Windows Server 2022 Datacenter | x64 | 4.2.1 (2022-06-23 ucrt) -- "Funny-Looking Kid" | 4155 |
lconway | macOS 12.2.1 Monterey | x86_64 | 4.2.1 Patched (2022-07-09 r82577) -- "Funny-Looking Kid" | 4155 |
Click on any hostname to see more info about the system (e.g. compilers) (*) as reported by 'uname -p', except on Windows and Mac OS X |
To the developers/maintainers of the BiocSet package: - Please allow up to 24 hours (and sometimes 48 hours) for your latest push to git@git.bioconductor.org:packages/BiocSet.git to reflect on this report. See How and When does the builder pull? When will my changes propagate? for more information. - Make sure to use the following settings in order to reproduce any error or warning you see on this page. |
Package 168/2137 | Hostname | OS / Arch | INSTALL | BUILD | CHECK | BUILD BIN | ||||||||
BiocSet 1.11.0 (landing page) Kayla Morrell
| nebbiolo2 | Linux (Ubuntu 20.04.4 LTS) / x86_64 | OK | OK | OK | ![]() | ||||||||
palomino4 | Windows Server 2022 Datacenter / x64 | OK | OK | OK | OK | ![]() | ||||||||
lconway | macOS 12.2.1 Monterey / x86_64 | OK | OK | OK | OK | ![]() | ||||||||
Package: BiocSet |
Version: 1.11.0 |
Command: /home/biocbuild/bbs-3.16-bioc/R/bin/R CMD build --keep-empty-dirs --no-resave-data BiocSet |
StartedAt: 2022-08-05 15:55:57 -0400 (Fri, 05 Aug 2022) |
EndedAt: 2022-08-05 15:58:12 -0400 (Fri, 05 Aug 2022) |
EllapsedTime: 134.8 seconds |
RetCode: 0 |
Status: OK |
PackageFile: BiocSet_1.11.0.tar.gz |
PackageFileSize: 344.7 KiB |
############################################################################## ############################################################################## ### ### Running command: ### ### /home/biocbuild/bbs-3.16-bioc/R/bin/R CMD build --keep-empty-dirs --no-resave-data BiocSet ### ############################################################################## ############################################################################## * checking for file ‘BiocSet/DESCRIPTION’ ... OK * preparing ‘BiocSet’: * checking DESCRIPTION meta-information ... OK * installing the package to build vignettes * creating vignettes ... OK * checking for LF line-endings in source and make files and shell scripts * checking for empty or unneeded directories Omitted ‘LazyData’ from DESCRIPTION * building ‘BiocSet_1.11.0.tar.gz’