Back to Multiple platform build/check report for BioC 3.16:   simplified   long
ABCDEFGHIJKLMNOPQ[R]STUVWXYZ

This page was generated on 2023-03-17 11:06:13 -0400 (Fri, 17 Mar 2023).

HostnameOSArch (*)R versionInstalled pkgs
nebbiolo2Linux (Ubuntu 20.04.5 LTS)x86_644.2.2 (2022-10-31) -- "Innocent and Trusting" 4516
palomino4Windows Server 2022 Datacenterx644.2.2 (2022-10-31 ucrt) -- "Innocent and Trusting" 4295
lconwaymacOS 12.5.1 Montereyx86_644.2.2 (2022-10-31) -- "Innocent and Trusting" 4324
Click on any hostname to see more info about the system (e.g. compilers)      (*) as reported by 'uname -p', except on Windows and Mac OS X

BUILD results for ReportingTools on palomino4


To the developers/maintainers of the ReportingTools package:
- Please allow up to 24 hours (and sometimes 48 hours) for your latest push to git@git.bioconductor.org:packages/ReportingTools.git to
reflect on this report. See How and When does the builder pull? When will my changes propagate? for more information.
- Make sure to use the following settings in order to reproduce any error or warning you see on this page.

raw results

Package 1650/2183HostnameOS / ArchINSTALLBUILDCHECKBUILD BIN
ReportingTools 2.38.0  (landing page)
Jason A. Hackney , Gabriel Becker
Snapshot Date: 2023-03-15 14:00:04 -0400 (Wed, 15 Mar 2023)
git_url: https://git.bioconductor.org/packages/ReportingTools
git_branch: RELEASE_3_16
git_last_commit: 5c4971e
git_last_commit_date: 2022-11-01 11:07:25 -0400 (Tue, 01 Nov 2022)
nebbiolo2Linux (Ubuntu 20.04.5 LTS) / x86_64  OK    OK    OK  UNNEEDED, same version is already published
palomino4Windows Server 2022 Datacenter / x64  OK    OK    OK    OK  UNNEEDED, same version is already published
lconwaymacOS 12.5.1 Monterey / x86_64  OK    OK    OK    OK  UNNEEDED, same version is already published

Summary

Package: ReportingTools
Version: 2.38.0
Command: chmod a+r ReportingTools -R && F:\biocbuild\bbs-3.16-bioc\R\bin\R.exe CMD build --keep-empty-dirs --no-resave-data ReportingTools
StartedAt: 2023-03-15 21:03:25 -0400 (Wed, 15 Mar 2023)
EndedAt: 2023-03-15 21:05:12 -0400 (Wed, 15 Mar 2023)
EllapsedTime: 106.7 seconds
RetCode: 0
Status:   OK  
PackageFile: ReportingTools_2.38.0.tar.gz
PackageFileSize: 2.007 MiB

Command output

##############################################################################
##############################################################################
###
### Running command:
###
###   chmod a+r ReportingTools -R && F:\biocbuild\bbs-3.16-bioc\R\bin\R.exe CMD build --keep-empty-dirs --no-resave-data ReportingTools
###
##############################################################################
##############################################################################


* checking for file 'ReportingTools/DESCRIPTION' ... OK
* preparing 'ReportingTools':
* checking DESCRIPTION meta-information ... OK
* installing the package to build vignettes
* creating vignettes ... OK
* checking for LF line-endings in source and make files and shell scripts
* checking for empty or unneeded directories
* looking to see if a 'data/datalist' file should be added
* building 'ReportingTools_2.38.0.tar.gz'