Back to Multiple platform build/check report for BioC 3.16:   simplified   long
ABC[D]EFGHIJKLMNOPQRSTUVWXYZ

This page was generated on 2023-04-12 11:04:32 -0400 (Wed, 12 Apr 2023).

HostnameOSArch (*)R versionInstalled pkgs
nebbiolo2Linux (Ubuntu 20.04.5 LTS)x86_644.2.3 (2023-03-15) -- "Shortstop Beagle" 4502
palomino4Windows Server 2022 Datacenterx644.2.3 (2023-03-15 ucrt) -- "Shortstop Beagle" 4282
lconwaymacOS 12.5.1 Montereyx86_644.2.3 (2023-03-15) -- "Shortstop Beagle" 4310
Click on any hostname to see more info about the system (e.g. compilers)      (*) as reported by 'uname -p', except on Windows and Mac OS X

All results for package DESeq2


To the developers/maintainers of the DESeq2 package:
- Please allow up to 24 hours (and sometimes 48 hours) for your latest push to git@git.bioconductor.org:packages/DESeq2.git to
reflect on this report. See How and When does the builder pull? When will my changes propagate? for more information.
- Make sure to use the following settings in order to reproduce any error or warning you see on this page.

raw results

Package 522/2183HostnameOS / ArchINSTALLBUILDCHECKBUILD BIN
DESeq2 1.38.3  (landing page)
Michael Love
Snapshot Date: 2023-04-10 14:00:05 -0400 (Mon, 10 Apr 2023)
git_url: https://git.bioconductor.org/packages/DESeq2
git_branch: RELEASE_3_16
git_last_commit: c470955
git_last_commit_date: 2023-01-19 11:16:09 -0400 (Thu, 19 Jan 2023)
nebbiolo2Linux (Ubuntu 20.04.5 LTS) / x86_64  OK    OK    OK  UNNEEDED, same version is already published
palomino4Windows Server 2022 Datacenter / x64  OK    OK    OK    OK  UNNEEDED, same version is already published
lconwaymacOS 12.5.1 Monterey / x86_64  OK    OK    OK    OK  UNNEEDED, same version is already published

Results for Bioconductor software packages that depend directly on package DESeq2

QUICK STATSOS / ArchINSTALLBUILDCHECKBUILD BIN
nebbiolo2Linux (Ubuntu 20.04.5 LTS) / x86_64
0077
0473
14959
palomino4Windows Server 2022 Datacenter / x64
0076
0373
02962
0073
lconwaymacOS 12.5.1 Monterey / x86_64
0077
0473
02962
0073
Package 1/77HostnameOS / ArchINSTALLBUILDCHECKBUILD BIN
Anaquin 2.22.0  (landing page)
Ted Wong
git_last_commit: d848a9b
git_last_commit_date: 2022-11-01 11:14:18 -0400
nebbiolo2Linux (Ubuntu 20.04.5 LTS) / x86_64  OK    OK    OK  UNNEEDED, same version is already published
palomino4Windows Server 2022 Datacenter / x64  OK    OK    OK    OK  UNNEEDED, same version is already published
lconwaymacOS 12.5.1 Monterey / x86_64  OK    OK    OK    OK  UNNEEDED, same version is already published
Package 2/77HostnameOS / ArchINSTALLBUILDCHECKBUILD BIN
animalcules 1.14.0  (landing page)
Yue Zhao
git_last_commit: bac5a33
git_last_commit_date: 2022-11-01 11:19:53 -0400
nebbiolo2Linux (Ubuntu 20.04.5 LTS) / x86_64  OK    OK    WARNINGS  UNNEEDED, same version is already published
palomino4Windows Server 2022 Datacenter / x64  OK    OK    WARNINGS    OK  UNNEEDED, same version is already published
lconwaymacOS 12.5.1 Monterey / x86_64  OK    OK    WARNINGS    OK  UNNEEDED, same version is already published
Package 3/77HostnameOS / ArchINSTALLBUILDCHECKBUILD BIN
anota2seq 1.20.0  (landing page)
Christian Oertlin , Julie Lorent
git_last_commit: ae46d48
git_last_commit_date: 2022-11-01 11:16:31 -0400
nebbiolo2Linux (Ubuntu 20.04.5 LTS) / x86_64  OK    OK    WARNINGS  UNNEEDED, same version is already published
palomino4Windows Server 2022 Datacenter / x64  OK    OK    OK    OK  UNNEEDED, same version is already published
lconwaymacOS 12.5.1 Monterey / x86_64  OK    OK    OK    OK  UNNEEDED, same version is already published
Package 4/77HostnameOS / ArchINSTALLBUILDCHECKBUILD BIN
APAlyzer 1.12.0  (landing page)
Ruijia Wang
git_last_commit: 46cf23c
git_last_commit_date: 2022-11-01 11:20:19 -0400
nebbiolo2Linux (Ubuntu 20.04.5 LTS) / x86_64  OK    OK    WARNINGS  UNNEEDED, same version is already published
palomino4Windows Server 2022 Datacenter / x64  OK    OK    WARNINGS    OK  UNNEEDED, same version is already published
lconwaymacOS 12.5.1 Monterey / x86_64  OK    OK    WARNINGS    OK  UNNEEDED, same version is already published
Package 5/77HostnameOS / ArchINSTALLBUILDCHECKBUILD BIN
benchdamic 1.4.0  (landing page)
Matteo Calgaro
git_last_commit: 0e7363b
git_last_commit_date: 2022-11-01 11:25:57 -0400
nebbiolo2Linux (Ubuntu 20.04.5 LTS) / x86_64  OK    OK    OK  UNNEEDED, same version is already published
palomino4Windows Server 2022 Datacenter / x64  OK    OK    OK    OK  UNNEEDED, same version is already published
lconwaymacOS 12.5.1 Monterey / x86_64  OK    OK    OK    OK  UNNEEDED, same version is already published
Package 6/77HostnameOS / ArchINSTALLBUILDCHECKBUILD BIN
BRGenomics 1.10.0  (landing page)
Mike DeBerardine
git_last_commit: 966826e
git_last_commit_date: 2022-11-01 11:21:40 -0400
nebbiolo2Linux (Ubuntu 20.04.5 LTS) / x86_64  OK    OK    WARNINGS  UNNEEDED, same version is already published
palomino4Windows Server 2022 Datacenter / x64  OK    OK    WARNINGS    OK  UNNEEDED, same version is already published
lconwaymacOS 12.5.1 Monterey / x86_64  OK    OK    WARNINGS    OK  UNNEEDED, same version is already published
Package 7/77HostnameOS / ArchINSTALLBUILDCHECKBUILD BIN
CeTF 1.10.2  (landing page)
Carlos Alberto Oliveira de Biagi Junior
git_last_commit: b161152
git_last_commit_date: 2023-01-26 11:50:59 -0400
nebbiolo2Linux (Ubuntu 20.04.5 LTS) / x86_64  OK    OK    OK  UNNEEDED, same version is already published
palomino4Windows Server 2022 Datacenter / x64  OK    OK    OK    OK  UNNEEDED, same version is already published
lconwaymacOS 12.5.1 Monterey / x86_64  OK    OK    OK    OK  UNNEEDED, same version is already published
Package 8/77HostnameOS / ArchINSTALLBUILDCHECKBUILD BIN
circRNAprofiler 1.12.2  (landing page)
Simona Aufiero
git_last_commit: e499486
git_last_commit_date: 2023-01-23 04:25:52 -0400
nebbiolo2Linux (Ubuntu 20.04.5 LTS) / x86_64  OK    OK    OK  UNNEEDED, same version is already published
palomino4Windows Server 2022 Datacenter / x64  OK    OK    OK    OK  UNNEEDED, same version is already published
lconwaymacOS 12.5.1 Monterey / x86_64  OK    OK    OK    OK  UNNEEDED, same version is already published
Package 9/77HostnameOS / ArchINSTALLBUILDCHECKBUILD BIN
consensusDE 1.16.0  (landing page)
Ashley J. Waardenberg
git_last_commit: 4b085f5
git_last_commit_date: 2022-11-01 11:18:46 -0400
nebbiolo2Linux (Ubuntu 20.04.5 LTS) / x86_64  OK    OK    OK  UNNEEDED, same version is already published
palomino4Windows Server 2022 Datacenter / x64  OK    OK    OK    OK  UNNEEDED, same version is already published
lconwaymacOS 12.5.1 Monterey / x86_64  OK    OK    OK    OK  UNNEEDED, same version is already published
Package 10/77HostnameOS / ArchINSTALLBUILDCHECKBUILD BIN
coseq 1.22.0  (landing page)
Andrea Rau
git_last_commit: a1bc50f
git_last_commit_date: 2022-11-01 11:15:03 -0400
nebbiolo2Linux (Ubuntu 20.04.5 LTS) / x86_64  OK    OK    OK  UNNEEDED, same version is already published
palomino4Windows Server 2022 Datacenter / x64  OK    OK    OK    OK  UNNEEDED, same version is already published
lconwaymacOS 12.5.1 Monterey / x86_64  OK    OK    OK    OK  UNNEEDED, same version is already published
Package 11/77HostnameOS / ArchINSTALLBUILDCHECKBUILD BIN
countsimQC 1.16.1  (landing page)
Charlotte Soneson
git_last_commit: 9278fe5
git_last_commit_date: 2022-12-16 04:19:54 -0400
nebbiolo2Linux (Ubuntu 20.04.5 LTS) / x86_64  OK    OK    OK  UNNEEDED, same version is already published
palomino4Windows Server 2022 Datacenter / x64  OK    OK    OK    OK  UNNEEDED, same version is already published
lconwaymacOS 12.5.1 Monterey / x86_64  OK    OK    OK    OK  UNNEEDED, same version is already published
Package 12/77HostnameOS / ArchINSTALLBUILDCHECKBUILD BIN
DaMiRseq 2.10.0  (landing page)
Mattia Chiesa
git_last_commit: 2bf8822
git_last_commit_date: 2022-11-01 11:15:21 -0400
nebbiolo2Linux (Ubuntu 20.04.5 LTS) / x86_64  OK    OK    OK  UNNEEDED, same version is already published
palomino4Windows Server 2022 Datacenter / x64  OK    OK    OK    OK  UNNEEDED, same version is already published
lconwaymacOS 12.5.1 Monterey / x86_64  OK    OK    OK    OK  UNNEEDED, same version is already published
Package 13/77HostnameOS / ArchINSTALLBUILDCHECKBUILD BIN
debrowser 1.26.3  (landing page)
Alper Kucukural
git_last_commit: 4fb9588
git_last_commit_date: 2023-03-12 18:21:05 -0400
nebbiolo2Linux (Ubuntu 20.04.5 LTS) / x86_64  OK    OK    OK  UNNEEDED, same version is already published
palomino4Windows Server 2022 Datacenter / x64  OK    OK    OK    OK  UNNEEDED, same version is already published
lconwaymacOS 12.5.1 Monterey / x86_64  OK    OK    OK    OK  UNNEEDED, same version is already published
Package 14/77HostnameOS / ArchINSTALLBUILDCHECKBUILD BIN
DEComplexDisease 1.18.0  (landing page)
Guofeng Meng
git_last_commit: a0839b6
git_last_commit_date: 2022-11-01 11:17:06 -0400
nebbiolo2Linux (Ubuntu 20.04.5 LTS) / x86_64  OK    OK    ERROR  
palomino4Windows Server 2022 Datacenter / x64  OK    OK    WARNINGS    OK  UNNEEDED, same version is already published
lconwaymacOS 12.5.1 Monterey / x86_64  OK    OK    WARNINGS    OK  UNNEEDED, same version is already published
Package 15/77HostnameOS / ArchINSTALLBUILDCHECKBUILD BIN
DEFormats 1.26.0  (landing page)
Andrzej Oleś
git_last_commit: 4c9b97c
git_last_commit_date: 2022-11-01 11:13:20 -0400
nebbiolo2Linux (Ubuntu 20.04.5 LTS) / x86_64  OK    OK    OK  UNNEEDED, same version is already published
palomino4Windows Server 2022 Datacenter / x64  OK    OK    OK    OK  UNNEEDED, same version is already published
lconwaymacOS 12.5.1 Monterey / x86_64  OK    OK    OK    OK  UNNEEDED, same version is already published
Package 16/77HostnameOS / ArchINSTALLBUILDCHECKBUILD BIN
DEGreport 1.34.0  (landing page)
Lorena Pantano
git_last_commit: 4b3a6ae
git_last_commit_date: 2022-11-01 11:09:50 -0400
nebbiolo2Linux (Ubuntu 20.04.5 LTS) / x86_64  OK    OK    OK  UNNEEDED, same version is already published
palomino4Windows Server 2022 Datacenter / x64  OK    OK    OK    OK  UNNEEDED, same version is already published
lconwaymacOS 12.5.1 Monterey / x86_64  OK    OK    OK    OK  UNNEEDED, same version is already published
Package 17/77HostnameOS / ArchINSTALLBUILDCHECKBUILD BIN
deltaCaptureC 1.12.0  (landing page)
Michael Shapiro
git_last_commit: 6902612
git_last_commit_date: 2022-11-01 11:20:27 -0400
nebbiolo2Linux (Ubuntu 20.04.5 LTS) / x86_64  OK    ERROR  skipped
palomino4Windows Server 2022 Datacenter / x64  OK    ERROR  skippedskipped
lconwaymacOS 12.5.1 Monterey / x86_64  OK    ERROR  skippedskipped
Package 18/77HostnameOS / ArchINSTALLBUILDCHECKBUILD BIN
DEsubs 1.24.0  (landing page)
Aristidis G. Vrahatis , Panos Balomenos
git_last_commit: 4ff00fc
git_last_commit_date: 2022-11-01 11:14:32 -0400
nebbiolo2Linux (Ubuntu 20.04.5 LTS) / x86_64  OK    OK    OK  UNNEEDED, same version is already published
palomino4Windows Server 2022 Datacenter / x64  OK    OK    OK    OK  UNNEEDED, same version is already published
lconwaymacOS 12.5.1 Monterey / x86_64  OK    OK    OK    OK  UNNEEDED, same version is already published
Package 19/77HostnameOS / ArchINSTALLBUILDCHECKBUILD BIN
DEWSeq 1.12.0  (landing page)
bioinformatics team Hentze
git_last_commit: e324b51
git_last_commit_date: 2022-11-01 11:20:50 -0400
nebbiolo2Linux (Ubuntu 20.04.5 LTS) / x86_64  OK    OK    OK  UNNEEDED, same version is already published
palomino4Windows Server 2022 Datacenter / x64  OK    OK    OK    OK  UNNEEDED, same version is already published
lconwaymacOS 12.5.1 Monterey / x86_64  OK    OK    OK    OK  UNNEEDED, same version is already published
Package 20/77HostnameOS / ArchINSTALLBUILDCHECKBUILD BIN
DEXSeq 1.44.0  (landing page)
Alejandro Reyes
git_last_commit: 9660d73
git_last_commit_date: 2022-11-01 11:05:59 -0400
nebbiolo2Linux (Ubuntu 20.04.5 LTS) / x86_64  OK    OK    OK  UNNEEDED, same version is already published
palomino4Windows Server 2022 Datacenter / x64  OK    OK    OK    OK  UNNEEDED, same version is already published
lconwaymacOS 12.5.1 Monterey / x86_64  OK    OK    OK    OK  UNNEEDED, same version is already published
Package 21/77HostnameOS / ArchINSTALLBUILDCHECKBUILD BIN
DiffBind 3.8.4  (landing page)
Rory Stark
git_last_commit: 846ee10
git_last_commit_date: 2023-01-12 07:26:55 -0400
nebbiolo2Linux (Ubuntu 20.04.5 LTS) / x86_64  OK    OK    OK  UNNEEDED, same version is already published
palomino4Windows Server 2022 Datacenter / x64  OK    OK    OK    OK  UNNEEDED, same version is already published
lconwaymacOS 12.5.1 Monterey / x86_64  OK    OK    OK    OK  UNNEEDED, same version is already published
Package 22/77HostnameOS / ArchINSTALLBUILDCHECKBUILD BIN
easier 1.4.0  (landing page)
Oscar Lapuente-Santana
git_last_commit: 20ef4de
git_last_commit_date: 2022-11-01 11:26:08 -0400
nebbiolo2Linux (Ubuntu 20.04.5 LTS) / x86_64  OK    OK    OK  UNNEEDED, same version is already published
palomino4Windows Server 2022 Datacenter / x64  OK    OK    OK    OK  UNNEEDED, same version is already published
lconwaymacOS 12.5.1 Monterey / x86_64  OK    OK    OK    OK  UNNEEDED, same version is already published
Package 23/77HostnameOS / ArchINSTALLBUILDCHECKBUILD BIN
EBSEA 1.26.0  (landing page)
Arfa Mehmood
git_last_commit: 69a6064
git_last_commit_date: 2022-11-01 11:13:25 -0400
nebbiolo2Linux (Ubuntu 20.04.5 LTS) / x86_64  OK    OK    OK  UNNEEDED, same version is already published
palomino4Windows Server 2022 Datacenter / x64  OK    OK    OK    OK  UNNEEDED, same version is already published
lconwaymacOS 12.5.1 Monterey / x86_64  OK    OK    OK    OK  UNNEEDED, same version is already published
Package 24/77HostnameOS / ArchINSTALLBUILDCHECKBUILD BIN
eegc 1.24.0  (landing page)
Xiaoyuan Zhou
git_last_commit: 5ff5737
git_last_commit_date: 2022-11-01 11:14:19 -0400
nebbiolo2Linux (Ubuntu 20.04.5 LTS) / x86_64  OK    OK    WARNINGS  UNNEEDED, same version is already published
palomino4Windows Server 2022 Datacenter / x64  OK    OK    WARNINGS    OK  UNNEEDED, same version is already published
lconwaymacOS 12.5.1 Monterey / x86_64  OK    OK    WARNINGS    OK  UNNEEDED, same version is already published
Package 25/77HostnameOS / ArchINSTALLBUILDCHECKBUILD BIN
ERSSA 1.16.0  (landing page)
Zixuan Shao
git_last_commit: cb8f4ab
git_last_commit_date: 2022-11-01 11:18:28 -0400
nebbiolo2Linux (Ubuntu 20.04.5 LTS) / x86_64  OK    OK    OK  UNNEEDED, same version is already published
palomino4Windows Server 2022 Datacenter / x64  OK    OK    OK    OK  UNNEEDED, same version is already published
lconwaymacOS 12.5.1 Monterey / x86_64  OK    OK    OK    OK  UNNEEDED, same version is already published
Package 26/77HostnameOS / ArchINSTALLBUILDCHECKBUILD BIN
exomePeak2 1.10.0  (landing page)
Zhen Wei
git_last_commit: ca31d66
git_last_commit_date: 2022-11-01 11:21:28 -0400
nebbiolo2Linux (Ubuntu 20.04.5 LTS) / x86_64  OK    OK    OK  UNNEEDED, same version is already published
palomino4Windows Server 2022 Datacenter / x64  OK    OK    OK    OK  UNNEEDED, same version is already published
lconwaymacOS 12.5.1 Monterey / x86_64  OK    OK    OK    OK  UNNEEDED, same version is already published
Package 27/77HostnameOS / ArchINSTALLBUILDCHECKBUILD BIN
GDCRNATools 1.18.0  (landing page)
Ruidong Li
git_last_commit: 3d1e731
git_last_commit_date: 2022-11-01 11:17:01 -0400
nebbiolo2Linux (Ubuntu 20.04.5 LTS) / x86_64  OK    OK    OK  UNNEEDED, same version is already published
palomino4Windows Server 2022 Datacenter / x64  OK    OK    OK    OK  UNNEEDED, same version is already published
lconwaymacOS 12.5.1 Monterey / x86_64  OK    OK    OK    OK  UNNEEDED, same version is already published
Package 28/77HostnameOS / ArchINSTALLBUILDCHECKBUILD BIN
GeneTonic 2.2.0  (landing page)
Federico Marini
git_last_commit: cbc0a9f
git_last_commit_date: 2022-11-01 11:21:18 -0400
nebbiolo2Linux (Ubuntu 20.04.5 LTS) / x86_64  OK    OK    OK  UNNEEDED, same version is already published
palomino4Windows Server 2022 Datacenter / x64  OK    OK    OK    OK  UNNEEDED, same version is already published
lconwaymacOS 12.5.1 Monterey / x86_64  OK    OK    OK    OK  UNNEEDED, same version is already published
Package 29/77HostnameOS / ArchINSTALLBUILDCHECKBUILD BIN
Glimma 2.8.0  (landing page)
Shian Su
git_last_commit: 09cec82
git_last_commit_date: 2022-11-01 11:13:28 -0400
nebbiolo2Linux (Ubuntu 20.04.5 LTS) / x86_64  OK    OK    OK  UNNEEDED, same version is already published
palomino4Windows Server 2022 Datacenter / x64  OK    OK    OK    OK  UNNEEDED, same version is already published
lconwaymacOS 12.5.1 Monterey / x86_64  OK    OK    OK    OK  UNNEEDED, same version is already published
Package 30/77HostnameOS / ArchINSTALLBUILDCHECKBUILD BIN
GRaNIE 1.2.7  (landing page)
Christian Arnold
git_last_commit: 97c6ab9
git_last_commit_date: 2023-04-06 05:31:33 -0400
nebbiolo2Linux (Ubuntu 20.04.5 LTS) / x86_64  OK    OK    WARNINGS  UNNEEDED, same version is already published
palomino4Windows Server 2022 Datacenter / x64  OK    OK    WARNINGS    OK  UNNEEDED, same version is already published
lconwaymacOS 12.5.1 Monterey / x86_64  OK    OK    WARNINGS    OK  UNNEEDED, same version is already published
Package 31/77HostnameOS / ArchINSTALLBUILDCHECKBUILD BIN
hermes 1.2.0  (landing page)
Daniel Sabanés Bové
git_last_commit: e704cda
git_last_commit_date: 2022-11-01 11:26:13 -0400
nebbiolo2Linux (Ubuntu 20.04.5 LTS) / x86_64  OK    OK    OK  UNNEEDED, same version is already published
palomino4Windows Server 2022 Datacenter / x64  OK    OK    OK    OK  UNNEEDED, same version is already published
lconwaymacOS 12.5.1 Monterey / x86_64  OK    OK    OK    OK  UNNEEDED, same version is already published
Package 32/77HostnameOS / ArchINSTALLBUILDCHECKBUILD BIN
HTSFilter 1.38.0  (landing page)
Andrea Rau
git_last_commit: fdc6147
git_last_commit_date: 2022-11-01 11:07:49 -0400
nebbiolo2Linux (Ubuntu 20.04.5 LTS) / x86_64  OK    OK    OK  UNNEEDED, same version is already published
palomino4Windows Server 2022 Datacenter / x64  OK    OK    OK    OK  UNNEEDED, same version is already published
lconwaymacOS 12.5.1 Monterey / x86_64  OK    OK    OK    OK  UNNEEDED, same version is already published
Package 33/77HostnameOS / ArchINSTALLBUILDCHECKBUILD BIN
icetea 1.16.0  (landing page)
Vivek Bhardwaj
git_last_commit: d148550
git_last_commit_date: 2022-11-01 11:18:00 -0400
nebbiolo2Linux (Ubuntu 20.04.5 LTS) / x86_64  OK    OK    OK  UNNEEDED, same version is already published
palomino4Windows Server 2022 Datacenter / x64  OK    OK    OK    OK  UNNEEDED, same version is already published
lconwaymacOS 12.5.1 Monterey / x86_64  OK    OK    OK    OK  UNNEEDED, same version is already published
Package 34/77HostnameOS / ArchINSTALLBUILDCHECKBUILD BIN
ideal 1.22.0  (landing page)
Federico Marini
git_last_commit: fba1b51
git_last_commit_date: 2022-11-01 11:15:39 -0400
nebbiolo2Linux (Ubuntu 20.04.5 LTS) / x86_64  OK    OK    OK  UNNEEDED, same version is already published
palomino4Windows Server 2022 Datacenter / x64  OK    OK    OK    OK  NO, package depends on 'IHW' which is not available
lconwaymacOS 12.5.1 Monterey / x86_64  OK    OK    OK    OK  UNNEEDED, same version is already published
Package 35/77HostnameOS / ArchINSTALLBUILDCHECKBUILD BIN
INSPEcT 1.28.0  (landing page)
Stefano de Pretis
git_last_commit: aff3971
git_last_commit_date: 2022-11-01 11:11:51 -0400
nebbiolo2Linux (Ubuntu 20.04.5 LTS) / x86_64  OK    OK    OK  UNNEEDED, same version is already published
palomino4Windows Server 2022 Datacenter / x64  OK    OK    OK    OK  UNNEEDED, same version is already published
lconwaymacOS 12.5.1 Monterey / x86_64  OK    OK    OK    OK  UNNEEDED, same version is already published
Package 36/77HostnameOS / ArchINSTALLBUILDCHECKBUILD BIN
IntEREst 1.22.2  (landing page)
Ali Oghabian , Mikko Frilander
git_last_commit: 4c44b57
git_last_commit_date: 2022-11-07 08:34:48 -0400
nebbiolo2Linux (Ubuntu 20.04.5 LTS) / x86_64  OK    OK    OK  UNNEEDED, same version is already published
palomino4Windows Server 2022 Datacenter / x64  OK    OK    OK    OK  UNNEEDED, same version is already published
lconwaymacOS 12.5.1 Monterey / x86_64  OK    OK    OK    OK  UNNEEDED, same version is already published
Package 37/77HostnameOS / ArchINSTALLBUILDCHECKBUILD BIN
isomiRs 1.26.0  (landing page)
Lorena Pantano
git_last_commit: 8d72245
git_last_commit_date: 2022-11-01 11:13:22 -0400
nebbiolo2Linux (Ubuntu 20.04.5 LTS) / x86_64  OK    OK    OK  UNNEEDED, same version is already published
palomino4Windows Server 2022 Datacenter / x64  OK    OK    OK    OK  UNNEEDED, same version is already published
lconwaymacOS 12.5.1 Monterey / x86_64  OK    OK    OK    OK  UNNEEDED, same version is already published
Package 38/77HostnameOS / ArchINSTALLBUILDCHECKBUILD BIN
kissDE 1.18.0  (landing page)
Aurélie Siberchicot
git_last_commit: c137078
git_last_commit_date: 2022-11-01 11:17:08 -0400
nebbiolo2Linux (Ubuntu 20.04.5 LTS) / x86_64  OK    OK    OK  UNNEEDED, same version is already published
palomino4Windows Server 2022 Datacenter / x64  OK    OK    OK    OK  UNNEEDED, same version is already published
lconwaymacOS 12.5.1 Monterey / x86_64  OK    OK    OK    OK  UNNEEDED, same version is already published
Package 39/77HostnameOS / ArchINSTALLBUILDCHECKBUILD BIN
metaseqR2 1.10.0  (landing page)
Panagiotis Moulos
git_last_commit: 73e2738
git_last_commit_date: 2022-11-01 11:22:03 -0400
nebbiolo2Linux (Ubuntu 20.04.5 LTS) / x86_64  OK    OK    WARNINGS  UNNEEDED, same version is already published
palomino4Windows Server 2022 Datacenter / x64  OK    OK    WARNINGS    OK  UNNEEDED, same version is already published
lconwaymacOS 12.5.1 Monterey / x86_64  OK    OK    WARNINGS    OK  UNNEEDED, same version is already published
Package 40/77HostnameOS / ArchINSTALLBUILDCHECKBUILD BIN
microbiomeExplorer 1.8.0  (landing page)
Janina Reeder
git_last_commit: a1ed081
git_last_commit_date: 2022-11-01 11:23:06 -0400
nebbiolo2Linux (Ubuntu 20.04.5 LTS) / x86_64  OK    OK    OK  UNNEEDED, same version is already published
palomino4Windows Server 2022 Datacenter / x64  OK    OK    OK    OK  UNNEEDED, same version is already published
lconwaymacOS 12.5.1 Monterey / x86_64  OK    OK    OK    OK  UNNEEDED, same version is already published
Package 41/77HostnameOS / ArchINSTALLBUILDCHECKBUILD BIN
microbiomeMarker 1.4.0  (landing page)
Yang Cao
git_last_commit: ab8f294
git_last_commit_date: 2022-11-01 11:25:50 -0400
nebbiolo2Linux (Ubuntu 20.04.5 LTS) / x86_64  OK    OK    OK  UNNEEDED, same version is already published
palomino4Windows Server 2022 Datacenter / x64  OK    OK    OK    OK  UNNEEDED, same version is already published
lconwaymacOS 12.5.1 Monterey / x86_64  OK    OK    OK    OK  UNNEEDED, same version is already published
Package 42/77HostnameOS / ArchINSTALLBUILDCHECKBUILD BIN
MLSeq 2.16.0  (landing page)
Gokmen Zararsiz
git_last_commit: 42c5e33
git_last_commit_date: 2022-11-01 11:09:20 -0400
nebbiolo2Linux (Ubuntu 20.04.5 LTS) / x86_64  OK    OK    OK  UNNEEDED, same version is already published
palomino4Windows Server 2022 Datacenter / x64  OK    OK    OK    OK  UNNEEDED, same version is already published
lconwaymacOS 12.5.1 Monterey / x86_64  OK    OK    OK    OK  UNNEEDED, same version is already published
Package 43/77HostnameOS / ArchINSTALLBUILDCHECKBUILD BIN
multiSight 1.6.0  (landing page)
Florian Jeanneret
git_last_commit: 9dd2287
git_last_commit_date: 2022-11-01 11:24:51 -0400
nebbiolo2Linux (Ubuntu 20.04.5 LTS) / x86_64  OK    OK    OK  UNNEEDED, same version is already published
palomino4Windows Server 2022 Datacenter / x64  OK    OK    OK    OK  UNNEEDED, same version is already published
lconwaymacOS 12.5.1 Monterey / x86_64  OK    OK    OK    OK  UNNEEDED, same version is already published
Package 44/77HostnameOS / ArchINSTALLBUILDCHECKBUILD BIN
muscat 1.12.1  (landing page)
Helena L. Crowell
git_last_commit: ae0feb7
git_last_commit_date: 2023-02-08 11:43:59 -0400
nebbiolo2Linux (Ubuntu 20.04.5 LTS) / x86_64  OK    OK    OK  UNNEEDED, same version is already published
palomino4Windows Server 2022 Datacenter / x64  OK    OK    ERROR    OK  
lconwaymacOS 12.5.1 Monterey / x86_64  OK    ERROR  skippedskipped
Package 45/77HostnameOS / ArchINSTALLBUILDCHECKBUILD BIN
NBAMSeq 1.14.0  (landing page)
Xu Ren
git_last_commit: 6d83c7e
git_last_commit_date: 2022-11-01 11:19:38 -0400
nebbiolo2Linux (Ubuntu 20.04.5 LTS) / x86_64  OK    OK    OK  UNNEEDED, same version is already published
palomino4Windows Server 2022 Datacenter / x64  OK    OK    OK    OK  UNNEEDED, same version is already published
lconwaymacOS 12.5.1 Monterey / x86_64  OK    OK    OK    OK  UNNEEDED, same version is already published
Package 46/77HostnameOS / ArchINSTALLBUILDCHECKBUILD BIN
NetActivity 1.0.0  (landing page)
Carlos Ruiz-Arenas
git_last_commit: 639ed02
git_last_commit_date: 2022-11-01 11:27:51 -0400
nebbiolo2Linux (Ubuntu 20.04.5 LTS) / x86_64  OK    OK    OK  UNNEEDED, same version is already published
palomino4Windows Server 2022 Datacenter / x64  OK    OK    OK    OK  UNNEEDED, same version is already published
lconwaymacOS 12.5.1 Monterey / x86_64  OK    OK    OK    OK  UNNEEDED, same version is already published
Package 47/77HostnameOS / ArchINSTALLBUILDCHECKBUILD BIN
octad 1.0.0  (landing page)
E. Chekalin
git_last_commit: 9ea3c9a
git_last_commit_date: 2022-11-01 11:27:51 -0400
nebbiolo2Linux (Ubuntu 20.04.5 LTS) / x86_64  OK    OK    OK  UNNEEDED, same version is already published
palomino4Windows Server 2022 Datacenter / x64  OK    OK    OK    OK  UNNEEDED, same version is already published
lconwaymacOS 12.5.1 Monterey / x86_64  OK    OK    OK    OK  UNNEEDED, same version is already published
Package 48/77HostnameOS / ArchINSTALLBUILDCHECKBUILD BIN
ORFik 1.18.2  (landing page)
Haakon Tjeldnes
git_last_commit: 4ab60c3
git_last_commit_date: 2023-01-13 19:50:22 -0400
nebbiolo2Linux (Ubuntu 20.04.5 LTS) / x86_64  OK    OK    OK  UNNEEDED, same version is already published
palomino4Windows Server 2022 Datacenter / x64  OK    OK    OK    OK  UNNEEDED, same version is already published
lconwaymacOS 12.5.1 Monterey / x86_64  OK    OK    OK    OK  UNNEEDED, same version is already published
Package 49/77HostnameOS / ArchINSTALLBUILDCHECKBUILD BIN
OUTRIDER 1.16.3  (landing page)
Christian Mertes
git_last_commit: c5f288d
git_last_commit_date: 2023-01-19 11:17:58 -0400
nebbiolo2Linux (Ubuntu 20.04.5 LTS) / x86_64  OK    OK    OK  UNNEEDED, same version is already published
palomino4Windows Server 2022 Datacenter / x64  OK    OK    OK    OK  UNNEEDED, same version is already published
lconwaymacOS 12.5.1 Monterey / x86_64  OK    OK    OK    OK  UNNEEDED, same version is already published
Package 50/77HostnameOS / ArchINSTALLBUILDCHECKBUILD BIN
PathoStat 1.24.0  (landing page)
Solaiappan Manimaran
git_last_commit: 0a8d481
git_last_commit_date: 2022-11-01 11:14:37 -0400
nebbiolo2Linux (Ubuntu 20.04.5 LTS) / x86_64  OK    OK    OK  UNNEEDED, same version is already published
palomino4Windows Server 2022 Datacenter / x64  OK    OK    OK    OK  UNNEEDED, same version is already published
lconwaymacOS 12.5.1 Monterey / x86_64  OK    OK    OK    OK  UNNEEDED, same version is already published
Package 51/77HostnameOS / ArchINSTALLBUILDCHECKBUILD BIN
pcaExplorer 2.24.0  (landing page)
Federico Marini
git_last_commit: 15ff062
git_last_commit_date: 2022-11-01 11:13:31 -0400
nebbiolo2Linux (Ubuntu 20.04.5 LTS) / x86_64  OK    OK    OK  UNNEEDED, same version is already published
palomino4Windows Server 2022 Datacenter / x64  OK    OK    OK    OK  UNNEEDED, same version is already published
lconwaymacOS 12.5.1 Monterey / x86_64  OK    OK    OK    OK  UNNEEDED, same version is already published
Package 52/77HostnameOS / ArchINSTALLBUILDCHECKBUILD BIN
phantasus 1.18.4  (landing page)
Alexey Sergushichev
git_last_commit: 4458180
git_last_commit_date: 2022-12-21 17:25:09 -0400
nebbiolo2Linux (Ubuntu 20.04.5 LTS) / x86_64  OK    OK    OK  UNNEEDED, same version is already published
palomino4Windows Server 2022 Datacenter / x64  OK    OK    OK    OK  UNNEEDED, same version is already published
lconwaymacOS 12.5.1 Monterey / x86_64  OK    OK    OK    OK  UNNEEDED, same version is already published
Package 53/77HostnameOS / ArchINSTALLBUILDCHECKBUILD BIN
POMA 1.8.0  (landing page)
Pol Castellano-Escuder
git_last_commit: 3a1c9c6
git_last_commit_date: 2022-11-01 11:22:31 -0400
nebbiolo2Linux (Ubuntu 20.04.5 LTS) / x86_64  OK    OK    OK  UNNEEDED, same version is already published
palomino4Windows Server 2022 Datacenter / x64  OK    OK    OK    OK  UNNEEDED, same version is already published
lconwaymacOS 12.5.1 Monterey / x86_64  OK    OK    OK    OK  UNNEEDED, same version is already published
Package 54/77HostnameOS / ArchINSTALLBUILDCHECKBUILD BIN
proActiv 1.8.0  (landing page)
Joseph Lee
git_last_commit: dc9233c
git_last_commit_date: 2022-11-01 11:22:49 -0400
nebbiolo2Linux (Ubuntu 20.04.5 LTS) / x86_64  OK    OK    OK  UNNEEDED, same version is already published
palomino4Windows Server 2022 Datacenter / x64  OK    OK    OK    OK  UNNEEDED, same version is already published
lconwaymacOS 12.5.1 Monterey / x86_64  OK    OK    OK    OK  UNNEEDED, same version is already published
Package 55/77HostnameOS / ArchINSTALLBUILDCHECKBUILD BIN
RegEnrich 1.8.0  (landing page)
Weiyang Tao
git_last_commit: 9f6e24a
git_last_commit_date: 2022-11-01 11:22:16 -0400
nebbiolo2Linux (Ubuntu 20.04.5 LTS) / x86_64  OK    ERROR  skipped
palomino4Windows Server 2022 Datacenter / x64  OK    OK    OK    OK  UNNEEDED, same version is already published
lconwaymacOS 12.5.1 Monterey / x86_64  OK    OK    OK    OK  UNNEEDED, same version is already published
Package 56/77HostnameOS / ArchINSTALLBUILDCHECKBUILD BIN
regionReport 1.32.0  (landing page)
Leonardo Collado-Torres
git_last_commit: 608a5f1
git_last_commit_date: 2022-11-01 11:10:26 -0400
nebbiolo2Linux (Ubuntu 20.04.5 LTS) / x86_64  OK    OK    OK  UNNEEDED, same version is already published
palomino4Windows Server 2022 Datacenter / x64  OK    OK    OK    OK  UNNEEDED, same version is already published
lconwaymacOS 12.5.1 Monterey / x86_64  OK    OK    OK    OK  UNNEEDED, same version is already published
Package 57/77HostnameOS / ArchINSTALLBUILDCHECKBUILD BIN
ReportingTools 2.38.0  (landing page)
Jason A. Hackney , Gabriel Becker
git_last_commit: 5c4971e
git_last_commit_date: 2022-11-01 11:07:25 -0400
nebbiolo2Linux (Ubuntu 20.04.5 LTS) / x86_64  OK    ERROR  skipped
palomino4Windows Server 2022 Datacenter / x64  OK    ERROR  skippedskipped
lconwaymacOS 12.5.1 Monterey / x86_64  OK    ERROR  skippedskipped
Package 58/77HostnameOS / ArchINSTALLBUILDCHECKBUILD BIN
rgsepd 1.30.0  (landing page)
Karl Stamm
git_last_commit: d59ea56
git_last_commit_date: 2022-11-01 11:10:53 -0400
nebbiolo2Linux (Ubuntu 20.04.5 LTS) / x86_64  OK    OK    OK  UNNEEDED, same version is already published
palomino4Windows Server 2022 Datacenter / x64  OK    OK    OK    OK  UNNEEDED, same version is already published
lconwaymacOS 12.5.1 Monterey / x86_64  OK    OK    OK    OK  UNNEEDED, same version is already published
Package 59/77HostnameOS / ArchINSTALLBUILDCHECKBUILD BIN
RiboDiPA 1.6.0  (landing page)
Ji-Ping Wang
git_last_commit: eeafa07
git_last_commit_date: 2022-11-01 11:23:51 -0400
nebbiolo2Linux (Ubuntu 20.04.5 LTS) / x86_64  OK    OK    OK  UNNEEDED, same version is already published
palomino4Windows Server 2022 Datacenter / x64  OK    OK    OK    OK  UNNEEDED, same version is already published
lconwaymacOS 12.5.1 Monterey / x86_64  OK    OK    OK    OK  UNNEEDED, same version is already published
Package 60/77HostnameOS / ArchINSTALLBUILDCHECKBUILD BIN
Rmmquant 1.16.2  (landing page)
Zytnicki Matthias
git_last_commit: 6ea3eda
git_last_commit_date: 2023-04-05 06:31:11 -0400
nebbiolo2Linux (Ubuntu 20.04.5 LTS) / x86_64  OK    OK    ERROR  
palomino4Windows Server 2022 Datacenter / x64  OK    OK    ERROR    OK  
lconwaymacOS 12.5.1 Monterey / x86_64  OK    OK    ERROR    OK  
Package 61/77HostnameOS / ArchINSTALLBUILDCHECKBUILD BIN
RNASeqR 1.16.0  (landing page)
Kuan-Hao Chao
git_last_commit: 0f6d741
git_last_commit_date: 2022-11-01 11:18:37 -0400
nebbiolo2Linux (Ubuntu 20.04.5 LTS) / x86_64  OK    OK    ERROR  
palomino4Windows Server 2022 Datacenter / x64... NOT SUPPORTED ...
lconwaymacOS 12.5.1 Monterey / x86_64  OK    OK    ERROR    OK  
Package 62/77HostnameOS / ArchINSTALLBUILDCHECKBUILD BIN
scBFA 1.12.0  (landing page)
Ruoxin Li
git_last_commit: 432b484
git_last_commit_date: 2022-11-01 11:20:16 -0400
nebbiolo2Linux (Ubuntu 20.04.5 LTS) / x86_64  OK    OK    OK  UNNEEDED, same version is already published
palomino4Windows Server 2022 Datacenter / x64  OK    OK    OK    OK  UNNEEDED, same version is already published
lconwaymacOS 12.5.1 Monterey / x86_64  OK    OK    OK    OK  UNNEEDED, same version is already published
Package 63/77HostnameOS / ArchINSTALLBUILDCHECKBUILD BIN
scGPS 1.12.2  (landing page)
Quan Nguyen
git_last_commit: 42d6072
git_last_commit_date: 2023-01-19 11:18:24 -0400
nebbiolo2Linux (Ubuntu 20.04.5 LTS) / x86_64  OK    OK    OK  UNNEEDED, same version is already published
palomino4Windows Server 2022 Datacenter / x64  OK    OK    OK    OK  UNNEEDED, same version is already published
lconwaymacOS 12.5.1 Monterey / x86_64  OK    OK    OK    OK  UNNEEDED, same version is already published
Package 64/77HostnameOS / ArchINSTALLBUILDCHECKBUILD BIN
SeqGSEA 1.38.0  (landing page)
Xi Wang
git_last_commit: fe53ed1
git_last_commit_date: 2022-11-01 11:08:07 -0400
nebbiolo2Linux (Ubuntu 20.04.5 LTS) / x86_64  OK    OK    OK  UNNEEDED, same version is already published
palomino4Windows Server 2022 Datacenter / x64  OK    OK    OK    OK  UNNEEDED, same version is already published
lconwaymacOS 12.5.1 Monterey / x86_64  OK    OK    OK    OK  UNNEEDED, same version is already published
Package 65/77HostnameOS / ArchINSTALLBUILDCHECKBUILD BIN
SEtools 1.12.0  (landing page)
Pierre-Luc Germain
git_last_commit: ed5fccf
git_last_commit_date: 2022-11-01 11:20:30 -0400
nebbiolo2Linux (Ubuntu 20.04.5 LTS) / x86_64  OK    OK    OK  UNNEEDED, same version is already published
palomino4Windows Server 2022 Datacenter / x64  OK    OK    OK    OK  UNNEEDED, same version is already published
lconwaymacOS 12.5.1 Monterey / x86_64  OK    OK    OK    OK  UNNEEDED, same version is already published
Package 66/77HostnameOS / ArchINSTALLBUILDCHECKBUILD BIN
singleCellTK 2.8.0  (landing page)
Yichen Wang
git_last_commit: 711d2ed
git_last_commit_date: 2022-11-01 11:17:41 -0400
nebbiolo2Linux (Ubuntu 20.04.5 LTS) / x86_64  OK    OK    TIMEOUT  
palomino4Windows Server 2022 Datacenter / x64  OK    OK    OK    OK  UNNEEDED, same version is already published
lconwaymacOS 12.5.1 Monterey / x86_64  OK    OK    OK    OK  UNNEEDED, same version is already published
Package 67/77HostnameOS / ArchINSTALLBUILDCHECKBUILD BIN
SNPhood 1.28.0  (landing page)
Christian Arnold
git_last_commit: a928670
git_last_commit_date: 2022-11-01 11:12:26 -0400
nebbiolo2Linux (Ubuntu 20.04.5 LTS) / x86_64  OK    OK    OK  UNNEEDED, same version is already published
palomino4Windows Server 2022 Datacenter / x64  OK    OK    OK    OK  UNNEEDED, same version is already published
lconwaymacOS 12.5.1 Monterey / x86_64  OK    OK    OK    OK  UNNEEDED, same version is already published
Package 68/77HostnameOS / ArchINSTALLBUILDCHECKBUILD BIN
srnadiff 1.18.2  (landing page)
Zytnicki Matthias
git_last_commit: 53b3bbd
git_last_commit_date: 2023-03-06 15:38:52 -0400
nebbiolo2Linux (Ubuntu 20.04.5 LTS) / x86_64  OK    OK    WARNINGS  UNNEEDED, same version is already published
palomino4Windows Server 2022 Datacenter / x64  OK    OK    WARNINGS    OK  UNNEEDED, same version is already published
lconwaymacOS 12.5.1 Monterey / x86_64  OK    OK    WARNINGS    OK  UNNEEDED, same version is already published
Package 69/77HostnameOS / ArchINSTALLBUILDCHECKBUILD BIN
systemPipeTools 1.6.0  (landing page)
Daniela Cassol
git_last_commit: 89b8880
git_last_commit_date: 2022-11-01 11:25:09 -0400
nebbiolo2Linux (Ubuntu 20.04.5 LTS) / x86_64  OK    OK    OK  UNNEEDED, same version is already published
palomino4Windows Server 2022 Datacenter / x64  OK    OK    OK    OK  UNNEEDED, same version is already published
lconwaymacOS 12.5.1 Monterey / x86_64  OK    OK    OK    OK  UNNEEDED, same version is already published
Package 70/77HostnameOS / ArchINSTALLBUILDCHECKBUILD BIN
TBSignatureProfiler 1.10.0  (landing page)
Aubrey R. Odom-Mabey
git_last_commit: d5d3e43
git_last_commit_date: 2022-11-01 11:21:57 -0400
nebbiolo2Linux (Ubuntu 20.04.5 LTS) / x86_64  OK    OK    ERROR  
palomino4Windows Server 2022 Datacenter / x64  OK    OK    OK    OK  UNNEEDED, same version is already published
lconwaymacOS 12.5.1 Monterey / x86_64  OK    OK    OK    OK  UNNEEDED, same version is already published
Package 71/77HostnameOS / ArchINSTALLBUILDCHECKBUILD BIN
TCC 1.38.0  (landing page)
Jianqiang Sun
git_last_commit: 81d0810
git_last_commit_date: 2022-11-01 11:08:38 -0400
nebbiolo2Linux (Ubuntu 20.04.5 LTS) / x86_64  OK    OK    OK  UNNEEDED, same version is already published
palomino4Windows Server 2022 Datacenter / x64  OK    OK    OK    OK  UNNEEDED, same version is already published
lconwaymacOS 12.5.1 Monterey / x86_64  OK    OK    OK    OK  UNNEEDED, same version is already published
Package 72/77HostnameOS / ArchINSTALLBUILDCHECKBUILD BIN
TEKRABber 1.2.0  (landing page)
Yao-Chung Chen
git_last_commit: ff8c3a9
git_last_commit_date: 2022-11-01 11:26:27 -0400
nebbiolo2Linux (Ubuntu 20.04.5 LTS) / x86_64  OK    OK    OK  UNNEEDED, same version is already published
palomino4Windows Server 2022 Datacenter / x64  OK    OK    OK    OK  UNNEEDED, same version is already published
lconwaymacOS 12.5.1 Monterey / x86_64  OK    OK    OK    OK  UNNEEDED, same version is already published
Package 73/77HostnameOS / ArchINSTALLBUILDCHECKBUILD BIN
TimeSeriesExperiment 1.16.0  (landing page)
Lan Huong Nguyen
git_last_commit: 341d228
git_last_commit_date: 2022-11-01 11:18:50 -0400
nebbiolo2Linux (Ubuntu 20.04.5 LTS) / x86_64  OK    ERROR  skipped
palomino4Windows Server 2022 Datacenter / x64  OK    ERROR  skippedskipped
lconwaymacOS 12.5.1 Monterey / x86_64  OK    ERROR  skippedskipped
Package 74/77HostnameOS / ArchINSTALLBUILDCHECKBUILD BIN
tRanslatome 1.36.0  (landing page)
Toma Tebaldi , Erik Dassi
git_last_commit: a17b63e
git_last_commit_date: 2022-11-01 11:08:17 -0400
nebbiolo2Linux (Ubuntu 20.04.5 LTS) / x86_64  OK    OK    WARNINGS  UNNEEDED, same version is already published
palomino4Windows Server 2022 Datacenter / x64  OK    OK    WARNINGS    OK  UNNEEDED, same version is already published
lconwaymacOS 12.5.1 Monterey / x86_64  OK    OK    WARNINGS    OK  UNNEEDED, same version is already published
Package 75/77HostnameOS / ArchINSTALLBUILDCHECKBUILD BIN
UMI4Cats 1.8.1  (landing page)
Mireia Ramos-Rodriguez
git_last_commit: 9626832
git_last_commit_date: 2022-12-15 08:12:00 -0400
nebbiolo2Linux (Ubuntu 20.04.5 LTS) / x86_64  OK    OK    OK  UNNEEDED, same version is already published
palomino4Windows Server 2022 Datacenter / x64  OK    OK    OK    OK  UNNEEDED, same version is already published
lconwaymacOS 12.5.1 Monterey / x86_64  OK    OK    OK    OK  UNNEEDED, same version is already published
Package 76/77HostnameOS / ArchINSTALLBUILDCHECKBUILD BIN
vidger 1.18.0  (landing page)
Brandon Monier
git_last_commit: dfad737
git_last_commit_date: 2022-11-01 11:17:14 -0400
nebbiolo2Linux (Ubuntu 20.04.5 LTS) / x86_64  OK    OK    OK  UNNEEDED, same version is already published
palomino4Windows Server 2022 Datacenter / x64  OK    OK    OK    OK  UNNEEDED, same version is already published
lconwaymacOS 12.5.1 Monterey / x86_64  OK    OK    OK    OK  UNNEEDED, same version is already published
Package 77/77HostnameOS / ArchINSTALLBUILDCHECKBUILD BIN
vulcan 1.20.0  (landing page)
Federico M. Giorgi
git_last_commit: 5c45df0
git_last_commit_date: 2022-11-01 11:16:27 -0400
nebbiolo2Linux (Ubuntu 20.04.5 LTS) / x86_64  OK    OK    OK  UNNEEDED, same version is already published
palomino4Windows Server 2022 Datacenter / x64  OK    OK    OK    OK  UNNEEDED, same version is already published
lconwaymacOS 12.5.1 Monterey / x86_64  OK    OK    OK    OK  UNNEEDED, same version is already published