Back to Multiple platform build/check report for BioC 3.16:   simplified   long
ABCDEFGHIJKLMNOPQR[S]TUVWXYZ

This page was generated on 2023-03-17 11:05:40 -0400 (Fri, 17 Mar 2023).

HostnameOSArch (*)R versionInstalled pkgs
nebbiolo2Linux (Ubuntu 20.04.5 LTS)x86_644.2.2 (2022-10-31) -- "Innocent and Trusting" 4516
palomino4Windows Server 2022 Datacenterx644.2.2 (2022-10-31 ucrt) -- "Innocent and Trusting" 4295
lconwaymacOS 12.5.1 Montereyx86_644.2.2 (2022-10-31) -- "Innocent and Trusting" 4324
Click on any hostname to see more info about the system (e.g. compilers)      (*) as reported by 'uname -p', except on Windows and Mac OS X

BUILD results for signatureSearch on nebbiolo2


To the developers/maintainers of the signatureSearch package:
- Please allow up to 24 hours (and sometimes 48 hours) for your latest push to git@git.bioconductor.org:packages/signatureSearch.git to
reflect on this report. See How and When does the builder pull? When will my changes propagate? for more information.
- Make sure to use the following settings in order to reproduce any error or warning you see on this page.

raw results

Package 1869/2183HostnameOS / ArchINSTALLBUILDCHECKBUILD BIN
signatureSearch 1.12.0  (landing page)
Brendan Gongol
Snapshot Date: 2023-03-15 14:00:04 -0400 (Wed, 15 Mar 2023)
git_url: https://git.bioconductor.org/packages/signatureSearch
git_branch: RELEASE_3_16
git_last_commit: b007162
git_last_commit_date: 2022-11-01 11:20:59 -0400 (Tue, 01 Nov 2022)
nebbiolo2Linux (Ubuntu 20.04.5 LTS) / x86_64  OK    OK    OK  UNNEEDED, same version is already published
palomino4Windows Server 2022 Datacenter / x64  OK    OK    OK    OK  UNNEEDED, same version is already published
lconwaymacOS 12.5.1 Monterey / x86_64  OK    OK    OK    OK  UNNEEDED, same version is already published

Summary

Package: signatureSearch
Version: 1.12.0
Command: /home/biocbuild/bbs-3.16-bioc/R/bin/R CMD build --keep-empty-dirs --no-resave-data signatureSearch
StartedAt: 2023-03-15 18:05:15 -0400 (Wed, 15 Mar 2023)
EndedAt: 2023-03-15 18:11:41 -0400 (Wed, 15 Mar 2023)
EllapsedTime: 386.6 seconds
RetCode: 0
Status:   OK  
PackageFile: signatureSearch_1.12.0.tar.gz
PackageFileSize: 5.075 MiB

Command output

##############################################################################
##############################################################################
###
### Running command:
###
###   /home/biocbuild/bbs-3.16-bioc/R/bin/R CMD build --keep-empty-dirs --no-resave-data signatureSearch
###
##############################################################################
##############################################################################


* checking for file ‘signatureSearch/DESCRIPTION’ ... OK
* preparing ‘signatureSearch’:
* checking DESCRIPTION meta-information ... OK
* cleaning src
* installing the package to build vignettes
* creating vignettes ... OK
* cleaning src
* checking for LF line-endings in source and make files and shell scripts
* checking for empty or unneeded directories
* building ‘signatureSearch_1.12.0.tar.gz’