Back to Multiple platform build/check report for BioC 3.16:   simplified   long
ABCDEFGHIJKL[M]NOPQRSTUVWXYZ

This page was generated on 2023-03-17 11:06:04 -0400 (Fri, 17 Mar 2023).

HostnameOSArch (*)R versionInstalled pkgs
nebbiolo2Linux (Ubuntu 20.04.5 LTS)x86_644.2.2 (2022-10-31) -- "Innocent and Trusting" 4516
palomino4Windows Server 2022 Datacenterx644.2.2 (2022-10-31 ucrt) -- "Innocent and Trusting" 4295
lconwaymacOS 12.5.1 Montereyx86_644.2.2 (2022-10-31) -- "Innocent and Trusting" 4324
Click on any hostname to see more info about the system (e.g. compilers)      (*) as reported by 'uname -p', except on Windows and Mac OS X

BUILD BIN results for methylumi on palomino4


To the developers/maintainers of the methylumi package:
- Please allow up to 24 hours (and sometimes 48 hours) for your latest push to git@git.bioconductor.org:packages/methylumi.git to
reflect on this report. See How and When does the builder pull? When will my changes propagate? for more information.
- Make sure to use the following settings in order to reproduce any error or warning you see on this page.

raw results

Package 1181/2183HostnameOS / ArchINSTALLBUILDCHECKBUILD BIN
methylumi 2.44.0  (landing page)
Sean Davis
Snapshot Date: 2023-03-15 14:00:04 -0400 (Wed, 15 Mar 2023)
git_url: https://git.bioconductor.org/packages/methylumi
git_branch: RELEASE_3_16
git_last_commit: 8f1f1f9
git_last_commit_date: 2022-11-01 11:04:28 -0400 (Tue, 01 Nov 2022)
nebbiolo2Linux (Ubuntu 20.04.5 LTS) / x86_64  OK    OK    OK  UNNEEDED, same version is already published
palomino4Windows Server 2022 Datacenter / x64  OK    OK    OK    OK  UNNEEDED, same version is already published
lconwaymacOS 12.5.1 Monterey / x86_64  OK    OK    OK    OK  UNNEEDED, same version is already published

Summary

Package: methylumi
Version: 2.44.0
Command: rm -rf methylumi.buildbin-libdir && mkdir methylumi.buildbin-libdir && F:\biocbuild\bbs-3.16-bioc\R\bin\R.exe CMD INSTALL --build --library=methylumi.buildbin-libdir methylumi_2.44.0.tar.gz
StartedAt: 2023-03-16 08:12:04 -0400 (Thu, 16 Mar 2023)
EndedAt: 2023-03-16 08:13:32 -0400 (Thu, 16 Mar 2023)
EllapsedTime: 87.8 seconds
RetCode: 0
Status:   OK  
PackageFile: methylumi_2.44.0.zip
PackageFileSize: 8.42 MiB

Command output

##############################################################################
##############################################################################
###
### Running command:
###
###   rm -rf methylumi.buildbin-libdir && mkdir methylumi.buildbin-libdir && F:\biocbuild\bbs-3.16-bioc\R\bin\R.exe CMD INSTALL --build --library=methylumi.buildbin-libdir methylumi_2.44.0.tar.gz
###
##############################################################################
##############################################################################


* installing *source* package 'methylumi' ...
** using staged installation
** R
** data
** inst
** byte-compile and prepare package for lazy loading
** help
*** installing help indices
** building package indices
** installing vignettes
** testing if installed package can be loaded from temporary location
** testing if installed package can be loaded from final location
** testing if installed package keeps a record of temporary installation path
* MD5 sums
packaged installation of 'methylumi' as methylumi_2.44.0.zip
* DONE (methylumi)