Back to Multiple platform build/check report for BioC 3.16:   simplified   long
ABCDEFGHIJKLMNOPQRS[T]UVWXYZ

This page was generated on 2023-03-20 11:04:52 -0400 (Mon, 20 Mar 2023).

HostnameOSArch (*)R versionInstalled pkgs
nebbiolo2Linux (Ubuntu 20.04.5 LTS)x86_644.2.2 (2022-10-31) -- "Innocent and Trusting" 4516
palomino4Windows Server 2022 Datacenterx644.2.2 (2022-10-31 ucrt) -- "Innocent and Trusting" 4295
lconwaymacOS 12.5.1 Montereyx86_644.2.2 (2022-10-31) -- "Innocent and Trusting" 4324
Click on any hostname to see more info about the system (e.g. compilers)      (*) as reported by 'uname -p', except on Windows and Mac OS X

All results for package TSCAN


To the developers/maintainers of the TSCAN package:
- Please allow up to 24 hours (and sometimes 48 hours) for your latest push to git@git.bioconductor.org:packages/TSCAN.git to
reflect on this report. See How and When does the builder pull? When will my changes propagate? for more information.
- Make sure to use the following settings in order to reproduce any error or warning you see on this page.

raw results

Package 2104/2183HostnameOS / ArchINSTALLBUILDCHECKBUILD BIN
TSCAN 1.36.0  (landing page)
Zhicheng Ji
Snapshot Date: 2023-03-17 14:00:04 -0400 (Fri, 17 Mar 2023)
git_url: https://git.bioconductor.org/packages/TSCAN
git_branch: RELEASE_3_16
git_last_commit: 7488959
git_last_commit_date: 2022-11-01 11:10:15 -0400 (Tue, 01 Nov 2022)
nebbiolo2Linux (Ubuntu 20.04.5 LTS) / x86_64  OK    OK    WARNINGS  UNNEEDED, same version is already published
palomino4Windows Server 2022 Datacenter / x64  OK    OK    WARNINGS    OK  UNNEEDED, same version is already published
lconwaymacOS 12.5.1 Monterey / x86_64  OK    OK    WARNINGS    OK  UNNEEDED, same version is already published

Results for Bioconductor software packages that depend directly on package TSCAN

QUICK STATSOS / ArchINSTALLBUILDCHECKBUILD BIN
nebbiolo2Linux (Ubuntu 20.04.5 LTS) / x86_64
012
012
0002
palomino4Windows Server 2022 Datacenter / x64
012
012
0002
002
lconwaymacOS 12.5.1 Monterey / x86_64
012
012
0002
002
Package 1/3HostnameOS / ArchINSTALLBUILDCHECKBUILD BIN
ctgGEM 1.10.0  (landing page)
USD Biomedical Engineering
git_last_commit: 4e46726
git_last_commit_date: 2022-11-01 11:21:23 -0400
nebbiolo2Linux (Ubuntu 20.04.5 LTS) / x86_64  ERROR    ERROR  skipped
palomino4Windows Server 2022 Datacenter / x64  ERROR    ERROR  skippedskipped
lconwaymacOS 12.5.1 Monterey / x86_64  ERROR    ERROR  skippedskipped
Package 2/3HostnameOS / ArchINSTALLBUILDCHECKBUILD BIN
FEAST 1.6.0  (landing page)
Kenong Su
git_last_commit: 7d99b9d
git_last_commit_date: 2022-11-01 11:24:45 -0400
nebbiolo2Linux (Ubuntu 20.04.5 LTS) / x86_64  OK    OK    OK  UNNEEDED, same version is already published
palomino4Windows Server 2022 Datacenter / x64  OK    OK    OK    OK  UNNEEDED, same version is already published
lconwaymacOS 12.5.1 Monterey / x86_64  OK    OK    OK    OK  UNNEEDED, same version is already published
Package 3/3HostnameOS / ArchINSTALLBUILDCHECKBUILD BIN
singleCellTK 2.8.0  (landing page)
Yichen Wang
git_last_commit: 711d2ed
git_last_commit_date: 2022-11-01 11:17:41 -0400
nebbiolo2Linux (Ubuntu 20.04.5 LTS) / x86_64  OK    OK    OK  UNNEEDED, same version is already published
palomino4Windows Server 2022 Datacenter / x64  OK    OK    OK    OK  UNNEEDED, same version is already published
lconwaymacOS 12.5.1 Monterey / x86_64  OK    OK    OK    OK  UNNEEDED, same version is already published