Back to Multiple platform build/check report for BioC 3.16 |
|
This page was generated on 2022-08-12 11:05:47 -0400 (Fri, 12 Aug 2022).
Hostname | OS | Arch (*) | R version | Installed pkgs |
---|---|---|---|---|
nebbiolo2 | Linux (Ubuntu 20.04.4 LTS) | x86_64 | 4.2.1 (2022-06-23) -- "Funny-Looking Kid" | 4375 |
palomino4 | Windows Server 2022 Datacenter | x64 | 4.2.1 (2022-06-23 ucrt) -- "Funny-Looking Kid" | 4159 |
lconway | macOS 12.2.1 Monterey | x86_64 | 4.2.1 Patched (2022-07-09 r82577) -- "Funny-Looking Kid" | 4167 |
Click on any hostname to see more info about the system (e.g. compilers) (*) as reported by 'uname -p', except on Windows and Mac OS X |
To the developers/maintainers of the attract package: - Please allow up to 24 hours (and sometimes 48 hours) for your latest push to git@git.bioconductor.org:packages/attract.git to reflect on this report. See How and When does the builder pull? When will my changes propagate? for more information. - Make sure to use the following settings in order to reproduce any error or warning you see on this page. |
Package 96/2139 | Hostname | OS / Arch | INSTALL | BUILD | CHECK | BUILD BIN | ||||||||
attract 1.49.0 (landing page) Samuel Zimmerman
| nebbiolo2 | Linux (Ubuntu 20.04.4 LTS) / x86_64 | OK | OK | OK | ![]() | ||||||||
palomino4 | Windows Server 2022 Datacenter / x64 | OK | OK | OK | OK | ![]() | ||||||||
lconway | macOS 12.2.1 Monterey / x86_64 | OK | OK | OK | OK | ![]() | ||||||||
Package: attract |
Version: 1.49.0 |
Command: F:\biocbuild\bbs-3.16-bioc\R\bin\R.exe CMD check --force-multiarch --install=check:attract.install-out.txt --library=F:\biocbuild\bbs-3.16-bioc\R\library --no-vignettes --timings attract_1.49.0.tar.gz |
StartedAt: 2022-08-11 23:22:54 -0400 (Thu, 11 Aug 2022) |
EndedAt: 2022-08-11 23:27:41 -0400 (Thu, 11 Aug 2022) |
EllapsedTime: 287.0 seconds |
RetCode: 0 |
Status: OK |
CheckDir: attract.Rcheck |
Warnings: 0 |
############################################################################## ############################################################################## ### ### Running command: ### ### F:\biocbuild\bbs-3.16-bioc\R\bin\R.exe CMD check --force-multiarch --install=check:attract.install-out.txt --library=F:\biocbuild\bbs-3.16-bioc\R\library --no-vignettes --timings attract_1.49.0.tar.gz ### ############################################################################## ############################################################################## * using log directory 'F:/biocbuild/bbs-3.16-bioc/meat/attract.Rcheck' * using R version 4.2.1 (2022-06-23 ucrt) * using platform: x86_64-w64-mingw32 (64-bit) * using session charset: UTF-8 * using option '--no-vignettes' * checking for file 'attract/DESCRIPTION' ... OK * checking extension type ... Package * this is package 'attract' version '1.49.0' * checking package namespace information ... OK * checking package dependencies ... OK * checking if this is a source package ... OK * checking if there is a namespace ... OK * checking for hidden files and directories ... OK * checking for portable file names ... OK * checking whether package 'attract' can be installed ... OK * checking installed package size ... OK * checking package directory ... OK * checking 'build' directory ... OK * checking DESCRIPTION meta-information ... OK * checking top-level files ... OK * checking for left-over files ... OK * checking index information ... OK * checking package subdirectories ... OK * checking R files for non-ASCII characters ... OK * checking R files for syntax errors ... OK * checking whether the package can be loaded ... OK * checking whether the package can be loaded with stated dependencies ... OK * checking whether the package can be unloaded cleanly ... OK * checking whether the namespace can be loaded with stated dependencies ... OK * checking whether the namespace can be unloaded cleanly ... OK * checking dependencies in R code ... OK * checking S3 generic/method consistency ... OK * checking replacement functions ... OK * checking foreign function calls ... OK * checking R code for possible problems ... NOTE plotsynexprs: warning in axis(1, at = tickMarks, lab = tickLabels): partial argument match of 'lab' to 'labels' removeFlatGenes: warning in topTable(fit2, coef = (1:(length(my.contrasts))), adjust = "fdr", n = nrow(dat.fr)): partial argument match of 'n' to 'number' removeFlatGenes: warning in topTable(fit2, coef = (1:(length(my.contrasts))), adjust = "fdr", n = nrow(dat.fr)): partial argument match of 'adjust' to 'adjust.method' * checking Rd files ... OK * checking Rd metadata ... OK * checking Rd cross-references ... OK * checking for missing documentation entries ... OK * checking for code/documentation mismatches ... OK * checking Rd \usage sections ... OK * checking Rd contents ... OK * checking for unstated dependencies in examples ... OK * checking contents of 'data' directory ... OK * checking data for non-ASCII characters ... OK * checking data for ASCII and uncompressed saves ... OK * checking sizes of PDF files under 'inst/doc' ... OK * checking files in 'vignettes' ... OK * checking examples ... OK Examples with CPU (user + system) or elapsed time > 5s user system elapsed calcFuncSynexprs 64.17 5.43 71.76 findAttractors 39.34 2.53 43.50 findCorrPartners 5.19 0.20 6.53 findSynexprs 5.28 0.08 6.44 plotsynexprs 4.07 0.08 5.26 * checking for unstated dependencies in vignettes ... OK * checking package vignettes in 'inst/doc' ... OK * checking running R code from vignettes ... SKIPPED * checking re-building of vignette outputs ... SKIPPED * checking PDF version of manual ... OK * DONE Status: 1 NOTE See 'F:/biocbuild/bbs-3.16-bioc/meat/attract.Rcheck/00check.log' for details.
attract.Rcheck/00install.out
############################################################################## ############################################################################## ### ### Running command: ### ### C:\cygwin\bin\curl.exe -O http://155.52.207.166/BBS/3.16/bioc/src/contrib/attract_1.49.0.tar.gz && rm -rf attract.buildbin-libdir && mkdir attract.buildbin-libdir && F:\biocbuild\bbs-3.16-bioc\R\bin\R.exe CMD INSTALL --merge-multiarch --build --library=attract.buildbin-libdir attract_1.49.0.tar.gz && F:\biocbuild\bbs-3.16-bioc\R\bin\R.exe CMD INSTALL attract_1.49.0.zip && rm attract_1.49.0.tar.gz attract_1.49.0.zip ### ############################################################################## ############################################################################## % Total % Received % Xferd Average Speed Time Time Time Current Dload Upload Total Spent Left Speed 0 0 0 0 0 0 0 0 --:--:-- --:--:-- --:--:-- 0 39 4204k 39 1669k 0 0 4405k 0 --:--:-- --:--:-- --:--:-- 4404k 100 4204k 100 4204k 0 0 4770k 0 --:--:-- --:--:-- --:--:-- 4772k only one architecture so ignoring '--merge-multiarch' * installing *source* package 'attract' ... ** using staged installation ** R ** data ** inst ** byte-compile and prepare package for lazy loading ** help *** installing help indices ** building package indices ** installing vignettes ** testing if installed package can be loaded from temporary location ** testing if installed package can be loaded from final location ** testing if installed package keeps a record of temporary installation path * MD5 sums packaged installation of 'attract' as attract_1.49.0.zip * DONE (attract) * installing to library 'F:/biocbuild/bbs-3.16-bioc/R/library' package 'attract' successfully unpacked and MD5 sums checked
attract.Rcheck/attract-Ex.timings
name | user | system | elapsed | |
AttractorModuleSet-class | 0 | 0 | 0 | |
SynExpressionSet-class | 0 | 0 | 0 | |
attract-package | 0 | 0 | 0 | |
buildCorMatrix | 0 | 0 | 0 | |
buildKeggIncidenceMatrix | 0 | 0 | 0 | |
calcFuncSynexprs | 64.17 | 5.43 | 71.76 | |
calcInform | 0 | 0 | 0 | |
calcModfstat | 0 | 0 | 0 | |
calcRss | 0 | 0 | 0 | |
exprs.dat | 0.11 | 0.02 | 0.13 | |
filterDataSet | 0.19 | 0.02 | 0.20 | |
findAttractors | 39.34 | 2.53 | 43.50 | |
findCorrPartners | 5.19 | 0.20 | 6.53 | |
findOnepwaySynexprs | 0 | 0 | 0 | |
findSynexprs | 5.28 | 0.08 | 6.44 | |
flagPwayExists | 0 | 0 | 0 | |
getCustomGenes | 0 | 0 | 0 | |
getPwayGenes | 0 | 0 | 0 | |
loring.eset | 0.10 | 0.01 | 0.11 | |
plotsynexprs | 4.07 | 0.08 | 5.26 | |
removeFlatGenes | 0.11 | 0.00 | 0.11 | |
samp.info | 0.02 | 0.00 | 0.02 | |
subset.loring.eset | 0.06 | 0.00 | 0.06 | |