This page was generated on 2021-04-21 13:09:30 -0400 (Wed, 21 Apr 2021).
|
Hostname | OS | Arch (*) | Platform label (**) | R version | Installed pkgs |
---|---|---|---|---|---|
nebbiolo1 | Linux (Ubuntu 20.04.2 LTS) | x86_64 | x86_64-linux-gnu | R Under development (unstable) (2021-04-06 r80146) -- "Unsuffered Consequences" | 3938 |
riesling1 | Windows Server 2019 Standard | x64 | mingw32 / x86_64-w64-mingw32 | R Under development (unstable) (2021-04-06 r80146) -- "Unsuffered Consequences" | 4004 |
machv2 | macOS 10.14.6 Mojave | x86_64 | x86_64-apple-darwin18.7.0 | R Under development (unstable) (2021-03-29 r80130) -- "Unsuffered Consequences" | 3888 |
Click on any hostname to see more info about the system (e.g. compilers) (*) as reported by 'uname -p', except on Windows and Mac OS X (**) as reported by 'gcc -v' |
A |
QUICK STATS | OS / Arch | INSTALL | BUILD | CHECK | BUILD BIN | |||||||||||||||||||||||||||||||
nebbiolo1 | Linux (Ubuntu 20.04.2 LTS) / x86_64 |
|
|
| ||||||||||||||||||||||||||||||||
riesling1 | Windows Server 2019 Standard / x64 |
|
|
|
| |||||||||||||||||||||||||||||||
machv2 | macOS 10.14.6 Mojave / x86_64 |
|
|
|
| |||||||||||||||||||||||||||||||
|
| |||||||||||||||||||||||||||||||||||
Package 1/1986 | Hostname | OS / Arch | INSTALL | BUILD | CHECK | BUILD BIN | ||||||||||||||||||||||||||||||
a4 1.39.0 (landing page) Laure Cougnaud
| nebbiolo1 | Linux (Ubuntu 20.04.2 LTS) / x86_64 | OK | OK | OK | ![]() | ||||||||||||||||||||||||||||||
riesling1 | Windows Server 2019 Standard / x64 | OK | OK | OK | OK | ![]() | ||||||||||||||||||||||||||||||
machv2 | macOS 10.14.6 Mojave / x86_64 | OK | OK | OK | OK | ![]() | ||||||||||||||||||||||||||||||
Package 2/1986 | Hostname | OS / Arch | INSTALL | BUILD | CHECK | BUILD BIN | ||||||||||||||||||||||||||||||
a4Base 1.39.0 (landing page) Laure Cougnaud
| nebbiolo1 | Linux (Ubuntu 20.04.2 LTS) / x86_64 | OK | OK | OK | ![]() | ||||||||||||||||||||||||||||||
riesling1 | Windows Server 2019 Standard / x64 | OK | OK | OK | OK | ![]() | ||||||||||||||||||||||||||||||
machv2 | macOS 10.14.6 Mojave / x86_64 | OK | OK | OK | OK | ![]() | ||||||||||||||||||||||||||||||
Package 3/1986 | Hostname | OS / Arch | INSTALL | BUILD | CHECK | BUILD BIN | ||||||||||||||||||||||||||||||
a4Classif 1.39.0 (landing page) Laure Cougnaud
| nebbiolo1 | Linux (Ubuntu 20.04.2 LTS) / x86_64 | OK | OK | OK | ![]() | ||||||||||||||||||||||||||||||
riesling1 | Windows Server 2019 Standard / x64 | OK | OK | OK | OK | ![]() | ||||||||||||||||||||||||||||||
machv2 | macOS 10.14.6 Mojave / x86_64 | OK | OK | OK | OK | ![]() | ||||||||||||||||||||||||||||||
Package 4/1986 | Hostname | OS / Arch | INSTALL | BUILD | CHECK | BUILD BIN | ||||||||||||||||||||||||||||||
a4Core 1.39.0 (landing page) Laure Cougnaud
| nebbiolo1 | Linux (Ubuntu 20.04.2 LTS) / x86_64 | OK | OK | OK | ![]() | ||||||||||||||||||||||||||||||
riesling1 | Windows Server 2019 Standard / x64 | OK | OK | OK | OK | ![]() | ||||||||||||||||||||||||||||||
machv2 | macOS 10.14.6 Mojave / x86_64 | OK | OK | OK | OK | ![]() | ||||||||||||||||||||||||||||||
Package 5/1986 | Hostname | OS / Arch | INSTALL | BUILD | CHECK | BUILD BIN | ||||||||||||||||||||||||||||||
a4Preproc 1.39.0 (landing page) Laure Cougnaud
| nebbiolo1 | Linux (Ubuntu 20.04.2 LTS) / x86_64 | OK | OK | OK | ![]() | ||||||||||||||||||||||||||||||
riesling1 | Windows Server 2019 Standard / x64 | OK | OK | OK | OK | ![]() | ||||||||||||||||||||||||||||||
machv2 | macOS 10.14.6 Mojave / x86_64 | OK | OK | OK | OK | ![]() | ||||||||||||||||||||||||||||||
Package 6/1986 | Hostname | OS / Arch | INSTALL | BUILD | CHECK | BUILD BIN | ||||||||||||||||||||||||||||||
a4Reporting 1.39.0 (landing page) Laure Cougnaud
| nebbiolo1 | Linux (Ubuntu 20.04.2 LTS) / x86_64 | OK | OK | OK | ![]() | ||||||||||||||||||||||||||||||
riesling1 | Windows Server 2019 Standard / x64 | OK | OK | OK | OK | ![]() | ||||||||||||||||||||||||||||||
machv2 | macOS 10.14.6 Mojave / x86_64 | OK | OK | OK | OK | ![]() | ||||||||||||||||||||||||||||||
Package 7/1986 | Hostname | OS / Arch | INSTALL | BUILD | CHECK | BUILD BIN | ||||||||||||||||||||||||||||||
ABAEnrichment 1.21.0 (landing page) Steffi Grote
| nebbiolo1 | Linux (Ubuntu 20.04.2 LTS) / x86_64 | OK | OK | OK | ![]() | ||||||||||||||||||||||||||||||
riesling1 | Windows Server 2019 Standard / x64 | OK | OK | OK | OK | ![]() | ||||||||||||||||||||||||||||||
machv2 | macOS 10.14.6 Mojave / x86_64 | OK | OK | OK | OK | ![]() | ||||||||||||||||||||||||||||||
Package 8/1986 | Hostname | OS / Arch | INSTALL | BUILD | CHECK | BUILD BIN | ||||||||||||||||||||||||||||||
ABarray 1.59.0 (landing page) Yongming Andrew Sun
| nebbiolo1 | Linux (Ubuntu 20.04.2 LTS) / x86_64 | OK | OK | OK | ![]() | ||||||||||||||||||||||||||||||
riesling1 | Windows Server 2019 Standard / x64 | OK | OK | OK | OK | ![]() | ||||||||||||||||||||||||||||||
machv2 | macOS 10.14.6 Mojave / x86_64 | OK | OK | OK | OK | ![]() | ||||||||||||||||||||||||||||||
Package 9/1986 | Hostname | OS / Arch | INSTALL | BUILD | CHECK | BUILD BIN | ||||||||||||||||||||||||||||||
abseqR 1.9.0 (landing page) JiaHong Fong
| nebbiolo1 | Linux (Ubuntu 20.04.2 LTS) / x86_64 | OK | OK | OK | ![]() | ||||||||||||||||||||||||||||||
riesling1 | Windows Server 2019 Standard / x64 | OK | OK | OK | OK | ![]() | ||||||||||||||||||||||||||||||
machv2 | macOS 10.14.6 Mojave / x86_64 | OK | OK | OK | OK | ![]() | ||||||||||||||||||||||||||||||
Package 10/1986 | Hostname | OS / Arch | INSTALL | BUILD | CHECK | BUILD BIN | ||||||||||||||||||||||||||||||
ABSSeq 1.45.0 (landing page) Wentao Yang
| nebbiolo1 | Linux (Ubuntu 20.04.2 LTS) / x86_64 | OK | OK | OK | ![]() | ||||||||||||||||||||||||||||||
riesling1 | Windows Server 2019 Standard / x64 | OK | OK | WARNINGS | OK | ![]() | ||||||||||||||||||||||||||||||
machv2 | macOS 10.14.6 Mojave / x86_64 | OK | OK | OK | OK | ![]() | ||||||||||||||||||||||||||||||
Package 11/1986 | Hostname | OS / Arch | INSTALL | BUILD | CHECK | BUILD BIN | ||||||||||||||||||||||||||||||
acde 1.21.0 (landing page) Juan Pablo Acosta
| nebbiolo1 | Linux (Ubuntu 20.04.2 LTS) / x86_64 | OK | OK | OK | ![]() | ||||||||||||||||||||||||||||||
riesling1 | Windows Server 2019 Standard / x64 | OK | OK | OK | OK | ![]() | ||||||||||||||||||||||||||||||
machv2 | macOS 10.14.6 Mojave / x86_64 | OK | OK | OK | OK | ![]() | ||||||||||||||||||||||||||||||
Package 12/1986 | Hostname | OS / Arch | INSTALL | BUILD | CHECK | BUILD BIN | ||||||||||||||||||||||||||||||
ACE 1.9.3 (landing page) Jos B Poell
| nebbiolo1 | Linux (Ubuntu 20.04.2 LTS) / x86_64 | OK | OK | OK | ![]() | ||||||||||||||||||||||||||||||
riesling1 | Windows Server 2019 Standard / x64 | OK | OK | OK | OK | ![]() | ||||||||||||||||||||||||||||||
machv2 | macOS 10.14.6 Mojave / x86_64 | OK | OK | OK | OK | ![]() | ||||||||||||||||||||||||||||||
Package 13/1986 | Hostname | OS / Arch | INSTALL | BUILD | CHECK | BUILD BIN | ||||||||||||||||||||||||||||||
aCGH 1.69.0 (landing page) Peter Dimitrov
| nebbiolo1 | Linux (Ubuntu 20.04.2 LTS) / x86_64 | OK | OK | OK | ![]() | ||||||||||||||||||||||||||||||
riesling1 | Windows Server 2019 Standard / x64 | OK | OK | WARNINGS | OK | ![]() | ||||||||||||||||||||||||||||||
machv2 | macOS 10.14.6 Mojave / x86_64 | OK | OK | OK | OK | ![]() | ||||||||||||||||||||||||||||||
Package 14/1986 | Hostname | OS / Arch | INSTALL | BUILD | CHECK | BUILD BIN | ||||||||||||||||||||||||||||||
ACME 2.47.0 (landing page) Sean Davis
| nebbiolo1 | Linux (Ubuntu 20.04.2 LTS) / x86_64 | OK | OK | WARNINGS | ![]() | ||||||||||||||||||||||||||||||
riesling1 | Windows Server 2019 Standard / x64 | OK | OK | WARNINGS | OK | ![]() | ||||||||||||||||||||||||||||||
machv2 | macOS 10.14.6 Mojave / x86_64 | OK | OK | OK | OK | ![]() | ||||||||||||||||||||||||||||||
Package 15/1986 | Hostname | OS / Arch | INSTALL | BUILD | CHECK | BUILD BIN | ||||||||||||||||||||||||||||||
ADaCGH2 2.31.0 (landing page) Ramon Diaz-Uriarte
| nebbiolo1 | Linux (Ubuntu 20.04.2 LTS) / x86_64 | OK | OK | OK | ![]() | ||||||||||||||||||||||||||||||
riesling1 | Windows Server 2019 Standard / x64 | OK | OK | OK | OK | ![]() | ||||||||||||||||||||||||||||||
machv2 | macOS 10.14.6 Mojave / x86_64 | OK | OK | OK | OK | ![]() | ||||||||||||||||||||||||||||||
Package 16/1986 | Hostname | OS / Arch | INSTALL | BUILD | CHECK | BUILD BIN | ||||||||||||||||||||||||||||||
ADAM 1.7.0 (landing page) Jose Luiz Rybarczyk Filho
| nebbiolo1 | Linux (Ubuntu 20.04.2 LTS) / x86_64 | OK | OK | OK | ![]() | ||||||||||||||||||||||||||||||
riesling1 | Windows Server 2019 Standard / x64 | OK | OK | OK | OK | ![]() | ||||||||||||||||||||||||||||||
machv2 | macOS 10.14.6 Mojave / x86_64 | OK | OK | OK | OK | ![]() | ||||||||||||||||||||||||||||||
Package 17/1986 | Hostname | OS / Arch | INSTALL | BUILD | CHECK | BUILD BIN | ||||||||||||||||||||||||||||||
ADAMgui 1.7.0 (landing page) Jose Luiz Rybarczyk Filho
| nebbiolo1 | Linux (Ubuntu 20.04.2 LTS) / x86_64 | OK | OK | OK | ![]() | ||||||||||||||||||||||||||||||
riesling1 | Windows Server 2019 Standard / x64 | OK | OK | OK | OK | ![]() | ||||||||||||||||||||||||||||||
machv2 | macOS 10.14.6 Mojave / x86_64 | OK | OK | OK | OK | ![]() | ||||||||||||||||||||||||||||||
Package 18/1986 | Hostname | OS / Arch | INSTALL | BUILD | CHECK | BUILD BIN | ||||||||||||||||||||||||||||||
adductomicsR 1.7.0 (landing page) Josie Hayes
| nebbiolo1 | Linux (Ubuntu 20.04.2 LTS) / x86_64 | OK | OK | WARNINGS | ![]() | ||||||||||||||||||||||||||||||
riesling1 | Windows Server 2019 Standard / x64 | OK | OK | WARNINGS | OK | ![]() | ||||||||||||||||||||||||||||||
machv2 | macOS 10.14.6 Mojave / x86_64 | OK | OK | WARNINGS | OK | ![]() | ||||||||||||||||||||||||||||||
Package 19/1986 | Hostname | OS / Arch | INSTALL | BUILD | CHECK | BUILD BIN | ||||||||||||||||||||||||||||||
ADImpute 1.1.0 (landing page) Ana Carolina Leote
| nebbiolo1 | Linux (Ubuntu 20.04.2 LTS) / x86_64 | OK | OK | WARNINGS | ![]() | ||||||||||||||||||||||||||||||
riesling1 | Windows Server 2019 Standard / x64 | OK | OK | WARNINGS | OK | ![]() | ||||||||||||||||||||||||||||||
machv2 | macOS 10.14.6 Mojave / x86_64 | OK | OK | WARNINGS | OK | ![]() | ||||||||||||||||||||||||||||||
Package 20/1986 | Hostname | OS / Arch | INSTALL | BUILD | CHECK | BUILD BIN | ||||||||||||||||||||||||||||||
adSplit 1.61.2 (landing page) Claudio Lottaz
| nebbiolo1 | Linux (Ubuntu 20.04.2 LTS) / x86_64 | OK | OK | OK | ![]() | ||||||||||||||||||||||||||||||
riesling1 | Windows Server 2019 Standard / x64 | OK | OK | OK | OK | ![]() | ||||||||||||||||||||||||||||||
machv2 | macOS 10.14.6 Mojave / x86_64 | OK | OK | OK | OK | ![]() | ||||||||||||||||||||||||||||||
Package 21/1986 | Hostname | OS / Arch | INSTALL | BUILD | CHECK | BUILD BIN | ||||||||||||||||||||||||||||||
AffiXcan 1.9.0 (landing page) Alessandro Lussana
| nebbiolo1 | Linux (Ubuntu 20.04.2 LTS) / x86_64 | OK | OK | OK | ![]() | ||||||||||||||||||||||||||||||
riesling1 | Windows Server 2019 Standard / x64 | OK | OK | OK | OK | ![]() | ||||||||||||||||||||||||||||||
machv2 | macOS 10.14.6 Mojave / x86_64 | OK | OK | OK | OK | ![]() | ||||||||||||||||||||||||||||||
Package 22/1986 | Hostname | OS / Arch | INSTALL | BUILD | CHECK | BUILD BIN | ||||||||||||||||||||||||||||||
affxparser 1.63.0 (landing page) Kasper Daniel Hansen
| nebbiolo1 | Linux (Ubuntu 20.04.2 LTS) / x86_64 | OK | OK | WARNINGS | ![]() | ||||||||||||||||||||||||||||||
riesling1 | Windows Server 2019 Standard / x64 | OK | OK | WARNINGS | OK | ![]() | ||||||||||||||||||||||||||||||
machv2 | macOS 10.14.6 Mojave / x86_64 | OK | OK | WARNINGS | ERROR | |||||||||||||||||||||||||||||||
Package 23/1986 | Hostname | OS / Arch | INSTALL | BUILD | CHECK | BUILD BIN | ||||||||||||||||||||||||||||||
affy 1.69.1 (landing page) Rafael A. Irizarry
| nebbiolo1 | Linux (Ubuntu 20.04.2 LTS) / x86_64 | OK | OK | WARNINGS | ![]() | ||||||||||||||||||||||||||||||
riesling1 | Windows Server 2019 Standard / x64 | OK | OK | WARNINGS | OK | ![]() | ||||||||||||||||||||||||||||||
machv2 | macOS 10.14.6 Mojave / x86_64 | OK | OK | WARNINGS | OK | ![]() | ||||||||||||||||||||||||||||||
Package 24/1986 | Hostname | OS / Arch | INSTALL | BUILD | CHECK | BUILD BIN | ||||||||||||||||||||||||||||||
affycomp 1.67.0 (landing page) Rafael A. Irizarry
| nebbiolo1 | Linux (Ubuntu 20.04.2 LTS) / x86_64 | OK | OK | OK | ![]() | ||||||||||||||||||||||||||||||
riesling1 | Windows Server 2019 Standard / x64 | OK | OK | OK | OK | ![]() | ||||||||||||||||||||||||||||||
machv2 | macOS 10.14.6 Mojave / x86_64 | OK | OK | OK | OK | ![]() | ||||||||||||||||||||||||||||||
Package 25/1986 | Hostname | OS / Arch | INSTALL | BUILD | CHECK | BUILD BIN | ||||||||||||||||||||||||||||||
AffyCompatible 1.51.0 (landing page) Martin Morgan
| nebbiolo1 | Linux (Ubuntu 20.04.2 LTS) / x86_64 | OK | OK | OK | ![]() | ||||||||||||||||||||||||||||||
riesling1 | Windows Server 2019 Standard / x64 | OK | OK | OK | OK | ![]() | ||||||||||||||||||||||||||||||
machv2 | macOS 10.14.6 Mojave / x86_64 | OK | OK | OK | ERROR | |||||||||||||||||||||||||||||||
Package 26/1986 | Hostname | OS / Arch | INSTALL | BUILD | CHECK | BUILD BIN | ||||||||||||||||||||||||||||||
affyContam 1.49.0 (landing page) V. Carey
| nebbiolo1 | Linux (Ubuntu 20.04.2 LTS) / x86_64 | OK | OK | OK | ![]() | ||||||||||||||||||||||||||||||
riesling1 | Windows Server 2019 Standard / x64 | OK | OK | OK | OK | ![]() | ||||||||||||||||||||||||||||||
machv2 | macOS 10.14.6 Mojave / x86_64 | OK | OK | OK | OK | ![]() | ||||||||||||||||||||||||||||||
Package 27/1986 | Hostname | OS / Arch | INSTALL | BUILD | CHECK | BUILD BIN | ||||||||||||||||||||||||||||||
affycoretools 1.63.1 (landing page) James W. MacDonald
| nebbiolo1 | Linux (Ubuntu 20.04.2 LTS) / x86_64 | OK | OK | WARNINGS | ![]() | ||||||||||||||||||||||||||||||
riesling1 | Windows Server 2019 Standard / x64 | OK | OK | WARNINGS | OK | ![]() | ||||||||||||||||||||||||||||||
machv2 | macOS 10.14.6 Mojave / x86_64 | OK | OK | WARNINGS | OK | ![]() | ||||||||||||||||||||||||||||||
Package 28/1986 | Hostname | OS / Arch | INSTALL | BUILD | CHECK | BUILD BIN | ||||||||||||||||||||||||||||||
Xuejun Arthur Li
| nebbiolo1 | Linux (Ubuntu 20.04.2 LTS) / x86_64 | OK | ERROR | skipped | |||||||||||||||||||||||||||||||
riesling1 | Windows Server 2019 Standard / x64 | OK | ERROR | skipped | skipped | |||||||||||||||||||||||||||||||
machv2 | macOS 10.14.6 Mojave / x86_64 | OK | ERROR | skipped | skipped | |||||||||||||||||||||||||||||||
Package 29/1986 | Hostname | OS / Arch | INSTALL | BUILD | CHECK | BUILD BIN | ||||||||||||||||||||||||||||||
affyILM 1.43.0 (landing page) Myriam Kroll and Fabrice Berger
| nebbiolo1 | Linux (Ubuntu 20.04.2 LTS) / x86_64 | OK | OK | OK | ![]() | ||||||||||||||||||||||||||||||
riesling1 | Windows Server 2019 Standard / x64 | OK | OK | WARNINGS | OK | ![]() | ||||||||||||||||||||||||||||||
machv2 | macOS 10.14.6 Mojave / x86_64 | OK | OK | OK | OK | ![]() | ||||||||||||||||||||||||||||||
Package 30/1986 | Hostname | OS / Arch | INSTALL | BUILD | CHECK | BUILD BIN | ||||||||||||||||||||||||||||||
affyio 1.61.0 (landing page) Ben Bolstad
| nebbiolo1 | Linux (Ubuntu 20.04.2 LTS) / x86_64 | OK | OK | WARNINGS | ![]() | ||||||||||||||||||||||||||||||
riesling1 | Windows Server 2019 Standard / x64 | OK | OK | WARNINGS | OK | ![]() | ||||||||||||||||||||||||||||||
machv2 | macOS 10.14.6 Mojave / x86_64 | OK | OK | OK | OK | ![]() | ||||||||||||||||||||||||||||||
Package 31/1986 | Hostname | OS / Arch | INSTALL | BUILD | CHECK | BUILD BIN | ||||||||||||||||||||||||||||||
affylmGUI 1.65.0 (landing page) Gordon Smyth
| nebbiolo1 | Linux (Ubuntu 20.04.2 LTS) / x86_64 | OK | OK | OK | ![]() | ||||||||||||||||||||||||||||||
riesling1 | Windows Server 2019 Standard / x64 | OK | OK | OK | OK | ![]() | ||||||||||||||||||||||||||||||
machv2 | macOS 10.14.6 Mojave / x86_64 | OK | OK | OK | ERROR | |||||||||||||||||||||||||||||||
Package 32/1986 | Hostname | OS / Arch | INSTALL | BUILD | CHECK | BUILD BIN | ||||||||||||||||||||||||||||||
affyPara 1.51.0 (landing page) Markus Schmidberger
| nebbiolo1 | Linux (Ubuntu 20.04.2 LTS) / x86_64 | OK | OK | OK | ![]() | ||||||||||||||||||||||||||||||
riesling1 | Windows Server 2019 Standard / x64 | OK | OK | OK | OK | ![]() | ||||||||||||||||||||||||||||||
machv2 | macOS 10.14.6 Mojave / x86_64 | OK | OK | OK | OK | ![]() | ||||||||||||||||||||||||||||||
Package 33/1986 | Hostname | OS / Arch | INSTALL | BUILD | CHECK | BUILD BIN | ||||||||||||||||||||||||||||||
affyPLM 1.67.0 (landing page) Ben Bolstad
| nebbiolo1 | Linux (Ubuntu 20.04.2 LTS) / x86_64 | OK | OK | WARNINGS | ![]() | ||||||||||||||||||||||||||||||
riesling1 | Windows Server 2019 Standard / x64 | OK | OK | WARNINGS | OK | ![]() | ||||||||||||||||||||||||||||||
machv2 | macOS 10.14.6 Mojave / x86_64 | OK | OK | OK | ERROR | |||||||||||||||||||||||||||||||
Package 34/1986 | Hostname | OS / Arch | INSTALL | BUILD | CHECK | BUILD BIN | ||||||||||||||||||||||||||||||
Craig Parman
| nebbiolo1 | Linux (Ubuntu 20.04.2 LTS) / x86_64 | ERROR | ERROR | skipped | |||||||||||||||||||||||||||||||
riesling1 | Windows Server 2019 Standard / x64 | ERROR | ERROR | skipped | skipped | |||||||||||||||||||||||||||||||
machv2 | macOS 10.14.6 Mojave / x86_64 | ERROR | ERROR | skipped | skipped | |||||||||||||||||||||||||||||||
Package 35/1986 | Hostname | OS / Arch | INSTALL | BUILD | CHECK | BUILD BIN | ||||||||||||||||||||||||||||||
AffyRNADegradation 1.37.0 (landing page) Mario Fasold
| nebbiolo1 | Linux (Ubuntu 20.04.2 LTS) / x86_64 | OK | OK | OK | ![]() | ||||||||||||||||||||||||||||||
riesling1 | Windows Server 2019 Standard / x64 | OK | OK | OK | OK | ![]() | ||||||||||||||||||||||||||||||
machv2 | macOS 10.14.6 Mojave / x86_64 | OK | OK | OK | OK | ![]() | ||||||||||||||||||||||||||||||
Package 36/1986 | Hostname | OS / Arch | INSTALL | BUILD | CHECK | BUILD BIN | ||||||||||||||||||||||||||||||
AGDEX 1.39.0 (landing page) Cuilan lani Gao
| nebbiolo1 | Linux (Ubuntu 20.04.2 LTS) / x86_64 | OK | OK | OK | ![]() | ||||||||||||||||||||||||||||||
riesling1 | Windows Server 2019 Standard / x64 | OK | OK | OK | OK | ![]() | ||||||||||||||||||||||||||||||
machv2 | macOS 10.14.6 Mojave / x86_64 | OK | OK | OK | OK | ![]() | ||||||||||||||||||||||||||||||
Package 37/1986 | Hostname | OS / Arch | INSTALL | BUILD | CHECK | BUILD BIN | ||||||||||||||||||||||||||||||
aggregateBioVar 1.1.0 (landing page) Jason Ratcliff
| nebbiolo1 | Linux (Ubuntu 20.04.2 LTS) / x86_64 | OK | OK | OK | ![]() | ||||||||||||||||||||||||||||||
riesling1 | Windows Server 2019 Standard / x64 | OK | OK | OK | OK | ![]() | ||||||||||||||||||||||||||||||
machv2 | macOS 10.14.6 Mojave / x86_64 | OK | OK | OK | ERROR | |||||||||||||||||||||||||||||||
Package 38/1986 | Hostname | OS / Arch | INSTALL | BUILD | CHECK | BUILD BIN | ||||||||||||||||||||||||||||||
agilp 3.23.0 (landing page) Benny Chain
| nebbiolo1 | Linux (Ubuntu 20.04.2 LTS) / x86_64 | OK | OK | OK | ![]() | ||||||||||||||||||||||||||||||
riesling1 | Windows Server 2019 Standard / x64 | OK | OK | OK | OK | ![]() | ||||||||||||||||||||||||||||||
machv2 | macOS 10.14.6 Mojave / x86_64 | OK | OK | OK | OK | ![]() | ||||||||||||||||||||||||||||||
Package 39/1986 | Hostname | OS / Arch | INSTALL | BUILD | CHECK | BUILD BIN | ||||||||||||||||||||||||||||||
AgiMicroRna 2.41.0 (landing page) Pedro Lopez-Romero
| nebbiolo1 | Linux (Ubuntu 20.04.2 LTS) / x86_64 | OK | OK | OK | ![]() | ||||||||||||||||||||||||||||||
riesling1 | Windows Server 2019 Standard / x64 | OK | OK | WARNINGS | OK | ![]() | ||||||||||||||||||||||||||||||
machv2 | macOS 10.14.6 Mojave / x86_64 | OK | OK | OK | NA | |||||||||||||||||||||||||||||||
Package 40/1986 | Hostname | OS / Arch | INSTALL | BUILD | CHECK | BUILD BIN | ||||||||||||||||||||||||||||||
AIMS 1.23.0 (landing page) Eric R Paquet
| nebbiolo1 | Linux (Ubuntu 20.04.2 LTS) / x86_64 | OK | OK | OK | ![]() | ||||||||||||||||||||||||||||||
riesling1 | Windows Server 2019 Standard / x64 | OK | OK | OK | OK | ![]() | ||||||||||||||||||||||||||||||
machv2 | macOS 10.14.6 Mojave / x86_64 | OK | OK | OK | ERROR | |||||||||||||||||||||||||||||||
Package 41/1986 | Hostname | OS / Arch | INSTALL | BUILD | CHECK | BUILD BIN | ||||||||||||||||||||||||||||||
airpart 0.99.4 (landing page) Wancen Mu
| nebbiolo1 | Linux (Ubuntu 20.04.2 LTS) / x86_64 | OK | OK | OK | ![]() | ||||||||||||||||||||||||||||||
riesling1 | Windows Server 2019 Standard / x64 | OK | OK | OK | OK | ![]() | ||||||||||||||||||||||||||||||
machv2 | macOS 10.14.6 Mojave / x86_64 | OK | OK | OK | OK | ![]() | ||||||||||||||||||||||||||||||
Package 42/1986 | Hostname | OS / Arch | INSTALL | BUILD | CHECK | BUILD BIN | ||||||||||||||||||||||||||||||
ALDEx2 1.23.2 (landing page) Greg Gloor
| nebbiolo1 | Linux (Ubuntu 20.04.2 LTS) / x86_64 | OK | OK | OK | ![]() | ||||||||||||||||||||||||||||||
riesling1 | Windows Server 2019 Standard / x64 | OK | OK | OK | OK | ![]() | ||||||||||||||||||||||||||||||
machv2 | macOS 10.14.6 Mojave / x86_64 | OK | OK | OK | OK | ![]() | ||||||||||||||||||||||||||||||
Package 43/1986 | Hostname | OS / Arch | INSTALL | BUILD | CHECK | BUILD BIN | ||||||||||||||||||||||||||||||
alevinQC 1.7.1 (landing page) Charlotte Soneson
| nebbiolo1 | Linux (Ubuntu 20.04.2 LTS) / x86_64 | OK | OK | OK | ![]() | ||||||||||||||||||||||||||||||
riesling1 | Windows Server 2019 Standard / x64 | OK | OK | OK | OK | ![]() | ||||||||||||||||||||||||||||||
machv2 | macOS 10.14.6 Mojave / x86_64 | OK | OK | OK | ERROR | |||||||||||||||||||||||||||||||
Package 44/1986 | Hostname | OS / Arch | INSTALL | BUILD | CHECK | BUILD BIN | ||||||||||||||||||||||||||||||
AllelicImbalance 1.29.0 (landing page) Jesper R Gadin
| nebbiolo1 | Linux (Ubuntu 20.04.2 LTS) / x86_64 | ERROR | ERROR | skipped | |||||||||||||||||||||||||||||||
riesling1 | Windows Server 2019 Standard / x64 | ERROR | ERROR | skipped | skipped | |||||||||||||||||||||||||||||||
machv2 | macOS 10.14.6 Mojave / x86_64 | ERROR | ERROR | skipped | skipped | |||||||||||||||||||||||||||||||
Package 45/1986 | Hostname | OS / Arch | INSTALL | BUILD | CHECK | BUILD BIN | ||||||||||||||||||||||||||||||
AlphaBeta 1.5.0 (landing page) Yadollah Shahryary Dizaji
| nebbiolo1 | Linux (Ubuntu 20.04.2 LTS) / x86_64 | OK | OK | OK | ![]() | ||||||||||||||||||||||||||||||
riesling1 | Windows Server 2019 Standard / x64 | OK | OK | ERROR | OK | |||||||||||||||||||||||||||||||
machv2 | macOS 10.14.6 Mojave / x86_64 | OK | OK | OK | ERROR | |||||||||||||||||||||||||||||||
Package 46/1986 | Hostname | OS / Arch | INSTALL | BUILD | CHECK | BUILD BIN | ||||||||||||||||||||||||||||||
alpine 1.17.1 (landing page) Michael Love
| nebbiolo1 | Linux (Ubuntu 20.04.2 LTS) / x86_64 | OK | OK | OK | ![]() | ||||||||||||||||||||||||||||||
riesling1 | Windows Server 2019 Standard / x64 | OK | OK | OK | OK | ![]() | ||||||||||||||||||||||||||||||
machv2 | macOS 10.14.6 Mojave / x86_64 | OK | OK | OK | ERROR | |||||||||||||||||||||||||||||||
Package 47/1986 | Hostname | OS / Arch | INSTALL | BUILD | CHECK | BUILD BIN | ||||||||||||||||||||||||||||||
ALPS 1.5.0 (landing page) Venu Thatikonda
| nebbiolo1 | Linux (Ubuntu 20.04.2 LTS) / x86_64 | OK | OK | OK | ![]() | ||||||||||||||||||||||||||||||
riesling1 | Windows Server 2019 Standard / x64 | OK | OK | WARNINGS | OK | ![]() | ||||||||||||||||||||||||||||||
machv2 | macOS 10.14.6 Mojave / x86_64 | OK | OK | OK | OK | ![]() | ||||||||||||||||||||||||||||||
Package 48/1986 | Hostname | OS / Arch | INSTALL | BUILD | CHECK | BUILD BIN | ||||||||||||||||||||||||||||||
AlpsNMR 3.1.5 (landing page) Luis Fernandez
| nebbiolo1 | Linux (Ubuntu 20.04.2 LTS) / x86_64 | OK | OK | ERROR | |||||||||||||||||||||||||||||||
riesling1 | Windows Server 2019 Standard / x64 | OK | OK | ERROR | OK | |||||||||||||||||||||||||||||||
machv2 | macOS 10.14.6 Mojave / x86_64 | OK | OK | ERROR | ERROR | |||||||||||||||||||||||||||||||
Package 49/1986 | Hostname | OS / Arch | INSTALL | BUILD | CHECK | BUILD BIN | ||||||||||||||||||||||||||||||
alsace 1.27.0 (landing page) Ron Wehrens
| nebbiolo1 | Linux (Ubuntu 20.04.2 LTS) / x86_64 | OK | OK | OK | ![]() | ||||||||||||||||||||||||||||||
riesling1 | Windows Server 2019 Standard / x64 | OK | OK | OK | OK | ![]() | ||||||||||||||||||||||||||||||
machv2 | macOS 10.14.6 Mojave / x86_64 | OK | OK | OK | OK | ![]() | ||||||||||||||||||||||||||||||
Package 50/1986 | Hostname | OS / Arch | INSTALL | BUILD | CHECK | BUILD BIN | ||||||||||||||||||||||||||||||
altcdfenvs 2.53.0 (landing page) Laurent Gautier
| nebbiolo1 | Linux (Ubuntu 20.04.2 LTS) / x86_64 | OK | OK | OK | ![]() | ||||||||||||||||||||||||||||||
riesling1 | Windows Server 2019 Standard / x64 | OK | OK | WARNINGS | OK | ![]() | ||||||||||||||||||||||||||||||
machv2 | macOS 10.14.6 Mojave / x86_64 | OK | OK | OK | ERROR | |||||||||||||||||||||||||||||||
Package 51/1986 | Hostname | OS / Arch | INSTALL | BUILD | CHECK | BUILD BIN | ||||||||||||||||||||||||||||||
AMARETTO 1.7.0 (landing page) Olivier Gevaert
| nebbiolo1 | Linux (Ubuntu 20.04.2 LTS) / x86_64 | OK | OK | OK | ![]() | ||||||||||||||||||||||||||||||
riesling1 | Windows Server 2019 Standard / x64 | OK | OK | OK | OK | ![]() | ||||||||||||||||||||||||||||||
machv2 | macOS 10.14.6 Mojave / x86_64 | OK | OK | OK | NA | |||||||||||||||||||||||||||||||
Package 52/1986 | Hostname | OS / Arch | INSTALL | BUILD | CHECK | BUILD BIN | ||||||||||||||||||||||||||||||
AMOUNTAIN 1.17.0 (landing page) Dong Li
| nebbiolo1 | Linux (Ubuntu 20.04.2 LTS) / x86_64 | OK | OK | OK | ![]() | ||||||||||||||||||||||||||||||
riesling1 | Windows Server 2019 Standard / x64 | OK | OK | OK | OK | ![]() | ||||||||||||||||||||||||||||||
machv2 | macOS 10.14.6 Mojave / x86_64 | OK | OK | OK | NA | |||||||||||||||||||||||||||||||
Package 53/1986 | Hostname | OS / Arch | INSTALL | BUILD | CHECK | BUILD BIN | ||||||||||||||||||||||||||||||
amplican 1.13.0 (landing page) Eivind Valen
| nebbiolo1 | Linux (Ubuntu 20.04.2 LTS) / x86_64 | OK | OK | OK | ![]() | ||||||||||||||||||||||||||||||
riesling1 | Windows Server 2019 Standard / x64 | OK | OK | WARNINGS | OK | ![]() | ||||||||||||||||||||||||||||||
machv2 | macOS 10.14.6 Mojave / x86_64 | OK | OK | OK | NA | |||||||||||||||||||||||||||||||
Package 54/1986 | Hostname | OS / Arch | INSTALL | BUILD | CHECK | BUILD BIN | ||||||||||||||||||||||||||||||
Anaquin 2.15.0 (landing page) Ted Wong
| nebbiolo1 | Linux (Ubuntu 20.04.2 LTS) / x86_64 | OK | OK | OK | ![]() | ||||||||||||||||||||||||||||||
riesling1 | Windows Server 2019 Standard / x64 | OK | OK | OK | OK | ![]() | ||||||||||||||||||||||||||||||
machv2 | macOS 10.14.6 Mojave / x86_64 | OK | OK | OK | ERROR | |||||||||||||||||||||||||||||||
Package 55/1986 | Hostname | OS / Arch | INSTALL | BUILD | CHECK | BUILD BIN | ||||||||||||||||||||||||||||||
ANCOMBC 1.1.5 (landing page) Huang Lin
| nebbiolo1 | Linux (Ubuntu 20.04.2 LTS) / x86_64 | OK | OK | OK | ![]() | ||||||||||||||||||||||||||||||
riesling1 | Windows Server 2019 Standard / x64 | OK | OK | OK | OK | ![]() | ||||||||||||||||||||||||||||||
machv2 | macOS 10.14.6 Mojave / x86_64 | OK | OK | OK | OK | ![]() | ||||||||||||||||||||||||||||||
Package 56/1986 | Hostname | OS / Arch | INSTALL | BUILD | CHECK | BUILD BIN | ||||||||||||||||||||||||||||||
AneuFinder 1.19.0 (landing page) Aaron Taudt
| nebbiolo1 | Linux (Ubuntu 20.04.2 LTS) / x86_64 | OK | OK | OK | ![]() | ||||||||||||||||||||||||||||||
riesling1 | Windows Server 2019 Standard / x64 | OK | OK | WARNINGS | OK | ![]() | ||||||||||||||||||||||||||||||
machv2 | macOS 10.14.6 Mojave / x86_64 | OK | OK | OK | NA | |||||||||||||||||||||||||||||||
Package 57/1986 | Hostname | OS / Arch | INSTALL | BUILD | CHECK | BUILD BIN | ||||||||||||||||||||||||||||||
ANF 1.13.0 (landing page) Tianle Ma
| nebbiolo1 | Linux (Ubuntu 20.04.2 LTS) / x86_64 | OK | OK | ERROR | |||||||||||||||||||||||||||||||
riesling1 | Windows Server 2019 Standard / x64 | OK | OK | ERROR | OK | |||||||||||||||||||||||||||||||
machv2 | macOS 10.14.6 Mojave / x86_64 | OK | OK | ERROR | NA | |||||||||||||||||||||||||||||||
Package 58/1986 | Hostname | OS / Arch | INSTALL | BUILD | CHECK | BUILD BIN | ||||||||||||||||||||||||||||||
animalcules 1.7.0 (landing page) Yue Zhao
| nebbiolo1 | Linux (Ubuntu 20.04.2 LTS) / x86_64 | ERROR | ERROR | skipped | |||||||||||||||||||||||||||||||
riesling1 | Windows Server 2019 Standard / x64 | ERROR | ERROR | skipped | skipped | |||||||||||||||||||||||||||||||
machv2 | macOS 10.14.6 Mojave / x86_64 | ERROR | ERROR | skipped | skipped | |||||||||||||||||||||||||||||||
Package 59/1986 | Hostname | OS / Arch | INSTALL | BUILD | CHECK | BUILD BIN | ||||||||||||||||||||||||||||||
annaffy 1.63.1 (landing page) Colin A. Smith
| nebbiolo1 | Linux (Ubuntu 20.04.2 LTS) / x86_64 | OK | OK | OK | ![]() | ||||||||||||||||||||||||||||||
riesling1 | Windows Server 2019 Standard / x64 | OK | OK | WARNINGS | OK | ![]() | ||||||||||||||||||||||||||||||
machv2 | macOS 10.14.6 Mojave / x86_64 | OK | OK | OK | NA | |||||||||||||||||||||||||||||||
Package 60/1986 | Hostname | OS / Arch | INSTALL | BUILD | CHECK | BUILD BIN | ||||||||||||||||||||||||||||||
annmap 1.33.0 (landing page) Chris Wirth
| nebbiolo1 | Linux (Ubuntu 20.04.2 LTS) / x86_64 | OK | OK | WARNINGS | ![]() | ||||||||||||||||||||||||||||||
riesling1 | Windows Server 2019 Standard / x64 | ... NOT SUPPORTED ... | ||||||||||||||||||||||||||||||||||
machv2 | macOS 10.14.6 Mojave / x86_64 | OK | OK | WARNINGS | NA | |||||||||||||||||||||||||||||||
Package 61/1986 | Hostname | OS / Arch | INSTALL | BUILD | CHECK | BUILD BIN | ||||||||||||||||||||||||||||||
annotate 1.69.2 (landing page) Bioconductor Package Maintainer
| nebbiolo1 | Linux (Ubuntu 20.04.2 LTS) / x86_64 | OK | OK | OK | ![]() | ||||||||||||||||||||||||||||||
riesling1 | Windows Server 2019 Standard / x64 | OK | OK | ERROR | OK | |||||||||||||||||||||||||||||||
machv2 | macOS 10.14.6 Mojave / x86_64 | OK | OK | OK | NA | |||||||||||||||||||||||||||||||
Package 62/1986 | Hostname | OS / Arch | INSTALL | BUILD | CHECK | BUILD BIN | ||||||||||||||||||||||||||||||
AnnotationDbi 1.53.1 (landing page) Bioconductor Package Maintainer
| nebbiolo1 | Linux (Ubuntu 20.04.2 LTS) / x86_64 | OK | OK | OK | ![]() | ||||||||||||||||||||||||||||||
riesling1 | Windows Server 2019 Standard / x64 | OK | OK | WARNINGS | OK | ![]() | ||||||||||||||||||||||||||||||
machv2 | macOS 10.14.6 Mojave / x86_64 | OK | OK | OK | NA | |||||||||||||||||||||||||||||||
Package 63/1986 | Hostname | OS / Arch | INSTALL | BUILD | CHECK | BUILD BIN | ||||||||||||||||||||||||||||||
AnnotationFilter 1.15.0 (landing page) Bioconductor Package Maintainer
| nebbiolo1 | Linux (Ubuntu 20.04.2 LTS) / x86_64 | OK | OK | OK | ![]() | ||||||||||||||||||||||||||||||
riesling1 | Windows Server 2019 Standard / x64 | OK | OK | WARNINGS | OK | ![]() | ||||||||||||||||||||||||||||||
machv2 | macOS 10.14.6 Mojave / x86_64 | OK | OK | OK | NA | |||||||||||||||||||||||||||||||
Package 64/1986 | Hostname | OS / Arch | INSTALL | BUILD | CHECK | BUILD BIN | ||||||||||||||||||||||||||||||
AnnotationForge 1.33.3 (landing page) Bioconductor Package Maintainer
| nebbiolo1 | Linux (Ubuntu 20.04.2 LTS) / x86_64 | OK | OK | OK | ![]() | ||||||||||||||||||||||||||||||
riesling1 | Windows Server 2019 Standard / x64 | OK | OK | OK | OK | ![]() | ||||||||||||||||||||||||||||||
machv2 | macOS 10.14.6 Mojave / x86_64 | OK | OK | OK | NA | |||||||||||||||||||||||||||||||
Package 65/1986 | Hostname | OS / Arch | INSTALL | BUILD | CHECK | BUILD BIN | ||||||||||||||||||||||||||||||
Stefan McKinnon Edwards
| nebbiolo1 | Linux (Ubuntu 20.04.2 LTS) / x86_64 | OK | ERROR | skipped | |||||||||||||||||||||||||||||||
riesling1 | Windows Server 2019 Standard / x64 | OK | ERROR | skipped | skipped | |||||||||||||||||||||||||||||||
machv2 | macOS 10.14.6 Mojave / x86_64 | OK | ERROR | skipped | skipped | |||||||||||||||||||||||||||||||
Package 66/1986 | Hostname | OS / Arch | INSTALL | BUILD | CHECK | BUILD BIN | ||||||||||||||||||||||||||||||
AnnotationHub 2.99.5 (landing page) Bioconductor Package Maintainer
| nebbiolo1 | Linux (Ubuntu 20.04.2 LTS) / x86_64 | OK | OK | WARNINGS | ![]() | ||||||||||||||||||||||||||||||
riesling1 | Windows Server 2019 Standard / x64 | OK | OK | WARNINGS | OK | ![]() | ||||||||||||||||||||||||||||||
machv2 | macOS 10.14.6 Mojave / x86_64 | OK | OK | WARNINGS | NA | |||||||||||||||||||||||||||||||
Package 67/1986 | Hostname | OS / Arch | INSTALL | BUILD | CHECK | BUILD BIN | ||||||||||||||||||||||||||||||
AnnotationHubData 1.21.8 (landing page) Bioconductor Package Maintainer
| nebbiolo1 | Linux (Ubuntu 20.04.2 LTS) / x86_64 | OK | OK | WARNINGS | ![]() | ||||||||||||||||||||||||||||||
riesling1 | Windows Server 2019 Standard / x64 | OK | OK | WARNINGS | OK | ![]() | ||||||||||||||||||||||||||||||
machv2 | macOS 10.14.6 Mojave / x86_64 | OK | OK | ERROR | NA | |||||||||||||||||||||||||||||||
Package 68/1986 | Hostname | OS / Arch | INSTALL | BUILD | CHECK | BUILD BIN | ||||||||||||||||||||||||||||||
annotationTools 1.65.0 (landing page) Alexandre Kuhn
| nebbiolo1 | Linux (Ubuntu 20.04.2 LTS) / x86_64 | OK | OK | OK | ![]() | ||||||||||||||||||||||||||||||
riesling1 | Windows Server 2019 Standard / x64 | OK | OK | OK | OK | ![]() | ||||||||||||||||||||||||||||||
machv2 | macOS 10.14.6 Mojave / x86_64 | OK | OK | OK | NA | |||||||||||||||||||||||||||||||
Package 69/1986 | Hostname | OS / Arch | INSTALL | BUILD | CHECK | BUILD BIN | ||||||||||||||||||||||||||||||
annotatr 1.17.0 (landing page) Raymond G. Cavalcante
| nebbiolo1 | Linux (Ubuntu 20.04.2 LTS) / x86_64 | OK | OK | WARNINGS | ![]() | ||||||||||||||||||||||||||||||
riesling1 | Windows Server 2019 Standard / x64 | OK | OK | WARNINGS | OK | ![]() | ||||||||||||||||||||||||||||||
machv2 | macOS 10.14.6 Mojave / x86_64 | OK | OK | WARNINGS | NA | |||||||||||||||||||||||||||||||
Package 70/1986 | Hostname | OS / Arch | INSTALL | BUILD | CHECK | BUILD BIN | ||||||||||||||||||||||||||||||
anota 1.39.0 (landing page) Ola Larsson
| nebbiolo1 | Linux (Ubuntu 20.04.2 LTS) / x86_64 | OK | OK | OK | ![]() | ||||||||||||||||||||||||||||||
riesling1 | Windows Server 2019 Standard / x64 | OK | OK | OK | OK | ![]() | ||||||||||||||||||||||||||||||
machv2 | macOS 10.14.6 Mojave / x86_64 | OK | OK | OK | NA | |||||||||||||||||||||||||||||||
Package 71/1986 | Hostname | OS / Arch | INSTALL | BUILD | CHECK | BUILD BIN | ||||||||||||||||||||||||||||||
anota2seq 1.13.0 (landing page) Christian Oertlin
| nebbiolo1 | Linux (Ubuntu 20.04.2 LTS) / x86_64 | OK | OK | OK | ![]() | ||||||||||||||||||||||||||||||
riesling1 | Windows Server 2019 Standard / x64 | OK | OK | OK | OK | ![]() | ||||||||||||||||||||||||||||||
machv2 | macOS 10.14.6 Mojave / x86_64 | OK | OK | OK | NA | |||||||||||||||||||||||||||||||
Package 72/1986 | Hostname | OS / Arch | INSTALL | BUILD | CHECK | BUILD BIN | ||||||||||||||||||||||||||||||
antiProfiles 1.31.0 (landing page) Hector Corrada Bravo
| nebbiolo1 | Linux (Ubuntu 20.04.2 LTS) / x86_64 | OK | OK | OK | ![]() | ||||||||||||||||||||||||||||||
riesling1 | Windows Server 2019 Standard / x64 | OK | OK | OK | OK | ![]() | ||||||||||||||||||||||||||||||
machv2 | macOS 10.14.6 Mojave / x86_64 | OK | OK | OK | NA | |||||||||||||||||||||||||||||||
Package 73/1986 | Hostname | OS / Arch | INSTALL | BUILD | CHECK | BUILD BIN | ||||||||||||||||||||||||||||||
AnVIL 1.3.29 (landing page) Martin Morgan
| nebbiolo1 | Linux (Ubuntu 20.04.2 LTS) / x86_64 | OK | OK | OK | ![]() | ||||||||||||||||||||||||||||||
riesling1 | Windows Server 2019 Standard / x64 | OK | OK | OK | OK | ![]() | ||||||||||||||||||||||||||||||
machv2 | macOS 10.14.6 Mojave / x86_64 | OK | OK | OK | NA | |||||||||||||||||||||||||||||||
Package 74/1986 | Hostname | OS / Arch | INSTALL | BUILD | CHECK | BUILD BIN | ||||||||||||||||||||||||||||||
AnVILBilling 1.1.1 (landing page) Vince Carey
| nebbiolo1 | Linux (Ubuntu 20.04.2 LTS) / x86_64 | OK | OK | OK | ![]() | ||||||||||||||||||||||||||||||
riesling1 | Windows Server 2019 Standard / x64 | OK | OK | OK | OK | ![]() | ||||||||||||||||||||||||||||||
machv2 | macOS 10.14.6 Mojave / x86_64 | OK | OK | OK | NA | |||||||||||||||||||||||||||||||
Package 75/1986 | Hostname | OS / Arch | INSTALL | BUILD | CHECK | BUILD BIN | ||||||||||||||||||||||||||||||
AnVILPublish 1.1.2 (landing page) Martin Morgan
| nebbiolo1 | Linux (Ubuntu 20.04.2 LTS) / x86_64 | OK | OK | OK | ![]() | ||||||||||||||||||||||||||||||
riesling1 | Windows Server 2019 Standard / x64 | OK | OK | OK | OK | ![]() | ||||||||||||||||||||||||||||||
machv2 | macOS 10.14.6 Mojave / x86_64 | OK | OK | OK | NA | |||||||||||||||||||||||||||||||
Package 76/1986 | Hostname | OS / Arch | INSTALL | BUILD | CHECK | BUILD BIN | ||||||||||||||||||||||||||||||
APAlyzer 1.5.5 (landing page) Ruijia Wang
| nebbiolo1 | Linux (Ubuntu 20.04.2 LTS) / x86_64 | OK | OK | OK | ![]() | ||||||||||||||||||||||||||||||
riesling1 | Windows Server 2019 Standard / x64 | OK | OK | OK | OK | ![]() | ||||||||||||||||||||||||||||||
machv2 | macOS 10.14.6 Mojave / x86_64 | OK | OK | OK | NA | |||||||||||||||||||||||||||||||
Package 77/1986 | Hostname | OS / Arch | INSTALL | BUILD | CHECK | BUILD BIN | ||||||||||||||||||||||||||||||
apComplex 2.57.0 (landing page) Denise Scholtens
| nebbiolo1 | Linux (Ubuntu 20.04.2 LTS) / x86_64 | OK | OK | OK | ![]() | ||||||||||||||||||||||||||||||
riesling1 | Windows Server 2019 Standard / x64 | OK | OK | OK | OK | ![]() | ||||||||||||||||||||||||||||||
machv2 | macOS 10.14.6 Mojave / x86_64 | OK | OK | OK | NA | |||||||||||||||||||||||||||||||
Package 78/1986 | Hostname | OS / Arch | INSTALL | BUILD | CHECK | BUILD BIN | ||||||||||||||||||||||||||||||
apeglm 1.13.1 (landing page) Anqi Zhu
| nebbiolo1 | Linux (Ubuntu 20.04.2 LTS) / x86_64 | OK | OK | OK | ![]() | ||||||||||||||||||||||||||||||
riesling1 | Windows Server 2019 Standard / x64 | OK | OK | OK | OK | ![]() | ||||||||||||||||||||||||||||||
machv2 | macOS 10.14.6 Mojave / x86_64 | OK | OK | OK | NA | |||||||||||||||||||||||||||||||
Package 79/1986 | Hostname | OS / Arch | INSTALL | BUILD | CHECK | BUILD BIN | ||||||||||||||||||||||||||||||
appreci8R 1.9.1 (landing page) Sarah Sandmann
| nebbiolo1 | Linux (Ubuntu 20.04.2 LTS) / x86_64 | OK | OK | OK | ![]() | ||||||||||||||||||||||||||||||
riesling1 | Windows Server 2019 Standard / x64 | OK | OK | OK | OK | ![]() | ||||||||||||||||||||||||||||||
machv2 | macOS 10.14.6 Mojave / x86_64 | OK | OK | OK | NA | |||||||||||||||||||||||||||||||
Package 80/1986 | Hostname | OS / Arch | INSTALL | BUILD | CHECK | BUILD BIN | ||||||||||||||||||||||||||||||
aroma.light 3.21.0 (landing page) Henrik Bengtsson
| nebbiolo1 | Linux (Ubuntu 20.04.2 LTS) / x86_64 | OK | OK | OK | ![]() | ||||||||||||||||||||||||||||||
riesling1 | Windows Server 2019 Standard / x64 | OK | OK | OK | OK | ![]() | ||||||||||||||||||||||||||||||
machv2 | macOS 10.14.6 Mojave / x86_64 | OK | OK | OK | NA | |||||||||||||||||||||||||||||||
Package 81/1986 | Hostname | OS / Arch | INSTALL | BUILD | CHECK | BUILD BIN | ||||||||||||||||||||||||||||||
ArrayExpress 1.51.0 (landing page) Suhaib Mohammed
| nebbiolo1 | Linux (Ubuntu 20.04.2 LTS) / x86_64 | OK | OK | OK | ![]() | ||||||||||||||||||||||||||||||
riesling1 | Windows Server 2019 Standard / x64 | OK | OK | OK | OK | ![]() | ||||||||||||||||||||||||||||||
machv2 | macOS 10.14.6 Mojave / x86_64 | OK | OK | OK | NA | |||||||||||||||||||||||||||||||
Package 82/1986 | Hostname | OS / Arch | INSTALL | BUILD | CHECK | BUILD BIN | ||||||||||||||||||||||||||||||
ArrayExpressHTS 1.41.1 (landing page) Angela Goncalves
| nebbiolo1 | Linux (Ubuntu 20.04.2 LTS) / x86_64 | OK | OK | WARNINGS | ![]() | ||||||||||||||||||||||||||||||
riesling1 | Windows Server 2019 Standard / x64 | ... NOT SUPPORTED ... | ||||||||||||||||||||||||||||||||||
machv2 | macOS 10.14.6 Mojave / x86_64 | OK | OK | OK | NA | |||||||||||||||||||||||||||||||
Package 83/1986 | Hostname | OS / Arch | INSTALL | BUILD | CHECK | BUILD BIN | ||||||||||||||||||||||||||||||
arrayMvout 1.49.1 (landing page) V. Carey
| nebbiolo1 | Linux (Ubuntu 20.04.2 LTS) / x86_64 | OK | OK | WARNINGS | ![]() | ||||||||||||||||||||||||||||||
riesling1 | Windows Server 2019 Standard / x64 | OK | OK | WARNINGS | OK | ![]() | ||||||||||||||||||||||||||||||
machv2 | macOS 10.14.6 Mojave / x86_64 | OK | OK | WARNINGS | NA | |||||||||||||||||||||||||||||||
Package 84/1986 | Hostname | OS / Arch | INSTALL | BUILD | CHECK | BUILD BIN | ||||||||||||||||||||||||||||||
arrayQuality 1.69.0 (landing page) Agnes Paquet
| nebbiolo1 | Linux (Ubuntu 20.04.2 LTS) / x86_64 | OK | OK | WARNINGS | ![]() | ||||||||||||||||||||||||||||||
riesling1 | Windows Server 2019 Standard / x64 | OK | OK | WARNINGS | OK | ![]() | ||||||||||||||||||||||||||||||
machv2 | macOS 10.14.6 Mojave / x86_64 | OK | OK | WARNINGS | NA | |||||||||||||||||||||||||||||||
Package 85/1986 | Hostname | OS / Arch | INSTALL | BUILD | CHECK | BUILD BIN | ||||||||||||||||||||||||||||||
arrayQualityMetrics 3.47.0 (landing page) Mike Smith
| nebbiolo1 | Linux (Ubuntu 20.04.2 LTS) / x86_64 | OK | OK | OK | ![]() | ||||||||||||||||||||||||||||||
riesling1 | Windows Server 2019 Standard / x64 | OK | OK | OK | OK | ![]() | ||||||||||||||||||||||||||||||
machv2 | macOS 10.14.6 Mojave / x86_64 | OK | OK | OK | NA | |||||||||||||||||||||||||||||||
Package 86/1986 | Hostname | OS / Arch | INSTALL | BUILD | CHECK | BUILD BIN | ||||||||||||||||||||||||||||||
Arthur Li
| nebbiolo1 | Linux (Ubuntu 20.04.2 LTS) / x86_64 | OK | OK | ERROR | |||||||||||||||||||||||||||||||
riesling1 | Windows Server 2019 Standard / x64 | OK | OK | ERROR | OK | |||||||||||||||||||||||||||||||
machv2 | macOS 10.14.6 Mojave / x86_64 | OK | OK | ERROR | NA | |||||||||||||||||||||||||||||||
Package 87/1986 | Hostname | OS / Arch | INSTALL | BUILD | CHECK | BUILD BIN | ||||||||||||||||||||||||||||||
ARRmNormalization 1.31.0 (landing page) Jean-Philippe Fortin
| nebbiolo1 | Linux (Ubuntu 20.04.2 LTS) / x86_64 | OK | OK | OK | ![]() | ||||||||||||||||||||||||||||||
riesling1 | Windows Server 2019 Standard / x64 | OK | OK | OK | OK | ![]() | ||||||||||||||||||||||||||||||
machv2 | macOS 10.14.6 Mojave / x86_64 | OK | OK | OK | NA | |||||||||||||||||||||||||||||||
Package 88/1986 | Hostname | OS / Arch | INSTALL | BUILD | CHECK | BUILD BIN | ||||||||||||||||||||||||||||||
artMS 1.9.3 (landing page) David Jimenez-Morales
| nebbiolo1 | Linux (Ubuntu 20.04.2 LTS) / x86_64 | OK | OK | WARNINGS | ![]() | ||||||||||||||||||||||||||||||
riesling1 | Windows Server 2019 Standard / x64 | OK | OK | WARNINGS | OK | ![]() | ||||||||||||||||||||||||||||||
machv2 | macOS 10.14.6 Mojave / x86_64 | OK | OK | WARNINGS | NA | |||||||||||||||||||||||||||||||
Package 89/1986 | Hostname | OS / Arch | INSTALL | BUILD | CHECK | BUILD BIN | ||||||||||||||||||||||||||||||
ASAFE 1.17.0 (landing page) Qian Zhang
| nebbiolo1 | Linux (Ubuntu 20.04.2 LTS) / x86_64 | OK | OK | OK | ![]() | ||||||||||||||||||||||||||||||
riesling1 | Windows Server 2019 Standard / x64 | OK | OK | OK | OK | ![]() | ||||||||||||||||||||||||||||||
machv2 | macOS 10.14.6 Mojave / x86_64 | OK | OK | OK | NA | |||||||||||||||||||||||||||||||
Package 90/1986 | Hostname | OS / Arch | INSTALL | BUILD | CHECK | BUILD BIN | ||||||||||||||||||||||||||||||
ASEB 1.35.0 (landing page) Likun Wang
| nebbiolo1 | Linux (Ubuntu 20.04.2 LTS) / x86_64 | OK | OK | OK | ![]() | ||||||||||||||||||||||||||||||
riesling1 | Windows Server 2019 Standard / x64 | OK | OK | OK | OK | ![]() | ||||||||||||||||||||||||||||||
machv2 | macOS 10.14.6 Mojave / x86_64 | OK | OK | OK | NA | |||||||||||||||||||||||||||||||
Package 91/1986 | Hostname | OS / Arch | INSTALL | BUILD | CHECK | BUILD BIN | ||||||||||||||||||||||||||||||
ASGSCA 1.25.0 (landing page) Hela Romdhani
| nebbiolo1 | Linux (Ubuntu 20.04.2 LTS) / x86_64 | OK | OK | OK | ![]() | ||||||||||||||||||||||||||||||
riesling1 | Windows Server 2019 Standard / x64 | OK | OK | OK | OK | ![]() | ||||||||||||||||||||||||||||||
machv2 | macOS 10.14.6 Mojave / x86_64 | OK | OK | OK | NA | |||||||||||||||||||||||||||||||
Package 92/1986 | Hostname | OS / Arch | INSTALL | BUILD | CHECK | BUILD BIN | ||||||||||||||||||||||||||||||
ASICS 2.7.1 (landing page) Gaëlle Lefort
| nebbiolo1 | Linux (Ubuntu 20.04.2 LTS) / x86_64 | OK | OK | OK | ![]() | ||||||||||||||||||||||||||||||
riesling1 | Windows Server 2019 Standard / x64 | OK | OK | OK | OK | ![]() | ||||||||||||||||||||||||||||||
machv2 | macOS 10.14.6 Mojave / x86_64 | OK | OK | OK | NA | |||||||||||||||||||||||||||||||
Package 93/1986 | Hostname | OS / Arch | INSTALL | BUILD | CHECK | BUILD BIN | ||||||||||||||||||||||||||||||
ASpediaFI 1.5.0 (landing page) Doyeong Yu
| nebbiolo1 | Linux (Ubuntu 20.04.2 LTS) / x86_64 | OK | OK | OK | ![]() | ||||||||||||||||||||||||||||||
riesling1 | Windows Server 2019 Standard / x64 | OK | OK | WARNINGS | OK | ![]() | ||||||||||||||||||||||||||||||
machv2 | macOS 10.14.6 Mojave / x86_64 | OK | OK | OK | NA | |||||||||||||||||||||||||||||||
Package 94/1986 | Hostname | OS / Arch | INSTALL | BUILD | CHECK | BUILD BIN | ||||||||||||||||||||||||||||||
ASpli 2.1.1 (landing page) Estefania Mancini
| nebbiolo1 | Linux (Ubuntu 20.04.2 LTS) / x86_64 | OK | OK | WARNINGS | ![]() | ||||||||||||||||||||||||||||||
riesling1 | Windows Server 2019 Standard / x64 | OK | OK | WARNINGS | OK | ![]() | ||||||||||||||||||||||||||||||
machv2 | macOS 10.14.6 Mojave / x86_64 | OK | OK | WARNINGS | NA | |||||||||||||||||||||||||||||||
Package 95/1986 | Hostname | OS / Arch | INSTALL | BUILD | CHECK | BUILD BIN | ||||||||||||||||||||||||||||||
AssessORF 1.9.0 (landing page) Deepank Korandla
| nebbiolo1 | Linux (Ubuntu 20.04.2 LTS) / x86_64 | OK | OK | OK | ![]() | ||||||||||||||||||||||||||||||
riesling1 | Windows Server 2019 Standard / x64 | OK | OK | OK | OK | ![]() | ||||||||||||||||||||||||||||||
machv2 | macOS 10.14.6 Mojave / x86_64 | OK | OK | OK | NA | |||||||||||||||||||||||||||||||
Package 96/1986 | Hostname | OS / Arch | INSTALL | BUILD | CHECK | BUILD BIN | ||||||||||||||||||||||||||||||
ASSET 2.9.0 (landing page) Samsiddhi Bhattacharjee
| nebbiolo1 | Linux (Ubuntu 20.04.2 LTS) / x86_64 | OK | OK | WARNINGS | ![]() | ||||||||||||||||||||||||||||||
riesling1 | Windows Server 2019 Standard / x64 | OK | OK | WARNINGS | OK | ![]() | ||||||||||||||||||||||||||||||
machv2 | macOS 10.14.6 Mojave / x86_64 | OK | OK | WARNINGS | NA | |||||||||||||||||||||||||||||||
Package 97/1986 | Hostname | OS / Arch | INSTALL | BUILD | CHECK | BUILD BIN | ||||||||||||||||||||||||||||||
ASSIGN 1.27.0 (landing page) Ying Shen
| nebbiolo1 | Linux (Ubuntu 20.04.2 LTS) / x86_64 | OK | OK | OK | ![]() | ||||||||||||||||||||||||||||||
riesling1 | Windows Server 2019 Standard / x64 | OK | OK | OK | OK | ![]() | ||||||||||||||||||||||||||||||
machv2 | macOS 10.14.6 Mojave / x86_64 | OK | OK | OK | NA | |||||||||||||||||||||||||||||||
Package 98/1986 | Hostname | OS / Arch | INSTALL | BUILD | CHECK | BUILD BIN | ||||||||||||||||||||||||||||||
ATACseqQC 1.15.9 (landing page) Jianhong Ou
| nebbiolo1 | Linux (Ubuntu 20.04.2 LTS) / x86_64 | OK | ERROR | skipped | |||||||||||||||||||||||||||||||
riesling1 | Windows Server 2019 Standard / x64 | OK | ERROR | skipped | skipped | |||||||||||||||||||||||||||||||
machv2 | macOS 10.14.6 Mojave / x86_64 | OK | ERROR | skipped | skipped | |||||||||||||||||||||||||||||||
Package 99/1986 | Hostname | OS / Arch | INSTALL | BUILD | CHECK | BUILD BIN | ||||||||||||||||||||||||||||||
atSNP 1.7.1 (landing page) Sunyoung Shin
| nebbiolo1 | Linux (Ubuntu 20.04.2 LTS) / x86_64 | OK | ERROR | skipped | |||||||||||||||||||||||||||||||
riesling1 | Windows Server 2019 Standard / x64 | OK | OK | ERROR | OK | |||||||||||||||||||||||||||||||
machv2 | macOS 10.14.6 Mojave / x86_64 | OK | OK | ERROR | NA | |||||||||||||||||||||||||||||||
Package 100/1986 | Hostname | OS / Arch | INSTALL | BUILD | CHECK | BUILD BIN | ||||||||||||||||||||||||||||||
attract 1.43.0 (landing page) Samuel Zimmerman
| nebbiolo1 | Linux (Ubuntu 20.04.2 LTS) / x86_64 | OK | OK | OK | ![]() | ||||||||||||||||||||||||||||||
riesling1 | Windows Server 2019 Standard / x64 | OK | OK | OK | OK | ![]() | ||||||||||||||||||||||||||||||
machv2 | macOS 10.14.6 Mojave / x86_64 | OK | OK | OK | NA | |||||||||||||||||||||||||||||||
Package 101/1986 | Hostname | OS / Arch | INSTALL | BUILD | CHECK | BUILD BIN | ||||||||||||||||||||||||||||||
AUCell 1.13.3 (landing page) Sara Aibar
| nebbiolo1 | Linux (Ubuntu 20.04.2 LTS) / x86_64 | OK | OK | OK | ![]() | ||||||||||||||||||||||||||||||
riesling1 | Windows Server 2019 Standard / x64 | OK | OK | OK | OK | ![]() | ||||||||||||||||||||||||||||||
machv2 | macOS 10.14.6 Mojave / x86_64 | OK | OK | OK | NA | |||||||||||||||||||||||||||||||
Package 102/1986 | Hostname | OS / Arch | INSTALL | BUILD | CHECK | BUILD BIN | ||||||||||||||||||||||||||||||
autonomics 0.99.22 (landing page) Aditya Bhagwat
| nebbiolo1 | Linux (Ubuntu 20.04.2 LTS) / x86_64 | OK | OK | OK | ![]() | ||||||||||||||||||||||||||||||
riesling1 | Windows Server 2019 Standard / x64 | OK | OK | ERROR | OK | |||||||||||||||||||||||||||||||
machv2 | macOS 10.14.6 Mojave / x86_64 | OK | OK | OK | NA | |||||||||||||||||||||||||||||||
Package 103/1986 | Hostname | OS / Arch | INSTALL | BUILD | CHECK | BUILD BIN | ||||||||||||||||||||||||||||||
Autotuner 1.5.0 (landing page) Craig McLean
| nebbiolo1 | Linux (Ubuntu 20.04.2 LTS) / x86_64 | OK | OK | OK | ![]() | ||||||||||||||||||||||||||||||
riesling1 | Windows Server 2019 Standard / x64 | OK | OK | OK | OK | ![]() | ||||||||||||||||||||||||||||||
machv2 | macOS 10.14.6 Mojave / x86_64 | OK | OK | OK | NA | |||||||||||||||||||||||||||||||
Package 104/1986 | Hostname | OS / Arch | INSTALL | BUILD | CHECK | BUILD BIN | ||||||||||||||||||||||||||||||
AWFisher 1.5.0 (landing page) Zhiguang Huo
| nebbiolo1 | Linux (Ubuntu 20.04.2 LTS) / x86_64 | OK | ERROR | skipped | |||||||||||||||||||||||||||||||
riesling1 | Windows Server 2019 Standard / x64 | OK | ERROR | skipped | skipped | |||||||||||||||||||||||||||||||
machv2 | macOS 10.14.6 Mojave / x86_64 | OK | ERROR | skipped | skipped | |||||||||||||||||||||||||||||||
|
| |||||||||||||||||||||||||||||||||||
Package 105/1986 | Hostname | OS / Arch | INSTALL | BUILD | CHECK | BUILD BIN | ||||||||||||||||||||||||||||||
BaalChIP 1.17.1 (landing page) Ines de Santiago
| nebbiolo1 | Linux (Ubuntu 20.04.2 LTS) / x86_64 | OK | OK | WARNINGS | ![]() | ||||||||||||||||||||||||||||||
riesling1 | Windows Server 2019 Standard / x64 | OK | OK | WARNINGS | OK | ![]() | ||||||||||||||||||||||||||||||
machv2 | macOS 10.14.6 Mojave / x86_64 | OK | OK | WARNINGS | NA | |||||||||||||||||||||||||||||||
Package 106/1986 | Hostname | OS / Arch | INSTALL | BUILD | CHECK | BUILD BIN | ||||||||||||||||||||||||||||||
BAC 1.51.0 (landing page) Raphael Gottardo
| nebbiolo1 | Linux (Ubuntu 20.04.2 LTS) / x86_64 | OK | OK | OK | ![]() | ||||||||||||||||||||||||||||||
riesling1 | Windows Server 2019 Standard / x64 | OK | OK | OK | OK | ![]() | ||||||||||||||||||||||||||||||
machv2 | macOS 10.14.6 Mojave / x86_64 | OK | OK | OK | NA | |||||||||||||||||||||||||||||||
Package 107/1986 | Hostname | OS / Arch | INSTALL | BUILD | CHECK | BUILD BIN | ||||||||||||||||||||||||||||||
bacon 1.19.0 (landing page) Maarten van Iterson
| nebbiolo1 | Linux (Ubuntu 20.04.2 LTS) / x86_64 | OK | OK | OK | ![]() | ||||||||||||||||||||||||||||||
riesling1 | Windows Server 2019 Standard / x64 | OK | OK | OK | OK | ![]() | ||||||||||||||||||||||||||||||
machv2 | macOS 10.14.6 Mojave / x86_64 | OK | OK | OK | NA | |||||||||||||||||||||||||||||||
Package 108/1986 | Hostname | OS / Arch | INSTALL | BUILD | CHECK | BUILD BIN | ||||||||||||||||||||||||||||||
BADER 1.29.0 (landing page) Andreas Neudecker
| nebbiolo1 | Linux (Ubuntu 20.04.2 LTS) / x86_64 | OK | OK | OK | ![]() | ||||||||||||||||||||||||||||||
riesling1 | Windows Server 2019 Standard / x64 | OK | OK | OK | OK | ![]() | ||||||||||||||||||||||||||||||
machv2 | macOS 10.14.6 Mojave / x86_64 | OK | OK | OK | NA | |||||||||||||||||||||||||||||||
Package 109/1986 | Hostname | OS / Arch | INSTALL | BUILD | CHECK | BUILD BIN | ||||||||||||||||||||||||||||||
BadRegionFinder 1.19.0 (landing page) Sarah Sandmann
| nebbiolo1 | Linux (Ubuntu 20.04.2 LTS) / x86_64 | OK | OK | OK | ![]() | ||||||||||||||||||||||||||||||
riesling1 | Windows Server 2019 Standard / x64 | OK | OK | OK | OK | ![]() | ||||||||||||||||||||||||||||||
machv2 | macOS 10.14.6 Mojave / x86_64 | OK | OK | OK | NA | |||||||||||||||||||||||||||||||
Package 110/1986 | Hostname | OS / Arch | INSTALL | BUILD | CHECK | BUILD BIN | ||||||||||||||||||||||||||||||
BAGS 2.31.0 (landing page) Alejandro Quiroz-Zarate
| nebbiolo1 | Linux (Ubuntu 20.04.2 LTS) / x86_64 | OK | OK | OK | ![]() | ||||||||||||||||||||||||||||||
riesling1 | Windows Server 2019 Standard / x64 | OK | OK | OK | OK | ![]() | ||||||||||||||||||||||||||||||
machv2 | macOS 10.14.6 Mojave / x86_64 | OK | OK | OK | NA | |||||||||||||||||||||||||||||||
Package 111/1986 | Hostname | OS / Arch | INSTALL | BUILD | CHECK | BUILD BIN | ||||||||||||||||||||||||||||||
ballgown 2.23.0 (landing page) Jack Fu
| nebbiolo1 | Linux (Ubuntu 20.04.2 LTS) / x86_64 | OK | OK | OK | ![]() | ||||||||||||||||||||||||||||||
riesling1 | Windows Server 2019 Standard / x64 | OK | OK | WARNINGS | OK | ![]() | ||||||||||||||||||||||||||||||
machv2 | macOS 10.14.6 Mojave / x86_64 | OK | OK | OK | NA | |||||||||||||||||||||||||||||||
Package 112/1986 | Hostname | OS / Arch | INSTALL | BUILD | CHECK | BUILD BIN | ||||||||||||||||||||||||||||||
bambu 1.1.2 (landing page) Ying Chen
| nebbiolo1 | Linux (Ubuntu 20.04.2 LTS) / x86_64 | OK | OK | OK | ![]() | ||||||||||||||||||||||||||||||
riesling1 | Windows Server 2019 Standard / x64 | OK | OK | OK | OK | ![]() | ||||||||||||||||||||||||||||||
machv2 | macOS 10.14.6 Mojave / x86_64 | OK | OK | OK | NA | |||||||||||||||||||||||||||||||
Package 113/1986 | Hostname | OS / Arch | INSTALL | BUILD | CHECK | BUILD BIN | ||||||||||||||||||||||||||||||
bamsignals 1.23.0 (landing page) Johannes Helmuth
| nebbiolo1 | Linux (Ubuntu 20.04.2 LTS) / x86_64 | OK | OK | OK | ![]() | ||||||||||||||||||||||||||||||
riesling1 | Windows Server 2019 Standard / x64 | OK | OK | OK | OK | ![]() | ||||||||||||||||||||||||||||||
machv2 | macOS 10.14.6 Mojave / x86_64 | OK | OK | OK | NA | |||||||||||||||||||||||||||||||
Package 114/1986 | Hostname | OS / Arch | INSTALL | BUILD | CHECK | BUILD BIN | ||||||||||||||||||||||||||||||
BANDITS 1.7.0 (landing page) Simone Tiberi
| nebbiolo1 | Linux (Ubuntu 20.04.2 LTS) / x86_64 | OK | OK | OK | ![]() | ||||||||||||||||||||||||||||||
riesling1 | Windows Server 2019 Standard / x64 | OK | OK | OK | OK | ![]() | ||||||||||||||||||||||||||||||
machv2 | macOS 10.14.6 Mojave / x86_64 | OK | OK | OK | NA | |||||||||||||||||||||||||||||||
Package 115/1986 | Hostname | OS / Arch | INSTALL | BUILD | CHECK | BUILD BIN | ||||||||||||||||||||||||||||||
banocc 1.15.0 (landing page) George Weingart
| nebbiolo1 | Linux (Ubuntu 20.04.2 LTS) / x86_64 | OK | ERROR | skipped | |||||||||||||||||||||||||||||||
riesling1 | Windows Server 2019 Standard / x64 | OK | ERROR | skipped | skipped | |||||||||||||||||||||||||||||||
machv2 | macOS 10.14.6 Mojave / x86_64 | OK | OK | OK | NA | |||||||||||||||||||||||||||||||
Package 116/1986 | Hostname | OS / Arch | INSTALL | BUILD | CHECK | BUILD BIN | ||||||||||||||||||||||||||||||
barcodetrackR 0.99.4 (landing page) Diego Alexander Espinoza
| nebbiolo1 | Linux (Ubuntu 20.04.2 LTS) / x86_64 | OK | OK | OK | ![]() | ||||||||||||||||||||||||||||||
riesling1 | Windows Server 2019 Standard / x64 | OK | OK | OK | OK | ![]() | ||||||||||||||||||||||||||||||
machv2 | macOS 10.14.6 Mojave / x86_64 | OK | OK | OK | NA | |||||||||||||||||||||||||||||||
Package 117/1986 | Hostname | OS / Arch | INSTALL | BUILD | CHECK | BUILD BIN | ||||||||||||||||||||||||||||||
basecallQC 1.15.0 (landing page) Thomas Carroll
| nebbiolo1 | Linux (Ubuntu 20.04.2 LTS) / x86_64 | OK | OK | OK | ![]() | ||||||||||||||||||||||||||||||
riesling1 | Windows Server 2019 Standard / x64 | OK | OK | WARNINGS | OK | ![]() | ||||||||||||||||||||||||||||||
machv2 | macOS 10.14.6 Mojave / x86_64 | OK | OK | OK | NA | |||||||||||||||||||||||||||||||
Package 118/1986 | Hostname | OS / Arch | INSTALL | BUILD | CHECK | BUILD BIN | ||||||||||||||||||||||||||||||
BaseSpaceR 1.35.0 (landing page) Jared O'Connell
| nebbiolo1 | Linux (Ubuntu 20.04.2 LTS) / x86_64 | OK | OK | OK | ![]() | ||||||||||||||||||||||||||||||
riesling1 | Windows Server 2019 Standard / x64 | OK | OK | WARNINGS | OK | ![]() | ||||||||||||||||||||||||||||||
machv2 | macOS 10.14.6 Mojave / x86_64 | OK | OK | OK | NA | |||||||||||||||||||||||||||||||
Package 119/1986 | Hostname | OS / Arch | INSTALL | BUILD | CHECK | BUILD BIN | ||||||||||||||||||||||||||||||
Basic4Cseq 1.27.0 (landing page) Carolin Walter
| nebbiolo1 | Linux (Ubuntu 20.04.2 LTS) / x86_64 | OK | OK | OK | ![]() | ||||||||||||||||||||||||||||||
riesling1 | Windows Server 2019 Standard / x64 | OK | OK | ERROR | OK | |||||||||||||||||||||||||||||||
machv2 | macOS 10.14.6 Mojave / x86_64 | OK | OK | OK | NA | |||||||||||||||||||||||||||||||
Package 120/1986 | Hostname | OS / Arch | INSTALL | BUILD | CHECK | BUILD BIN | ||||||||||||||||||||||||||||||
BASiCS 2.3.4 (landing page) Alan O'Callaghan
| nebbiolo1 | Linux (Ubuntu 20.04.2 LTS) / x86_64 | OK | OK | OK | ![]() | ||||||||||||||||||||||||||||||
riesling1 | Windows Server 2019 Standard / x64 | OK | OK | WARNINGS | OK | ![]() | ||||||||||||||||||||||||||||||
machv2 | macOS 10.14.6 Mojave / x86_64 | OK | OK | OK | NA | |||||||||||||||||||||||||||||||
Package 121/1986 | Hostname | OS / Arch | INSTALL | BUILD | CHECK | BUILD BIN | ||||||||||||||||||||||||||||||
BasicSTARRseq 1.19.0 (landing page) Annika Buerger
| nebbiolo1 | Linux (Ubuntu 20.04.2 LTS) / x86_64 | OK | OK | OK | ![]() | ||||||||||||||||||||||||||||||
riesling1 | Windows Server 2019 Standard / x64 | OK | OK | WARNINGS | OK | ![]() | ||||||||||||||||||||||||||||||
machv2 | macOS 10.14.6 Mojave / x86_64 | OK | OK | OK | NA | |||||||||||||||||||||||||||||||
Package 122/1986 | Hostname | OS / Arch | INSTALL | BUILD | CHECK | BUILD BIN | ||||||||||||||||||||||||||||||
basilisk 1.3.7 (landing page) Aaron Lun
| nebbiolo1 | Linux (Ubuntu 20.04.2 LTS) / x86_64 | OK | OK | OK | ![]() | ||||||||||||||||||||||||||||||
riesling1 | Windows Server 2019 Standard / x64 | OK | OK | OK | OK | ![]() | ||||||||||||||||||||||||||||||
machv2 | macOS 10.14.6 Mojave / x86_64 | OK | OK | OK | NA | |||||||||||||||||||||||||||||||
Package 123/1986 | Hostname | OS / Arch | INSTALL | BUILD | CHECK | BUILD BIN | ||||||||||||||||||||||||||||||
basilisk.utils 1.3.9 (landing page) Aaron Lun
| nebbiolo1 | Linux (Ubuntu 20.04.2 LTS) / x86_64 | OK | OK | OK | ![]() | ||||||||||||||||||||||||||||||
riesling1 | Windows Server 2019 Standard / x64 | OK | OK | OK | OK | ![]() | ||||||||||||||||||||||||||||||
machv2 | macOS 10.14.6 Mojave / x86_64 | OK | OK | OK | NA | |||||||||||||||||||||||||||||||
Package 124/1986 | Hostname | OS / Arch | INSTALL | BUILD | CHECK | BUILD BIN | ||||||||||||||||||||||||||||||
batchelor 1.7.14 (landing page) Aaron Lun
| nebbiolo1 | Linux (Ubuntu 20.04.2 LTS) / x86_64 | OK | OK | OK | ![]() | ||||||||||||||||||||||||||||||
riesling1 | Windows Server 2019 Standard / x64 | OK | OK | OK | OK | ![]() | ||||||||||||||||||||||||||||||
machv2 | macOS 10.14.6 Mojave / x86_64 | OK | OK | OK | NA | |||||||||||||||||||||||||||||||
Package 125/1986 | Hostname | OS / Arch | INSTALL | BUILD | CHECK | BUILD BIN | ||||||||||||||||||||||||||||||
BatchQC 1.19.0 (landing page) Solaiappan Manimaran
| nebbiolo1 | Linux (Ubuntu 20.04.2 LTS) / x86_64 | OK | OK | OK | ![]() | ||||||||||||||||||||||||||||||
riesling1 | Windows Server 2019 Standard / x64 | OK | OK | OK | OK | ![]() | ||||||||||||||||||||||||||||||
machv2 | macOS 10.14.6 Mojave / x86_64 | OK | OK | OK | NA | |||||||||||||||||||||||||||||||
Package 126/1986 | Hostname | OS / Arch | INSTALL | BUILD | CHECK | BUILD BIN | ||||||||||||||||||||||||||||||
BayesKnockdown 1.17.0 (landing page) William Chad Young
| nebbiolo1 | Linux (Ubuntu 20.04.2 LTS) / x86_64 | OK | OK | OK | ![]() | ||||||||||||||||||||||||||||||
riesling1 | Windows Server 2019 Standard / x64 | OK | OK | OK | OK | ![]() | ||||||||||||||||||||||||||||||
machv2 | macOS 10.14.6 Mojave / x86_64 | OK | OK | OK | NA | |||||||||||||||||||||||||||||||
Package 127/1986 | Hostname | OS / Arch | INSTALL | BUILD | CHECK | BUILD BIN | ||||||||||||||||||||||||||||||
BayesSpace 1.1.0 (landing page) Matt Stone
| nebbiolo1 | Linux (Ubuntu 20.04.2 LTS) / x86_64 | OK | ERROR | skipped | |||||||||||||||||||||||||||||||
riesling1 | Windows Server 2019 Standard / x64 | OK | ERROR | skipped | skipped | |||||||||||||||||||||||||||||||
machv2 | macOS 10.14.6 Mojave / x86_64 | OK | ERROR | skipped | skipped | |||||||||||||||||||||||||||||||
Package 128/1986 | Hostname | OS / Arch | INSTALL | BUILD | CHECK | BUILD BIN | ||||||||||||||||||||||||||||||
bayNorm 1.9.0 (landing page) Wenhao Tang
| nebbiolo1 | Linux (Ubuntu 20.04.2 LTS) / x86_64 | OK | OK | OK | ![]() | ||||||||||||||||||||||||||||||
riesling1 | Windows Server 2019 Standard / x64 | OK | OK | OK | OK | ![]() | ||||||||||||||||||||||||||||||
machv2 | macOS 10.14.6 Mojave / x86_64 | OK | OK | OK | NA | |||||||||||||||||||||||||||||||
Package 129/1986 | Hostname | OS / Arch | INSTALL | BUILD | CHECK | BUILD BIN | ||||||||||||||||||||||||||||||
baySeq 2.25.0 (landing page) Thomas J. Hardcastle
| nebbiolo1 | Linux (Ubuntu 20.04.2 LTS) / x86_64 | OK | OK | OK | ![]() | ||||||||||||||||||||||||||||||
riesling1 | Windows Server 2019 Standard / x64 | OK | OK | WARNINGS | OK | ![]() | ||||||||||||||||||||||||||||||
machv2 | macOS 10.14.6 Mojave / x86_64 | OK | OK | OK | NA | |||||||||||||||||||||||||||||||
Package 130/1986 | Hostname | OS / Arch | INSTALL | BUILD | CHECK | BUILD BIN | ||||||||||||||||||||||||||||||
BBCAnalyzer 1.21.0 (landing page) Sarah Sandmann
| nebbiolo1 | Linux (Ubuntu 20.04.2 LTS) / x86_64 | OK | OK | OK | ![]() | ||||||||||||||||||||||||||||||
riesling1 | Windows Server 2019 Standard / x64 | OK | OK | WARNINGS | OK | ![]() | ||||||||||||||||||||||||||||||
machv2 | macOS 10.14.6 Mojave / x86_64 | OK | OK | OK | NA | |||||||||||||||||||||||||||||||
Package 131/1986 | Hostname | OS / Arch | INSTALL | BUILD | CHECK | BUILD BIN | ||||||||||||||||||||||||||||||
BCRANK 1.53.0 (landing page) Adam Ameur
| nebbiolo1 | Linux (Ubuntu 20.04.2 LTS) / x86_64 | OK | OK | OK | ![]() | ||||||||||||||||||||||||||||||
riesling1 | Windows Server 2019 Standard / x64 | OK | OK | OK | OK | ![]() | ||||||||||||||||||||||||||||||
machv2 | macOS 10.14.6 Mojave / x86_64 | OK | OK | OK | NA | |||||||||||||||||||||||||||||||
Package 132/1986 | Hostname | OS / Arch | INSTALL | BUILD | CHECK | BUILD BIN | ||||||||||||||||||||||||||||||
bcSeq 1.13.0 (landing page) Jiaxing Lin
| nebbiolo1 | Linux (Ubuntu 20.04.2 LTS) / x86_64 | OK | OK | WARNINGS | ![]() | ||||||||||||||||||||||||||||||
riesling1 | Windows Server 2019 Standard / x64 | OK | OK | WARNINGS | OK | ![]() | ||||||||||||||||||||||||||||||
machv2 | macOS 10.14.6 Mojave / x86_64 | OK | OK | OK | NA | |||||||||||||||||||||||||||||||
Package 133/1986 | Hostname | OS / Arch | INSTALL | BUILD | CHECK | BUILD BIN | ||||||||||||||||||||||||||||||
BDMMAcorrect 1.9.0 (landing page) ZHENWEI DAI
| nebbiolo1 | Linux (Ubuntu 20.04.2 LTS) / x86_64 | OK | OK | OK | ![]() | ||||||||||||||||||||||||||||||
riesling1 | Windows Server 2019 Standard / x64 | OK | OK | OK | OK | ![]() | ||||||||||||||||||||||||||||||
machv2 | macOS 10.14.6 Mojave / x86_64 | OK | OK | OK | NA | |||||||||||||||||||||||||||||||
Package 134/1986 | Hostname | OS / Arch | INSTALL | BUILD | CHECK | BUILD BIN | ||||||||||||||||||||||||||||||
beachmat 2.7.7 (landing page) Aaron Lun
| nebbiolo1 | Linux (Ubuntu 20.04.2 LTS) / x86_64 | OK | OK | OK | ![]() | ||||||||||||||||||||||||||||||
riesling1 | Windows Server 2019 Standard / x64 | OK | OK | OK | OK | ![]() | ||||||||||||||||||||||||||||||
machv2 | macOS 10.14.6 Mojave / x86_64 | OK | OK | OK | NA | |||||||||||||||||||||||||||||||
Package 135/1986 | Hostname | OS / Arch | INSTALL | BUILD | CHECK | BUILD BIN | ||||||||||||||||||||||||||||||
beadarray 2.41.0 (landing page) Mark Dunning
| nebbiolo1 | Linux (Ubuntu 20.04.2 LTS) / x86_64 | OK | OK | OK | ![]() | ||||||||||||||||||||||||||||||
riesling1 | Windows Server 2019 Standard / x64 | OK | OK | WARNINGS | OK | ![]() | ||||||||||||||||||||||||||||||
machv2 | macOS 10.14.6 Mojave / x86_64 | OK | OK | OK | NA | |||||||||||||||||||||||||||||||
Package 136/1986 | Hostname | OS / Arch | INSTALL | BUILD | CHECK | BUILD BIN | ||||||||||||||||||||||||||||||
beadarraySNP 1.57.0 (landing page) Jan Oosting
| nebbiolo1 | Linux (Ubuntu 20.04.2 LTS) / x86_64 | OK | OK | OK | ![]() | ||||||||||||||||||||||||||||||
riesling1 | Windows Server 2019 Standard / x64 | OK | OK | WARNINGS | OK | ![]() | ||||||||||||||||||||||||||||||
machv2 | macOS 10.14.6 Mojave / x86_64 | OK | OK | OK | NA | |||||||||||||||||||||||||||||||
Package 137/1986 | Hostname | OS / Arch | INSTALL | BUILD | CHECK | BUILD BIN | ||||||||||||||||||||||||||||||
BeadDataPackR 1.43.0 (landing page) Mike Smith
| nebbiolo1 | Linux (Ubuntu 20.04.2 LTS) / x86_64 | OK | OK | OK | ![]() | ||||||||||||||||||||||||||||||
riesling1 | Windows Server 2019 Standard / x64 | OK | OK | OK | OK | ![]() | ||||||||||||||||||||||||||||||
machv2 | macOS 10.14.6 Mojave / x86_64 | OK | OK | OK | NA | |||||||||||||||||||||||||||||||
Package 138/1986 | Hostname | OS / Arch | INSTALL | BUILD | CHECK | BUILD BIN | ||||||||||||||||||||||||||||||
BEARscc 1.11.0 (landing page) Benjamin Schuster-Boeckler
| nebbiolo1 | Linux (Ubuntu 20.04.2 LTS) / x86_64 | OK | OK | OK | ![]() | ||||||||||||||||||||||||||||||
riesling1 | Windows Server 2019 Standard / x64 | OK | OK | OK | OK | ![]() | ||||||||||||||||||||||||||||||
machv2 | macOS 10.14.6 Mojave / x86_64 | OK | OK | OK | NA | |||||||||||||||||||||||||||||||
Package 139/1986 | Hostname | OS / Arch | INSTALL | BUILD | CHECK | BUILD BIN | ||||||||||||||||||||||||||||||
BEAT 1.29.0 (landing page) Kemal Akman
| nebbiolo1 | Linux (Ubuntu 20.04.2 LTS) / x86_64 | OK | OK | OK | ![]() | ||||||||||||||||||||||||||||||
riesling1 | Windows Server 2019 Standard / x64 | OK | OK | OK | OK | ![]() | ||||||||||||||||||||||||||||||
machv2 | macOS 10.14.6 Mojave / x86_64 | OK | OK | OK | NA | |||||||||||||||||||||||||||||||
Package 140/1986 | Hostname | OS / Arch | INSTALL | BUILD | CHECK | BUILD BIN | ||||||||||||||||||||||||||||||
BEclear 2.7.2 (landing page) David Rasp
| nebbiolo1 | Linux (Ubuntu 20.04.2 LTS) / x86_64 | OK | OK | OK | ![]() | ||||||||||||||||||||||||||||||
riesling1 | Windows Server 2019 Standard / x64 | OK | OK | OK | OK | ![]() | ||||||||||||||||||||||||||||||
machv2 | macOS 10.14.6 Mojave / x86_64 | OK | OK | OK | NA | |||||||||||||||||||||||||||||||
Package 141/1986 | Hostname | OS / Arch | INSTALL | BUILD | CHECK | BUILD BIN | ||||||||||||||||||||||||||||||
BgeeCall 1.7.8 (landing page) Julien Wollbrett
| nebbiolo1 | Linux (Ubuntu 20.04.2 LTS) / x86_64 | OK | OK | WARNINGS | ![]() | ||||||||||||||||||||||||||||||
riesling1 | Windows Server 2019 Standard / x64 | OK | OK | WARNINGS | OK | ![]() | ||||||||||||||||||||||||||||||
machv2 | macOS 10.14.6 Mojave / x86_64 | OK | OK | WARNINGS | NA | |||||||||||||||||||||||||||||||
Package 142/1986 | Hostname | OS / Arch | INSTALL | BUILD | CHECK | BUILD BIN | ||||||||||||||||||||||||||||||
BgeeDB 2.17.0 (landing page) Julien Wollbrett
| nebbiolo1 | Linux (Ubuntu 20.04.2 LTS) / x86_64 | OK | OK | OK | ![]() | ||||||||||||||||||||||||||||||
riesling1 | Windows Server 2019 Standard / x64 | OK | OK | ERROR | OK | |||||||||||||||||||||||||||||||
machv2 | macOS 10.14.6 Mojave / x86_64 | OK | OK | OK | NA | |||||||||||||||||||||||||||||||
Package 143/1986 | Hostname | OS / Arch | INSTALL | BUILD | CHECK | BUILD BIN | ||||||||||||||||||||||||||||||
BGmix 1.51.0 (landing page) Alex Lewin
| nebbiolo1 | Linux (Ubuntu 20.04.2 LTS) / x86_64 | OK | OK | WARNINGS | ![]() | ||||||||||||||||||||||||||||||
riesling1 | Windows Server 2019 Standard / x64 | ... NOT SUPPORTED ... | ||||||||||||||||||||||||||||||||||
machv2 | macOS 10.14.6 Mojave / x86_64 | OK | OK | OK | NA | |||||||||||||||||||||||||||||||
Package 144/1986 | Hostname | OS / Arch | INSTALL | BUILD | CHECK | BUILD BIN | ||||||||||||||||||||||||||||||
bgx 1.57.0 (landing page) Ernest Turro
| nebbiolo1 | Linux (Ubuntu 20.04.2 LTS) / x86_64 | OK | OK | OK | ![]() | ||||||||||||||||||||||||||||||
riesling1 | Windows Server 2019 Standard / x64 | OK | OK | OK | OK | ![]() | ||||||||||||||||||||||||||||||
machv2 | macOS 10.14.6 Mojave / x86_64 | OK | OK | WARNINGS | NA | |||||||||||||||||||||||||||||||
Package 145/1986 | Hostname | OS / Arch | INSTALL | BUILD | CHECK | BUILD BIN | ||||||||||||||||||||||||||||||
BHC 1.43.0 (landing page) Rich Savage
| nebbiolo1 | Linux (Ubuntu 20.04.2 LTS) / x86_64 | OK | OK | OK | ![]() | ||||||||||||||||||||||||||||||
riesling1 | Windows Server 2019 Standard / x64 | OK | OK | OK | OK | ![]() | ||||||||||||||||||||||||||||||
machv2 | macOS 10.14.6 Mojave / x86_64 | OK | OK | OK | NA | |||||||||||||||||||||||||||||||
Package 146/1986 | Hostname | OS / Arch | INSTALL | BUILD | CHECK | BUILD BIN | ||||||||||||||||||||||||||||||
BicARE 1.49.0 (landing page) Pierre Gestraud
| nebbiolo1 | Linux (Ubuntu 20.04.2 LTS) / x86_64 | OK | OK | OK | ![]() | ||||||||||||||||||||||||||||||
riesling1 | Windows Server 2019 Standard / x64 | OK | OK | OK | OK | ![]() | ||||||||||||||||||||||||||||||
machv2 | macOS 10.14.6 Mojave / x86_64 | OK | OK | OK | NA | |||||||||||||||||||||||||||||||
Package 147/1986 | Hostname | OS / Arch | INSTALL | BUILD | CHECK | BUILD BIN | ||||||||||||||||||||||||||||||
BiFET 1.11.0 (landing page) Ahrim Youn
| nebbiolo1 | Linux (Ubuntu 20.04.2 LTS) / x86_64 | OK | OK | OK | ![]() | ||||||||||||||||||||||||||||||
riesling1 | Windows Server 2019 Standard / x64 | OK | OK | OK | OK | ![]() | ||||||||||||||||||||||||||||||
machv2 | macOS 10.14.6 Mojave / x86_64 | OK | OK | OK | NA | |||||||||||||||||||||||||||||||
Package 148/1986 | Hostname | OS / Arch | INSTALL | BUILD | CHECK | BUILD BIN | ||||||||||||||||||||||||||||||
BiGGR 1.27.0 (landing page) Anand K. Gavai
| nebbiolo1 | Linux (Ubuntu 20.04.2 LTS) / x86_64 | OK | OK | OK | ![]() | ||||||||||||||||||||||||||||||
riesling1 | Windows Server 2019 Standard / x64 | OK | OK | OK | OK | ![]() | ||||||||||||||||||||||||||||||
machv2 | macOS 10.14.6 Mojave / x86_64 | ... NOT SUPPORTED ... | ||||||||||||||||||||||||||||||||||
Package 149/1986 | Hostname | OS / Arch | INSTALL | BUILD | CHECK | BUILD BIN | ||||||||||||||||||||||||||||||
bigmelon 1.17.0 (landing page) Tyler J. Gorrie-Stone
| nebbiolo1 | Linux (Ubuntu 20.04.2 LTS) / x86_64 | OK | OK | OK | ![]() | ||||||||||||||||||||||||||||||
riesling1 | Windows Server 2019 Standard / x64 | OK | OK | OK | OK | ![]() | ||||||||||||||||||||||||||||||
machv2 | macOS 10.14.6 Mojave / x86_64 | OK | OK | OK | NA | |||||||||||||||||||||||||||||||
Package 150/1986 | Hostname | OS / Arch | INSTALL | BUILD | CHECK | BUILD BIN | ||||||||||||||||||||||||||||||
Peter M. Haverty
| nebbiolo1 | Linux (Ubuntu 20.04.2 LTS) / x86_64 | OK | OK | ERROR | |||||||||||||||||||||||||||||||
riesling1 | Windows Server 2019 Standard / x64 | ... NOT SUPPORTED ... | ||||||||||||||||||||||||||||||||||
machv2 | macOS 10.14.6 Mojave / x86_64 | OK | OK | ERROR | NA | |||||||||||||||||||||||||||||||
Package 151/1986 | Hostname | OS / Arch | INSTALL | BUILD | CHECK | BUILD BIN | ||||||||||||||||||||||||||||||
bigPint 1.7.0 (landing page) Lindsay Rutter
| nebbiolo1 | Linux (Ubuntu 20.04.2 LTS) / x86_64 | OK | OK | WARNINGS | ![]() | ||||||||||||||||||||||||||||||
riesling1 | Windows Server 2019 Standard / x64 | OK | OK | WARNINGS | OK | ![]() | ||||||||||||||||||||||||||||||
machv2 | macOS 10.14.6 Mojave / x86_64 | OK | OK | WARNINGS | NA | |||||||||||||||||||||||||||||||
Package 152/1986 | Hostname | OS / Arch | INSTALL | BUILD | CHECK | BUILD BIN | ||||||||||||||||||||||||||||||
bioassayR 1.29.2 (landing page) Daniela Cassol
| nebbiolo1 | Linux (Ubuntu 20.04.2 LTS) / x86_64 | OK | OK | OK | ![]() | ||||||||||||||||||||||||||||||
riesling1 | Windows Server 2019 Standard / x64 | OK | OK | WARNINGS | OK | ![]() | ||||||||||||||||||||||||||||||
machv2 | macOS 10.14.6 Mojave / x86_64 | OK | OK | OK | NA | |||||||||||||||||||||||||||||||
Package 153/1986 | Hostname | OS / Arch | INSTALL | BUILD | CHECK | BUILD BIN | ||||||||||||||||||||||||||||||
Biobase 2.51.0 (landing page) Bioconductor Package Maintainer
| nebbiolo1 | Linux (Ubuntu 20.04.2 LTS) / x86_64 | OK | OK | OK | ![]() | ||||||||||||||||||||||||||||||
riesling1 | Windows Server 2019 Standard / x64 | OK | OK | WARNINGS | OK | ![]() | ||||||||||||||||||||||||||||||
machv2 | macOS 10.14.6 Mojave / x86_64 | OK | OK | OK | NA | |||||||||||||||||||||||||||||||
Package 154/1986 | Hostname | OS / Arch | INSTALL | BUILD | CHECK | BUILD BIN | ||||||||||||||||||||||||||||||
biobroom 1.23.0 (landing page) John D. Storey
| nebbiolo1 | Linux (Ubuntu 20.04.2 LTS) / x86_64 | OK | OK | WARNINGS | ![]() | ||||||||||||||||||||||||||||||
riesling1 | Windows Server 2019 Standard / x64 | OK | OK | WARNINGS | OK | ![]() | ||||||||||||||||||||||||||||||
machv2 | macOS 10.14.6 Mojave / x86_64 | OK | OK | WARNINGS | NA | |||||||||||||||||||||||||||||||
Package 155/1986 | Hostname | OS / Arch | INSTALL | BUILD | CHECK | BUILD BIN | ||||||||||||||||||||||||||||||
biobtreeR 1.3.0 (landing page) Tamer Gur
| nebbiolo1 | Linux (Ubuntu 20.04.2 LTS) / x86_64 | OK | OK | OK | ![]() | ||||||||||||||||||||||||||||||
riesling1 | Windows Server 2019 Standard / x64 | OK | OK | OK | OK | ![]() | ||||||||||||||||||||||||||||||
machv2 | macOS 10.14.6 Mojave / x86_64 | OK | OK | OK | NA | |||||||||||||||||||||||||||||||
Package 156/1986 | Hostname | OS / Arch | INSTALL | BUILD | CHECK | BUILD BIN | ||||||||||||||||||||||||||||||
bioCancer 1.19.01 (landing page) Karim Mezhoud
| nebbiolo1 | Linux (Ubuntu 20.04.2 LTS) / x86_64 | OK | OK | WARNINGS | ![]() | ||||||||||||||||||||||||||||||
riesling1 | Windows Server 2019 Standard / x64 | OK | OK | WARNINGS | OK | ![]() | ||||||||||||||||||||||||||||||
machv2 | macOS 10.14.6 Mojave / x86_64 | OK | OK | WARNINGS | NA | |||||||||||||||||||||||||||||||
Package 157/1986 | Hostname | OS / Arch | INSTALL | BUILD | CHECK | BUILD BIN | ||||||||||||||||||||||||||||||
Bioconductor Package Maintainer
| nebbiolo1 | Linux (Ubuntu 20.04.2 LTS) / x86_64 | OK | OK | ERROR | |||||||||||||||||||||||||||||||
riesling1 | Windows Server 2019 Standard / x64 | OK | OK | ERROR | OK | |||||||||||||||||||||||||||||||
machv2 | macOS 10.14.6 Mojave / x86_64 | OK | OK | ERROR | NA | |||||||||||||||||||||||||||||||
Package 158/1986 | Hostname | OS / Arch | INSTALL | BUILD | CHECK | BUILD BIN | ||||||||||||||||||||||||||||||
BiocCheck 1.27.13 (landing page) Bioconductor Package Maintainer
| nebbiolo1 | Linux (Ubuntu 20.04.2 LTS) / x86_64 | OK | OK | OK | ![]() | ||||||||||||||||||||||||||||||
riesling1 | Windows Server 2019 Standard / x64 | OK | OK | OK | OK | ![]() | ||||||||||||||||||||||||||||||
machv2 | macOS 10.14.6 Mojave / x86_64 | OK | OK | OK | NA | |||||||||||||||||||||||||||||||
Package 159/1986 | Hostname | OS / Arch | INSTALL | BUILD | CHECK | BUILD BIN | ||||||||||||||||||||||||||||||
BiocDockerManager 1.3.1 (landing page) Bioconductor Package Maintainer
| nebbiolo1 | Linux (Ubuntu 20.04.2 LTS) / x86_64 | OK | OK | OK | ![]() | ||||||||||||||||||||||||||||||
riesling1 | Windows Server 2019 Standard / x64 | OK | OK | OK | OK | ![]() | ||||||||||||||||||||||||||||||
machv2 | macOS 10.14.6 Mojave / x86_64 | OK | OK | OK | NA | |||||||||||||||||||||||||||||||
Package 160/1986 | Hostname | OS / Arch | INSTALL | BUILD | CHECK | BUILD BIN | ||||||||||||||||||||||||||||||
BiocFileCache 1.99.6 (landing page) Lori Shepherd
| nebbiolo1 | Linux (Ubuntu 20.04.2 LTS) / x86_64 | OK | ERROR | skipped | |||||||||||||||||||||||||||||||
riesling1 | Windows Server 2019 Standard / x64 | OK | OK | WARNINGS | OK | ![]() | ||||||||||||||||||||||||||||||
machv2 | macOS 10.14.6 Mojave / x86_64 | OK | ERROR | skipped | skipped | |||||||||||||||||||||||||||||||
Package 161/1986 | Hostname | OS / Arch | INSTALL | BUILD | CHECK | BUILD BIN | ||||||||||||||||||||||||||||||
BiocGenerics 0.37.2 (landing page) Bioconductor Package Maintainer
| nebbiolo1 | Linux (Ubuntu 20.04.2 LTS) / x86_64 | OK | OK | WARNINGS | ![]() | ||||||||||||||||||||||||||||||
riesling1 | Windows Server 2019 Standard / x64 | OK | OK | WARNINGS | OK | ![]() | ||||||||||||||||||||||||||||||
machv2 | macOS 10.14.6 Mojave / x86_64 | OK | OK | WARNINGS | NA | |||||||||||||||||||||||||||||||
Package 162/1986 | Hostname | OS / Arch | INSTALL | BUILD | CHECK | BUILD BIN | ||||||||||||||||||||||||||||||
biocGraph 1.53.0 (landing page) Florian Hahne
| nebbiolo1 | Linux (Ubuntu 20.04.2 LTS) / x86_64 | OK | OK | OK | ![]() | ||||||||||||||||||||||||||||||
riesling1 | Windows Server 2019 Standard / x64 | OK | OK | OK | OK | ![]() | ||||||||||||||||||||||||||||||
machv2 | macOS 10.14.6 Mojave / x86_64 | OK | OK | OK | NA | |||||||||||||||||||||||||||||||
Package 163/1986 | Hostname | OS / Arch | INSTALL | BUILD | CHECK | BUILD BIN | ||||||||||||||||||||||||||||||
BiocIO 1.1.2 (landing page) Bioconductor Package Maintainer
| nebbiolo1 | Linux (Ubuntu 20.04.2 LTS) / x86_64 | OK | OK | OK | ![]() | ||||||||||||||||||||||||||||||
riesling1 | Windows Server 2019 Standard / x64 | OK | OK | WARNINGS | OK | ![]() | ||||||||||||||||||||||||||||||
machv2 | macOS 10.14.6 Mojave / x86_64 | OK | OK | OK | NA | |||||||||||||||||||||||||||||||
Package 164/1986 | Hostname | OS / Arch | INSTALL | BUILD | CHECK | BUILD BIN | ||||||||||||||||||||||||||||||
BiocNeighbors 1.9.4 (landing page) Aaron Lun
| nebbiolo1 | Linux (Ubuntu 20.04.2 LTS) / x86_64 | OK | OK | OK | ![]() | ||||||||||||||||||||||||||||||
riesling1 | Windows Server 2019 Standard / x64 | OK | OK | WARNINGS | OK | ![]() | ||||||||||||||||||||||||||||||
machv2 | macOS 10.14.6 Mojave / x86_64 | OK | OK | OK | NA | |||||||||||||||||||||||||||||||
Package 165/1986 | Hostname | OS / Arch | INSTALL | BUILD | CHECK | BUILD BIN | ||||||||||||||||||||||||||||||
BiocOncoTK 1.11.2 (landing page) VJ Carey
| nebbiolo1 | Linux (Ubuntu 20.04.2 LTS) / x86_64 | OK | OK | WARNINGS | ![]() | ||||||||||||||||||||||||||||||
riesling1 | Windows Server 2019 Standard / x64 | OK | OK | WARNINGS | OK | ![]() | ||||||||||||||||||||||||||||||
machv2 | macOS 10.14.6 Mojave / x86_64 | OK | OK | WARNINGS | NA | |||||||||||||||||||||||||||||||
Package 166/1986 | Hostname | OS / Arch | INSTALL | BUILD | CHECK | BUILD BIN | ||||||||||||||||||||||||||||||
BioCor 1.15.0 (landing page) Lluís Revilla Sancho
| nebbiolo1 | Linux (Ubuntu 20.04.2 LTS) / x86_64 | OK | OK | OK | ![]() | ||||||||||||||||||||||||||||||
riesling1 | Windows Server 2019 Standard / x64 | OK | OK | OK | OK | ![]() | ||||||||||||||||||||||||||||||
machv2 | macOS 10.14.6 Mojave / x86_64 | OK | OK | OK | NA | |||||||||||||||||||||||||||||||
Package 167/1986 | Hostname | OS / Arch | INSTALL | BUILD | CHECK | BUILD BIN | ||||||||||||||||||||||||||||||
BiocParallel 1.25.5 (landing page) Bioconductor Package Maintainer
| nebbiolo1 | Linux (Ubuntu 20.04.2 LTS) / x86_64 | OK | OK | OK | ![]() | ||||||||||||||||||||||||||||||
riesling1 | Windows Server 2019 Standard / x64 | OK | OK | WARNINGS | OK | ![]() | ||||||||||||||||||||||||||||||
machv2 | macOS 10.14.6 Mojave / x86_64 | OK | OK | OK | NA | |||||||||||||||||||||||||||||||
Package 168/1986 | Hostname | OS / Arch | INSTALL | BUILD | CHECK | BUILD BIN | ||||||||||||||||||||||||||||||
BiocPkgTools 1.9.4 (landing page) Sean Davis
| nebbiolo1 | Linux (Ubuntu 20.04.2 LTS) / x86_64 | OK | OK | ERROR | |||||||||||||||||||||||||||||||
riesling1 | Windows Server 2019 Standard / x64 | OK | OK | ERROR | OK | |||||||||||||||||||||||||||||||
machv2 | macOS 10.14.6 Mojave / x86_64 | OK | OK | ERROR | NA | |||||||||||||||||||||||||||||||
Package 169/1986 | Hostname | OS / Arch | INSTALL | BUILD | CHECK | BUILD BIN | ||||||||||||||||||||||||||||||
BiocSet 1.5.0 (landing page) Kayla Morrell
| nebbiolo1 | Linux (Ubuntu 20.04.2 LTS) / x86_64 | OK | OK | OK | ![]() | ||||||||||||||||||||||||||||||
riesling1 | Windows Server 2019 Standard / x64 | OK | OK | OK | OK | ![]() | ||||||||||||||||||||||||||||||
machv2 | macOS 10.14.6 Mojave / x86_64 | OK | OK | OK | NA | |||||||||||||||||||||||||||||||
Package 170/1986 | Hostname | OS / Arch | INSTALL | BUILD | CHECK | BUILD BIN | ||||||||||||||||||||||||||||||
BiocSingular 1.7.2 (landing page) Aaron Lun
| nebbiolo1 | Linux (Ubuntu 20.04.2 LTS) / x86_64 | OK | OK | OK | ![]() | ||||||||||||||||||||||||||||||
riesling1 | Windows Server 2019 Standard / x64 | OK | OK | WARNINGS | OK | ![]() | ||||||||||||||||||||||||||||||
machv2 | macOS 10.14.6 Mojave / x86_64 | OK | OK | OK | NA | |||||||||||||||||||||||||||||||
Package 171/1986 | Hostname | OS / Arch | INSTALL | BUILD | CHECK | BUILD BIN | ||||||||||||||||||||||||||||||
BiocSklearn 1.13.1 (landing page) Vince Carey
| nebbiolo1 | Linux (Ubuntu 20.04.2 LTS) / x86_64 | OK | OK | OK | ![]() | ||||||||||||||||||||||||||||||
riesling1 | Windows Server 2019 Standard / x64 | OK | OK | OK | OK | ![]() | ||||||||||||||||||||||||||||||
machv2 | macOS 10.14.6 Mojave / x86_64 | OK | OK | OK | NA | |||||||||||||||||||||||||||||||
Package 172/1986 | Hostname | OS / Arch | INSTALL | BUILD | CHECK | BUILD BIN | ||||||||||||||||||||||||||||||
BiocStyle 2.19.2 (landing page) Bioconductor Package
| nebbiolo1 | Linux (Ubuntu 20.04.2 LTS) / x86_64 | OK | OK | OK | ![]() | ||||||||||||||||||||||||||||||
riesling1 | Windows Server 2019 Standard / x64 | OK | OK | OK | OK | ![]() | ||||||||||||||||||||||||||||||
machv2 | macOS 10.14.6 Mojave / x86_64 | OK | OK | OK | NA | |||||||||||||||||||||||||||||||
Package 173/1986 | Hostname | OS / Arch | INSTALL | BUILD | CHECK | BUILD BIN | ||||||||||||||||||||||||||||||
biocthis 1.1.10 (landing page) Leonardo Collado-Torres
| nebbiolo1 | Linux (Ubuntu 20.04.2 LTS) / x86_64 | OK | OK | OK | ![]() | ||||||||||||||||||||||||||||||
riesling1 | Windows Server 2019 Standard / x64 | OK | OK | OK | OK | ![]() | ||||||||||||||||||||||||||||||
machv2 | macOS 10.14.6 Mojave / x86_64 | OK | OK | OK | NA | |||||||||||||||||||||||||||||||
Package 174/1986 | Hostname | OS / Arch | INSTALL | BUILD | CHECK | BUILD BIN | ||||||||||||||||||||||||||||||
BiocVersion 3.13.1 (landing page) Bioconductor Package Maintainer
| nebbiolo1 | Linux (Ubuntu 20.04.2 LTS) / x86_64 | OK | OK | OK | ![]() | ||||||||||||||||||||||||||||||
riesling1 | Windows Server 2019 Standard / x64 | OK | OK | OK | OK | ![]() | ||||||||||||||||||||||||||||||
machv2 | macOS 10.14.6 Mojave / x86_64 | OK | OK | OK | NA | |||||||||||||||||||||||||||||||
Package 175/1986 | Hostname | OS / Arch | INSTALL | BUILD | CHECK | BUILD BIN | ||||||||||||||||||||||||||||||
biocViews 1.59.3 (landing page) Bioconductor Package Maintainer
| nebbiolo1 | Linux (Ubuntu 20.04.2 LTS) / x86_64 | OK | OK | OK | ![]() | ||||||||||||||||||||||||||||||
riesling1 | Windows Server 2019 Standard / x64 | OK | OK | WARNINGS | OK | ![]() | ||||||||||||||||||||||||||||||
machv2 | macOS 10.14.6 Mojave / x86_64 | OK | OK | OK | NA | |||||||||||||||||||||||||||||||
Package 176/1986 | Hostname | OS / Arch | INSTALL | BUILD | CHECK | BUILD BIN | ||||||||||||||||||||||||||||||
BiocWorkflowTools 1.17.0 (landing page) Mike Smith
| nebbiolo1 | Linux (Ubuntu 20.04.2 LTS) / x86_64 | OK | OK | OK | ![]() | ||||||||||||||||||||||||||||||
riesling1 | Windows Server 2019 Standard / x64 | OK | OK | OK | OK | ![]() | ||||||||||||||||||||||||||||||
machv2 | macOS 10.14.6 Mojave / x86_64 | OK | OK | OK | NA | |||||||||||||||||||||||||||||||
Package 177/1986 | Hostname | OS / Arch | INSTALL | BUILD | CHECK | BUILD BIN | ||||||||||||||||||||||||||||||
bioDist 1.63.0 (landing page) Bioconductor Package Maintainer
| nebbiolo1 | Linux (Ubuntu 20.04.2 LTS) / x86_64 | OK | OK | OK | ![]() | ||||||||||||||||||||||||||||||
riesling1 | Windows Server 2019 Standard / x64 | OK | OK | OK | OK | ![]() | ||||||||||||||||||||||||||||||
machv2 | macOS 10.14.6 Mojave / x86_64 | OK | OK | OK | NA | |||||||||||||||||||||||||||||||
Package 178/1986 | Hostname | OS / Arch | INSTALL | BUILD | CHECK | BUILD BIN | ||||||||||||||||||||||||||||||
biomaRt 2.47.7 (landing page) Mike Smith
| nebbiolo1 | Linux (Ubuntu 20.04.2 LTS) / x86_64 | OK | OK | OK | ![]() | ||||||||||||||||||||||||||||||
riesling1 | Windows Server 2019 Standard / x64 | OK | OK | OK | OK | ![]() | ||||||||||||||||||||||||||||||
machv2 | macOS 10.14.6 Mojave / x86_64 | OK | OK | OK | NA | |||||||||||||||||||||||||||||||
Package 179/1986 | Hostname | OS / Arch | INSTALL | BUILD | CHECK | BUILD BIN | ||||||||||||||||||||||||||||||
biomformat 1.19.0 (landing page) Paul J. McMurdie
| nebbiolo1 | Linux (Ubuntu 20.04.2 LTS) / x86_64 | OK | OK | WARNINGS | ![]() | ||||||||||||||||||||||||||||||
riesling1 | Windows Server 2019 Standard / x64 | OK | OK | WARNINGS | OK | ![]() | ||||||||||||||||||||||||||||||
machv2 | macOS 10.14.6 Mojave / x86_64 | OK | OK | WARNINGS | NA | |||||||||||||||||||||||||||||||
Package 180/1986 | Hostname | OS / Arch | INSTALL | BUILD | CHECK | BUILD BIN | ||||||||||||||||||||||||||||||
BioMM 1.7.0 (landing page) Junfang Chen
| nebbiolo1 | Linux (Ubuntu 20.04.2 LTS) / x86_64 | OK | OK | OK | ![]() | ||||||||||||||||||||||||||||||
riesling1 | Windows Server 2019 Standard / x64 | OK | OK | OK | OK | ![]() | ||||||||||||||||||||||||||||||
machv2 | macOS 10.14.6 Mojave / x86_64 | OK | OK | OK | NA | |||||||||||||||||||||||||||||||
Package 181/1986 | Hostname | OS / Arch | INSTALL | BUILD | CHECK | BUILD BIN | ||||||||||||||||||||||||||||||
BioMVCClass 1.59.0 (landing page) Elizabeth Whalen
| nebbiolo1 | Linux (Ubuntu 20.04.2 LTS) / x86_64 | OK | OK | OK | ![]() | ||||||||||||||||||||||||||||||
riesling1 | Windows Server 2019 Standard / x64 | OK | OK | WARNINGS | OK | ![]() | ||||||||||||||||||||||||||||||
machv2 | macOS 10.14.6 Mojave / x86_64 | OK | OK | OK | NA | |||||||||||||||||||||||||||||||
Package 182/1986 | Hostname | OS / Arch | INSTALL | BUILD | CHECK | BUILD BIN | ||||||||||||||||||||||||||||||
biomvRCNS 1.31.0 (landing page) Yang Du
| nebbiolo1 | Linux (Ubuntu 20.04.2 LTS) / x86_64 | OK | OK | OK | ![]() | ||||||||||||||||||||||||||||||
riesling1 | Windows Server 2019 Standard / x64 | OK | OK | OK | OK | ![]() | ||||||||||||||||||||||||||||||
machv2 | macOS 10.14.6 Mojave / x86_64 | OK | OK | OK | NA | |||||||||||||||||||||||||||||||
Package 183/1986 | Hostname | OS / Arch | INSTALL | BUILD | CHECK | BUILD BIN | ||||||||||||||||||||||||||||||
BioNERO 0.99.8 (landing page) Fabricio Almeida-Silva
| nebbiolo1 | Linux (Ubuntu 20.04.2 LTS) / x86_64 | OK | OK | OK | ![]() | ||||||||||||||||||||||||||||||
riesling1 | Windows Server 2019 Standard / x64 | OK | OK | OK | OK | ![]() | ||||||||||||||||||||||||||||||
machv2 | macOS 10.14.6 Mojave / x86_64 | OK | OK | OK | NA | |||||||||||||||||||||||||||||||
Package 184/1986 | Hostname | OS / Arch | INSTALL | BUILD | CHECK | BUILD BIN | ||||||||||||||||||||||||||||||
BioNet 1.51.0 (landing page) Marcus Dittrich
| nebbiolo1 | Linux (Ubuntu 20.04.2 LTS) / x86_64 | OK | OK | OK | ![]() | ||||||||||||||||||||||||||||||
riesling1 | Windows Server 2019 Standard / x64 | OK | OK | OK | OK | ![]() | ||||||||||||||||||||||||||||||
machv2 | macOS 10.14.6 Mojave / x86_64 | OK | OK | OK | NA | |||||||||||||||||||||||||||||||
Package 185/1986 | Hostname | OS / Arch | INSTALL | BUILD | CHECK | BUILD BIN | ||||||||||||||||||||||||||||||
BioNetStat 1.11.3 (landing page) Vinicius Jardim
| nebbiolo1 | Linux (Ubuntu 20.04.2 LTS) / x86_64 | OK | ERROR | skipped | |||||||||||||||||||||||||||||||
riesling1 | Windows Server 2019 Standard / x64 | OK | ERROR | skipped | skipped | |||||||||||||||||||||||||||||||
machv2 | macOS 10.14.6 Mojave / x86_64 | OK | ERROR | skipped | skipped | |||||||||||||||||||||||||||||||
Package 186/1986 | Hostname | OS / Arch | INSTALL | BUILD | CHECK | BUILD BIN | ||||||||||||||||||||||||||||||
BioQC 1.19.3 (landing page) Jitao David Zhang
| nebbiolo1 | Linux (Ubuntu 20.04.2 LTS) / x86_64 | OK | OK | OK | ![]() | ||||||||||||||||||||||||||||||
riesling1 | Windows Server 2019 Standard / x64 | OK | OK | WARNINGS | OK | ![]() | ||||||||||||||||||||||||||||||
machv2 | macOS 10.14.6 Mojave / x86_64 | OK | OK | OK | NA | |||||||||||||||||||||||||||||||
Package 187/1986 | Hostname | OS / Arch | INSTALL | BUILD | CHECK | BUILD BIN | ||||||||||||||||||||||||||||||
biosigner 1.19.2 (landing page) Philippe Rinaudo
| nebbiolo1 | Linux (Ubuntu 20.04.2 LTS) / x86_64 | OK | OK | OK | ![]() | ||||||||||||||||||||||||||||||
riesling1 | Windows Server 2019 Standard / x64 | OK | OK | OK | OK | ![]() | ||||||||||||||||||||||||||||||
machv2 | macOS 10.14.6 Mojave / x86_64 | OK | OK | OK | NA | |||||||||||||||||||||||||||||||
Package 188/1986 | Hostname | OS / Arch | INSTALL | BUILD | CHECK | BUILD BIN | ||||||||||||||||||||||||||||||
Biostrings 2.59.2 (landing page) H. Pagès
| nebbiolo1 | Linux (Ubuntu 20.04.2 LTS) / x86_64 | OK | OK | WARNINGS | ![]() | ||||||||||||||||||||||||||||||
riesling1 | Windows Server 2019 Standard / x64 | OK | OK | WARNINGS | OK | ![]() | ||||||||||||||||||||||||||||||
machv2 | macOS 10.14.6 Mojave / x86_64 | OK | OK | WARNINGS | NA | |||||||||||||||||||||||||||||||
Package 189/1986 | Hostname | OS / Arch | INSTALL | BUILD | CHECK | BUILD BIN | ||||||||||||||||||||||||||||||
BioTIP 1.5.0 (landing page) Yuxi (Jennifer) Sun
| nebbiolo1 | Linux (Ubuntu 20.04.2 LTS) / x86_64 | OK | OK | WARNINGS | ![]() | ||||||||||||||||||||||||||||||
riesling1 | Windows Server 2019 Standard / x64 | OK | OK | WARNINGS | OK | ![]() | ||||||||||||||||||||||||||||||
machv2 | macOS 10.14.6 Mojave / x86_64 | OK | OK | WARNINGS | NA | |||||||||||||||||||||||||||||||
Package 190/1986 | Hostname | OS / Arch | INSTALL | BUILD | CHECK | BUILD BIN | ||||||||||||||||||||||||||||||
biotmle 1.15.0 (landing page) Nima Hejazi
| nebbiolo1 | Linux (Ubuntu 20.04.2 LTS) / x86_64 | OK | OK | OK | ![]() | ||||||||||||||||||||||||||||||
riesling1 | Windows Server 2019 Standard / x64 | OK | OK | OK | OK | ![]() | ||||||||||||||||||||||||||||||
machv2 | macOS 10.14.6 Mojave / x86_64 | OK | OK | OK | NA | |||||||||||||||||||||||||||||||
Package 191/1986 | Hostname | OS / Arch | INSTALL | BUILD | CHECK | BUILD BIN | ||||||||||||||||||||||||||||||
biovizBase 1.39.0 (landing page) Michael Lawrence
| nebbiolo1 | Linux (Ubuntu 20.04.2 LTS) / x86_64 | OK | OK | WARNINGS | ![]() | ||||||||||||||||||||||||||||||
riesling1 | Windows Server 2019 Standard / x64 | OK | OK | WARNINGS | OK | ![]() | ||||||||||||||||||||||||||||||
machv2 | macOS 10.14.6 Mojave / x86_64 | OK | OK | WARNINGS | NA | |||||||||||||||||||||||||||||||
Package 192/1986 | Hostname | OS / Arch | INSTALL | BUILD | CHECK | BUILD BIN | ||||||||||||||||||||||||||||||
BiRewire 3.23.0 (landing page) Andrea Gobbi
| nebbiolo1 | Linux (Ubuntu 20.04.2 LTS) / x86_64 | OK | OK | WARNINGS | ![]() | ||||||||||||||||||||||||||||||
riesling1 | Windows Server 2019 Standard / x64 | OK | OK | WARNINGS | OK | ![]() | ||||||||||||||||||||||||||||||
machv2 | macOS 10.14.6 Mojave / x86_64 | OK | OK | OK | NA | |||||||||||||||||||||||||||||||
Package 193/1986 | Hostname | OS / Arch | INSTALL | BUILD | CHECK | BUILD BIN | ||||||||||||||||||||||||||||||
biscuiteer 1.5.1 (landing page) "Jacob Morrison"
| nebbiolo1 | Linux (Ubuntu 20.04.2 LTS) / x86_64 | OK | OK | WARNINGS | ![]() | ||||||||||||||||||||||||||||||
riesling1 | Windows Server 2019 Standard / x64 | OK | OK | WARNINGS | OK | ![]() | ||||||||||||||||||||||||||||||
machv2 | macOS 10.14.6 Mojave / x86_64 | OK | OK | WARNINGS | NA | |||||||||||||||||||||||||||||||
Package 194/1986 | Hostname | OS / Arch | INSTALL | BUILD | CHECK | BUILD BIN | ||||||||||||||||||||||||||||||
BiSeq 1.31.0 (landing page) Katja Hebestreit
| nebbiolo1 | Linux (Ubuntu 20.04.2 LTS) / x86_64 | OK | OK | OK | ![]() | ||||||||||||||||||||||||||||||
riesling1 | Windows Server 2019 Standard / x64 | OK | OK | WARNINGS | OK | ![]() | ||||||||||||||||||||||||||||||
machv2 | macOS 10.14.6 Mojave / x86_64 | OK | OK | OK | NA | |||||||||||||||||||||||||||||||
Package 195/1986 | Hostname | OS / Arch | INSTALL | BUILD | CHECK | BUILD BIN | ||||||||||||||||||||||||||||||
BitSeq 1.35.1 (landing page) Antti Honkela
| nebbiolo1 | Linux (Ubuntu 20.04.2 LTS) / x86_64 | OK | OK | WARNINGS | ![]() | ||||||||||||||||||||||||||||||
riesling1 | Windows Server 2019 Standard / x64 | OK | OK | WARNINGS | OK | ![]() | ||||||||||||||||||||||||||||||
machv2 | macOS 10.14.6 Mojave / x86_64 | OK | OK | WARNINGS | NA | |||||||||||||||||||||||||||||||
Package 196/1986 | Hostname | OS / Arch | INSTALL | BUILD | CHECK | BUILD BIN | ||||||||||||||||||||||||||||||
blacksheepr 1.5.1 (landing page) RugglesLab
| nebbiolo1 | Linux (Ubuntu 20.04.2 LTS) / x86_64 | OK | OK | OK | ![]() | ||||||||||||||||||||||||||||||
riesling1 | Windows Server 2019 Standard / x64 | OK | OK | OK | OK | ![]() | ||||||||||||||||||||||||||||||
machv2 | macOS 10.14.6 Mojave / x86_64 | OK | OK | OK | NA | |||||||||||||||||||||||||||||||
Package 197/1986 | Hostname | OS / Arch | INSTALL | BUILD | CHECK | BUILD BIN | ||||||||||||||||||||||||||||||
blima 1.25.0 (landing page) Vojtěch Kulvait
| nebbiolo1 | Linux (Ubuntu 20.04.2 LTS) / x86_64 | OK | OK | WARNINGS | ![]() | ||||||||||||||||||||||||||||||
riesling1 | Windows Server 2019 Standard / x64 | OK | OK | WARNINGS | OK | ![]() | ||||||||||||||||||||||||||||||
machv2 | macOS 10.14.6 Mojave / x86_64 | OK | OK | WARNINGS | NA | |||||||||||||||||||||||||||||||
Package 198/1986 | Hostname | OS / Arch | INSTALL | BUILD | CHECK | BUILD BIN | ||||||||||||||||||||||||||||||
BLMA 1.15.0 (landing page) Hung Nguyen
| nebbiolo1 | Linux (Ubuntu 20.04.2 LTS) / x86_64 | OK | OK | OK | ![]() | ||||||||||||||||||||||||||||||
riesling1 | Windows Server 2019 Standard / x64 | OK | OK | OK | OK | ![]() | ||||||||||||||||||||||||||||||
machv2 | macOS 10.14.6 Mojave / x86_64 | OK | OK | OK | NA | |||||||||||||||||||||||||||||||
Package 199/1986 | Hostname | OS / Arch | INSTALL | BUILD | CHECK | BUILD BIN | ||||||||||||||||||||||||||||||
bluster 1.1.8 (landing page) Aaron Lun
| nebbiolo1 | Linux (Ubuntu 20.04.2 LTS) / x86_64 | OK | OK | OK | ![]() | ||||||||||||||||||||||||||||||
riesling1 | Windows Server 2019 Standard / x64 | OK | OK | WARNINGS | OK | ![]() | ||||||||||||||||||||||||||||||
machv2 | macOS 10.14.6 Mojave / x86_64 | OK | OK | OK | NA | |||||||||||||||||||||||||||||||
Package 200/1986 | Hostname | OS / Arch | INSTALL | BUILD | CHECK | BUILD BIN | ||||||||||||||||||||||||||||||
bnbc 1.13.0 (landing page) Kipper Fletez-Brant
| nebbiolo1 | Linux (Ubuntu 20.04.2 LTS) / x86_64 | OK | OK | OK | ![]() | ||||||||||||||||||||||||||||||
riesling1 | Windows Server 2019 Standard / x64 | OK | OK | WARNINGS | OK | ![]() | ||||||||||||||||||||||||||||||
machv2 | macOS 10.14.6 Mojave / x86_64 | OK | OK | OK | NA | |||||||||||||||||||||||||||||||
Package 201/1986 | Hostname | OS / Arch | INSTALL | BUILD | CHECK | BUILD BIN | ||||||||||||||||||||||||||||||
bnem 0.99.8 (landing page) Martin Pirkl
| nebbiolo1 | Linux (Ubuntu 20.04.2 LTS) / x86_64 | OK | OK | OK | ![]() | ||||||||||||||||||||||||||||||
riesling1 | Windows Server 2019 Standard / x64 | OK | OK | OK | OK | ![]() | ||||||||||||||||||||||||||||||
machv2 | macOS 10.14.6 Mojave / x86_64 | OK | OK | OK | NA | |||||||||||||||||||||||||||||||
Package 202/1986 | Hostname | OS / Arch | INSTALL | BUILD | CHECK | BUILD BIN | ||||||||||||||||||||||||||||||
BPRMeth 1.17.0 (landing page) Chantriolnt-Andreas Kapourani
| nebbiolo1 | Linux (Ubuntu 20.04.2 LTS) / x86_64 | OK | OK | OK | ![]() | ||||||||||||||||||||||||||||||
riesling1 | Windows Server 2019 Standard / x64 | OK | OK | OK | OK | ![]() | ||||||||||||||||||||||||||||||
machv2 | macOS 10.14.6 Mojave / x86_64 | OK | OK | OK | NA | |||||||||||||||||||||||||||||||
Package 203/1986 | Hostname | OS / Arch | INSTALL | BUILD | CHECK | BUILD BIN | ||||||||||||||||||||||||||||||
BRAIN 1.37.0 (landing page) Piotr Dittwald
| nebbiolo1 | Linux (Ubuntu 20.04.2 LTS) / x86_64 | OK | OK | WARNINGS | ![]() | ||||||||||||||||||||||||||||||
riesling1 | Windows Server 2019 Standard / x64 | OK | OK | WARNINGS | OK | ![]() | ||||||||||||||||||||||||||||||
machv2 | macOS 10.14.6 Mojave / x86_64 | OK | OK | WARNINGS | NA | |||||||||||||||||||||||||||||||
Package 204/1986 | Hostname | OS / Arch | INSTALL | BUILD | CHECK | BUILD BIN | ||||||||||||||||||||||||||||||
brainflowprobes 1.5.1 (landing page) Amanda Price
| nebbiolo1 | Linux (Ubuntu 20.04.2 LTS) / x86_64 | OK | OK | OK | ![]() | ||||||||||||||||||||||||||||||
riesling1 | Windows Server 2019 Standard / x64 | OK | OK | OK | OK | ![]() | ||||||||||||||||||||||||||||||
machv2 | macOS 10.14.6 Mojave / x86_64 | OK | OK | OK | NA | |||||||||||||||||||||||||||||||
Package 205/1986 | Hostname | OS / Arch | INSTALL | BUILD | CHECK | BUILD BIN | ||||||||||||||||||||||||||||||
BrainSABER 1.1.0 (landing page) USD Biomedical Engineering
| nebbiolo1 | Linux (Ubuntu 20.04.2 LTS) / x86_64 | OK | OK | OK | ![]() | ||||||||||||||||||||||||||||||
riesling1 | Windows Server 2019 Standard / x64 | OK | OK | WARNINGS | OK | ![]() | ||||||||||||||||||||||||||||||
machv2 | macOS 10.14.6 Mojave / x86_64 | OK | OK | OK | NA | |||||||||||||||||||||||||||||||
Package 206/1986 | Hostname | OS / Arch | INSTALL | BUILD | CHECK | BUILD BIN | ||||||||||||||||||||||||||||||
BrainStars 1.35.0 (landing page) Itoshi NIKAIDO
| nebbiolo1 | Linux (Ubuntu 20.04.2 LTS) / x86_64 | OK | ERROR | skipped | |||||||||||||||||||||||||||||||
riesling1 | Windows Server 2019 Standard / x64 | OK | ERROR | skipped | skipped | |||||||||||||||||||||||||||||||
machv2 | macOS 10.14.6 Mojave / x86_64 | OK | ERROR | skipped | skipped | |||||||||||||||||||||||||||||||
Package 207/1986 | Hostname | OS / Arch | INSTALL | BUILD | CHECK | BUILD BIN | ||||||||||||||||||||||||||||||
branchpointer 1.17.0 (landing page) Beth Signal
| nebbiolo1 | Linux (Ubuntu 20.04.2 LTS) / x86_64 | OK | OK | OK | ![]() | ||||||||||||||||||||||||||||||
riesling1 | Windows Server 2019 Standard / x64 | OK | OK | OK | OK | ![]() | ||||||||||||||||||||||||||||||
machv2 | macOS 10.14.6 Mojave / x86_64 | OK | OK | OK | NA | |||||||||||||||||||||||||||||||
Package 208/1986 | Hostname | OS / Arch | INSTALL | BUILD | CHECK | BUILD BIN | ||||||||||||||||||||||||||||||
breakpointR 1.9.0 (landing page) David Porubsky
| nebbiolo1 | Linux (Ubuntu 20.04.2 LTS) / x86_64 | OK | OK | OK | ![]() | ||||||||||||||||||||||||||||||
riesling1 | Windows Server 2019 Standard / x64 | OK | OK | WARNINGS | OK | ![]() | ||||||||||||||||||||||||||||||
machv2 | macOS 10.14.6 Mojave / x86_64 | OK | OK | OK | NA | |||||||||||||||||||||||||||||||
Package 209/1986 | Hostname | OS / Arch | INSTALL | BUILD | CHECK | BUILD BIN | ||||||||||||||||||||||||||||||
brendaDb 1.5.0 (landing page) Yi Zhou
| nebbiolo1 | Linux (Ubuntu 20.04.2 LTS) / x86_64 | OK | OK | OK | ![]() | ||||||||||||||||||||||||||||||
riesling1 | Windows Server 2019 Standard / x64 | OK | OK | OK | OK | ![]() | ||||||||||||||||||||||||||||||
machv2 | macOS 10.14.6 Mojave / x86_64 | OK | OK | OK | NA | |||||||||||||||||||||||||||||||
Package 210/1986 | Hostname | OS / Arch | INSTALL | BUILD | CHECK | BUILD BIN | ||||||||||||||||||||||||||||||
BRGenomics 1.3.0 (landing page) Mike DeBerardine
| nebbiolo1 | Linux (Ubuntu 20.04.2 LTS) / x86_64 | OK | OK | WARNINGS | ![]() | ||||||||||||||||||||||||||||||
riesling1 | Windows Server 2019 Standard / x64 | OK | OK | WARNINGS | OK | ![]() | ||||||||||||||||||||||||||||||
machv2 | macOS 10.14.6 Mojave / x86_64 | OK | OK | WARNINGS | NA | |||||||||||||||||||||||||||||||
Package 211/1986 | Hostname | OS / Arch | INSTALL | BUILD | CHECK | BUILD BIN | ||||||||||||||||||||||||||||||
bridge 1.55.0 (landing page) Raphael Gottardo
| nebbiolo1 | Linux (Ubuntu 20.04.2 LTS) / x86_64 | OK | OK | WARNINGS | ![]() | ||||||||||||||||||||||||||||||
riesling1 | Windows Server 2019 Standard / x64 | OK | OK | WARNINGS | OK | ![]() | ||||||||||||||||||||||||||||||
machv2 | macOS 10.14.6 Mojave / x86_64 | OK | OK | OK | NA | |||||||||||||||||||||||||||||||
Package 212/1986 | Hostname | OS / Arch | INSTALL | BUILD | CHECK | BUILD BIN | ||||||||||||||||||||||||||||||
BridgeDbR 2.1.1 (landing page) Egon Willighagen
| nebbiolo1 | Linux (Ubuntu 20.04.2 LTS) / x86_64 | OK | OK | OK | ![]() | ||||||||||||||||||||||||||||||
riesling1 | Windows Server 2019 Standard / x64 | OK | OK | OK | OK | ![]() | ||||||||||||||||||||||||||||||
machv2 | macOS 10.14.6 Mojave / x86_64 | OK | OK | OK | NA | |||||||||||||||||||||||||||||||
Package 213/1986 | Hostname | OS / Arch | INSTALL | BUILD | CHECK | BUILD BIN | ||||||||||||||||||||||||||||||
BrowserViz 2.13.0 (landing page) Paul Shannon
| nebbiolo1 | Linux (Ubuntu 20.04.2 LTS) / x86_64 | OK | OK | TIMEOUT | |||||||||||||||||||||||||||||||
riesling1 | Windows Server 2019 Standard / x64 | OK | OK | OK | OK | ![]() | ||||||||||||||||||||||||||||||
machv2 | macOS 10.14.6 Mojave / x86_64 | OK | OK | OK | NA | |||||||||||||||||||||||||||||||
Package 214/1986 | Hostname | OS / Arch | INSTALL | BUILD | CHECK | BUILD BIN | ||||||||||||||||||||||||||||||
BSgenome 1.59.3 (landing page) H. Pagès
| nebbiolo1 | Linux (Ubuntu 20.04.2 LTS) / x86_64 | OK | ERROR | skipped | |||||||||||||||||||||||||||||||
riesling1 | Windows Server 2019 Standard / x64 | OK | OK | WARNINGS | OK | ![]() | ||||||||||||||||||||||||||||||
machv2 | macOS 10.14.6 Mojave / x86_64 | OK | ERROR | skipped | skipped | |||||||||||||||||||||||||||||||
Package 215/1986 | Hostname | OS / Arch | INSTALL | BUILD | CHECK | BUILD BIN | ||||||||||||||||||||||||||||||
bsseq 1.27.4 (landing page) Kasper Daniel Hansen
| nebbiolo1 | Linux (Ubuntu 20.04.2 LTS) / x86_64 | OK | OK | ERROR | |||||||||||||||||||||||||||||||
riesling1 | Windows Server 2019 Standard / x64 | OK | OK | ERROR | OK | |||||||||||||||||||||||||||||||
machv2 | macOS 10.14.6 Mojave / x86_64 | OK | OK | ERROR | NA | |||||||||||||||||||||||||||||||
Package 216/1986 | Hostname | OS / Arch | INSTALL | BUILD | CHECK | BUILD BIN | ||||||||||||||||||||||||||||||
BubbleTree 2.21.0 (landing page) Todd Creasy
| nebbiolo1 | Linux (Ubuntu 20.04.2 LTS) / x86_64 | OK | OK | OK | ![]() | ||||||||||||||||||||||||||||||
riesling1 | Windows Server 2019 Standard / x64 | OK | OK | WARNINGS | OK | ![]() | ||||||||||||||||||||||||||||||
machv2 | macOS 10.14.6 Mojave / x86_64 | OK | OK | OK | NA | |||||||||||||||||||||||||||||||
Package 217/1986 | Hostname | OS / Arch | INSTALL | BUILD | CHECK | BUILD BIN | ||||||||||||||||||||||||||||||
BufferedMatrix 1.55.0 (landing page) Ben Bolstad
| nebbiolo1 | Linux (Ubuntu 20.04.2 LTS) / x86_64 | OK |