Back to Multiple platform build/check report for BioC 3.13 |
|
This page was generated on 2021-10-15 15:06:21 -0400 (Fri, 15 Oct 2021).
To the developers/maintainers of the SBGNview package: - Please allow up to 24 hours (and sometimes 48 hours) for your latest push to git@git.bioconductor.org:packages/SBGNview.git to reflect on this report. See How and When does the builder pull? When will my changes propagate? here for more information. - Make sure to use the following settings in order to reproduce any error or warning you see on this page. |
Package 1674/2041 | Hostname | OS / Arch | INSTALL | BUILD | CHECK | BUILD BIN | ||||||||
SBGNview 1.6.0 (landing page) Weijun Luo
| nebbiolo1 | Linux (Ubuntu 20.04.2 LTS) / x86_64 | OK | OK | OK | |||||||||
tokay2 | Windows Server 2012 R2 Standard / x64 | OK | OK | OK | OK | |||||||||
machv2 | macOS 10.14.6 Mojave / x86_64 | OK | OK | OK | OK | |||||||||
Package: SBGNview |
Version: 1.6.0 |
Command: C:\cygwin\bin\curl.exe -O http://155.52.207.165/BBS/3.13/bioc/src/contrib/SBGNview_1.6.0.tar.gz && rm -rf SBGNview.buildbin-libdir && mkdir SBGNview.buildbin-libdir && C:\Users\biocbuild\bbs-3.13-bioc\R\bin\R.exe CMD INSTALL --merge-multiarch --build --library=SBGNview.buildbin-libdir SBGNview_1.6.0.tar.gz && C:\Users\biocbuild\bbs-3.13-bioc\R\bin\R.exe CMD INSTALL SBGNview_1.6.0.zip && rm SBGNview_1.6.0.tar.gz SBGNview_1.6.0.zip |
StartedAt: 2021-10-14 09:05:26 -0400 (Thu, 14 Oct 2021) |
EndedAt: 2021-10-14 09:07:07 -0400 (Thu, 14 Oct 2021) |
EllapsedTime: 101.3 seconds |
RetCode: 0 |
Status: OK |
############################################################################## ############################################################################## ### ### Running command: ### ### C:\cygwin\bin\curl.exe -O http://155.52.207.165/BBS/3.13/bioc/src/contrib/SBGNview_1.6.0.tar.gz && rm -rf SBGNview.buildbin-libdir && mkdir SBGNview.buildbin-libdir && C:\Users\biocbuild\bbs-3.13-bioc\R\bin\R.exe CMD INSTALL --merge-multiarch --build --library=SBGNview.buildbin-libdir SBGNview_1.6.0.tar.gz && C:\Users\biocbuild\bbs-3.13-bioc\R\bin\R.exe CMD INSTALL SBGNview_1.6.0.zip && rm SBGNview_1.6.0.tar.gz SBGNview_1.6.0.zip ### ############################################################################## ############################################################################## % Total % Received % Xferd Average Speed Time Time Time Current Dload Upload Total Spent Left Speed 0 0 0 0 0 0 0 0 --:--:-- --:--:-- --:--:-- 0 29 1662k 29 482k 0 0 513k 0 0:00:03 --:--:-- 0:00:03 513k 100 1662k 100 1662k 0 0 1036k 0 0:00:01 0:00:01 --:--:-- 1037k install for i386 * installing *source* package 'SBGNview' ... ** using staged installation ** R ** data ** inst ** byte-compile and prepare package for lazy loading ** help *** installing help indices converting help for package 'SBGNview' finding HTML links ... done SBGNhub.id.mapping.tables html SBGNview html arc-class html changeDataId html changeIds html downloadSbgnFile html findPathways html glyph-class html highlightArcs html highlightNodes html highlightPath html loadMappingTable html mapped.ids html outputFile-set html outputFile html pathways.info html pathways.stats html plus-.SBGNview html print.SBGNview html renderSbgn html sbgn.gsets html sbgnNodes html spline.arc-class html ** building package indices ** installing vignettes ** testing if installed package can be loaded from temporary location ** testing if installed package can be loaded from final location ** testing if installed package keeps a record of temporary installation path install for x64 * installing *source* package 'SBGNview' ... ** testing if installed package can be loaded * MD5 sums packaged installation of 'SBGNview' as SBGNview_1.6.0.zip * DONE (SBGNview) * installing to library 'C:/Users/biocbuild/bbs-3.13-bioc/R/library' package 'SBGNview' successfully unpacked and MD5 sums checked