Back to Multiple platform build/check report for BioC 3.13
A[B]CDEFGHIJKLMNOPQRSTUVWXYZ

This page was generated on 2021-10-15 15:05:07 -0400 (Fri, 15 Oct 2021).

All results for package BiocGenerics

To the developers/maintainers of the BiocGenerics package:
- Please allow up to 24 hours (and sometimes 48 hours) for your latest push to git@git.bioconductor.org:packages/BiocGenerics.git to
reflect on this report. See How and When does the builder pull? When will my changes propagate? here for more information.
- Make sure to use the following settings in order to reproduce any error or warning you see on this page.

raw results

Package 162/2041HostnameOS / ArchINSTALLBUILDCHECKBUILD BIN
BiocGenerics 0.38.0  (landing page)
Bioconductor Package Maintainer
Snapshot Date: 2021-10-14 04:50:12 -0400 (Thu, 14 Oct 2021)
git_url: https://git.bioconductor.org/packages/BiocGenerics
git_branch: RELEASE_3_13
git_last_commit: 1db849a
git_last_commit_date: 2021-05-19 11:50:56 -0400 (Wed, 19 May 2021)
nebbiolo1Linux (Ubuntu 20.04.2 LTS) / x86_64  OK    OK    WARNINGS  UNNEEDED, same version is already published
tokay2Windows Server 2012 R2 Standard / x64  OK    OK    WARNINGS    OK  UNNEEDED, same version is already published
machv2macOS 10.14.6 Mojave / x86_64  OK    OK    WARNINGS    OK  UNNEEDED, same version is already published

Results for Bioconductor software packages that depend directly on package BiocGenerics

QUICK STATSOS / ArchINSTALLBUILDCHECKBUILD BIN
nebbiolo1Linux (Ubuntu 20.04.2 LTS) / x86_64
02432
08426
05102319
tokay2Windows Server 2012 R2 Standard / x64
02422
09415
4893310
00415
machv2macOS 10.14.6 Mojave / x86_64
02430
010422
1892321
00422
Package 1/434HostnameOS / ArchINSTALLBUILDCHECKBUILD BIN
a4Preproc 1.40.0  (landing page)
Laure Cougnaud
git_last_commit: 0fa3d10
git_last_commit_date: 2021-05-19 11:48:19 -0400
nebbiolo1Linux (Ubuntu 20.04.2 LTS) / x86_64  OK    OK    OK  UNNEEDED, same version is already published
tokay2Windows Server 2012 R2 Standard / x64  OK    OK    OK    OK  UNNEEDED, same version is already published
machv2macOS 10.14.6 Mojave / x86_64  OK    OK    OK    OK  UNNEEDED, same version is already published
Package 2/434HostnameOS / ArchINSTALLBUILDCHECKBUILD BIN
ACME 2.48.0  (landing page)
Sean Davis
git_last_commit: ae84fa6
git_last_commit_date: 2021-05-19 11:38:59 -0400
nebbiolo1Linux (Ubuntu 20.04.2 LTS) / x86_64  OK    OK    WARNINGS  UNNEEDED, same version is already published
tokay2Windows Server 2012 R2 Standard / x64  OK    OK    WARNINGS    OK  UNNEEDED, same version is already published
machv2macOS 10.14.6 Mojave / x86_64  OK    OK    OK    OK  UNNEEDED, same version is already published
Package 3/434HostnameOS / ArchINSTALLBUILDCHECKBUILD BIN
affy 1.70.0  (landing page)
Rafael A. Irizarry
git_last_commit: 9c32d61
git_last_commit_date: 2021-05-19 11:32:58 -0400
nebbiolo1Linux (Ubuntu 20.04.2 LTS) / x86_64  OK    OK    WARNINGS  UNNEEDED, same version is already published
tokay2Windows Server 2012 R2 Standard / x64  OK    OK    WARNINGS    OK  UNNEEDED, same version is already published
machv2macOS 10.14.6 Mojave / x86_64  OK    OK    WARNINGS    OK  UNNEEDED, same version is already published
Package 4/434HostnameOS / ArchINSTALLBUILDCHECKBUILD BIN
affycoretools 1.64.0  (landing page)
James W. MacDonald
git_last_commit: ed4f10c
git_last_commit_date: 2021-05-19 11:36:33 -0400
nebbiolo1Linux (Ubuntu 20.04.2 LTS) / x86_64  OK    OK    WARNINGS  UNNEEDED, same version is already published
tokay2Windows Server 2012 R2 Standard / x64  OK    OK    WARNINGS    OK  UNNEEDED, same version is already published
machv2macOS 10.14.6 Mojave / x86_64  OK    OK    WARNINGS    OK  UNNEEDED, same version is already published
Package 5/434HostnameOS / ArchINSTALLBUILDCHECKBUILD BIN
affylmGUI 1.66.0  (landing page)
Gordon Smyth
git_last_commit: ff6d6f1
git_last_commit_date: 2021-05-19 11:34:17 -0400
nebbiolo1Linux (Ubuntu 20.04.2 LTS) / x86_64  OK    OK    OK  UNNEEDED, same version is already published
tokay2Windows Server 2012 R2 Standard / x64  OK    OK    OK    OK  UNNEEDED, same version is already published
machv2macOS 10.14.6 Mojave / x86_64  OK    OK    OK    OK  UNNEEDED, same version is already published
Package 6/434HostnameOS / ArchINSTALLBUILDCHECKBUILD BIN
affyPLM 1.68.0  (landing page)
Ben Bolstad
git_last_commit: 492a50a
git_last_commit_date: 2021-05-19 11:33:35 -0400
nebbiolo1Linux (Ubuntu 20.04.2 LTS) / x86_64  OK    OK    WARNINGS  UNNEEDED, same version is already published
tokay2Windows Server 2012 R2 Standard / x64  OK    OK    OK    OK  UNNEEDED, same version is already published
machv2macOS 10.14.6 Mojave / x86_64  OK    OK    OK    OK  UNNEEDED, same version is already published
Package 7/434HostnameOS / ArchINSTALLBUILDCHECKBUILD BIN
AllelicImbalance 1.30.0  (landing page)
Jesper R Gadin
git_last_commit: 5e00a1f
git_last_commit_date: 2021-05-19 12:00:58 -0400
nebbiolo1Linux (Ubuntu 20.04.2 LTS) / x86_64  OK    OK    OK  UNNEEDED, same version is already published
tokay2Windows Server 2012 R2 Standard / x64  OK    OK    OK    OK  UNNEEDED, same version is already published
machv2macOS 10.14.6 Mojave / x86_64  OK    OK    OK    OK  UNNEEDED, same version is already published
Package 8/434HostnameOS / ArchINSTALLBUILDCHECKBUILD BIN
altcdfenvs 2.54.0  (landing page)
Laurent Gautier
git_last_commit: fbe5728
git_last_commit_date: 2021-05-19 11:34:10 -0400
nebbiolo1Linux (Ubuntu 20.04.2 LTS) / x86_64  OK    OK    OK  UNNEEDED, same version is already published
tokay2Windows Server 2012 R2 Standard / x64  OK    OK    OK    OK  UNNEEDED, same version is already published
machv2macOS 10.14.6 Mojave / x86_64  OK    OK    OK    OK  UNNEEDED, same version is already published
Package 9/434HostnameOS / ArchINSTALLBUILDCHECKBUILD BIN
amplican 1.14.0  (landing page)
Eivind Valen
git_last_commit: e994104
git_last_commit_date: 2021-05-19 12:30:12 -0400
nebbiolo1Linux (Ubuntu 20.04.2 LTS) / x86_64  OK    OK    OK  UNNEEDED, same version is already published
tokay2Windows Server 2012 R2 Standard / x64  OK    OK    OK    OK  UNNEEDED, same version is already published
machv2macOS 10.14.6 Mojave / x86_64  OK    OK    OK    OK  UNNEEDED, same version is already published
Package 10/434HostnameOS / ArchINSTALLBUILDCHECKBUILD BIN
AneuFinder 1.20.0  (landing page)
Aaron Taudt
git_last_commit: 1c7aed6
git_last_commit_date: 2021-05-19 12:19:05 -0400
nebbiolo1Linux (Ubuntu 20.04.2 LTS) / x86_64  OK    OK    OK  UNNEEDED, same version is already published
tokay2Windows Server 2012 R2 Standard / x64  OK    OK    OK    OK  UNNEEDED, same version is already published
machv2macOS 10.14.6 Mojave / x86_64  OK    OK    OK    OK  UNNEEDED, same version is already published
Package 11/434HostnameOS / ArchINSTALLBUILDCHECKBUILD BIN
annmap 1.34.0  (landing page)
Chris Wirth
git_last_commit: c79bf2e
git_last_commit_date: 2021-05-19 11:52:37 -0400
nebbiolo1Linux (Ubuntu 20.04.2 LTS) / x86_64  OK    OK    WARNINGS  UNNEEDED, same version is already published
tokay2Windows Server 2012 R2 Standard / x64... NOT SUPPORTED ...
machv2macOS 10.14.6 Mojave / x86_64  OK    OK    WARNINGS    OK  UNNEEDED, same version is already published
Package 12/434HostnameOS / ArchINSTALLBUILDCHECKBUILD BIN
annotate 1.70.0  (landing page)
Bioconductor Package Maintainer
git_last_commit: 9c8cb9d
git_last_commit_date: 2021-05-19 11:32:35 -0400
nebbiolo1Linux (Ubuntu 20.04.2 LTS) / x86_64  OK    OK    OK  UNNEEDED, same version is already published
tokay2Windows Server 2012 R2 Standard / x64  OK    OK    OK    OK  UNNEEDED, same version is already published
machv2macOS 10.14.6 Mojave / x86_64  OK    OK    OK    OK  UNNEEDED, same version is already published
Package 13/434HostnameOS / ArchINSTALLBUILDCHECKBUILD BIN
AnnotationDbi 1.54.1  (landing page)
Bioconductor Package Maintainer
git_last_commit: 0040118
git_last_commit_date: 2021-06-07 12:36:06 -0400
nebbiolo1Linux (Ubuntu 20.04.2 LTS) / x86_64  OK    OK    OK  UNNEEDED, same version is already published
tokay2Windows Server 2012 R2 Standard / x64  OK    OK    OK    OK  UNNEEDED, same version is already published
machv2macOS 10.14.6 Mojave / x86_64  OK    OK    OK    OK  UNNEEDED, same version is already published
Package 14/434HostnameOS / ArchINSTALLBUILDCHECKBUILD BIN
AnnotationForge 1.34.1  (landing page)
Bioconductor Package Maintainer
git_last_commit: a2fccf4
git_last_commit_date: 2021-10-11 19:11:15 -0400
nebbiolo1Linux (Ubuntu 20.04.2 LTS) / x86_64  OK    OK    OK  UNNEEDED, same version is already published
tokay2Windows Server 2012 R2 Standard / x64  OK    OK    OK    OK  UNNEEDED, same version is already published
machv2macOS 10.14.6 Mojave / x86_64  OK    OK    OK    OK  UNNEEDED, same version is already published
Package 15/434HostnameOS / ArchINSTALLBUILDCHECKBUILD BIN
AnnotationHub 3.0.2  (landing page)
Bioconductor Package Maintainer
git_last_commit: cdca7b7
git_last_commit_date: 2021-10-13 15:55:42 -0400
nebbiolo1Linux (Ubuntu 20.04.2 LTS) / x86_64  OK    OK    WARNINGS  YES
tokay2Windows Server 2012 R2 Standard / x64  OK    OK    WARNINGS    OK  YES
machv2macOS 10.14.6 Mojave / x86_64  OK    OK    WARNINGS    OK  YES
Package 16/434HostnameOS / ArchINSTALLBUILDCHECKBUILD BIN
AnnotationHubData 1.22.0  (landing page)
Bioconductor Package Maintainer
git_last_commit: c2a76fb
git_last_commit_date: 2021-05-19 12:15:21 -0400
nebbiolo1Linux (Ubuntu 20.04.2 LTS) / x86_64  OK    OK    ERROR  
tokay2Windows Server 2012 R2 Standard / x64  OK    OK    ERROR    OK  
machv2macOS 10.14.6 Mojave / x86_64  OK    OK    ERROR    OK  
Package 17/434HostnameOS / ArchINSTALLBUILDCHECKBUILD BIN
ArrayExpressHTS 1.42.0  (landing page)
Angela Goncalves , Andrew Tikhonov
git_last_commit: 9a41140
git_last_commit_date: 2021-05-19 11:48:38 -0400
nebbiolo1Linux (Ubuntu 20.04.2 LTS) / x86_64  OK    OK    WARNINGS  UNNEEDED, same version is already published
tokay2Windows Server 2012 R2 Standard / x64... NOT SUPPORTED ...
machv2macOS 10.14.6 Mojave / x86_64  OK    OK    OK    OK  UNNEEDED, same version is already published
Package 18/434HostnameOS / ArchINSTALLBUILDCHECKBUILD BIN
ASpli 2.2.0  (landing page)
Estefania Mancini
git_last_commit: 6dddfb0
git_last_commit_date: 2021-05-19 12:22:07 -0400
nebbiolo1Linux (Ubuntu 20.04.2 LTS) / x86_64  OK    OK    OK  UNNEEDED, same version is already published
tokay2Windows Server 2012 R2 Standard / x64  OK    OK    OK    OK  UNNEEDED, same version is already published
machv2macOS 10.14.6 Mojave / x86_64  OK    OK    OK    OK  UNNEEDED, same version is already published
Package 19/434HostnameOS / ArchINSTALLBUILDCHECKBUILD BIN
ATACseqQC 1.16.0  (landing page)
Jianhong Ou
git_last_commit: e345154
git_last_commit_date: 2021-05-19 12:27:43 -0400
nebbiolo1Linux (Ubuntu 20.04.2 LTS) / x86_64  OK    OK    OK  UNNEEDED, same version is already published
tokay2Windows Server 2012 R2 Standard / x64  OK    OK    OK    OK  UNNEEDED, same version is already published
machv2macOS 10.14.6 Mojave / x86_64  OK    OK    OK    OK  UNNEEDED, same version is already published
Package 20/434HostnameOS / ArchINSTALLBUILDCHECKBUILD BIN
AUCell 1.14.0  (landing page)
Sara Aibar
git_last_commit: 8849265
git_last_commit_date: 2021-05-19 12:30:20 -0400
nebbiolo1Linux (Ubuntu 20.04.2 LTS) / x86_64  OK    OK    OK  UNNEEDED, same version is already published
tokay2Windows Server 2012 R2 Standard / x64  OK    OK    OK    OK  UNNEEDED, same version is already published
machv2macOS 10.14.6 Mojave / x86_64  OK    OK    OK    OK  UNNEEDED, same version is already published
Package 21/434HostnameOS / ArchINSTALLBUILDCHECKBUILD BIN
autonomics 1.0.1  (landing page)
Aditya Bhagwat
git_last_commit: 5df16f7
git_last_commit_date: 2021-05-25 07:57:21 -0400
nebbiolo1Linux (Ubuntu 20.04.2 LTS) / x86_64  OK    OK    WARNINGS  UNNEEDED, same version is already published
tokay2Windows Server 2012 R2 Standard / x64  OK    OK    ERROR    OK  
machv2macOS 10.14.6 Mojave / x86_64  OK    OK    WARNINGS    OK  UNNEEDED, same version is already published
Package 22/434HostnameOS / ArchINSTALLBUILDCHECKBUILD BIN
bambu 1.2.1  (landing page)
Ying Chen
git_last_commit: 1c71eae
git_last_commit_date: 2021-08-30 02:22:04 -0400
nebbiolo1Linux (Ubuntu 20.04.2 LTS) / x86_64  OK    OK    OK  UNNEEDED, same version is already published
tokay2Windows Server 2012 R2 Standard / x64  OK    OK    OK    OK  UNNEEDED, same version is already published
machv2macOS 10.14.6 Mojave / x86_64  OK    OK    OK    OK  UNNEEDED, same version is already published
Package 23/434HostnameOS / ArchINSTALLBUILDCHECKBUILD BIN
bamsignals 1.24.0  (landing page)
Johannes Helmuth
git_last_commit: 91d1e61
git_last_commit_date: 2021-05-19 12:11:57 -0400
nebbiolo1Linux (Ubuntu 20.04.2 LTS) / x86_64  OK    OK    OK  UNNEEDED, same version is already published
tokay2Windows Server 2012 R2 Standard / x64  OK    OK    OK    OK  UNNEEDED, same version is already published
machv2macOS 10.14.6 Mojave / x86_64  OK    OK    OK    OK  UNNEEDED, same version is already published
Package 24/434HostnameOS / ArchINSTALLBUILDCHECKBUILD BIN
BASiCS 2.4.0  (landing page)
Alan O'Callaghan
git_last_commit: 385fa3d
git_last_commit_date: 2021-05-19 12:30:39 -0400
nebbiolo1Linux (Ubuntu 20.04.2 LTS) / x86_64  OK    OK    OK  UNNEEDED, same version is already published
tokay2Windows Server 2012 R2 Standard / x64  OK    OK    OK    OK  UNNEEDED, same version is already published
machv2macOS 10.14.6 Mojave / x86_64  OK    OK    OK    OK  UNNEEDED, same version is already published
Package 25/434HostnameOS / ArchINSTALLBUILDCHECKBUILD BIN
batchelor 1.8.1  (landing page)
Aaron Lun
git_last_commit: ac1b37a
git_last_commit_date: 2021-08-11 03:12:38 -0400
nebbiolo1Linux (Ubuntu 20.04.2 LTS) / x86_64  OK    OK    OK  UNNEEDED, same version is already published
tokay2Windows Server 2012 R2 Standard / x64  OK    OK    OK    OK  UNNEEDED, same version is already published
machv2macOS 10.14.6 Mojave / x86_64  OK    OK    OK    OK  UNNEEDED, same version is already published
Package 26/434HostnameOS / ArchINSTALLBUILDCHECKBUILD BIN
beachmat 2.8.1  (landing page)
Aaron Lun
git_last_commit: 5c9ef4d
git_last_commit_date: 2021-08-10 15:55:08 -0400
nebbiolo1Linux (Ubuntu 20.04.2 LTS) / x86_64  OK    OK    OK  UNNEEDED, same version is already published
tokay2Windows Server 2012 R2 Standard / x64  OK    OK    OK    OK  UNNEEDED, same version is already published
machv2macOS 10.14.6 Mojave / x86_64  OK    OK    OK    OK  UNNEEDED, same version is already published
Package 27/434HostnameOS / ArchINSTALLBUILDCHECKBUILD BIN
beadarray 2.42.0  (landing page)
Mark Dunning
git_last_commit: 028000c
git_last_commit_date: 2021-05-19 11:37:00 -0400
nebbiolo1Linux (Ubuntu 20.04.2 LTS) / x86_64  OK    OK    OK  UNNEEDED, same version is already published
tokay2Windows Server 2012 R2 Standard / x64  OK    OK    OK    OK  UNNEEDED, same version is already published
machv2macOS 10.14.6 Mojave / x86_64  OK    OK    OK    OK  UNNEEDED, same version is already published
Package 28/434HostnameOS / ArchINSTALLBUILDCHECKBUILD BIN
bigmelon 1.18.0  (landing page)
Tyler J. Gorrie-Stone
git_last_commit: 6ca2330
git_last_commit_date: 2021-05-19 12:23:05 -0400
nebbiolo1Linux (Ubuntu 20.04.2 LTS) / x86_64  OK    OK    OK  UNNEEDED, same version is already published
tokay2Windows Server 2012 R2 Standard / x64  OK    OK    OK    OK  UNNEEDED, same version is already published
machv2macOS 10.14.6 Mojave / x86_64  OK    OK    OK    OK  UNNEEDED, same version is already published
Package 29/434HostnameOS / ArchINSTALLBUILDCHECKBUILD BIN
bioassayR 1.30.0  (landing page)
Daniela Cassol
git_last_commit: 4c1993a
git_last_commit_date: 2021-05-19 12:01:01 -0400
nebbiolo1Linux (Ubuntu 20.04.2 LTS) / x86_64  OK    OK    OK  UNNEEDED, same version is already published
tokay2Windows Server 2012 R2 Standard / x64  OK    OK    OK    OK  UNNEEDED, same version is already published
machv2macOS 10.14.6 Mojave / x86_64  OK    OK    OK    OK  UNNEEDED, same version is already published
Package 30/434HostnameOS / ArchINSTALLBUILDCHECKBUILD BIN
Biobase 2.52.0  (landing page)
Bioconductor Package Maintainer
git_last_commit: be5163c
git_last_commit_date: 2021-05-19 11:32:30 -0400
nebbiolo1Linux (Ubuntu 20.04.2 LTS) / x86_64  OK    OK    OK  UNNEEDED, same version is already published
tokay2Windows Server 2012 R2 Standard / x64  OK    OK    OK    OK  UNNEEDED, same version is already published
machv2macOS 10.14.6 Mojave / x86_64  OK    OK    OK    OK  UNNEEDED, same version is already published
Package 31/434HostnameOS / ArchINSTALLBUILDCHECKBUILD BIN
biocGraph 1.54.0  (landing page)
Florian Hahne
git_last_commit: f0f25d4
git_last_commit_date: 2021-05-19 11:39:20 -0400
nebbiolo1Linux (Ubuntu 20.04.2 LTS) / x86_64  OK    OK    OK  UNNEEDED, same version is already published
tokay2Windows Server 2012 R2 Standard / x64  OK    OK    OK    OK  UNNEEDED, same version is already published
machv2macOS 10.14.6 Mojave / x86_64  OK    OK    OK    OK  UNNEEDED, same version is already published
Package 32/434HostnameOS / ArchINSTALLBUILDCHECKBUILD BIN
BiocIO 1.2.0  (landing page)
Bioconductor Package Maintainer
git_last_commit: fef4c1c
git_last_commit_date: 2021-05-19 12:54:48 -0400
nebbiolo1Linux (Ubuntu 20.04.2 LTS) / x86_64  OK    OK    OK  UNNEEDED, same version is already published
tokay2Windows Server 2012 R2 Standard / x64  OK    OK    OK    OK  UNNEEDED, same version is already published
machv2macOS 10.14.6 Mojave / x86_64  OK    OK    OK    OK  UNNEEDED, same version is already published
Package 33/434HostnameOS / ArchINSTALLBUILDCHECKBUILD BIN
BiocSingular 1.8.1  (landing page)
Aaron Lun
git_last_commit: 860033b
git_last_commit_date: 2021-06-08 02:14:49 -0400
nebbiolo1Linux (Ubuntu 20.04.2 LTS) / x86_64  OK    OK    OK  UNNEEDED, same version is already published
tokay2Windows Server 2012 R2 Standard / x64  OK    OK    OK    OK  UNNEEDED, same version is already published
machv2macOS 10.14.6 Mojave / x86_64  OK    OK    OK    OK  UNNEEDED, same version is already published
Package 34/434HostnameOS / ArchINSTALLBUILDCHECKBUILD BIN
Biostrings 2.60.2  (landing page)
H. Pagès
git_last_commit: 2024073
git_last_commit_date: 2021-08-04 00:39:03 -0400
nebbiolo1Linux (Ubuntu 20.04.2 LTS) / x86_64  OK    OK    WARNINGS  UNNEEDED, same version is already published
tokay2Windows Server 2012 R2 Standard / x64  OK    OK    WARNINGS    OK  UNNEEDED, same version is already published
machv2macOS 10.14.6 Mojave / x86_64  OK    OK    WARNINGS    OK  UNNEEDED, same version is already published
Package 35/434HostnameOS / ArchINSTALLBUILDCHECKBUILD BIN
biotmle 1.16.0  (landing page)
Nima Hejazi
git_last_commit: 64f9cfb
git_last_commit_date: 2021-05-19 12:27:26 -0400
nebbiolo1Linux (Ubuntu 20.04.2 LTS) / x86_64  OK    OK    OK  UNNEEDED, same version is already published
tokay2Windows Server 2012 R2 Standard / x64  OK    OK    OK    OK  UNNEEDED, same version is already published
machv2macOS 10.14.6 Mojave / x86_64  OK    OK    OK    OK  UNNEEDED, same version is already published
Package 36/434HostnameOS / ArchINSTALLBUILDCHECKBUILD BIN
biovizBase 1.40.0  (landing page)
Michael Lawrence
git_last_commit: e741735
git_last_commit_date: 2021-05-19 11:50:05 -0400
nebbiolo1Linux (Ubuntu 20.04.2 LTS) / x86_64  OK    OK    WARNINGS  UNNEEDED, same version is already published
tokay2Windows Server 2012 R2 Standard / x64  OK    OK    WARNINGS    OK  UNNEEDED, same version is already published
machv2macOS 10.14.6 Mojave / x86_64  OK    OK    WARNINGS    OK  UNNEEDED, same version is already published
Package 37/434HostnameOS / ArchINSTALLBUILDCHECKBUILD BIN
biscuiteer 1.6.0  (landing page)
"Jacob Morrison"
git_last_commit: 6d86b7b
git_last_commit_date: 2021-05-19 12:47:26 -0400
nebbiolo1Linux (Ubuntu 20.04.2 LTS) / x86_64  OK    OK    WARNINGS  UNNEEDED, same version is already published
tokay2Windows Server 2012 R2 Standard / x64  OK    OK    WARNINGS    OK  UNNEEDED, same version is already published
machv2macOS 10.14.6 Mojave / x86_64  OK    OK    WARNINGS    OK  UNNEEDED, same version is already published
Package 38/434HostnameOS / ArchINSTALLBUILDCHECKBUILD BIN
BiSeq 1.32.0  (landing page)
Katja Hebestreit
git_last_commit: d5b9175
git_last_commit_date: 2021-05-19 11:58:45 -0400
nebbiolo1Linux (Ubuntu 20.04.2 LTS) / x86_64  OK    OK    OK  UNNEEDED, same version is already published
tokay2Windows Server 2012 R2 Standard / x64  OK    OK    OK    OK  UNNEEDED, same version is already published
machv2macOS 10.14.6 Mojave / x86_64  OK    OK    OK    OK  UNNEEDED, same version is already published
Package 39/434HostnameOS / ArchINSTALLBUILDCHECKBUILD BIN
blima 1.26.0  (landing page)
Vojtěch Kulvait
git_last_commit: f56780e
git_last_commit_date: 2021-05-19 12:05:08 -0400
nebbiolo1Linux (Ubuntu 20.04.2 LTS) / x86_64  OK    OK    WARNINGS  UNNEEDED, same version is already published
tokay2Windows Server 2012 R2 Standard / x64  OK    OK    WARNINGS    OK  UNNEEDED, same version is already published
machv2macOS 10.14.6 Mojave / x86_64  OK    OK    WARNINGS    OK  UNNEEDED, same version is already published
Package 40/434HostnameOS / ArchINSTALLBUILDCHECKBUILD BIN
bnbc 1.14.0  (landing page)
Kipper Fletez-Brant
git_last_commit: 210c4d2
git_last_commit_date: 2021-05-19 12:31:07 -0400
nebbiolo1Linux (Ubuntu 20.04.2 LTS) / x86_64  OK    OK    OK  UNNEEDED, same version is already published
tokay2Windows Server 2012 R2 Standard / x64  OK    OK    OK    OK  UNNEEDED, same version is already published
machv2macOS 10.14.6 Mojave / x86_64  OK    OK    OK    OK  UNNEEDED, same version is already published
Package 41/434HostnameOS / ArchINSTALLBUILDCHECKBUILD BIN
breakpointR 1.10.0  (landing page)
David Porubsky
git_last_commit: c1d2077
git_last_commit_date: 2021-05-19 12:38:04 -0400
nebbiolo1Linux (Ubuntu 20.04.2 LTS) / x86_64  OK    OK    OK  UNNEEDED, same version is already published
tokay2Windows Server 2012 R2 Standard / x64  OK    OK    OK    OK  UNNEEDED, same version is already published
machv2macOS 10.14.6 Mojave / x86_64  OK    OK    OK    OK  UNNEEDED, same version is already published
Package 42/434HostnameOS / ArchINSTALLBUILDCHECKBUILD BIN
BrowserViz 2.14.1  (landing page)
Paul Shannon
git_last_commit: 52e8d96
git_last_commit_date: 2021-09-14 08:27:34 -0400
nebbiolo1Linux (Ubuntu 20.04.2 LTS) / x86_64  OK    OK    OK  UNNEEDED, same version is already published
tokay2Windows Server 2012 R2 Standard / x64  OK    OK    OK    OK  UNNEEDED, same version is already published
machv2macOS 10.14.6 Mojave / x86_64  OK    OK    OK    OK  UNNEEDED, same version is already published
Package 43/434HostnameOS / ArchINSTALLBUILDCHECKBUILD BIN
BSgenome 1.60.0  (landing page)
H. Pagès
git_last_commit: 6643064
git_last_commit_date: 2021-05-19 11:37:32 -0400
nebbiolo1Linux (Ubuntu 20.04.2 LTS) / x86_64  OK    OK    WARNINGS  UNNEEDED, same version is already published
tokay2Windows Server 2012 R2 Standard / x64  OK    OK    WARNINGS    OK  UNNEEDED, same version is already published
machv2macOS 10.14.6 Mojave / x86_64  OK    OK    WARNINGS    OK  UNNEEDED, same version is already published
Package 44/434HostnameOS / ArchINSTALLBUILDCHECKBUILD BIN
bsseq 1.28.0  (landing page)
Kasper Daniel Hansen
git_last_commit: 57084fa
git_last_commit_date: 2021-05-19 11:53:03 -0400
nebbiolo1Linux (Ubuntu 20.04.2 LTS) / x86_64  OK    OK    OK  UNNEEDED, same version is already published
tokay2Windows Server 2012 R2 Standard / x64  OK    OK    OK    OK  UNNEEDED, same version is already published
machv2macOS 10.14.6 Mojave / x86_64  OK    OK    OK    OK  UNNEEDED, same version is already published
Package 45/434HostnameOS / ArchINSTALLBUILDCHECKBUILD BIN
BubbleTree 2.22.0  (landing page)
Todd Creasy , Wei Zhu
git_last_commit: d94bc48
git_last_commit_date: 2021-05-19 12:11:10 -0400
nebbiolo1Linux (Ubuntu 20.04.2 LTS) / x86_64  OK    OK    OK  UNNEEDED, same version is already published
tokay2Windows Server 2012 R2 Standard / x64  OK    OK    OK    OK  UNNEEDED, same version is already published
machv2macOS 10.14.6 Mojave / x86_64  OK    OK    OK    OK  UNNEEDED, same version is already published
Package 46/434HostnameOS / ArchINSTALLBUILDCHECKBUILD BIN
bumphunter 1.34.0  (landing page)
Rafael A. Irizarry
git_last_commit: 905ec98
git_last_commit_date: 2021-05-19 11:54:54 -0400
nebbiolo1Linux (Ubuntu 20.04.2 LTS) / x86_64  OK    OK    OK  UNNEEDED, same version is already published
tokay2Windows Server 2012 R2 Standard / x64  OK    OK    ERROR    OK  
machv2macOS 10.14.6 Mojave / x86_64  OK    OK    ERROR    OK  
Package 47/434HostnameOS / ArchINSTALLBUILDCHECKBUILD BIN
BUSpaRse 1.6.1  (landing page)
Lambda Moses
git_last_commit: 10db5d4
git_last_commit_date: 2021-06-07 21:09:14 -0400
nebbiolo1Linux (Ubuntu 20.04.2 LTS) / x86_64  OK    OK    OK  UNNEEDED, same version is already published
tokay2Windows Server 2012 R2 Standard / x64  OK    OK    OK    OK  UNNEEDED, same version is already published
machv2macOS 10.14.6 Mojave / x86_64  OK    OK    OK    OK  UNNEEDED, same version is already published
Package 48/434HostnameOS / ArchINSTALLBUILDCHECKBUILD BIN
CAGEfightR 1.12.0  (landing page)
Malte Thodberg
git_last_commit: f776ea4
git_last_commit_date: 2021-05-19 12:35:42 -0400
nebbiolo1Linux (Ubuntu 20.04.2 LTS) / x86_64  OK    OK    OK  UNNEEDED, same version is already published
tokay2Windows Server 2012 R2 Standard / x64  OK    OK    OK    OK  UNNEEDED, same version is already published
machv2macOS 10.14.6 Mojave / x86_64  OK    OK    OK    OK  UNNEEDED, same version is already published
Package 49/434HostnameOS / ArchINSTALLBUILDCHECKBUILD BIN
CAGEr 1.34.0  (landing page)
Charles Plessy
git_last_commit: 8e7ccda
git_last_commit_date: 2021-05-19 11:57:42 -0400
nebbiolo1Linux (Ubuntu 20.04.2 LTS) / x86_64  OK    OK    WARNINGS  UNNEEDED, same version is already published
tokay2Windows Server 2012 R2 Standard / x64  OK    OK    WARNINGS    OK  UNNEEDED, same version is already published
machv2macOS 10.14.6 Mojave / x86_64  OK    OK    WARNINGS    OK  UNNEEDED, same version is already published
Package 50/434HostnameOS / ArchINSTALLBUILDCHECKBUILD BIN
Cardinal 2.10.0  (landing page)
Kylie A. Bemis
git_last_commit: 174f14c
git_last_commit_date: 2021-05-19 12:10:59 -0400
nebbiolo1Linux (Ubuntu 20.04.2 LTS) / x86_64  OK    OK    OK  UNNEEDED, same version is already published
tokay2Windows Server 2012 R2 Standard / x64  OK    OK    OK    OK  UNNEEDED, same version is already published
machv2macOS 10.14.6 Mojave / x86_64  OK    OK    OK    OK  UNNEEDED, same version is already published
Package 51/434HostnameOS / ArchINSTALLBUILDCHECKBUILD BIN
casper 2.26.0  (landing page)
David Rossell
git_last_commit: 3de669e
git_last_commit_date: 2021-05-19 11:57:16 -0400
nebbiolo1Linux (Ubuntu 20.04.2 LTS) / x86_64  OK    OK    WARNINGS  UNNEEDED, same version is already published
tokay2Windows Server 2012 R2 Standard / x64  OK    OK    WARNINGS    OK  UNNEEDED, same version is already published
machv2macOS 10.14.6 Mojave / x86_64  OK    OK    WARNINGS    OK  UNNEEDED, same version is already published
Package 52/434HostnameOS / ArchINSTALLBUILDCHECKBUILD BIN
Category 2.58.0  (landing page)
Bioconductor Package Maintainer
git_last_commit: 5a966e0
git_last_commit_date: 2021-05-19 11:35:55 -0400
nebbiolo1Linux (Ubuntu 20.04.2 LTS) / x86_64  OK    OK    OK  UNNEEDED, same version is already published
tokay2Windows Server 2012 R2 Standard / x64  OK    OK    OK    OK  UNNEEDED, same version is already published
machv2macOS 10.14.6 Mojave / x86_64  OK    OK    OK    OK  UNNEEDED, same version is already published
Package 53/434HostnameOS / ArchINSTALLBUILDCHECKBUILD BIN
categoryCompare 1.36.0  (landing page)
Robert M. Flight
git_last_commit: 325b381
git_last_commit_date: 2021-05-19 11:52:22 -0400
nebbiolo1Linux (Ubuntu 20.04.2 LTS) / x86_64  OK    OK    OK  UNNEEDED, same version is already published
tokay2Windows Server 2012 R2 Standard / x64  OK    OK    OK    OK  UNNEEDED, same version is already published
machv2macOS 10.14.6 Mojave / x86_64  OK    OK    OK    OK  UNNEEDED, same version is already published
Package 54/434HostnameOS / ArchINSTALLBUILDCHECKBUILD BIN
celaref 1.10.0  (landing page)
Sarah Williams
git_last_commit: 633ad23
git_last_commit_date: 2021-05-19 12:37:13 -0400
nebbiolo1Linux (Ubuntu 20.04.2 LTS) / x86_64  OK    OK    OK  UNNEEDED, same version is already published
tokay2Windows Server 2012 R2 Standard / x64  OK    OK    OK    OK  UNNEEDED, same version is already published
machv2macOS 10.14.6 Mojave / x86_64  OK    OK    OK    OK  UNNEEDED, same version is already published
Package 55/434HostnameOS / ArchINSTALLBUILDCHECKBUILD BIN
CellaRepertorium 1.2.0  (landing page)
Andrew McDavid
git_last_commit: 86b7f10
git_last_commit_date: 2021-05-19 12:57:31 -0400
nebbiolo1Linux (Ubuntu 20.04.2 LTS) / x86_64  OK    OK    WARNINGS  UNNEEDED, same version is already published
tokay2Windows Server 2012 R2 Standard / x64  OK    OK    WARNINGS    OK  UNNEEDED, same version is already published
machv2macOS 10.14.6 Mojave / x86_64  OK    OK    WARNINGS    OK  UNNEEDED, same version is already published
Package 56/434HostnameOS / ArchINSTALLBUILDCHECKBUILD BIN
CellBench 1.8.0  (landing page)
Shian Su
git_last_commit: aa35afe
git_last_commit_date: 2021-05-19 12:41:27 -0400
nebbiolo1Linux (Ubuntu 20.04.2 LTS) / x86_64  OK    OK    OK  UNNEEDED, same version is already published
tokay2Windows Server 2012 R2 Standard / x64  OK    OK    OK    OK  UNNEEDED, same version is already published
machv2macOS 10.14.6 Mojave / x86_64  OK    OK    OK    OK  UNNEEDED, same version is already published
Package 57/434HostnameOS / ArchINSTALLBUILDCHECKBUILD BIN
cellHTS2 2.56.0  (landing page)
Joseph Barry
git_last_commit: 72c1d14
git_last_commit_date: 2021-05-19 11:39:18 -0400
nebbiolo1Linux (Ubuntu 20.04.2 LTS) / x86_64  OK    OK    OK  UNNEEDED, same version is already published
tokay2Windows Server 2012 R2 Standard / x64  OK    OK    OK    OK  UNNEEDED, same version is already published
machv2macOS 10.14.6 Mojave / x86_64  OK    OK    OK    OK  UNNEEDED, same version is already published
Package 58/434HostnameOS / ArchINSTALLBUILDCHECKBUILD BIN
CellMixS 1.8.0  (landing page)
Almut Lütge
git_last_commit: bed2b5c
git_last_commit_date: 2021-05-19 12:42:32 -0400
nebbiolo1Linux (Ubuntu 20.04.2 LTS) / x86_64  OK    OK    OK  UNNEEDED, same version is already published
tokay2Windows Server 2012 R2 Standard / x64  OK    OK    OK    OK  UNNEEDED, same version is already published
machv2macOS 10.14.6 Mojave / x86_64  OK    OK    OK    OK  UNNEEDED, same version is already published
Package 59/434HostnameOS / ArchINSTALLBUILDCHECKBUILD BIN
CellTrails 1.10.0  (landing page)
Daniel Ellwanger
git_last_commit: 2aa606f
git_last_commit_date: 2021-05-19 12:36:25 -0400
nebbiolo1Linux (Ubuntu 20.04.2 LTS) / x86_64  OK    OK    OK  UNNEEDED, same version is already published
tokay2Windows Server 2012 R2 Standard / x64  OK    OK    OK    OK  UNNEEDED, same version is already published
machv2macOS 10.14.6 Mojave / x86_64  OK    OK    OK    OK  UNNEEDED, same version is already published
Package 60/434HostnameOS / ArchINSTALLBUILDCHECKBUILD BIN
cghMCR 1.50.0  (landing page)
J. Zhang
git_last_commit: ee62229
git_last_commit_date: 2021-05-19 11:37:24 -0400
nebbiolo1Linux (Ubuntu 20.04.2 LTS) / x86_64  OK    OK    WARNINGS  UNNEEDED, same version is already published
tokay2Windows Server 2012 R2 Standard / x64  OK    OK    WARNINGS    OK  UNNEEDED, same version is already published
machv2macOS 10.14.6 Mojave / x86_64  OK    OK    WARNINGS    OK  UNNEEDED, same version is already published
Package 61/434HostnameOS / ArchINSTALLBUILDCHECKBUILD BIN
ChemmineOB 1.30.0  (landing page)
Thomas Girke
git_last_commit: 792d07a
git_last_commit_date: 2021-05-19 12:00:20 -0400
nebbiolo1Linux (Ubuntu 20.04.2 LTS) / x86_64  OK    OK    WARNINGS  UNNEEDED, same version is already published
tokay2Windows Server 2012 R2 Standard / x64  OK    OK    WARNINGS    OK  UNNEEDED, same version is already published
machv2macOS 10.14.6 Mojave / x86_64  OK    OK    WARNINGS    OK  UNNEEDED, same version is already published
Package 62/434HostnameOS / ArchINSTALLBUILDCHECKBUILD BIN
ChemmineR 3.44.0  (landing page)
Thomas Girke
git_last_commit: 6a834ab
git_last_commit_date: 2021-05-19 11:42:00 -0400
nebbiolo1Linux (Ubuntu 20.04.2 LTS) / x86_64  OK    OK    WARNINGS  UNNEEDED, same version is already published
tokay2Windows Server 2012 R2 Standard / x64  OK    OK    WARNINGS    OK  UNNEEDED, same version is already published
machv2macOS 10.14.6 Mojave / x86_64  OK    OK    WARNINGS    OK  UNNEEDED, same version is already published
Package 63/434HostnameOS / ArchINSTALLBUILDCHECKBUILD BIN
ChIC 1.12.0  (landing page)
Carmen Maria Livi
git_last_commit: 11f21c4
git_last_commit_date: 2021-05-19 12:35:03 -0400
nebbiolo1Linux (Ubuntu 20.04.2 LTS) / x86_64  OK    OK    OK  UNNEEDED, same version is already published
tokay2Windows Server 2012 R2 Standard / x64... NOT SUPPORTED ...
machv2macOS 10.14.6 Mojave / x86_64  OK    OK    OK    OK  UNNEEDED, same version is already published
Package 64/434HostnameOS / ArchINSTALLBUILDCHECKBUILD BIN
ChIPComp 1.22.0  (landing page)
Li Chen
git_last_commit: 2b6dc05
git_last_commit_date: 2021-05-19 12:15:10 -0400
nebbiolo1Linux (Ubuntu 20.04.2 LTS) / x86_64  OK    OK    OK  UNNEEDED, same version is already published
tokay2Windows Server 2012 R2 Standard / x64  OK    OK    OK    OK  UNNEEDED, same version is already published
machv2macOS 10.14.6 Mojave / x86_64  OK    OK    OK    OK  UNNEEDED, same version is already published
Package 65/434HostnameOS / ArchINSTALLBUILDCHECKBUILD BIN
chipenrich 2.16.0  (landing page)
Raymond G. Cavalcante
git_last_commit: 4653bc8
git_last_commit_date: 2021-05-19 12:00:32 -0400
nebbiolo1Linux (Ubuntu 20.04.2 LTS) / x86_64  OK    OK    WARNINGS  UNNEEDED, same version is already published
tokay2Windows Server 2012 R2 Standard / x64  OK    OK    WARNINGS    OK  UNNEEDED, same version is already published
machv2macOS 10.14.6 Mojave / x86_64  OK    OK    WARNINGS    OK  UNNEEDED, same version is already published
Package 66/434HostnameOS / ArchINSTALLBUILDCHECKBUILD BIN
ChIPpeakAnno 3.26.4  (landing page)
Jianhong Ou
git_last_commit: 5104b7d
git_last_commit_date: 2021-09-09 15:41:30 -0400
nebbiolo1Linux (Ubuntu 20.04.2 LTS) / x86_64  OK    OK    OK  UNNEEDED, same version is already published
tokay2Windows Server 2012 R2 Standard / x64  OK    OK    OK    OK  UNNEEDED, same version is already published
machv2macOS 10.14.6 Mojave / x86_64  OK    OK    OK    OK  UNNEEDED, same version is already published
Package 67/434HostnameOS / ArchINSTALLBUILDCHECKBUILD BIN
ChIPQC 1.28.0  (landing page)
Tom Carroll , Rory Stark
git_last_commit: 047a9a4
git_last_commit_date: 2021-05-19 12:04:03 -0400
nebbiolo1Linux (Ubuntu 20.04.2 LTS) / x86_64  OK    OK    WARNINGS  UNNEEDED, same version is already published
tokay2Windows Server 2012 R2 Standard / x64  OK    OK    WARNINGS    OK  UNNEEDED, same version is already published
machv2macOS 10.14.6 Mojave / x86_64  OK    OK    WARNINGS    OK  UNNEEDED, same version is already published
Package 68/434HostnameOS / ArchINSTALLBUILDCHECKBUILD BIN
ChIPseeker 1.28.3  (landing page)
Guangchuang Yu
git_last_commit: 2c3e718
git_last_commit_date: 2021-05-21 05:08:25 -0400
nebbiolo1Linux (Ubuntu 20.04.2 LTS) / x86_64  OK    OK    OK  UNNEEDED, same version is already published
tokay2Windows Server 2012 R2 Standard / x64  OK    OK    OK    OK  UNNEEDED, same version is already published
machv2macOS 10.14.6 Mojave / x86_64  OK    OK    OK    OK  UNNEEDED, same version is already published
Package 69/434HostnameOS / ArchINSTALLBUILDCHECKBUILD BIN
chipseq 1.42.0  (landing page)
Bioconductor Package Maintainer
git_last_commit: 735c9dd
git_last_commit_date: 2021-05-19 11:43:23 -0400
nebbiolo1Linux (Ubuntu 20.04.2 LTS) / x86_64  OK    OK    WARNINGS  UNNEEDED, same version is already published
tokay2Windows Server 2012 R2 Standard / x64  OK    OK    WARNINGS    OK  UNNEEDED, same version is already published
machv2macOS 10.14.6 Mojave / x86_64  OK    OK    WARNINGS    OK  UNNEEDED, same version is already published
Package 70/434HostnameOS / ArchINSTALLBUILDCHECKBUILD BIN
ChIPseqR 1.46.0  (landing page)
Peter Humburg
git_last_commit: d242683
git_last_commit_date: 2021-05-19 11:44:14 -0400
nebbiolo1Linux (Ubuntu 20.04.2 LTS) / x86_64  OK    OK    OK  UNNEEDED, same version is already published
tokay2Windows Server 2012 R2 Standard / x64  OK    OK    OK    OK  UNNEEDED, same version is already published
machv2macOS 10.14.6 Mojave / x86_64  OK    OK    OK    OK  UNNEEDED, same version is already published
Package 71/434HostnameOS / ArchINSTALLBUILDCHECKBUILD BIN
ChIPSeqSpike 1.12.0  (landing page)
Nicolas Descostes
git_last_commit: 8b73542
git_last_commit_date: 2021-05-19 12:33:09 -0400
nebbiolo1Linux (Ubuntu 20.04.2 LTS) / x86_64  OK    ERROR  skipped
tokay2Windows Server 2012 R2 Standard / x64  OK    ERROR  skippedskipped
machv2macOS 10.14.6 Mojave / x86_64  OK    ERROR  skippedskipped
Package 72/434HostnameOS / ArchINSTALLBUILDCHECKBUILD BIN
ChromHeatMap 1.46.0  (landing page)
Tim F. Rayner
git_last_commit: 8f112f2
git_last_commit_date: 2021-05-19 11:44:11 -0400
nebbiolo1Linux (Ubuntu 20.04.2 LTS) / x86_64  OK    OK    OK  UNNEEDED, same version is already published
tokay2Windows Server 2012 R2 Standard / x64  OK    OK    OK    OK  UNNEEDED, same version is already published
machv2macOS 10.14.6 Mojave / x86_64  OK    OK    OK    OK  UNNEEDED, same version is already published
Package 73/434HostnameOS / ArchINSTALLBUILDCHECKBUILD BIN
chromstaR 1.18.0  (landing page)
Aaron Taudt
git_last_commit: 8f44dd4
git_last_commit_date: 2021-05-19 12:21:16 -0400
nebbiolo1Linux (Ubuntu 20.04.2 LTS) / x86_64  OK    ERROR  skipped
tokay2Windows Server 2012 R2 Standard / x64  OK    ERROR  skippedskipped
machv2macOS 10.14.6 Mojave / x86_64  OK    ERROR  skippedskipped
Package 74/434HostnameOS / ArchINSTALLBUILDCHECKBUILD BIN
chromVAR 1.14.0  (landing page)
Alicia Schep
git_last_commit: 2dc5547
git_last_commit_date: 2021-05-19 12:30:52 -0400
nebbiolo1Linux (Ubuntu 20.04.2 LTS) / x86_64  OK    OK    OK  UNNEEDED, same version is already published
tokay2Windows Server 2012 R2 Standard / x64  OK    OK    OK    OK  UNNEEDED, same version is already published
machv2macOS 10.14.6 Mojave / x86_64  OK    OK    OK    OK  UNNEEDED, same version is already published
Package 75/434HostnameOS / ArchINSTALLBUILDCHECKBUILD BIN
cicero 1.10.1  (landing page)
Hannah Pliner
git_last_commit: 1d348d0
git_last_commit_date: 2021-08-26 13:34:08 -0400
nebbiolo1Linux (Ubuntu 20.04.2 LTS) / x86_64  OK    OK    OK  UNNEEDED, same version is already published
tokay2Windows Server 2012 R2 Standard / x64  OK    OK    OK    OK  UNNEEDED, same version is already published
machv2macOS 10.14.6 Mojave / x86_64  OK    OK    OK    OK  UNNEEDED, same version is already published
Package 76/434HostnameOS / ArchINSTALLBUILDCHECKBUILD BIN
clusterExperiment 2.12.0  (landing page)
Elizabeth Purdom
git_last_commit: 3dc45a6
git_last_commit_date: 2021-05-19 12:21:34 -0400
nebbiolo1Linux (Ubuntu 20.04.2 LTS) / x86_64  OK    OK    WARNINGS  UNNEEDED, same version is already published
tokay2Windows Server 2012 R2 Standard / x64  OK    OK    TIMEOUT    OK  
machv2macOS 10.14.6 Mojave / x86_64  OK    OK    TIMEOUT    OK  
Package 77/434HostnameOS / ArchINSTALLBUILDCHECKBUILD BIN
clusterSeq 1.16.0  (landing page)
Thomas J. Hardcastle
git_last_commit: 1b3a71b
git_last_commit_date: 2021-05-19 12:24:56 -0400
nebbiolo1Linux (Ubuntu 20.04.2 LTS) / x86_64  OK    OK    OK  UNNEEDED, same version is already published
tokay2Windows Server 2012 R2 Standard / x64  OK    OK    OK    OK  UNNEEDED, same version is already published
machv2macOS 10.14.6 Mojave / x86_64  OK    OK    OK    OK  UNNEEDED, same version is already published
Package 78/434HostnameOS / ArchINSTALLBUILDCHECKBUILD BIN
cn.mops 1.38.0  (landing page)
Gundula Povysil
git_last_commit: c1ccf44
git_last_commit_date: 2021-05-19 11:50:48 -0400
nebbiolo1Linux (Ubuntu 20.04.2 LTS) / x86_64  OK    OK    OK  UNNEEDED, same version is already published
tokay2Windows Server 2012 R2 Standard / x64  OK    OK    OK    OK  UNNEEDED, same version is already published
machv2macOS 10.14.6 Mojave / x86_64  OK    OK    OK    OK  UNNEEDED, same version is already published
Package 79/434HostnameOS / ArchINSTALLBUILDCHECKBUILD BIN
CNEr 1.28.0  (landing page)
Ge Tan
git_last_commit: fdeac98
git_last_commit_date: 2021-05-19 12:02:51 -0400
nebbiolo1Linux (Ubuntu 20.04.2 LTS) / x86_64  OK    OK    OK  UNNEEDED, same version is already published
tokay2Windows Server 2012 R2 Standard / x64  OK    OK    WARNINGS    OK  UNNEEDED, same version is already published
machv2macOS 10.14.6 Mojave / x86_64  OK    OK    WARNINGS    OK  UNNEEDED, same version is already published
Package 80/434HostnameOS / ArchINSTALLBUILDCHECKBUILD BIN
CNVPanelizer 1.24.0  (landing page)
Thomas Wolf
git_last_commit: b0dc959
git_last_commit_date: 2021-05-19 12:14:20 -0400
nebbiolo1Linux (Ubuntu 20.04.2 LTS) / x86_64  OK    OK    OK  UNNEEDED, same version is already published
tokay2Windows Server 2012 R2 Standard / x64  OK    OK    OK    OK  UNNEEDED, same version is already published
machv2macOS 10.14.6 Mojave / x86_64  OK    OK    OK    OK  UNNEEDED, same version is already published
Package 81/434HostnameOS / ArchINSTALLBUILDCHECKBUILD BIN
CNVRanger 1.8.0  (landing page)
Ludwig Geistlinger
git_last_commit: dfb9864
git_last_commit_date: 2021-05-19 12:40:54 -0400
nebbiolo1Linux (Ubuntu 20.04.2 LTS) / x86_64  OK    OK    OK  UNNEEDED, same version is already published
tokay2Windows Server 2012 R2 Standard / x64  OK    OK    OK    OK  UNNEEDED, same version is already published
machv2macOS 10.14.6 Mojave / x86_64  OK    OK    OK    OK  UNNEEDED, same version is already published
Package 82/434HostnameOS / ArchINSTALLBUILDCHECKBUILD BIN
COCOA 2.6.0  (landing page)
John Lawson
git_last_commit: 81a954d
git_last_commit_date: 2021-05-19 12:39:05 -0400
nebbiolo1Linux (Ubuntu 20.04.2 LTS) / x86_64  OK    OK    OK  UNNEEDED, same version is already published
tokay2Windows Server 2012 R2 Standard / x64  OK    OK    OK    OK  UNNEEDED, same version is already published
machv2macOS 10.14.6 Mojave / x86_64  OK    OK    OK    OK  UNNEEDED, same version is already published
Package 83/434HostnameOS / ArchINSTALLBUILDCHECKBUILD BIN
codelink 1.60.0  (landing page)
Diego Diez
git_last_commit: 73c3522
git_last_commit_date: 2021-05-19 11:36:49 -0400
nebbiolo1Linux (Ubuntu 20.04.2 LTS) / x86_64  OK    OK    OK  UNNEEDED, same version is already published
tokay2Windows Server 2012 R2 Standard / x64  OK    OK    OK    OK  UNNEEDED, same version is already published
machv2macOS 10.14.6 Mojave / x86_64  OK    OK    OK    OK  UNNEEDED, same version is already published
Package 84/434HostnameOS / ArchINSTALLBUILDCHECKBUILD BIN
cola 1.8.1  (landing page)
Zuguang Gu
git_last_commit: ffd39a8
git_last_commit_date: 2021-07-15 09:45:48 -0400
nebbiolo1Linux (Ubuntu 20.04.2 LTS) / x86_64  OK    OK    OK  UNNEEDED, same version is already published
tokay2Windows Server 2012 R2 Standard / x64  OK    OK    OK    OK  UNNEEDED, same version is already published
machv2macOS 10.14.6 Mojave / x86_64  OK    OK    OK    OK  UNNEEDED, same version is already published
Package 85/434HostnameOS / ArchINSTALLBUILDCHECKBUILD BIN
compEpiTools 1.26.0  (landing page)
Kamal Kishore
git_last_commit: cefdb04
git_last_commit_date: 2021-05-19 12:06:54 -0400
nebbiolo1Linux (Ubuntu 20.04.2 LTS) / x86_64  OK    OK    OK  UNNEEDED, same version is already published
tokay2Windows Server 2012 R2 Standard / x64  OK    OK    OK    OK  UNNEEDED, same version is already published
machv2macOS 10.14.6 Mojave / x86_64  OK    OK    OK    OK  UNNEEDED, same version is already published
Package 86/434HostnameOS / ArchINSTALLBUILDCHECKBUILD BIN
consensusDE 1.10.0  (landing page)
Ashley J. Waardenberg
git_last_commit: 1b434d7
git_last_commit_date: 2021-05-19 12:39:09 -0400
nebbiolo1Linux (Ubuntu 20.04.2 LTS) / x86_64  OK    OK    OK  UNNEEDED, same version is already published
tokay2Windows Server 2012 R2 Standard / x64  OK    OK    OK    OK  UNNEEDED, same version is already published
machv2macOS 10.14.6 Mojave / x86_64  OK    OK    OK    OK  UNNEEDED, same version is already published
Package 87/434HostnameOS / ArchINSTALLBUILDCHECKBUILD BIN
consensusSeekeR 1.20.0  (landing page)
Astrid Deschenes
git_last_commit: e7f757a
git_last_commit_date: 2021-05-19 12:16:42 -0400
nebbiolo1Linux (Ubuntu 20.04.2 LTS) / x86_64  OK    OK    OK  UNNEEDED, same version is already published
tokay2Windows Server 2012 R2 Standard / x64  OK    OK    OK    OK  UNNEEDED, same version is already published
machv2macOS 10.14.6 Mojave / x86_64  OK    OK    OK    OK  UNNEEDED, same version is already published
Package 88/434HostnameOS / ArchINSTALLBUILDCHECKBUILD BIN
contiBAIT 1.20.0  (landing page)
Kieran O'Neill
git_last_commit: 42094e1
git_last_commit_date: 2021-05-19 12:17:59 -0400
nebbiolo1Linux (Ubuntu 20.04.2 LTS) / x86_64  OK    OK    WARNINGS  UNNEEDED, same version is already published
tokay2Windows Server 2012 R2 Standard / x64  OK    OK    WARNINGS    OK  UNNEEDED, same version is already published
machv2macOS 10.14.6 Mojave / x86_64  OK    OK    WARNINGS    OK  UNNEEDED, same version is already published
Package 89/434HostnameOS / ArchINSTALLBUILDCHECKBUILD BIN
copynumber 1.32.0  (landing page)
Gro Nilsen
git_last_commit: 7a14096
git_last_commit_date: 2021-05-19 11:58:32 -0400
nebbiolo1Linux (Ubuntu 20.04.2 LTS) / x86_64  OK    OK    OK  UNNEEDED, same version is already published
tokay2Windows Server 2012 R2 Standard / x64  OK    OK    OK    OK  UNNEEDED, same version is already published
machv2macOS 10.14.6 Mojave / x86_64  OK    OK    OK    OK  UNNEEDED, same version is already published
Package 90/434HostnameOS / ArchINSTALLBUILDCHECKBUILD BIN
CoreGx 1.4.2  (landing page)
Benjamin Haibe-Kains
git_last_commit: 32dc73a
git_last_commit_date: 2021-09-28 16:58:37 -0400
nebbiolo1Linux (Ubuntu 20.04.2 LTS) / x86_64  OK    OK    OK  UNNEEDED, same version is already published
tokay2Windows Server 2012 R2 Standard / x64  OK    OK    OK    OK  UNNEEDED, same version is already published
machv2macOS 10.14.6 Mojave / x86_64  OK    OK    OK    OK  UNNEEDED, same version is already published
Package 91/434HostnameOS / ArchINSTALLBUILDCHECKBUILD BIN
CRISPRseek 1.32.0  (landing page)
Lihua Julie Zhu
git_last_commit: b64de86
git_last_commit_date: 2021-05-19 12:01:57 -0400
nebbiolo1Linux (Ubuntu 20.04.2 LTS) / x86_64  OK    OK    OK  UNNEEDED, same version is already published
tokay2Windows Server 2012 R2 Standard / x64  OK    OK    OK    OK  UNNEEDED, same version is already published
machv2macOS 10.14.6 Mojave / x86_64  OK    OK    OK    OK  UNNEEDED, same version is already published
Package 92/434HostnameOS / ArchINSTALLBUILDCHECKBUILD BIN
crlmm 1.50.0  (landing page)
Benilton S Carvalho
git_last_commit: c3560d3
git_last_commit_date: 2021-05-19 11:42:53 -0400
nebbiolo1Linux (Ubuntu 20.04.2 LTS) / x86_64  OK    OK    OK  UNNEEDED, same version is already published
tokay2Windows Server 2012 R2 Standard / x64  OK    OK    OK    OK  UNNEEDED, same version is already published
machv2macOS 10.14.6 Mojave / x86_64  OK    OK    OK    OK  UNNEEDED, same version is already published
Package 93/434HostnameOS / ArchINSTALLBUILDCHECKBUILD BIN
crossmeta 1.18.0  (landing page)
Alex Pickering
git_last_commit: 8e42dd1
git_last_commit_date: 2021-05-19 12:21:08 -0400
nebbiolo1Linux (Ubuntu 20.04.2 LTS) / x86_64  OK    OK    WARNINGS  UNNEEDED, same version is already published
tokay2Windows Server 2012 R2 Standard / x64  OK    OK    WARNINGS    OK  UNNEEDED, same version is already published
machv2macOS 10.14.6 Mojave / x86_64  OK    OK    WARNINGS    OK  UNNEEDED, same version is already published
Package 94/434HostnameOS / ArchINSTALLBUILDCHECKBUILD BIN
csaw 1.26.0  (landing page)
Aaron Lun
git_last_commit: d3850f3
git_last_commit_date: 2021-05-19 12:08:51 -0400
nebbiolo1Linux (Ubuntu 20.04.2 LTS) / x86_64  OK    OK    OK  UNNEEDED, same version is already published
tokay2Windows Server 2012 R2 Standard / x64  OK    OK    OK    OK  UNNEEDED, same version is already published
machv2macOS 10.14.6 Mojave / x86_64  OK    OK    OK    OK  UNNEEDED, same version is already published
Package 95/434HostnameOS / ArchINSTALLBUILDCHECKBUILD BIN
ctgGEM 1.4.0  (landing page)
USD Biomedical Engineering
git_last_commit: 0e246e8
git_last_commit_date: 2021-05-19 12:49:38 -0400
nebbiolo1Linux (Ubuntu 20.04.2 LTS) / x86_64  OK    OK    WARNINGS  UNNEEDED, same version is already published
tokay2Windows Server 2012 R2 Standard / x64  OK    OK    WARNINGS    OK  UNNEEDED, same version is already published
machv2macOS 10.14.6 Mojave / x86_64  OK    OK    WARNINGS    OK  UNNEEDED, same version is already published
Package 96/434HostnameOS / ArchINSTALLBUILDCHECKBUILD BIN
cummeRbund 2.34.0  (landing page)
Loyal A. Goff
git_last_commit: e2ae106
git_last_commit_date: 2021-05-19 11:50:10 -0400
nebbiolo1Linux (Ubuntu 20.04.2 LTS) / x86_64  OK    OK    WARNINGS  UNNEEDED, same version is already published
tokay2Windows Server 2012 R2 Standard / x64  OK    OK    WARNINGS    OK  UNNEEDED, same version is already published
machv2macOS 10.14.6 Mojave / x86_64  OK    OK    WARNINGS    OK  UNNEEDED, same version is already published
Package 97/434HostnameOS / ArchINSTALLBUILDCHECKBUILD BIN
cydar 1.16.0  (landing page)
Aaron Lun
git_last_commit: 38926f1
git_last_commit_date: 2021-05-19 12:26:41 -0400
nebbiolo1Linux (Ubuntu 20.04.2 LTS) / x86_64  OK    OK    OK  UNNEEDED, same version is already published
tokay2Windows Server 2012 R2 Standard / x64  OK    OK    OK    OK  UNNEEDED, same version is already published
machv2macOS 10.14.6 Mojave / x86_64  OK    OK    OK    OK  UNNEEDED, same version is already published
Package 98/434HostnameOS / ArchINSTALLBUILDCHECKBUILD BIN
dada2 1.20.0  (landing page)
Benjamin Callahan
git_last_commit: b8a796b
git_last_commit_date: 2021-05-19 12:18:16 -0400
nebbiolo1Linux (Ubuntu 20.04.2 LTS) / x86_64  OK    OK    OK  UNNEEDED, same version is already published
tokay2Windows Server 2012 R2 Standard / x64  OK    OK    OK    OK  UNNEEDED, same version is already published
machv2macOS 10.14.6 Mojave / x86_64  OK    OK    OK    OK  UNNEEDED, same version is already published
Package 99/434HostnameOS / ArchINSTALLBUILDCHECKBUILD BIN
dagLogo 1.30.0  (landing page)
Jianhong Ou
git_last_commit: 603fae3
git_last_commit_date: 2021-05-19 12:01:07 -0400
nebbiolo1Linux (Ubuntu 20.04.2 LTS) / x86_64  OK    OK    OK  UNNEEDED, same version is already published
tokay2Windows Server 2012 R2 Standard / x64  OK    OK    OK    OK  UNNEEDED, same version is already published
machv2macOS 10.14.6 Mojave / x86_64  OK    OK    OK    OK  UNNEEDED, same version is already published
Package 100/434HostnameOS / ArchINSTALLBUILDCHECKBUILD BIN
DAMEfinder 1.4.0  (landing page)
Stephany Orjuela
git_last_commit: a0da475
git_last_commit_date: 2021-05-19 12:49:06 -0400
nebbiolo1Linux (Ubuntu 20.04.2 LTS) / x86_64  OK    OK    OK  UNNEEDED, same version is already published
tokay2Windows Server 2012 R2 Standard / x64  OK    OK    OK    OK  UNNEEDED, same version is already published
machv2macOS 10.14.6 Mojave / x86_64  OK    OK    OK    OK  UNNEEDED, same version is already published
Package 101/434HostnameOS / ArchINSTALLBUILDCHECKBUILD BIN
ddCt 1.48.0  (landing page)
Jitao David Zhang
git_last_commit: 7456707
git_last_commit_date: 2021-05-19 11:43:37 -0400
nebbiolo1Linux (Ubuntu 20.04.2 LTS) / x86_64  OK    OK    OK  UNNEEDED, same version is already published
tokay2Windows Server 2012 R2 Standard / x64  OK    OK    OK    OK  UNNEEDED, same version is already published
machv2macOS 10.14.6 Mojave / x86_64  OK    OK    OK    OK  UNNEEDED, same version is already published
Package 102/434HostnameOS / ArchINSTALLBUILDCHECKBUILD BIN
decompTumor2Sig 2.8.0  (landing page)
Rosario M. Piro
git_last_commit: 974c2b7
git_last_commit_date: 2021-05-19 12:39:46 -0400
nebbiolo1Linux (Ubuntu 20.04.2 LTS) / x86_64  OK    OK    OK  UNNEEDED, same version is already published
tokay2Windows Server 2012 R2 Standard / x64  OK    OK    OK    OK  UNNEEDED, same version is already published
machv2macOS 10.14.6 Mojave / x86_64  OK    OK    OK    OK  UNNEEDED, same version is already published
Package 103/434HostnameOS / ArchINSTALLBUILDCHECKBUILD BIN
DEGreport 1.28.0  (landing page)
Lorena Pantano
git_last_commit: c9d2eef
git_last_commit_date: 2021-05-19 12:05:35 -0400
nebbiolo1Linux (Ubuntu 20.04.2 LTS) / x86_64  OK    OK    OK  UNNEEDED, same version is already published
tokay2Windows Server 2012 R2 Standard / x64  OK    OK    OK    OK  UNNEEDED, same version is already published
machv2macOS 10.14.6 Mojave / x86_64  OK    OK    OK    OK  UNNEEDED, same version is already published
Package 104/434HostnameOS / ArchINSTALLBUILDCHECKBUILD BIN
DelayedArray 0.18.0  (landing page)
Hervé Pagès
git_last_commit: 4e18a4f
git_last_commit_date: 2021-05-19 12:24:43 -0400
nebbiolo1Linux (Ubuntu 20.04.2 LTS) / x86_64  OK    OK    WARNINGS  UNNEEDED, same version is already published
tokay2Windows Server 2012 R2 Standard / x64  OK    OK    WARNINGS    OK  UNNEEDED, same version is already published
machv2macOS 10.14.6 Mojave / x86_64  OK    OK    WARNINGS    OK  UNNEEDED, same version is already published
Package 105/434HostnameOS / ArchINSTALLBUILDCHECKBUILD BIN
DelayedDataFrame 1.8.0  (landing page)
Qian Liu
git_last_commit: df21f97
git_last_commit_date: 2021-05-19 12:39:56 -0400
nebbiolo1Linux (Ubuntu 20.04.2 LTS) / x86_64  OK    OK    OK  UNNEEDED, same version is already published
tokay2Windows Server 2012 R2 Standard / x64  OK    OK    OK    OK  UNNEEDED, same version is already published
machv2macOS 10.14.6 Mojave / x86_64  OK    OK    OK    OK  UNNEEDED, same version is already published
Package 106/434HostnameOS / ArchINSTALLBUILDCHECKBUILD BIN
derfinder 1.26.0  (landing page)
Leonardo Collado-Torres
git_last_commit: 7fc343a
git_last_commit_date: 2021-05-19 12:08:08 -0400
nebbiolo1Linux (Ubuntu 20.04.2 LTS) / x86_64  OK    OK    OK  UNNEEDED, same version is already published
tokay2Windows Server 2012 R2 Standard / x64  OK    OK    OK    OK  UNNEEDED, same version is already published
machv2macOS 10.14.6 Mojave / x86_64  OK    OK    OK    OK  UNNEEDED, same version is already published
Package 107/434HostnameOS / ArchINSTALLBUILDCHECKBUILD BIN
DEScan2 1.12.0  (landing page)
Dario Righelli
git_last_commit: 004c7f5
git_last_commit_date: 2021-05-19 12:33:58 -0400
nebbiolo1Linux (Ubuntu 20.04.2 LTS) / x86_64  OK    OK    OK  UNNEEDED, same version is already published
tokay2Windows Server 2012 R2 Standard / x64  OK    OK    OK    OK  UNNEEDED, same version is already published
machv2macOS 10.14.6 Mojave / x86_64  OK    OK    OK    OK  UNNEEDED, same version is already published
Package 108/434HostnameOS / ArchINSTALLBUILDCHECKBUILD BIN
DESeq2 1.32.0  (landing page)
Michael Love
git_last_commit: d2820e0
git_last_commit_date: 2021-05-19 11:57:45 -0400
nebbiolo1Linux (Ubuntu 20.04.2 LTS) / x86_64  OK    OK    OK  UNNEEDED, same version is already published
tokay2Windows Server 2012 R2 Standard / x64  OK    OK    OK    OK  UNNEEDED, same version is already published
machv2macOS 10.14.6 Mojave / x86_64  OK    OK    OK    OK  UNNEEDED, same version is already published
Package 109/434HostnameOS / ArchINSTALLBUILDCHECKBUILD BIN
destiny 3.6.0  (landing page)
Philipp Angerer
git_last_commit: c3cef14
git_last_commit_date: 2021-05-19 12:14:49 -0400
nebbiolo1Linux (Ubuntu 20.04.2 LTS) / x86_64  OK    ERROR  skipped
tokay2Windows Server 2012 R2 Standard / x64  OK    OK    OK    OK  UNNEEDED, same version is already published
machv2macOS 10.14.6 Mojave / x86_64  OK    ERROR  skippedskipped
Package 110/434HostnameOS / ArchINSTALLBUILDCHECKBUILD BIN
DEWSeq 1.6.0  (landing page)
bioinformatics team Hentze
git_last_commit: 34f4829
git_last_commit_date: 2021-05-19 12:47:29 -0400
nebbiolo1Linux (Ubuntu 20.04.2 LTS) / x86_64  OK    OK    OK  UNNEEDED, same version is already published
tokay2Windows Server 2012 R2 Standard / x64  OK    OK    OK    OK  UNNEEDED, same version is already published
machv2macOS 10.14.6 Mojave / x86_64  OK    OK    OK    OK  UNNEEDED, same version is already published
Package 111/434HostnameOS / ArchINSTALLBUILDCHECKBUILD BIN
DEXSeq 1.38.0  (landing page)
Alejandro Reyes
git_last_commit: 62dc651
git_last_commit_date: 2021-05-19 11:48:55 -0400
nebbiolo1Linux (Ubuntu 20.04.2 LTS) / x86_64  OK    OK    OK  UNNEEDED, same version is already published
tokay2Windows Server 2012 R2 Standard / x64  OK    OK    OK    OK  UNNEEDED, same version is already published
machv2macOS 10.14.6 Mojave / x86_64  OK    OK    OK    OK  UNNEEDED, same version is already published
Package 112/434HostnameOS / ArchINSTALLBUILDCHECKBUILD BIN
dexus 1.32.0  (landing page)
Guenter Klambauer
git_last_commit: 1ab5bd7
git_last_commit_date: 2021-05-19 11:57:57 -0400
nebbiolo1Linux (Ubuntu 20.04.2 LTS) / x86_64  OK    OK    ERROR  
tokay2Windows Server 2012 R2 Standard / x64  OK    OK    ERROR    OK  
machv2macOS 10.14.6 Mojave / x86_64  OK    OK    ERROR    OK  
Package 113/434HostnameOS / ArchINSTALLBUILDCHECKBUILD BIN
diffcoexp 1.12.0  (landing page)
Wenbin Wei
git_last_commit: 6ec7796
git_last_commit_date: 2021-05-19 12:34:00 -0400
nebbiolo1Linux (Ubuntu 20.04.2 LTS) / x86_64  OK    OK    OK  UNNEEDED, same version is already published
tokay2Windows Server 2012 R2 Standard / x64  OK    OK    OK    OK  UNNEEDED, same version is already published
machv2macOS 10.14.6 Mojave / x86_64  OK    OK    OK    OK  UNNEEDED, same version is already published
Package 114/434HostnameOS / ArchINSTALLBUILDCHECKBUILD BIN
diffHic 1.24.1  (landing page)
Aaron Lun
git_last_commit: a505f6d
git_last_commit_date: 2021-07-15 04:46:22 -0400
nebbiolo1Linux (Ubuntu 20.04.2 LTS) / x86_64  OK    OK    OK  UNNEEDED, same version is already published
tokay2Windows Server 2012 R2 Standard / x64  OK    OK    OK    OK  UNNEEDED, same version is already published
machv2macOS 10.14.6 Mojave / x86_64  OK    OK    OK    OK  UNNEEDED, same version is already published
Package 115/434HostnameOS / ArchINSTALLBUILDCHECKBUILD BIN
DirichletMultinomial 1.34.0  (landing page)
Martin Morgan
git_last_commit: 75a199d
git_last_commit_date: 2021-05-19 11:52:24 -0400
nebbiolo1Linux (Ubuntu 20.04.2 LTS) / x86_64  OK    OK    OK  UNNEEDED, same version is already published
tokay2Windows Server 2012 R2 Standard / x64  OK    OK    OK    OK  UNNEEDED, same version is already published
machv2macOS 10.14.6 Mojave / x86_64  OK    OK    OK    OK  UNNEEDED, same version is already published
Package 116/434HostnameOS / ArchINSTALLBUILDCHECKBUILD BIN
DiscoRhythm 1.8.0  (landing page)
Matthew Carlucci
git_last_commit: 1ea451c
git_last_commit_date: 2021-05-19 12:42:40 -0400
nebbiolo1Linux (Ubuntu 20.04.2 LTS) / x86_64  OK    OK    OK  UNNEEDED, same version is already published
tokay2Windows Server 2012 R2 Standard / x64  OK    OK    OK    OK  UNNEEDED, same version is already published
machv2macOS 10.14.6 Mojave / x86_64  OK    OK    OK    OK  UNNEEDED, same version is already published
Package 117/434HostnameOS / ArchINSTALLBUILDCHECKBUILD BIN
DRIMSeq 1.20.0  (landing page)
Malgorzata Nowicka
git_last_commit: 27f2619
git_last_commit_date: 2021-05-19 12:18:54 -0400
nebbiolo1Linux (Ubuntu 20.04.2 LTS) / x86_64  OK    OK    WARNINGS  UNNEEDED, same version is already published
tokay2Windows Server 2012 R2 Standard / x64  OK    OK    WARNINGS    OK  UNNEEDED, same version is already published
machv2macOS 10.14.6 Mojave / x86_64  OK    OK    WARNINGS    OK  UNNEEDED, same version is already published
Package 118/434HostnameOS / ArchINSTALLBUILDCHECKBUILD BIN
DropletUtils 1.12.3  (landing page)
Aaron Lun
git_last_commit: 3f2d0d0
git_last_commit_date: 2021-09-18 16:31:36 -0400
nebbiolo1Linux (Ubuntu 20.04.2 LTS) / x86_64  OK    OK    OK  UNNEEDED, same version is already published
tokay2Windows Server 2012 R2 Standard / x64  OK    OK    OK    OK  UNNEEDED, same version is already published
machv2macOS 10.14.6 Mojave / x86_64  OK    OK    OK    OK  UNNEEDED, same version is already published
Package 119/434HostnameOS / ArchINSTALLBUILDCHECKBUILD BIN
DrugVsDisease 2.34.0  (landing page)
j. Saez-Rodriguez
git_last_commit: 4d15037
git_last_commit_date: 2021-05-19 11:57:20 -0400
nebbiolo1Linux (Ubuntu 20.04.2 LTS) / x86_64  OK    OK    OK  UNNEEDED, same version is already published
tokay2Windows Server 2012 R2 Standard / x64  OK    OK    OK    OK  UNNEEDED, same version is already published
machv2macOS 10.14.6 Mojave / x86_64  OK    OK    OK    OK  UNNEEDED, same version is already published
Package 120/434HostnameOS / ArchINSTALLBUILDCHECKBUILD BIN
easyRNASeq 2.28.0  (landing page)
Nicolas Delhomme
git_last_commit: 6d18522
git_last_commit_date: 2021-05-19 11:51:10 -0400
nebbiolo1Linux (Ubuntu 20.04.2 LTS) / x86_64  OK    OK    OK  UNNEEDED, same version is already published
tokay2Windows Server 2012 R2 Standard / x64  OK    OK    OK    OK  UNNEEDED, same version is already published
machv2macOS 10.14.6 Mojave / x86_64  OK    OK    OK    OK  UNNEEDED, same version is already published
Package 121/434HostnameOS / ArchINSTALLBUILDCHECKBUILD BIN
EBImage 4.34.0  (landing page)
Andrzej Oleś
git_last_commit: b4e3a23
git_last_commit_date: 2021-05-19 11:37:13 -0400
nebbiolo1Linux (Ubuntu 20.04.2 LTS) / x86_64  OK    OK    OK  UNNEEDED, same version is already published
tokay2Windows Server 2012 R2 Standard / x64  OK    OK    OK    OK  UNNEEDED, same version is already published
machv2macOS 10.14.6 Mojave / x86_64  OK    OK    OK    OK  UNNEEDED, same version is already published
Package 122/434HostnameOS / ArchINSTALLBUILDCHECKBUILD BIN
EDASeq 2.26.1  (landing page)
Davide Risso
git_last_commit: 49df07d
git_last_commit_date: 2021-06-18 04:56:09 -0400
nebbiolo1Linux (Ubuntu 20.04.2 LTS) / x86_64  OK    OK    OK  UNNEEDED, same version is already published
tokay2Windows Server 2012 R2 Standard / x64  OK    OK    OK    OK  UNNEEDED, same version is already published
machv2macOS 10.14.6 Mojave / x86_64  OK    OK    OK    OK  UNNEEDED, same version is already published
Package 123/434HostnameOS / ArchINSTALLBUILDCHECKBUILD BIN
eiR 1.32.0  (landing page)
Thomas Girke
git_last_commit: b291e60
git_last_commit_date: 2021-05-19 11:58:17 -0400
nebbiolo1Linux (Ubuntu 20.04.2 LTS) / x86_64  OK    OK    OK  UNNEEDED, same version is already published
tokay2Windows Server 2012 R2 Standard / x64  OK    OK    WARNINGS    OK  UNNEEDED, same version is already published
machv2macOS 10.14.6 Mojave / x86_64  OK    OK    WARNINGS    OK  UNNEEDED, same version is already published
Package 124/434HostnameOS / ArchINSTALLBUILDCHECKBUILD BIN
eisa 1.44.0  (landing page)
Gabor Csardi
git_last_commit: 1bb635e
git_last_commit_date: 2021-05-19 11:44:27 -0400
nebbiolo1Linux (Ubuntu 20.04.2 LTS) / x86_64  OK    OK    ERROR  
tokay2Windows Server 2012 R2 Standard / x64  OK    OK    ERROR    OK  
machv2macOS 10.14.6 Mojave / x86_64  OK    OK    ERROR    OK  
Package 125/434HostnameOS / ArchINSTALLBUILDCHECKBUILD BIN
eisaR 1.4.0  (landing page)
Michael Stadler
git_last_commit: 907e2ad
git_last_commit_date: 2021-05-19 12:50:21 -0400
nebbiolo1Linux (Ubuntu 20.04.2 LTS) / x86_64  OK    OK    OK  UNNEEDED, same version is already published
tokay2Windows Server 2012 R2 Standard / x64  OK    OK    OK    OK  UNNEEDED, same version is already published
machv2macOS 10.14.6 Mojave / x86_64  OK    OK    OK    OK  UNNEEDED, same version is already published
Package 126/434HostnameOS / ArchINSTALLBUILDCHECKBUILD BIN
enrichTF 1.8.0  (landing page)
Zheng Wei
git_last_commit: 956c94b
git_last_commit_date: 2021-05-19 12:43:30 -0400
nebbiolo1Linux (Ubuntu 20.04.2 LTS) / x86_64  OK    OK    OK  UNNEEDED, same version is already published
tokay2Windows Server 2012 R2 Standard / x64  OK    OK    OK    OK  UNNEEDED, same version is already published
machv2macOS 10.14.6 Mojave / x86_64  OK    OK    OK    OK  UNNEEDED, same version is already published
Package 127/434HostnameOS / ArchINSTALLBUILDCHECKBUILD BIN
ensembldb 2.16.4  (landing page)
Johannes Rainer
git_last_commit: 130dbcc
git_last_commit_date: 2021-08-04 10:18:05 -0400
nebbiolo1Linux (Ubuntu 20.04.2 LTS) / x86_64  OK    OK    OK  UNNEEDED, same version is already published
tokay2Windows Server 2012 R2 Standard / x64  OK    OK    OK    OK  UNNEEDED, same version is already published
machv2macOS 10.14.6 Mojave / x86_64  OK    OK    OK    OK  UNNEEDED, same version is already published
Package 128/434HostnameOS / ArchINSTALLBUILDCHECKBUILD BIN
ensemblVEP 1.34.0  (landing page)
Bioconductor Package Maintainer
git_last_commit: 71a49c5
git_last_commit_date: 2021-05-19 11:54:59 -0400
nebbiolo1Linux (Ubuntu 20.04.2 LTS) / x86_64  OK    OK    OK  UNNEEDED, same version is already published
tokay2Windows Server 2012 R2 Standard / x64... NOT SUPPORTED ...
machv2macOS 10.14.6 Mojave / x86_64  OK    OK    OK    OK  UNNEEDED, same version is already published
Package 129/434HostnameOS / ArchINSTALLBUILDCHECKBUILD BIN
epialleleR 1.0.0  (landing page)
Oleksii Nikolaienko
git_last_commit: b01940d
git_last_commit_date: 2021-05-19 13:03:23 -0400
nebbiolo1Linux (Ubuntu 20.04.2 LTS) / x86_64  OK    OK    WARNINGS  UNNEEDED, same version is already published
tokay2Windows Server 2012 R2 Standard / x64  OK    OK    WARNINGS    OK  UNNEEDED, same version is already published
machv2macOS 10.14.6 Mojave / x86_64  OK    OK    OK    OK  UNNEEDED, same version is already published
Package 130/434HostnameOS / ArchINSTALLBUILDCHECKBUILD BIN
epigenomix 1.32.0  (landing page)
Hans-Ulrich Klein
git_last_commit: dc1b2d5
git_last_commit_date: 2021-05-19 11:57:59 -0400
nebbiolo1Linux (Ubuntu 20.04.2 LTS) / x86_64  OK    OK    OK  UNNEEDED, same version is already published
tokay2Windows Server 2012 R2 Standard / x64  OK    OK    OK    OK  UNNEEDED, same version is already published
machv2macOS 10.14.6 Mojave / x86_64  OK    OK    OK    OK  UNNEEDED, same version is already published
Package 131/434HostnameOS / ArchINSTALLBUILDCHECKBUILD BIN
EpiTxDb 1.4.0  (landing page)
Felix G.M. Ernst
git_last_commit: 14681e3
git_last_commit_date: 2021-05-19 12:50:24 -0400
nebbiolo1Linux (Ubuntu 20.04.2 LTS) / x86_64  OK    OK    OK  UNNEEDED, same version is already published
tokay2Windows Server 2012 R2 Standard / x64  OK    OK    OK    OK  UNNEEDED, same version is already published
machv2macOS 10.14.6 Mojave / x86_64  OK    OK    OK    OK  UNNEEDED, same version is already published
Package 132/434HostnameOS / ArchINSTALLBUILDCHECKBUILD BIN
epivizrChart 1.14.0  (landing page)
Hector Corrada Bravo
git_last_commit: 5b50f3c
git_last_commit_date: 2021-05-19 12:29:01 -0400
nebbiolo1Linux (Ubuntu 20.04.2 LTS) / x86_64  OK    OK    OK  UNNEEDED, same version is already published
tokay2Windows Server 2012 R2 Standard / x64  OK    OK    OK    OK  UNNEEDED, same version is already published
machv2macOS 10.14.6 Mojave / x86_64  OK    OK    OK    OK  UNNEEDED, same version is already published
Package 133/434HostnameOS / ArchINSTALLBUILDCHECKBUILD BIN
epivizrStandalone 1.20.0  (landing page)
Hector Corrada Bravo
git_last_commit: fd34eef
git_last_commit_date: 2021-05-19 12:20:32 -0400
nebbiolo1Linux (Ubuntu 20.04.2 LTS) / x86_64  OK    OK    OK  UNNEEDED, same version is already published
tokay2Windows Server 2012 R2 Standard / x64  OK    OK    OK    OK  UNNEEDED, same version is already published
machv2macOS 10.14.6 Mojave / x86_64  OK    OK    OK    OK  UNNEEDED, same version is already published
Package 134/434HostnameOS / ArchINSTALLBUILDCHECKBUILD BIN
erma 1.8.0  (landing page)
VJ Carey
git_last_commit: 6958ee9
git_last_commit_date: 2021-05-19 12:14:10 -0400
nebbiolo1Linux (Ubuntu 20.04.2 LTS) / x86_64  OK    OK    OK  UNNEEDED, same version is already published
tokay2Windows Server 2012 R2 Standard / x64  OK    OK    OK    OK  UNNEEDED, same version is already published
machv2macOS 10.14.6 Mojave / x86_64  OK    OK    OK    OK  UNNEEDED, same version is already published
Package 135/434HostnameOS / ArchINSTALLBUILDCHECKBUILD BIN
esATAC 1.14.0  (landing page)
Zheng Wei
git_last_commit: 2939dd0
git_last_commit_date: 2021-05-19 12:31:59 -0400
nebbiolo1Linux (Ubuntu 20.04.2 LTS) / x86_64  OK    OK    WARNINGS  UNNEEDED, same version is already published
tokay2Windows Server 2012 R2 Standard / x64  OK    OK    WARNINGS    OK  UNNEEDED, same version is already published
machv2macOS 10.14.6 Mojave / x86_64  OK    OK    WARNINGS    OK  UNNEEDED, same version is already published
Package 136/434HostnameOS / ArchINSTALLBUILDCHECKBUILD BIN
exomePeak2 1.4.2  (landing page)
Zhen Wei
git_last_commit: d8d75f9
git_last_commit_date: 2021-09-07 12:28:10 -0400
nebbiolo1Linux (Ubuntu 20.04.2 LTS) / x86_64  OK    OK    OK  UNNEEDED, same version is already published
tokay2Windows Server 2012 R2 Standard / x64  OK    OK    OK    OK  UNNEEDED, same version is already published
machv2macOS 10.14.6 Mojave / x86_64  OK    OK    OK    OK  UNNEEDED, same version is already published
Package 137/434HostnameOS / ArchINSTALLBUILDCHECKBUILD BIN
ExperimentHub 2.0.0  (landing page)
Bioconductor Package Maintainer
git_last_commit: a899441
git_last_commit_date: 2021-05-19 12:18:19 -0400
nebbiolo1Linux (Ubuntu 20.04.2 LTS) / x86_64  OK    OK    OK  UNNEEDED, same version is already published
tokay2Windows Server 2012 R2 Standard / x64  OK    OK    OK    OK  UNNEEDED, same version is already published
machv2macOS 10.14.6 Mojave / x86_64  OK    OK    OK    OK  UNNEEDED, same version is already published
Package 138/434HostnameOS / ArchINSTALLBUILDCHECKBUILD BIN
ExperimentHubData 1.18.0  (landing page)
Bioconductor Package Maintainer
git_last_commit: 2706bf5
git_last_commit_date: 2021-05-19 12:18:21 -0400
nebbiolo1Linux (Ubuntu 20.04.2 LTS) / x86_64  OK    OK    OK  UNNEEDED, same version is already published
tokay2Windows Server 2012 R2 Standard / x64  OK    OK    OK    OK  UNNEEDED, same version is already published
machv2macOS 10.14.6 Mojave / x86_64  OK    OK    OK    OK  UNNEEDED, same version is already published
Package 139/434HostnameOS / ArchINSTALLBUILDCHECKBUILD BIN
FamAgg 1.20.0  (landing page)
Johannes Rainer
git_last_commit: b92025e
git_last_commit_date: 2021-05-19 12:16:52 -0400
nebbiolo1Linux (Ubuntu 20.04.2 LTS) / x86_64  OK    OK    OK  UNNEEDED, same version is already published
tokay2Windows Server 2012 R2 Standard / x64  OK    OK    OK    OK  UNNEEDED, same version is already published
machv2macOS 10.14.6 Mojave / x86_64  OK    OK    OK    OK  UNNEEDED, same version is already published
Package 140/434HostnameOS / ArchINSTALLBUILDCHECKBUILD BIN
fastseg 1.38.0  (landing page)
Guenter Klambauer
git_last_commit: 48225db
git_last_commit_date: 2021-05-19 11:50:51 -0400
nebbiolo1Linux (Ubuntu 20.04.2 LTS) / x86_64  OK    OK    WARNINGS  UNNEEDED, same version is already published
tokay2Windows Server 2012 R2 Standard / x64  OK    OK    WARNINGS    OK  UNNEEDED, same version is already published
machv2macOS 10.14.6 Mojave / x86_64  OK    OK    WARNINGS    OK  UNNEEDED, same version is already published
Package 141/434HostnameOS / ArchINSTALLBUILDCHECKBUILD BIN
ffpe 1.36.0  (landing page)
Levi Waldron
git_last_commit: b02bf4a
git_last_commit_date: 2021-05-19 11:51:39 -0400
nebbiolo1Linux (Ubuntu 20.04.2 LTS) / x86_64  OK    OK    OK  UNNEEDED, same version is already published
tokay2Windows Server 2012 R2 Standard / x64  OK    OK    OK    OK  UNNEEDED, same version is already published
machv2macOS 10.14.6 Mojave / x86_64  OK    OK    OK    OK  UNNEEDED, same version is already published
Package 142/434HostnameOS / ArchINSTALLBUILDCHECKBUILD BIN
FindMyFriends 1.22.0  (landing page)
Thomas Lin Pedersen
git_last_commit: 526b1e4
git_last_commit_date: 2021-05-19 12:15:44 -0400
nebbiolo1Linux (Ubuntu 20.04.2 LTS) / x86_64  OK    OK    WARNINGS  UNNEEDED, same version is already published
tokay2Windows Server 2012 R2 Standard / x64  OK    ERROR  skippedskipped
machv2macOS 10.14.6 Mojave / x86_64  OK    OK    WARNINGS    OK  UNNEEDED, same version is already published
Package 143/434HostnameOS / ArchINSTALLBUILDCHECKBUILD BIN
flowBin 1.28.0  (landing page)
Kieran O'Neill
git_last_commit: 7e5e658
git_last_commit_date: 2021-05-19 12:02:16 -0400
nebbiolo1Linux (Ubuntu 20.04.2 LTS) / x86_64  OK    OK    OK  UNNEEDED, same version is already published
tokay2Windows Server 2012 R2 Standard / x64  OK    OK    OK    OK  UNNEEDED, same version is already published
machv2macOS 10.14.6 Mojave / x86_64  OK    OK    OK    OK  UNNEEDED, same version is already published
Package 144/434HostnameOS / ArchINSTALLBUILDCHECKBUILD BIN
flowClust 3.30.0  (landing page)
Greg Finak , Mike Jiang
git_last_commit: c52585b
git_last_commit_date: 2021-05-19 11:40:35 -0400
nebbiolo1Linux (Ubuntu 20.04.2 LTS) / x86_64  OK    OK    OK  UNNEEDED, same version is already published
tokay2Windows Server 2012 R2 Standard / x64  OK    OK    OK    OK  UNNEEDED, same version is already published
machv2macOS 10.14.6 Mojave / x86_64  OK    OK    WARNINGS    OK  UNNEEDED, same version is already published
Package 145/434HostnameOS / ArchINSTALLBUILDCHECKBUILD BIN
flowCore 2.4.0  (landing page)
Mike Jiang
git_last_commit: 1f5f4b6
git_last_commit_date: 2021-05-19 11:38:20 -0400
nebbiolo1Linux (Ubuntu 20.04.2 LTS) / x86_64  OK    OK    OK  UNNEEDED, same version is already published
tokay2Windows Server 2012 R2 Standard / x64  OK    OK    OK    OK  UNNEEDED, same version is already published
machv2macOS 10.14.6 Mojave / x86_64  OK    OK    OK    OK  UNNEEDED, same version is already published
Package 146/434HostnameOS / ArchINSTALLBUILDCHECKBUILD BIN
flowFP 1.50.0  (landing page)
Herb Holyst
git_last_commit: 4749abd
git_last_commit_date: 2021-05-19 11:43:28 -0400
nebbiolo1Linux (Ubuntu 20.04.2 LTS) / x86_64  OK    OK    OK  UNNEEDED, same version is already published
tokay2Windows Server 2012 R2 Standard / x64  OK    OK    OK    OK  UNNEEDED, same version is already published
machv2macOS 10.14.6 Mojave / x86_64  OK    OK    OK    OK  UNNEEDED, same version is already published
Package 147/434HostnameOS / ArchINSTALLBUILDCHECKBUILD BIN
FlowSOM 2.0.0  (landing page)
Sofie Van Gassen
git_last_commit: 663dedc
git_last_commit_date: 2021-05-19 12:10:09 -0400
nebbiolo1Linux (Ubuntu 20.04.2 LTS) / x86_64  OK    OK    OK  UNNEEDED, same version is already published
tokay2Windows Server 2012 R2 Standard / x64  OK    OK    OK    OK  UNNEEDED, same version is already published
machv2macOS 10.14.6 Mojave / x86_64  OK    OK    OK    OK  UNNEEDED, same version is already published
Package 148/434HostnameOS / ArchINSTALLBUILDCHECKBUILD BIN
flowSpecs 1.6.0  (landing page)
Jakob Theorell
git_last_commit: e8a3b4e
git_last_commit_date: 2021-05-19 12:46:22 -0400
nebbiolo1Linux (Ubuntu 20.04.2 LTS) / x86_64  OK    OK    OK  UNNEEDED, same version is already published
tokay2Windows Server 2012 R2 Standard / x64  OK    OK    OK    OK  UNNEEDED, same version is already published
machv2macOS 10.14.6 Mojave / x86_64  OK    OK    OK    OK  UNNEEDED, same version is already published
Package 149/434HostnameOS / ArchINSTALLBUILDCHECKBUILD BIN
flowStats 4.4.0  (landing page)
Greg Finak , Mike Jiang , Jake Wagner
git_last_commit: 5d3758e
git_last_commit_date: 2021-05-19 11:43:07 -0400
nebbiolo1Linux (Ubuntu 20.04.2 LTS) / x86_64  OK    OK    OK  UNNEEDED, same version is already published
tokay2Windows Server 2012 R2 Standard / x64  OK    OK    OK    OK  UNNEEDED, same version is already published
machv2macOS 10.14.6 Mojave / x86_64  OK    OK    OK    OK  UNNEEDED, same version is already published
Package 150/434HostnameOS / ArchINSTALLBUILDCHECKBUILD BIN
flowWorkspace 4.4.0  (landing page)
Greg Finak , Mike Jiang
git_last_commit: 8b26faf
git_last_commit_date: 2021-05-19 11:48:41 -0400
nebbiolo1Linux (Ubuntu 20.04.2 LTS) / x86_64  OK    OK    WARNINGS  UNNEEDED, same version is already published
tokay2Windows Server 2012 R2 Standard / x64  OK    OK    WARNINGS    OK  UNNEEDED, same version is already published
machv2macOS 10.14.6 Mojave / x86_64  OK    OK    WARNINGS    OK  UNNEEDED, same version is already published
Package 151/434HostnameOS / ArchINSTALLBUILDCHECKBUILD BIN
fmcsR 1.34.0  (landing page)
Thomas Girke
git_last_commit: 9440089
git_last_commit_date: 2021-05-19 11:53:39 -0400
nebbiolo1Linux (Ubuntu 20.04.2 LTS) / x86_64  OK    OK    WARNINGS  UNNEEDED, same version is already published
tokay2Windows Server 2012 R2 Standard / x64  OK    OK    WARNINGS    OK  UNNEEDED, same version is already published
machv2macOS 10.14.6 Mojave / x86_64  OK    OK    WARNINGS    OK  UNNEEDED, same version is already published
Package 152/434HostnameOS / ArchINSTALLBUILDCHECKBUILD BIN
FRASER 1.4.0  (landing page)
Christian Mertes
git_last_commit: 926f313
git_last_commit_date: 2021-05-19 12:51:54 -0400
nebbiolo1Linux (Ubuntu 20.04.2 LTS) / x86_64  OK    OK    OK  UNNEEDED, same version is already published
tokay2Windows Server 2012 R2 Standard / x64  OK    OK    OK    OK  UNNEEDED, same version is already published
machv2macOS 10.14.6 Mojave / x86_64  OK    OK    OK    OK  UNNEEDED, same version is already published
Package 153/434HostnameOS / ArchINSTALLBUILDCHECKBUILD BIN
frma 1.44.0  (landing page)
Matthew N. McCall
git_last_commit: 6ef2453
git_last_commit_date: 2021-05-19 11:44:33 -0400
nebbiolo1Linux (Ubuntu 20.04.2 LTS) / x86_64  OK    OK    OK  UNNEEDED, same version is already published
tokay2Windows Server 2012 R2 Standard / x64  OK    OK    OK    OK  UNNEEDED, same version is already published
machv2macOS 10.14.6 Mojave / x86_64  OK    OK    OK    OK  UNNEEDED, same version is already published
Package 154/434HostnameOS / ArchINSTALLBUILDCHECKBUILD BIN
GA4GHclient 1.16.0  (landing page)
Welliton Souza
git_last_commit: d3644e7
git_last_commit_date: 2021-05-19 12:26:45 -0400
nebbiolo1Linux (Ubuntu 20.04.2 LTS) / x86_64  OK    OK    OK  UNNEEDED, same version is already published
tokay2Windows Server 2012 R2 Standard / x64  OK    OK    OK    OK  UNNEEDED, same version is already published
machv2macOS 10.14.6 Mojave / x86_64  OK    OK    OK    OK  UNNEEDED, same version is already published
Package 155/434HostnameOS / ArchINSTALLBUILDCHECKBUILD BIN
GA4GHshiny 1.14.0  (landing page)
Welliton Souza
git_last_commit: 8c2cb31
git_last_commit_date: 2021-05-19 12:27:58 -0400
nebbiolo1Linux (Ubuntu 20.04.2 LTS) / x86_64  OK    OK    OK  UNNEEDED, same version is already published
tokay2Windows Server 2012 R2 Standard / x64  OK    OK    OK    OK  UNNEEDED, same version is already published
machv2macOS 10.14.6 Mojave / x86_64  OK    OK    OK    OK  UNNEEDED, same version is already published
Package 156/434HostnameOS / ArchINSTALLBUILDCHECKBUILD BIN
gcapc 1.16.0  (landing page)
Mingxiang Teng
git_last_commit: 38a05b9
git_last_commit_date: 2021-05-19 12:24:48 -0400
nebbiolo1Linux (Ubuntu 20.04.2 LTS) / x86_64  OK    OK    OK  UNNEEDED, same version is already published
tokay2Windows Server 2012 R2 Standard / x64  OK    OK    OK    OK  UNNEEDED, same version is already published
machv2macOS 10.14.6 Mojave / x86_64  OK    OK    OK    OK  UNNEEDED, same version is already published
Package 157/434HostnameOS / ArchINSTALLBUILDCHECKBUILD BIN
GDSArray 1.12.0  (landing page)
Qian Liu
git_last_commit: f2a3983
git_last_commit_date: 2021-05-19 12:34:40 -0400
nebbiolo1Linux (Ubuntu 20.04.2 LTS) / x86_64  OK    OK    OK  UNNEEDED, same version is already published
tokay2Windows Server 2012 R2 Standard / x64  OK    OK    OK    OK  UNNEEDED, same version is already published
machv2macOS 10.14.6 Mojave / x86_64  OK    OK    OK    OK  UNNEEDED, same version is already published
Package 158/434HostnameOS / ArchINSTALLBUILDCHECKBUILD BIN
genbankr 1.20.0  (landing page)
Gabriel Becker
git_last_commit: 968c425
git_last_commit_date: 2021-05-19 12:19:55 -0400
nebbiolo1Linux (Ubuntu 20.04.2 LTS) / x86_64  OK    OK    OK  UNNEEDED, same version is already published
tokay2Windows Server 2012 R2 Standard / x64  OK    OK    OK    OK  UNNEEDED, same version is already published
machv2macOS 10.14.6 Mojave / x86_64  OK    OK    OK    OK  UNNEEDED, same version is already published
Package 159/434HostnameOS / ArchINSTALLBUILDCHECKBUILD BIN
geneAttribution 1.18.0  (landing page)
Arthur Wuster
git_last_commit: e7e4262
git_last_commit_date: 2021-05-19 12:22:44 -0400
nebbiolo1Linux (Ubuntu 20.04.2 LTS) / x86_64  OK    OK    OK  UNNEEDED, same version is already published
tokay2Windows Server 2012 R2 Standard / x64  OK    OK    OK    OK  UNNEEDED, same version is already published
machv2macOS 10.14.6 Mojave / x86_64  OK    OK    OK    OK  UNNEEDED, same version is already published
Package 160/434HostnameOS / ArchINSTALLBUILDCHECKBUILD BIN
geneClassifiers 1.16.0  (landing page)
R Kuiper
git_last_commit: 479c49c
git_last_commit_date: 2021-05-19 12:25:48 -0400
nebbiolo1Linux (Ubuntu 20.04.2 LTS) / x86_64  OK    OK    OK  UNNEEDED, same version is already published
tokay2Windows Server 2012 R2 Standard / x64  OK    OK    OK    OK  UNNEEDED, same version is already published
machv2macOS 10.14.6 Mojave / x86_64  OK    OK    OK    OK  UNNEEDED, same version is already published
Package 161/434HostnameOS / ArchINSTALLBUILDCHECKBUILD BIN
genefilter 1.74.1  (landing page)
Bioconductor Package Maintainer
git_last_commit: 3ca5b57
git_last_commit_date: 2021-08-19 18:03:39 -0400
nebbiolo1Linux (Ubuntu 20.04.2 LTS) / x86_64  OK    OK    WARNINGS  UNNEEDED, same version is already published
tokay2Windows Server 2012 R2 Standard / x64  OK    OK    WARNINGS    OK  UNNEEDED, same version is already published
machv2macOS 10.14.6 Mojave / x86_64  OK    OK    OK    OK  UNNEEDED, same version is already published
Package 162/434HostnameOS / ArchINSTALLBUILDCHECKBUILD BIN
geneplotter 1.70.0  (landing page)
Bioconductor Package Maintainer
git_last_commit: ca484d3
git_last_commit_date: 2021-05-19 11:32:40 -0400
nebbiolo1Linux (Ubuntu 20.04.2 LTS) / x86_64  OK    OK    OK  UNNEEDED, same version is already published
tokay2Windows Server 2012 R2 Standard / x64  OK    OK    OK    OK  UNNEEDED, same version is already published
machv2macOS 10.14.6 Mojave / x86_64  OK    OK    OK    OK  UNNEEDED, same version is already published
Package 163/434HostnameOS / ArchINSTALLBUILDCHECKBUILD BIN
GENESIS 2.22.2  (landing page)
Stephanie M. Gogarten
git_last_commit: df77222
git_last_commit_date: 2021-06-16 02:13:52 -0400
nebbiolo1Linux (Ubuntu 20.04.2 LTS) / x86_64  OK    OK    OK  UNNEEDED, same version is already published
tokay2Windows Server 2012 R2 Standard / x64  OK    OK    OK    OK  UNNEEDED, same version is already published
machv2macOS 10.14.6 Mojave / x86_64  OK    OK    OK    OK  UNNEEDED, same version is already published
Package 164/434HostnameOS / ArchINSTALLBUILDCHECKBUILD BIN
GenomeInfoDb 1.28.4  (landing page)
Bioconductor Package Maintainer
git_last_commit: 3de2a41
git_last_commit_date: 2021-09-03 15:49:43 -0400
nebbiolo1Linux (Ubuntu 20.04.2 LTS) / x86_64  OK    OK    OK  UNNEEDED, same version is already published
tokay2Windows Server 2012 R2 Standard / x64  OK    OK    OK    OK  UNNEEDED, same version is already published
machv2macOS 10.14.6 Mojave / x86_64  OK    OK    OK    OK  UNNEEDED, same version is already published
Package 165/434HostnameOS / ArchINSTALLBUILDCHECKBUILD BIN
genomeIntervals 1.48.0  (landing page)
Julien Gagneur
git_last_commit: ab17e64
git_last_commit_date: 2021-05-19 11:42:47 -0400
nebbiolo1Linux (Ubuntu 20.04.2 LTS) / x86_64  OK    OK    OK  UNNEEDED, same version is already published
tokay2Windows Server 2012 R2 Standard / x64  OK    OK    OK    OK  UNNEEDED, same version is already published
machv2macOS 10.14.6 Mojave / x86_64  OK    OK    OK    OK  UNNEEDED, same version is already published
Package 166/434HostnameOS / ArchINSTALLBUILDCHECKBUILD BIN
GenomicAlignments 1.28.0  (landing page)
Bioconductor Package Maintainer
git_last_commit: e755dc1
git_last_commit_date: 2021-05-19 12:01:53 -0400
nebbiolo1Linux (Ubuntu 20.04.2 LTS) / x86_64  OK    OK    OK  UNNEEDED, same version is already published
tokay2Windows Server 2012 R2 Standard / x64  OK    OK    OK    OK  UNNEEDED, same version is already published
machv2macOS 10.14.6 Mojave / x86_64  OK    OK    OK    OK  UNNEEDED, same version is already published
Package 167/434HostnameOS / ArchINSTALLBUILDCHECKBUILD BIN
GenomicFeatures 1.44.2  (landing page)
Bioconductor Package Maintainer
git_last_commit: 49566bc
git_last_commit_date: 2021-08-26 00:53:36 -0400
nebbiolo1Linux (Ubuntu 20.04.2 LTS) / x86_64  OK    OK    WARNINGS  UNNEEDED, same version is already published
tokay2Windows Server 2012 R2 Standard / x64  OK    OK    WARNINGS    OK  UNNEEDED, same version is already published
machv2macOS 10.14.6 Mojave / x86_64  OK    OK    WARNINGS    OK  UNNEEDED, same version is already published
Package 168/434HostnameOS / ArchINSTALLBUILDCHECKBUILD BIN
GenomicFiles 1.28.0  (landing page)
Bioconductor Package Maintainer
git_last_commit: b7b64cb
git_last_commit_date: 2021-05-19 12:04:46 -0400
nebbiolo1Linux (Ubuntu 20.04.2 LTS) / x86_64  OK    OK    OK  UNNEEDED, same version is already published
tokay2Windows Server 2012 R2 Standard / x64  OK    OK    OK    OK  UNNEEDED, same version is already published
machv2macOS 10.14.6 Mojave / x86_64  OK    OK    OK    OK  UNNEEDED, same version is already published
Package 169/434HostnameOS / ArchINSTALLBUILDCHECKBUILD BIN
GenomicInteractions 1.26.0  (landing page)
Liz Ing-Simmons
git_last_commit: 54f6f7e
git_last_commit_date: 2021-05-19 12:07:53 -0400
nebbiolo1Linux (Ubuntu 20.04.2 LTS) / x86_64  OK    OK    OK  UNNEEDED, same version is already published
tokay2Windows Server 2012 R2 Standard / x64  OK    OK    OK    OK  UNNEEDED, same version is already published
machv2macOS 10.14.6 Mojave / x86_64  OK    OK    OK    OK  UNNEEDED, same version is already published
Package 170/434HostnameOS / ArchINSTALLBUILDCHECKBUILD BIN
GenomicRanges 1.44.0  (landing page)
Bioconductor Package Maintainer
git_last_commit: d27fdc8
git_last_commit_date: 2021-05-19 11:44:56 -0400
nebbiolo1Linux (Ubuntu 20.04.2 LTS) / x86_64  OK    OK    OK  UNNEEDED, same version is already published
tokay2Windows Server 2012 R2 Standard / x64  OK    OK    OK    OK  UNNEEDED, same version is already published
machv2macOS 10.14.6 Mojave / x86_64  OK    OK    OK    OK  UNNEEDED, same version is already published
Package 171/434HostnameOS / ArchINSTALLBUILDCHECKBUILD BIN
GenomicScores 2.4.0  (landing page)
Robert Castelo
git_last_commit: 4b46561
git_last_commit_date: 2021-05-19 12:27:15 -0400
nebbiolo1Linux (Ubuntu 20.04.2 LTS) / x86_64  OK    OK    OK  UNNEEDED, same version is already published
tokay2Windows Server 2012 R2 Standard / x64  OK    OK    OK    OK  UNNEEDED, same version is already published
machv2macOS 10.14.6 Mojave / x86_64  OK    OK    OK    OK  UNNEEDED, same version is already published
Package 172/434HostnameOS / ArchINSTALLBUILDCHECKBUILD BIN
GenomicTuples 1.26.0  (landing page)
Peter Hickey
git_last_commit: c82b526
git_last_commit_date: 2021-05-19 12:08:40 -0400
nebbiolo1Linux (Ubuntu 20.04.2 LTS) / x86_64  OK    OK    OK  UNNEEDED, same version is already published
tokay2Windows Server 2012 R2 Standard / x64  OK    OK    OK    OK  UNNEEDED, same version is already published
machv2macOS 10.14.6 Mojave / x86_64  OK    OK    OK    OK  UNNEEDED, same version is already published
Package 173/434HostnameOS / ArchINSTALLBUILDCHECKBUILD BIN
genoset 1.48.0  (landing page)
Peter M. Haverty
git_last_commit: 6006c44
git_last_commit_date: 2021-05-19 11:48:08 -0400
nebbiolo1Linux (Ubuntu 20.04.2 LTS) / x86_64  OK    ERROR  skipped
tokay2Windows Server 2012 R2 Standard / x64  OK    ERROR  skippedskipped
machv2macOS 10.14.6 Mojave / x86_64  OK    ERROR  skippedskipped
Package 174/434HostnameOS / ArchINSTALLBUILDCHECKBUILD BIN
genotypeeval 1.24.0  (landing page)
Jennifer Tom
git_last_commit: ddb6801
git_last_commit_date: 2021-05-19 12:14:37 -0400
nebbiolo1Linux (Ubuntu 20.04.2 LTS) / x86_64  OK    OK    WARNINGS  UNNEEDED, same version is already published
tokay2Windows Server 2012 R2 Standard / x64  OK    OK    WARNINGS    OK  UNNEEDED, same version is already published
machv2macOS 10.14.6 Mojave / x86_64  OK    OK    WARNINGS    OK  UNNEEDED, same version is already published
Package 175/434HostnameOS / ArchINSTALLBUILDCHECKBUILD BIN
GenVisR 1.24.0  (landing page)
Zachary Skidmore
git_last_commit: 3b6abcf
git_last_commit_date: 2021-05-19 12:17:38 -0400
nebbiolo1Linux (Ubuntu 20.04.2 LTS) / x86_64  OK    OK    ERROR  
tokay2Windows Server 2012 R2 Standard / x64  OK    OK    OK    OK  UNNEEDED, same version is already published
machv2macOS 10.14.6 Mojave / x86_64  OK    OK    OK    OK  UNNEEDED, same version is already published
Package 176/434HostnameOS / ArchINSTALLBUILDCHECKBUILD BIN
GeomxTools 1.0.0  (landing page)
Nicole Ortogero
git_last_commit: 2462584
git_last_commit_date: 2021-05-19 12:59:20 -0400
nebbiolo1Linux (Ubuntu 20.04.2 LTS) / x86_64  OK    OK    OK  UNNEEDED, same version is already published
tokay2Windows Server 2012 R2 Standard / x64  OK    OK    OK    OK  UNNEEDED, same version is already published
machv2macOS 10.14.6 Mojave / x86_64  OK    OK    OK    OK  UNNEEDED, same version is already published
Package 177/434HostnameOS / ArchINSTALLBUILDCHECKBUILD BIN
ggbio 1.40.0  (landing page)
Michael Lawrence
git_last_commit: c084632
git_last_commit_date: 2021-05-19 11:50:29 -0400
nebbiolo1Linux (Ubuntu 20.04.2 LTS) / x86_64  OK    OK    WARNINGS  UNNEEDED, same version is already published
tokay2Windows Server 2012 R2 Standard / x64  OK    OK    WARNINGS    OK  UNNEEDED, same version is already published
machv2macOS 10.14.6 Mojave / x86_64  OK    OK    WARNINGS    OK  UNNEEDED, same version is already published
Package 178/434HostnameOS / ArchINSTALLBUILDCHECKBUILD BIN
girafe 1.44.0  (landing page)
J. Toedling
git_last_commit: e753ae6
git_last_commit_date: 2021-05-19 11:45:04 -0400
nebbiolo1Linux (Ubuntu 20.04.2 LTS) / x86_64  OK    OK    OK  UNNEEDED, same version is already published
tokay2Windows Server 2012 R2 Standard / x64  OK    OK    OK    OK  UNNEEDED, same version is already published
machv2macOS 10.14.6 Mojave / x86_64  OK    OK    OK    OK  UNNEEDED, same version is already published
Package 179/434HostnameOS / ArchINSTALLBUILDCHECKBUILD BIN
glmGamPoi 1.4.0  (landing page)
Constantin Ahlmann-Eltze
git_last_commit: 908a0c3
git_last_commit_date: 2021-05-19 12:51:11 -0400
nebbiolo1Linux (Ubuntu 20.04.2 LTS) / x86_64  OK    OK    OK  UNNEEDED, same version is already published
tokay2Windows Server 2012 R2 Standard / x64  OK    OK    OK    OK  UNNEEDED, same version is already published
machv2macOS 10.14.6 Mojave / x86_64  OK    OK    OK    OK  UNNEEDED, same version is already published
Package 180/434HostnameOS / ArchINSTALLBUILDCHECKBUILD BIN
gmapR 1.34.0  (landing page)
Michael Lawrence
git_last_commit: 3262a4e
git_last_commit_date: 2021-05-19 11:53:08 -0400
nebbiolo1Linux (Ubuntu 20.04.2 LTS) / x86_64  OK    OK    WARNINGS  UNNEEDED, same version is already published
tokay2Windows Server 2012 R2 Standard / x64... NOT SUPPORTED ...
machv2macOS 10.14.6 Mojave / x86_64  OK    OK    WARNINGS    OK  UNNEEDED, same version is already published
Package 181/434HostnameOS / ArchINSTALLBUILDCHECKBUILD BIN
gmoviz 1.4.0  (landing page)
Kathleen Zeglinski
git_last_commit: 8eb5807
git_last_commit_date: 2021-05-19 12:50:37 -0400
nebbiolo1Linux (Ubuntu 20.04.2 LTS) / x86_64  OK    OK    OK  UNNEEDED, same version is already published
tokay2Windows Server 2012 R2 Standard / x64  OK    OK    OK    OK  UNNEEDED, same version is already published
machv2macOS 10.14.6 Mojave / x86_64  OK    OK    OK    OK  UNNEEDED, same version is already published
Package 182/434HostnameOS / ArchINSTALLBUILDCHECKBUILD BIN
goseq 1.44.0  (landing page)
Matthew Young , Nadia Davidson
git_last_commit: 4868dfb
git_last_commit_date: 2021-05-19 11:45:16 -0400
nebbiolo1Linux (Ubuntu 20.04.2 LTS) / x86_64  OK    OK    OK  UNNEEDED, same version is already published
tokay2Windows Server 2012 R2 Standard / x64  OK    OK    OK    OK  UNNEEDED, same version is already published
machv2macOS 10.14.6 Mojave / x86_64  OK    OK    OK    OK  UNNEEDED, same version is already published
Package 183/434HostnameOS / ArchINSTALLBUILDCHECKBUILD BIN
GOTHiC 1.28.0  (landing page)
Borbala Mifsud
git_last_commit: 4898bfc
git_last_commit_date: 2021-05-19 12:44:42 -0400
nebbiolo1Linux (Ubuntu 20.04.2 LTS) / x86_64  OK    OK    OK  UNNEEDED, same version is already published
tokay2Windows Server 2012 R2 Standard / x64  OK    OK    OK    OK  UNNEEDED, same version is already published
machv2macOS 10.14.6 Mojave / x86_64  OK    OK    OK    OK  UNNEEDED, same version is already published
Package 184/434HostnameOS / ArchINSTALLBUILDCHECKBUILD BIN
gpuMagic 1.8.0  (landing page)
Jiefei Wang
git_last_commit: b7bdd0f
git_last_commit_date: 2021-05-19 12:43:25 -0400
nebbiolo1Linux (Ubuntu 20.04.2 LTS) / x86_64  OK    OK    OK  UNNEEDED, same version is already published
tokay2Windows Server 2012 R2 Standard / x64  OK    OK    OK    OK  UNNEEDED, same version is already published
machv2macOS 10.14.6 Mojave / x86_64  OK    OK    OK    OK  UNNEEDED, same version is already published
Package 185/434HostnameOS / ArchINSTALLBUILDCHECKBUILD BIN
graph 1.70.0  (landing page)
Bioconductor Package Maintainer
git_last_commit: 1c28350
git_last_commit_date: 2021-05-19 11:33:03 -0400
nebbiolo1Linux (Ubuntu 20.04.2 LTS) / x86_64  OK    OK    OK  UNNEEDED, same version is already published
tokay2Windows Server 2012 R2 Standard / x64  OK    OK    OK    OK  UNNEEDED, same version is already published
machv2macOS 10.14.6 Mojave / x86_64  OK    OK    OK    OK  UNNEEDED, same version is already published
Package 186/434HostnameOS / ArchINSTALLBUILDCHECKBUILD BIN
GSEABase 1.54.0  (landing page)
Bioconductor Package Maintainer
git_last_commit: 5b59f70
git_last_commit_date: 2021-05-19 11:39:15 -0400
nebbiolo1Linux (Ubuntu 20.04.2 LTS) / x86_64  OK    OK    OK  UNNEEDED, same version is already published
tokay2Windows Server 2012 R2 Standard / x64  OK    OK    OK    OK  UNNEEDED, same version is already published
machv2macOS 10.14.6 Mojave / x86_64  OK    OK    OK    OK  UNNEEDED, same version is already published
Package 187/434HostnameOS / ArchINSTALLBUILDCHECKBUILD BIN
GUIDEseq 1.22.0  (landing page)
Lihua Julie Zhu
git_last_commit: d6c83e7
git_last_commit_date: 2021-05-19 12:16:19 -0400
nebbiolo1Linux (Ubuntu 20.04.2 LTS) / x86_64  OK    OK    OK  UNNEEDED, same version is already published
tokay2Windows Server 2012 R2 Standard / x64  OK    OK    OK    OK  UNNEEDED, same version is already published
machv2macOS 10.14.6 Mojave / x86_64  OK    OK    OK    OK  UNNEEDED, same version is already published
Package 188/434HostnameOS / ArchINSTALLBUILDCHECKBUILD BIN
Gviz 1.36.2  (landing page)
Robert Ivanek
git_last_commit: 742ed80
git_last_commit_date: 2021-07-02 05:34:16 -0400
nebbiolo1Linux (Ubuntu 20.04.2 LTS) / x86_64  OK    OK    OK  UNNEEDED, same version is already published
tokay2Windows Server 2012 R2 Standard / x64  OK    OK    OK    OK  UNNEEDED, same version is already published
machv2macOS 10.14.6 Mojave / x86_64  OK    OK    OK    OK  UNNEEDED, same version is already published
Package 189/434HostnameOS / ArchINSTALLBUILDCHECKBUILD BIN
HDF5Array 1.20.0  (landing page)
Hervé Pagès
git_last_commit: 8804048
git_last_commit_date: 2021-05-19 12:18:24 -0400
nebbiolo1Linux (Ubuntu 20.04.2 LTS) / x86_64  OK    OK    OK  UNNEEDED, same version is already published
tokay2Windows Server 2012 R2 Standard / x64  OK    OK    TIMEOUT    OK  
machv2macOS 10.14.6 Mojave / x86_64  OK    OK    OK    OK  UNNEEDED, same version is already published
Package 190/434HostnameOS / ArchINSTALLBUILDCHECKBUILD BIN
heatmaps 1.16.0  (landing page)
Malcolm Perry
git_last_commit: c35acce
git_last_commit_date: 2021-05-19 12:27:40 -0400
nebbiolo1Linux (Ubuntu 20.04.2 LTS) / x86_64  OK    OK    OK  UNNEEDED, same version is already published
tokay2Windows Server 2012 R2 Standard / x64  OK    OK    OK    OK  UNNEEDED, same version is already published
machv2macOS 10.14.6 Mojave / x86_64  OK    OK    OK    OK  UNNEEDED, same version is already published
Package 191/434HostnameOS / ArchINSTALLBUILDCHECKBUILD BIN
HelloRanges 1.18.0  (landing page)
Michael Lawrence
git_last_commit: e9067d1
git_last_commit_date: 2021-05-19 12:23:56 -0400
nebbiolo1Linux (Ubuntu 20.04.2 LTS) / x86_64  OK    OK    WARNINGS  UNNEEDED, same version is already published
tokay2Windows Server 2012 R2 Standard / x64  OK    OK    WARNINGS    OK  UNNEEDED, same version is already published
machv2macOS 10.14.6 Mojave / x86_64  OK    ERROR  skippedskipped
Package 192/434HostnameOS / ArchINSTALLBUILDCHECKBUILD BIN
HiLDA 1.6.0  (landing page)
Zhi Yang
git_last_commit: f7ac306
git_last_commit_date: 2021-05-19 12:45:01 -0400
nebbiolo1Linux (Ubuntu 20.04.2 LTS) / x86_64  OK    OK    OK  UNNEEDED, same version is already published
tokay2Windows Server 2012 R2 Standard / x64  OK    OK    OK    OK  UNNEEDED, same version is already published
machv2macOS 10.14.6 Mojave / x86_64  OK    OK    OK    OK  UNNEEDED, same version is already published
Package 193/434HostnameOS / ArchINSTALLBUILDCHECKBUILD BIN
hiReadsProcessor 1.28.0  (landing page)
Nirav V Malani
git_last_commit: daa41a6
git_last_commit_date: 2021-05-19 12:07:00 -0400
nebbiolo1Linux (Ubuntu 20.04.2 LTS) / x86_64  OK    OK    OK  UNNEEDED, same version is already published
tokay2Windows Server 2012 R2 Standard / x64... NOT SUPPORTED ...
machv2macOS 10.14.6 Mojave / x86_64  OK    OK    OK    OK  UNNEEDED, same version is already published
Package 194/434HostnameOS / ArchINSTALLBUILDCHECKBUILD BIN
hopach 2.52.0  (landing page)
Katherine S. Pollard
git_last_commit: 931d0dd
git_last_commit_date: 2021-05-19 11:34:55 -0400
nebbiolo1Linux (Ubuntu 20.04.2 LTS) / x86_64  OK    OK    OK  UNNEEDED, same version is already published
tokay2Windows Server 2012 R2 Standard / x64  OK    OK    OK    OK  UNNEEDED, same version is already published
machv2macOS 10.14.6 Mojave / x86_64  OK    OK    OK    OK  UNNEEDED, same version is already published
Package 195/434HostnameOS / ArchINSTALLBUILDCHECKBUILD BIN
HTSeqGenie 4.22.0  (landing page)
Jens Reeder
git_last_commit: ddd1eb5
git_last_commit_date: 2021-05-19 11:54:22 -0400
nebbiolo1Linux (Ubuntu 20.04.2 LTS) / x86_64  OK    OK    OK  UNNEEDED, same version is already published
tokay2Windows Server 2012 R2 Standard / x64... NOT SUPPORTED ...
machv2macOS 10.14.6 Mojave / x86_64... NOT SUPPORTED ...
Package 196/434HostnameOS / ArchINSTALLBUILDCHECKBUILD BIN
icetea 1.10.0  (landing page)
Vivek Bhardwaj
git_last_commit: b536bec
git_last_commit_date: 2021-05-19 12:36:20 -0400
nebbiolo1Linux (Ubuntu 20.04.2 LTS) / x86_64  OK    OK    OK  UNNEEDED, same version is already published
tokay2Windows Server 2012 R2 Standard / x64  OK    OK    OK    OK  UNNEEDED, same version is already published
machv2macOS 10.14.6 Mojave / x86_64  OK    OK    OK    OK  UNNEEDED, same version is already published
Package 197/434HostnameOS / ArchINSTALLBUILDCHECKBUILD BIN
igvR 1.12.0  (landing page)
Paul Shannon
git_last_commit: 947368f
git_last_commit_date: 2021-05-19 12:35:21 -0400
nebbiolo1Linux (Ubuntu 20.04.2 LTS) / x86_64  OK    OK    WARNINGS  UNNEEDED, same version is already published
tokay2Windows Server 2012 R2 Standard / x64  OK    OK    WARNINGS    OK  UNNEEDED, same version is already published
machv2macOS 10.14.6 Mojave / x86_64  OK    OK    WARNINGS    OK  UNNEEDED, same version is already published
Package 198/434HostnameOS / ArchINSTALLBUILDCHECKBUILD BIN
IHW 1.20.0  (landing page)
Nikos Ignatiadis
git_last_commit: 1d7e10d
git_last_commit_date: 2021-05-19 12:17:40 -0400
nebbiolo1Linux (Ubuntu 20.04.2 LTS) / x86_64  OK    OK    OK  UNNEEDED, same version is already published
tokay2Windows Server 2012 R2 Standard / x64  OK    OK    OK    OK  UNNEEDED, same version is already published
machv2macOS 10.14.6 Mojave / x86_64  OK    OK    OK    OK  UNNEEDED, same version is already published
Package 199/434HostnameOS / ArchINSTALLBUILDCHECKBUILD BIN
IMAS 1.16.0  (landing page)
Seonggyun Han
git_last_commit: b45a2cb
git_last_commit_date: 2021-05-19 12:27:18 -0400
nebbiolo1Linux (Ubuntu 20.04.2 LTS) / x86_64  OK    OK    OK  UNNEEDED, same version is already published
tokay2Windows Server 2012 R2 Standard / x64  OK    OK    OK    OK  UNNEEDED, same version is already published
machv2macOS 10.14.6 Mojave / x86_64  OK    OK    OK    OK  UNNEEDED, same version is already published
Package 200/434HostnameOS / ArchINSTALLBUILDCHECKBUILD BIN
infercnv 1.8.1  (landing page)
Christophe Georgescu
git_last_commit: 18e7f52
git_last_commit_date: 2021-08-16 16:17:55 -0400
nebbiolo1Linux (Ubuntu 20.04.2 LTS) / x86_64  OK    OK    OK  UNNEEDED, same version is already published
tokay2Windows Server 2012 R2 Standard / x64  OK    OK    OK    OK  UNNEEDED, same version is already published
machv2macOS 10.14.6 Mojave / x86_64  OK    OK    OK    OK  UNNEEDED, same version is already published
Package 201/434HostnameOS / ArchINSTALLBUILDCHECKBUILD BIN
INSPEcT 1.22.0  (landing page)
Stefano de Pretis
git_last_commit: b877791
git_last_commit_date: 2021-05-19 12:14:25 -0400
nebbiolo1Linux (Ubuntu 20.04.2 LTS) / x86_64  OK    OK    OK  UNNEEDED, same version is already published
tokay2Windows Server 2012 R2 Standard / x64  OK    OK    OK    OK  UNNEEDED, same version is already published
machv2macOS 10.14.6 Mojave / x86_64  OK    OK    OK    OK  UNNEEDED, same version is already published
Package 202/434HostnameOS / ArchINSTALLBUILDCHECKBUILD BIN
InTAD 1.12.0  (landing page)
Konstantin Okonechnikov
git_last_commit: 487822e
git_last_commit_date: 2021-05-19 12:34:59 -0400
nebbiolo1Linux (Ubuntu 20.04.2 LTS) / x86_64  OK    OK    OK  UNNEEDED, same version is already published
tokay2Windows Server 2012 R2 Standard / x64  OK    OK    OK    OK  UNNEEDED, same version is already published
machv2macOS 10.14.6 Mojave / x86_64  OK    OK    OK    OK  UNNEEDED, same version is already published
Package 203/434HostnameOS / ArchINSTALLBUILDCHECKBUILD BIN
intansv 1.32.0  (landing page)
Wen Yao
git_last_commit: b773954
git_last_commit_date: 2021-05-19 11:59:46 -0400
nebbiolo1Linux (Ubuntu 20.04.2 LTS) / x86_64  OK    OK    OK  UNNEEDED, same version is already published
tokay2Windows Server 2012 R2 Standard / x64  OK    OK    OK    OK  UNNEEDED, same version is already published
machv2macOS 10.14.6 Mojave / x86_64  OK    OK    OK    OK  UNNEEDED, same version is already published
Package 204/434HostnameOS / ArchINSTALLBUILDCHECKBUILD BIN
InteractionSet 1.20.0  (landing page)
Aaron Lun
git_last_commit: 020b6c6
git_last_commit_date: 2021-05-19 12:19:59 -0400
nebbiolo1Linux (Ubuntu 20.04.2 LTS) / x86_64  OK    OK    OK  UNNEEDED, same version is already published
tokay2Windows Server 2012 R2 Standard / x64  OK    OK    OK    OK  UNNEEDED, same version is already published
machv2macOS 10.14.6 Mojave / x86_64  OK    OK    OK    OK  UNNEEDED, same version is already published
Package 205/434HostnameOS / ArchINSTALLBUILDCHECKBUILD BIN
interactiveDisplay 1.30.0  (landing page)
Shawn Balcome
git_last_commit: 7c9aab4
git_last_commit_date: 2021-05-19 12:01:38 -0400
nebbiolo1Linux (Ubuntu 20.04.2 LTS) / x86_64  OK    OK    WARNINGS  UNNEEDED, same version is already published
tokay2Windows Server 2012 R2 Standard / x64  OK    OK    WARNINGS    OK  UNNEEDED, same version is already published
machv2macOS 10.14.6 Mojave / x86_64  OK    OK    WARNINGS    OK  UNNEEDED, same version is already published
Package 206/434HostnameOS / ArchINSTALLBUILDCHECKBUILD BIN
interactiveDisplayBase 1.30.0  (landing page)
Shawn Balcome
git_last_commit: 84be4b4
git_last_commit_date: 2021-05-19 12:06:29 -0400
nebbiolo1Linux (Ubuntu 20.04.2 LTS) / x86_64  OK    OK    OK  UNNEEDED, same version is already published
tokay2Windows Server 2012 R2 Standard / x64  OK    OK    OK    OK  UNNEEDED, same version is already published
machv2macOS 10.14.6 Mojave / x86_64  OK    OK    OK    OK  UNNEEDED, same version is already published
Package 207/434HostnameOS / ArchINSTALLBUILDCHECKBUILD BIN
IntEREst 1.16.0  (landing page)
Ali Oghabian , Mikko Frilander
git_last_commit: 4d75a7c
git_last_commit_date: 2021-05-19 12:26:24 -0400
nebbiolo1Linux (Ubuntu 20.04.2 LTS) / x86_64  OK    OK    OK  UNNEEDED, same version is already published
tokay2Windows Server 2012 R2 Standard / x64  OK    OK    OK    OK  UNNEEDED, same version is already published
machv2macOS 10.14.6 Mojave / x86_64  OK    OK    OK    OK  UNNEEDED, same version is already published
Package 208/434HostnameOS / ArchINSTALLBUILDCHECKBUILD BIN
IONiseR 2.16.0  (landing page)
Mike Smith
git_last_commit: e9be4a9
git_last_commit_date: 2021-05-19 12:14:13 -0400
nebbiolo1Linux (Ubuntu 20.04