Back to Multiple platform build/check report for BioC 3.13 |
|
This page was generated on 2021-10-15 15:06:27 -0400 (Fri, 15 Oct 2021).
To the developers/maintainers of the VplotR package: - Please allow up to 24 hours (and sometimes 48 hours) for your latest push to git@git.bioconductor.org:packages/VplotR.git to reflect on this report. See How and When does the builder pull? When will my changes propagate? here for more information. - Make sure to use the following settings in order to reproduce any error or warning you see on this page. |
Package 2010/2041 | Hostname | OS / Arch | INSTALL | BUILD | CHECK | BUILD BIN | ||||||||
VplotR 1.2.0 (landing page) Jacques Serizay
| nebbiolo1 | Linux (Ubuntu 20.04.2 LTS) / x86_64 | OK | OK | OK | |||||||||
tokay2 | Windows Server 2012 R2 Standard / x64 | OK | OK | OK | OK | |||||||||
machv2 | macOS 10.14.6 Mojave / x86_64 | OK | OK | OK | OK | |||||||||
Package: VplotR |
Version: 1.2.0 |
Command: C:\cygwin\bin\curl.exe -O http://155.52.207.165/BBS/3.13/bioc/src/contrib/VplotR_1.2.0.tar.gz && rm -rf VplotR.buildbin-libdir && mkdir VplotR.buildbin-libdir && C:\Users\biocbuild\bbs-3.13-bioc\R\bin\R.exe CMD INSTALL --merge-multiarch --build --library=VplotR.buildbin-libdir VplotR_1.2.0.tar.gz && C:\Users\biocbuild\bbs-3.13-bioc\R\bin\R.exe CMD INSTALL VplotR_1.2.0.zip && rm VplotR_1.2.0.tar.gz VplotR_1.2.0.zip |
StartedAt: 2021-10-14 08:47:09 -0400 (Thu, 14 Oct 2021) |
EndedAt: 2021-10-14 08:47:55 -0400 (Thu, 14 Oct 2021) |
EllapsedTime: 46.3 seconds |
RetCode: 0 |
Status: OK |
############################################################################## ############################################################################## ### ### Running command: ### ### C:\cygwin\bin\curl.exe -O http://155.52.207.165/BBS/3.13/bioc/src/contrib/VplotR_1.2.0.tar.gz && rm -rf VplotR.buildbin-libdir && mkdir VplotR.buildbin-libdir && C:\Users\biocbuild\bbs-3.13-bioc\R\bin\R.exe CMD INSTALL --merge-multiarch --build --library=VplotR.buildbin-libdir VplotR_1.2.0.tar.gz && C:\Users\biocbuild\bbs-3.13-bioc\R\bin\R.exe CMD INSTALL VplotR_1.2.0.zip && rm VplotR_1.2.0.tar.gz VplotR_1.2.0.zip ### ############################################################################## ############################################################################## % Total % Received % Xferd Average Speed Time Time Time Current Dload Upload Total Spent Left Speed 0 0 0 0 0 0 0 0 --:--:-- --:--:-- --:--:-- 0 38 2996k 38 1155k 0 0 1642k 0 0:00:01 --:--:-- 0:00:01 1642k 100 2996k 100 2996k 0 0 2182k 0 0:00:01 0:00:01 --:--:-- 2184k install for i386 * installing *source* package 'VplotR' ... ** using staged installation ** R ** data ** inst ** byte-compile and prepare package for lazy loading ** help *** installing help indices converting help for package 'VplotR' finding HTML links ... done ABF1_sacCer3 html ATAC_ce11_Serizay2020 html CTCF_hg38 html MNase_sacCer3_Henikoff2011 html MNase_sacCer3_Henikoff2011_subset html REB1_sacCer3 html alignToTSS html bam_test html ce11_all_REs html ce11_proms html computeNucleosomeEnrichmentOverBackground html computeVmat html deconvolveBidirectionalPromoters html getCuts html getFragmentsDistribution html importPEBamFiles html normalizeVmat html nucleosomeEnrichment.GRanges html nucleosomeEnrichment html nucleosomeEnrichment.Vmat html plotFootprint html plotProfile html plotVmat.GRanges html plotVmat html plotVmat.Vmat html plotVmat.VmatList html plotVmat.default html plotVmat.list html sampleGRanges.GRanges html sampleGRanges html shiftATACGranges html shuffleVmat html theme_ggplot2 html ** building package indices ** installing vignettes ** testing if installed package can be loaded from temporary location ** testing if installed package can be loaded from final location ** testing if installed package keeps a record of temporary installation path install for x64 * installing *source* package 'VplotR' ... ** testing if installed package can be loaded * MD5 sums packaged installation of 'VplotR' as VplotR_1.2.0.zip * DONE (VplotR) * installing to library 'C:/Users/biocbuild/bbs-3.13-bioc/R/library' package 'VplotR' successfully unpacked and MD5 sums checked