Back to Multiple platform build/check report for BioC 3.13
ABCDEFGHIJKLMNOPQ[R]STUVWXYZ

This page was generated on 2021-09-20 15:04:35 -0400 (Mon, 20 Sep 2021).

All results for package rhdf5

To the developers/maintainers of the rhdf5 package:
- Please allow up to 24 hours (and sometimes 48 hours) for your latest push to git@git.bioconductor.org:packages/rhdf5.git to
reflect on this report. See How and When does the builder pull? When will my changes propagate? here for more information.
- Make sure to use the following settings in order to reproduce any error or warning you see on this page.

raw results

Package 1573/2041HostnameOS / ArchINSTALLBUILDCHECKBUILD BIN
rhdf5 2.36.0  (landing page)
Mike Smith
Snapshot Date: 2021-09-19 04:50:10 -0400 (Sun, 19 Sep 2021)
git_url: https://git.bioconductor.org/packages/rhdf5
git_branch: RELEASE_3_13
git_last_commit: 4dc527f
git_last_commit_date: 2021-05-19 11:51:13 -0400 (Wed, 19 May 2021)
nebbiolo1Linux (Ubuntu 20.04.2 LTS) / x86_64  OK    OK    OK  UNNEEDED, same version is already published
tokay2Windows Server 2012 R2 Standard / x64  OK    OK    OK    OK  UNNEEDED, same version is already published
machv2macOS 10.14.6 Mojave / x86_64  OK    OK    OK    OK  UNNEEDED, same version is already published

Results for Bioconductor software packages that depend directly on package rhdf5

QUICK STATSOS / ArchINSTALLBUILDCHECKBUILD BIN
nebbiolo1Linux (Ubuntu 20.04.2 LTS) / x86_64
0038
0038
01433
tokay2Windows Server 2012 R2 Standard / x64
0038
0137
11431
0037
machv2macOS 10.14.6 Mojave / x86_64
0038
0038
01433
0038
Package 1/38HostnameOS / ArchINSTALLBUILDCHECKBUILD BIN
BayesSpace 1.2.1  (landing page)
Matt Stone
git_last_commit: d1996f9
git_last_commit_date: 2021-09-17 21:00:13 -0400
nebbiolo1Linux (Ubuntu 20.04.2 LTS) / x86_64  OK    OK    OK  YES
tokay2Windows Server 2012 R2 Standard / x64  OK    OK    OK    OK  YES
machv2macOS 10.14.6 Mojave / x86_64  OK    OK    OK    OK  YES
Package 2/38HostnameOS / ArchINSTALLBUILDCHECKBUILD BIN
BgeeCall 1.8.0  (landing page)
Julien Wollbrett
git_last_commit: 75b35d9
git_last_commit_date: 2021-05-19 12:48:49 -0400
nebbiolo1Linux (Ubuntu 20.04.2 LTS) / x86_64  OK    OK    OK  UNNEEDED, same version is already published
tokay2Windows Server 2012 R2 Standard / x64  OK    OK    OK    OK  UNNEEDED, same version is already published
machv2macOS 10.14.6 Mojave / x86_64  OK    OK    OK    OK  UNNEEDED, same version is already published
Package 3/38HostnameOS / ArchINSTALLBUILDCHECKBUILD BIN
biomformat 1.20.0  (landing page)
Paul J. McMurdie
git_last_commit: 986d2aa
git_last_commit_date: 2021-05-19 12:16:57 -0400
nebbiolo1Linux (Ubuntu 20.04.2 LTS) / x86_64  OK    OK    WARNINGS  UNNEEDED, same version is already published
tokay2Windows Server 2012 R2 Standard / x64  OK    OK    WARNINGS    OK  UNNEEDED, same version is already published
machv2macOS 10.14.6 Mojave / x86_64  OK    OK    WARNINGS    OK  UNNEEDED, same version is already published
Package 4/38HostnameOS / ArchINSTALLBUILDCHECKBUILD BIN
bnbc 1.14.0  (landing page)
Kipper Fletez-Brant
git_last_commit: 210c4d2
git_last_commit_date: 2021-05-19 12:31:07 -0400
nebbiolo1Linux (Ubuntu 20.04.2 LTS) / x86_64  OK    OK    OK  UNNEEDED, same version is already published
tokay2Windows Server 2012 R2 Standard / x64  OK    OK    OK    OK  UNNEEDED, same version is already published
machv2macOS 10.14.6 Mojave / x86_64  OK    OK    OK    OK  UNNEEDED, same version is already published
Package 5/38HostnameOS / ArchINSTALLBUILDCHECKBUILD BIN
bsseq 1.28.0  (landing page)
Kasper Daniel Hansen
git_last_commit: 57084fa
git_last_commit_date: 2021-05-19 11:53:03 -0400
nebbiolo1Linux (Ubuntu 20.04.2 LTS) / x86_64  OK    OK    OK  UNNEEDED, same version is already published
tokay2Windows Server 2012 R2 Standard / x64  OK    OK    OK    OK  UNNEEDED, same version is already published
machv2macOS 10.14.6 Mojave / x86_64  OK    OK    OK    OK  UNNEEDED, same version is already published
Package 6/38HostnameOS / ArchINSTALLBUILDCHECKBUILD BIN
CiteFuse 1.4.0  (landing page)
Yingxin Lin
git_last_commit: aefd68a
git_last_commit_date: 2021-05-19 12:51:31 -0400
nebbiolo1Linux (Ubuntu 20.04.2 LTS) / x86_64  OK    OK    OK  UNNEEDED, same version is already published
tokay2Windows Server 2012 R2 Standard / x64  OK    OK    OK    OK  UNNEEDED, same version is already published
machv2macOS 10.14.6 Mojave / x86_64  OK    OK    OK    OK  UNNEEDED, same version is already published
Package 7/38HostnameOS / ArchINSTALLBUILDCHECKBUILD BIN
cmapR 1.4.0  (landing page)
Ted Natoli
git_last_commit: e2fd1ea
git_last_commit_date: 2021-05-19 12:50:29 -0400
nebbiolo1Linux (Ubuntu 20.04.2 LTS) / x86_64  OK    OK    OK  UNNEEDED, same version is already published
tokay2Windows Server 2012 R2 Standard / x64  OK    OK    OK    OK  UNNEEDED, same version is already published
machv2macOS 10.14.6 Mojave / x86_64  OK    OK    OK    OK  UNNEEDED, same version is already published
Package 8/38HostnameOS / ArchINSTALLBUILDCHECKBUILD BIN
CoGAPS 3.12.0  (landing page)
Elana J. Fertig
git_last_commit: c297d7e
git_last_commit_date: 2021-05-19 11:45:58 -0400
nebbiolo1Linux (Ubuntu 20.04.2 LTS) / x86_64  OK    OK    OK  UNNEEDED, same version is already published
tokay2Windows Server 2012 R2 Standard / x64  OK    OK    OK    OK  UNNEEDED, same version is already published
machv2macOS 10.14.6 Mojave / x86_64  OK    OK    OK    OK  UNNEEDED, same version is already published
Package 9/38HostnameOS / ArchINSTALLBUILDCHECKBUILD BIN
CopyNumberPlots 1.8.0  (landing page)
Bernat Gel
git_last_commit: 474e67e
git_last_commit_date: 2021-05-19 12:43:11 -0400
nebbiolo1Linux (Ubuntu 20.04.2 LTS) / x86_64  OK    OK    OK  UNNEEDED, same version is already published
tokay2Windows Server 2012 R2 Standard / x64  OK    OK    OK    OK  UNNEEDED, same version is already published
machv2macOS 10.14.6 Mojave / x86_64  OK    OK    OK    OK  UNNEEDED, same version is already published
Package 10/38HostnameOS / ArchINSTALLBUILDCHECKBUILD BIN
CRISPRseek 1.32.0  (landing page)
Lihua Julie Zhu
git_last_commit: b64de86
git_last_commit_date: 2021-05-19 12:01:57 -0400
nebbiolo1Linux (Ubuntu 20.04.2 LTS) / x86_64  OK    OK    OK  UNNEEDED, same version is already published
tokay2Windows Server 2012 R2 Standard / x64  OK    OK    OK    OK  UNNEEDED, same version is already published
machv2macOS 10.14.6 Mojave / x86_64  OK    OK    OK    OK  UNNEEDED, same version is already published
Package 11/38HostnameOS / ArchINSTALLBUILDCHECKBUILD BIN
cTRAP 1.10.0  (landing page)
Nuno Saraiva-Agostinho
git_last_commit: e21b1e6
git_last_commit_date: 2021-05-19 12:39:02 -0400
nebbiolo1Linux (Ubuntu 20.04.2 LTS) / x86_64  OK    OK    OK  UNNEEDED, same version is already published
tokay2Windows Server 2012 R2 Standard / x64  OK    OK    OK    OK  UNNEEDED, same version is already published
machv2macOS 10.14.6 Mojave / x86_64  OK    OK    OK    OK  UNNEEDED, same version is already published
Package 12/38HostnameOS / ArchINSTALLBUILDCHECKBUILD BIN
cytomapper 1.4.1  (landing page)
Nils Eling
git_last_commit: edd9a70
git_last_commit_date: 2021-05-21 05:14:02 -0400
nebbiolo1Linux (Ubuntu 20.04.2 LTS) / x86_64  OK    OK    OK  UNNEEDED, same version is already published
tokay2Windows Server 2012 R2 Standard / x64  OK    OK    OK    OK  UNNEEDED, same version is already published
machv2macOS 10.14.6 Mojave / x86_64  OK    OK    OK    OK  UNNEEDED, same version is already published
Package 13/38HostnameOS / ArchINSTALLBUILDCHECKBUILD BIN
diffHic 1.24.1  (landing page)
Aaron Lun
git_last_commit: a505f6d
git_last_commit_date: 2021-07-15 04:46:22 -0400
nebbiolo1Linux (Ubuntu 20.04.2 LTS) / x86_64  OK    OK    OK  UNNEEDED, same version is already published
tokay2Windows Server 2012 R2 Standard / x64  OK    OK    OK    OK  UNNEEDED, same version is already published
machv2macOS 10.14.6 Mojave / x86_64  OK    OK    OK    OK  UNNEEDED, same version is already published
Package 14/38HostnameOS / ArchINSTALLBUILDCHECKBUILD BIN
DropletUtils 1.12.3  (landing page)
Aaron Lun
git_last_commit: 3f2d0d0
git_last_commit_date: 2021-09-18 16:31:36 -0400
nebbiolo1Linux (Ubuntu 20.04.2 LTS) / x86_64  OK    OK    OK  YES
tokay2Windows Server 2012 R2 Standard / x64  OK    OK    OK    OK  YES
machv2macOS 10.14.6 Mojave / x86_64  OK    OK    OK    OK  YES
Package 15/38HostnameOS / ArchINSTALLBUILDCHECKBUILD BIN
epigraHMM 1.0.3  (landing page)
Pedro Baldoni
git_last_commit: 04cb67e
git_last_commit_date: 2021-08-26 02:32:01 -0400
nebbiolo1Linux (Ubuntu 20.04.2 LTS) / x86_64  OK    OK    OK  UNNEEDED, same version is already published
tokay2Windows Server 2012 R2 Standard / x64  OK    OK    OK    OK  UNNEEDED, same version is already published
machv2macOS 10.14.6 Mojave / x86_64  OK    OK    OK    OK  UNNEEDED, same version is already published
Package 16/38HostnameOS / ArchINSTALLBUILDCHECKBUILD BIN
EventPointer 3.0.0  (landing page)
Juan A. Ferrer-Bonsoms
git_last_commit: e4f2123
git_last_commit_date: 2021-05-19 12:26:09 -0400
nebbiolo1Linux (Ubuntu 20.04.2 LTS) / x86_64  OK    OK    OK  UNNEEDED, same version is already published
tokay2Windows Server 2012 R2 Standard / x64  OK    OK    OK    OK  UNNEEDED, same version is already published
machv2macOS 10.14.6 Mojave / x86_64  OK    OK    OK    OK  UNNEEDED, same version is already published
Package 17/38HostnameOS / ArchINSTALLBUILDCHECKBUILD BIN
FRASER 1.4.0  (landing page)
Christian Mertes
git_last_commit: 926f313
git_last_commit_date: 2021-05-19 12:51:54 -0400
nebbiolo1Linux (Ubuntu 20.04.2 LTS) / x86_64  OK    OK    OK  UNNEEDED, same version is already published
tokay2Windows Server 2012 R2 Standard / x64  OK    OK    OK    OK  UNNEEDED, same version is already published
machv2macOS 10.14.6 Mojave / x86_64  OK    OK    OK    OK  UNNEEDED, same version is already published
Package 18/38HostnameOS / ArchINSTALLBUILDCHECKBUILD BIN
GenoGAM 2.10.0  (landing page)
Georg Stricker
git_last_commit: 3b86b0c
git_last_commit_date: 2021-05-19 12:19:19 -0400
nebbiolo1Linux (Ubuntu 20.04.2 LTS) / x86_64  OK    OK    WARNINGS  UNNEEDED, same version is already published
tokay2Windows Server 2012 R2 Standard / x64  OK    OK    WARNINGS    OK  UNNEEDED, same version is already published
machv2macOS 10.14.6 Mojave / x86_64  OK    OK    WARNINGS    OK  UNNEEDED, same version is already published
Package 19/38HostnameOS / ArchINSTALLBUILDCHECKBUILD BIN
GenomicScores 2.4.0  (landing page)
Robert Castelo
git_last_commit: 4b46561
git_last_commit_date: 2021-05-19 12:27:15 -0400
nebbiolo1Linux (Ubuntu 20.04.2 LTS) / x86_64  OK    OK    OK  UNNEEDED, same version is already published
tokay2Windows Server 2012 R2 Standard / x64  OK    OK    OK    OK  UNNEEDED, same version is already published
machv2macOS 10.14.6 Mojave / x86_64  OK    OK    OK    OK  UNNEEDED, same version is already published
Package 20/38HostnameOS / ArchINSTALLBUILDCHECKBUILD BIN
gep2pep 1.12.0  (landing page)
Francesco Napolitano
git_last_commit: c8755ce
git_last_commit_date: 2021-05-19 12:32:02 -0400
nebbiolo1Linux (Ubuntu 20.04.2 LTS) / x86_64  OK    OK    OK  UNNEEDED, same version is already published
tokay2Windows Server 2012 R2 Standard / x64  OK    OK    OK    OK  UNNEEDED, same version is already published
machv2macOS 10.14.6 Mojave / x86_64  OK    OK    OK    OK  UNNEEDED, same version is already published
Package 21/38HostnameOS / ArchINSTALLBUILDCHECKBUILD BIN
GSCA 2.22.0  (landing page)
Zhicheng Ji
git_last_commit: 24c5884
git_last_commit_date: 2021-05-19 12:02:57 -0400
nebbiolo1Linux (Ubuntu 20.04.2 LTS) / x86_64  OK    OK    OK  UNNEEDED, same version is already published
tokay2Windows Server 2012 R2 Standard / x64  OK    OK    OK    OK  UNNEEDED, same version is already published
machv2macOS 10.14.6 Mojave / x86_64  OK    OK    OK    OK  UNNEEDED, same version is already published
Package 22/38HostnameOS / ArchINSTALLBUILDCHECKBUILD BIN
h5vc 2.26.1  (landing page)
Paul Theodor Pyl
git_last_commit: 95d3f8b
git_last_commit_date: 2021-05-21 16:31:59 -0400
nebbiolo1Linux (Ubuntu 20.04.2 LTS) / x86_64  OK    OK    WARNINGS  UNNEEDED, same version is already published
tokay2Windows Server 2012 R2 Standard / x64  OK    OK    WARNINGS    OK  UNNEEDED, same version is already published
machv2macOS 10.14.6 Mojave / x86_64  OK    OK    WARNINGS    OK  UNNEEDED, same version is already published
Package 23/38HostnameOS / ArchINSTALLBUILDCHECKBUILD BIN
HDF5Array 1.20.0  (landing page)
Hervé Pagès
git_last_commit: 8804048
git_last_commit_date: 2021-05-19 12:18:24 -0400
nebbiolo1Linux (Ubuntu 20.04.2 LTS) / x86_64  OK    OK    OK  UNNEEDED, same version is already published
tokay2Windows Server 2012 R2 Standard / x64  OK    OK    TIMEOUT    OK  
machv2macOS 10.14.6 Mojave / x86_64  OK    OK    OK    OK  UNNEEDED, same version is already published
Package 24/38HostnameOS / ArchINSTALLBUILDCHECKBUILD BIN
HiCBricks 1.10.0  (landing page)
Koustav Pal
git_last_commit: f242bbd
git_last_commit_date: 2021-05-19 12:38:53 -0400
nebbiolo1Linux (Ubuntu 20.04.2 LTS) / x86_64  OK    OK    OK  UNNEEDED, same version is already published
tokay2Windows Server 2012 R2 Standard / x64  OK    OK    OK    OK  UNNEEDED, same version is already published
machv2macOS 10.14.6 Mojave / x86_64  OK    OK    OK    OK  UNNEEDED, same version is already published
Package 25/38HostnameOS / ArchINSTALLBUILDCHECKBUILD BIN
HiCcompare 1.14.0  (landing page)
John Stansfield , Mikhail Dozmorov
git_last_commit: e1b41c3
git_last_commit_date: 2021-05-19 12:29:06 -0400
nebbiolo1Linux (Ubuntu 20.04.2 LTS) / x86_64  OK    OK    WARNINGS  UNNEEDED, same version is already published
tokay2Windows Server 2012 R2 Standard / x64  OK    OK    WARNINGS    OK  UNNEEDED, same version is already published
machv2macOS 10.14.6 Mojave / x86_64  OK    OK    WARNINGS    OK  UNNEEDED, same version is already published
Package 26/38HostnameOS / ArchINSTALLBUILDCHECKBUILD BIN
IONiseR 2.16.0  (landing page)
Mike Smith
git_last_commit: e9be4a9
git_last_commit_date: 2021-05-19 12:14:13 -0400
nebbiolo1Linux (Ubuntu 20.04.2 LTS) / x86_64  OK    OK    OK  UNNEEDED, same version is already published
tokay2Windows Server 2012 R2 Standard / x64  OK    OK    OK    OK  UNNEEDED, same version is already published
machv2macOS 10.14.6 Mojave / x86_64  OK    OK    OK    OK  UNNEEDED, same version is already published
Package 27/38HostnameOS / ArchINSTALLBUILDCHECKBUILD BIN
LoomExperiment 1.10.1  (landing page)
Bioconductor Package Maintainer
git_last_commit: 347a524
git_last_commit_date: 2021-05-23 11:26:39 -0400
nebbiolo1Linux (Ubuntu 20.04.2 LTS) / x86_64  OK    OK    OK  UNNEEDED, same version is already published
tokay2Windows Server 2012 R2 Standard / x64  OK    OK    OK    OK  UNNEEDED, same version is already published
machv2macOS 10.14.6 Mojave / x86_64  OK    OK    OK    OK  UNNEEDED, same version is already published
Package 28/38HostnameOS / ArchINSTALLBUILDCHECKBUILD BIN
MOFA2 1.2.2  (landing page)
Britta Velten
git_last_commit: 98a2d44
git_last_commit_date: 2021-08-23 11:25:24 -0400
nebbiolo1Linux (Ubuntu 20.04.2 LTS) / x86_64  OK    OK    OK  UNNEEDED, same version is already published
tokay2Windows Server 2012 R2 Standard / x64  OK    OK    OK    OK  UNNEEDED, same version is already published
machv2macOS 10.14.6 Mojave / x86_64  OK    OK    OK    OK  UNNEEDED, same version is already published
Package 29/38HostnameOS / ArchINSTALLBUILDCHECKBUILD BIN
phantasus 1.12.0  (landing page)
Alexey Sergushichev
git_last_commit: e2115e2
git_last_commit_date: 2021-05-19 12:34:17 -0400
nebbiolo1Linux (Ubuntu 20.04.2 LTS) / x86_64  OK    OK    OK  UNNEEDED, same version is already published
tokay2Windows Server 2012 R2 Standard / x64  OK    OK    OK    OK  UNNEEDED, same version is already published
machv2macOS 10.14.6 Mojave / x86_64  OK    OK    OK    OK  UNNEEDED, same version is already published
Package 30/38HostnameOS / ArchINSTALLBUILDCHECKBUILD BIN
ptairMS 1.0.0  (landing page)
camille Roquencourt
git_last_commit: 98f04b5
git_last_commit_date: 2021-05-19 13:01:46 -0400
nebbiolo1Linux (Ubuntu 20.04.2 LTS) / x86_64  OK    OK    OK  UNNEEDED, same version is already published
tokay2Windows Server 2012 R2 Standard / x64  OK    OK    OK    OK  UNNEEDED, same version is already published
machv2macOS 10.14.6 Mojave / x86_64  OK    OK    OK    OK  UNNEEDED, same version is already published
Package 31/38HostnameOS / ArchINSTALLBUILDCHECKBUILD BIN
PureCN 1.22.2  (landing page)
Markus Riester
git_last_commit: 1d595f4
git_last_commit_date: 2021-07-01 13:33:13 -0400
nebbiolo1Linux (Ubuntu 20.04.2 LTS) / x86_64  OK    OK    OK  UNNEEDED, same version is already published
tokay2Windows Server 2012 R2 Standard / x64  OK    OK    OK    OK  UNNEEDED, same version is already published
machv2macOS 10.14.6 Mojave / x86_64  OK    OK    OK    OK  UNNEEDED, same version is already published
Package 32/38HostnameOS / ArchINSTALLBUILDCHECKBUILD BIN
recountmethylation 1.2.0  (landing page)
Sean K Maden
git_last_commit: de6fb2f
git_last_commit_date: 2021-05-19 12:55:10 -0400
nebbiolo1Linux (Ubuntu 20.04.2 LTS) / x86_64  OK    OK    OK  UNNEEDED, same version is already published
tokay2Windows Server 2012 R2 Standard / x64  OK    ERROR  skippedskipped
machv2macOS 10.14.6 Mojave / x86_64  OK    OK    OK    OK  UNNEEDED, same version is already published
Package 33/38HostnameOS / ArchINSTALLBUILDCHECKBUILD BIN
ribor 1.4.0  (landing page)
Michael Geng
git_last_commit: ca9bd2a
git_last_commit_date: 2021-05-19 12:50:02 -0400
nebbiolo1Linux (Ubuntu 20.04.2 LTS) / x86_64  OK    OK    OK  UNNEEDED, same version is already published
tokay2Windows Server 2012 R2 Standard / x64  OK    OK    OK    OK  UNNEEDED, same version is already published
machv2macOS 10.14.6 Mojave / x86_64  OK    OK    OK    OK  UNNEEDED, same version is already published
Package 34/38HostnameOS / ArchINSTALLBUILDCHECKBUILD BIN
scCB2 1.2.0  (landing page)
Zijian Ni
git_last_commit: 6a7ccb6
git_last_commit_date: 2021-05-19 12:53:46 -0400
nebbiolo1Linux (Ubuntu 20.04.2 LTS) / x86_64  OK    OK    OK  UNNEEDED, same version is already published
tokay2Windows Server 2012 R2 Standard / x64  OK    OK    OK    OK  UNNEEDED, same version is already published
machv2macOS 10.14.6 Mojave / x86_64  OK    OK    OK    OK  UNNEEDED, same version is already published
Package 35/38HostnameOS / ArchINSTALLBUILDCHECKBUILD BIN
scone 1.16.1  (landing page)
Davide Risso
git_last_commit: e028b2e
git_last_commit_date: 2021-07-21 04:27:03 -0400
nebbiolo1Linux (Ubuntu 20.04.2 LTS) / x86_64  OK    OK    OK  UNNEEDED, same version is already published
tokay2Windows Server 2012 R2 Standard / x64  OK    OK    OK    OK  UNNEEDED, same version is already published
machv2macOS 10.14.6 Mojave / x86_64  OK    OK    OK    OK  UNNEEDED, same version is already published
Package 36/38HostnameOS / ArchINSTALLBUILDCHECKBUILD BIN
signatureSearch 1.6.3  (landing page)
Yuzhu Duan
git_last_commit: 5c1eebb
git_last_commit_date: 2021-08-29 20:33:50 -0400
nebbiolo1Linux (Ubuntu 20.04.2 LTS) / x86_64  OK    OK    OK  UNNEEDED, same version is already published
tokay2Windows Server 2012 R2 Standard / x64  OK    OK    OK    OK  UNNEEDED, same version is already published
machv2macOS 10.14.6 Mojave / x86_64  OK    OK    OK    OK  UNNEEDED, same version is already published
Package 37/38HostnameOS / ArchINSTALLBUILDCHECKBUILD BIN
slinky 1.10.0  (landing page)
Eric J. Kort
git_last_commit: 53b81e6
git_last_commit_date: 2021-05-19 12:36:32 -0400
nebbiolo1Linux (Ubuntu 20.04.2 LTS) / x86_64  OK    OK    ERROR  
tokay2Windows Server 2012 R2 Standard / x64  OK    OK    ERROR    OK  
machv2macOS 10.14.6 Mojave / x86_64  OK    OK    ERROR    OK  
Package 38/38HostnameOS / ArchINSTALLBUILDCHECKBUILD BIN
trackViewer 1.28.1  (landing page)
Jianhong Ou
git_last_commit: 84fca6e
git_last_commit_date: 2021-07-06 12:09:25 -0400
nebbiolo1Linux (Ubuntu 20.04.2 LTS) / x86_64  OK    OK    OK  UNNEEDED, same version is already published
tokay2Windows Server 2012 R2 Standard / x64  OK    OK    OK    OK  UNNEEDED, same version is already published
machv2macOS 10.14.6 Mojave / x86_64  OK    OK    OK    OK  UNNEEDED, same version is already published