Back to Multiple platform build/check report for BioC 3.13
ABCDE[F]GHIJKLMNOPQRSTUVWXYZ

This page was generated on 2021-10-13 15:04:33 -0400 (Wed, 13 Oct 2021).

All results for package flowCore

To the developers/maintainers of the flowCore package:
- Please allow up to 24 hours (and sometimes 48 hours) for your latest push to git@git.bioconductor.org:packages/flowCore.git to
reflect on this report. See How and When does the builder pull? When will my changes propagate? here for more information.
- Make sure to use the following settings in order to reproduce any error or warning you see on this page.

raw results

Package 647/2041HostnameOS / ArchINSTALLBUILDCHECKBUILD BIN
flowCore 2.4.0  (landing page)
Mike Jiang
Snapshot Date: 2021-10-12 04:50:13 -0400 (Tue, 12 Oct 2021)
git_url: https://git.bioconductor.org/packages/flowCore
git_branch: RELEASE_3_13
git_last_commit: 1f5f4b6
git_last_commit_date: 2021-05-19 11:38:20 -0400 (Wed, 19 May 2021)
nebbiolo1Linux (Ubuntu 20.04.2 LTS) / x86_64  OK    OK    OK  UNNEEDED, same version is already published
tokay2Windows Server 2012 R2 Standard / x64  OK    OK    OK    OK  UNNEEDED, same version is already published
machv2macOS 10.14.6 Mojave / x86_64  OK    OK    OK    OK  UNNEEDED, same version is already published

Results for Bioconductor software packages that depend directly on package flowCore

QUICK STATSOS / ArchINSTALLBUILDCHECKBUILD BIN
nebbiolo1Linux (Ubuntu 20.04.2 LTS) / x86_64
0045
0144
01934
tokay2Windows Server 2012 R2 Standard / x64
0045
0144
02834
0044
machv2macOS 10.14.6 Mojave / x86_64
0045
0144
011033
0044
Package 1/45HostnameOS / ArchINSTALLBUILDCHECKBUILD BIN
CATALYST 1.16.2  (landing page)
Helena L. Crowell
git_last_commit: 5e3b4f4
git_last_commit_date: 2021-07-13 04:40:41 -0400
nebbiolo1Linux (Ubuntu 20.04.2 LTS) / x86_64  OK    OK    OK  UNNEEDED, same version is already published
tokay2Windows Server 2012 R2 Standard / x64  OK    OK    OK    OK  UNNEEDED, same version is already published
machv2macOS 10.14.6 Mojave / x86_64  OK    OK    OK    OK  UNNEEDED, same version is already published
Package 2/45HostnameOS / ArchINSTALLBUILDCHECKBUILD BIN
cmapR 1.4.0  (landing page)
Ted Natoli
git_last_commit: e2fd1ea
git_last_commit_date: 2021-05-19 12:50:29 -0400
nebbiolo1Linux (Ubuntu 20.04.2 LTS) / x86_64  OK    OK    OK  UNNEEDED, same version is already published
tokay2Windows Server 2012 R2 Standard / x64  OK    OK    OK    OK  UNNEEDED, same version is already published
machv2macOS 10.14.6 Mojave / x86_64  OK    OK    OK    OK  UNNEEDED, same version is already published
Package 3/45HostnameOS / ArchINSTALLBUILDCHECKBUILD BIN
CONFESS 1.20.0  (landing page)
Diana LOW
git_last_commit: 5f6120a
git_last_commit_date: 2021-05-19 12:19:35 -0400
nebbiolo1Linux (Ubuntu 20.04.2 LTS) / x86_64  OK    OK    WARNINGS  UNNEEDED, same version is already published
tokay2Windows Server 2012 R2 Standard / x64  OK    OK    WARNINGS    OK  UNNEEDED, same version is already published
machv2macOS 10.14.6 Mojave / x86_64  OK    OK    WARNINGS    OK  UNNEEDED, same version is already published
Package 4/45HostnameOS / ArchINSTALLBUILDCHECKBUILD BIN
cyanoFilter 1.0.0  (landing page)
Oluwafemi Olusoji
git_last_commit: 3160dc7
git_last_commit_date: 2021-05-19 13:01:40 -0400
nebbiolo1Linux (Ubuntu 20.04.2 LTS) / x86_64  OK    OK    OK  UNNEEDED, same version is already published
tokay2Windows Server 2012 R2 Standard / x64  OK    OK    OK    OK  UNNEEDED, same version is already published
machv2macOS 10.14.6 Mojave / x86_64  OK    OK    OK    OK  UNNEEDED, same version is already published
Package 5/45HostnameOS / ArchINSTALLBUILDCHECKBUILD BIN
cydar 1.16.0  (landing page)
Aaron Lun
git_last_commit: 38926f1
git_last_commit_date: 2021-05-19 12:26:41 -0400
nebbiolo1Linux (Ubuntu 20.04.2 LTS) / x86_64  OK    OK    OK  UNNEEDED, same version is already published
tokay2Windows Server 2012 R2 Standard / x64  OK    OK    OK    OK  UNNEEDED, same version is already published
machv2macOS 10.14.6 Mojave / x86_64  OK    OK    OK    OK  UNNEEDED, same version is already published
Package 6/45HostnameOS / ArchINSTALLBUILDCHECKBUILD BIN
CytoDx 1.12.0  (landing page)
Zicheng Hu
git_last_commit: 32996cb
git_last_commit_date: 2021-05-19 12:35:01 -0400
nebbiolo1Linux (Ubuntu 20.04.2 LTS) / x86_64  OK    OK    OK  UNNEEDED, same version is already published
tokay2Windows Server 2012 R2 Standard / x64  OK    OK    OK    OK  UNNEEDED, same version is already published
machv2macOS 10.14.6 Mojave / x86_64  OK    OK    OK    OK  UNNEEDED, same version is already published
Package 7/45HostnameOS / ArchINSTALLBUILDCHECKBUILD BIN
cytofast 1.8.0  (landing page)
K.A. Stam
git_last_commit: ac2f75f
git_last_commit_date: 2021-05-19 12:40:33 -0400
nebbiolo1Linux (Ubuntu 20.04.2 LTS) / x86_64  OK    OK    ERROR  
tokay2Windows Server 2012 R2 Standard / x64  OK    OK    ERROR    OK  
machv2macOS 10.14.6 Mojave / x86_64  OK    OK    ERROR    OK  
Package 8/45HostnameOS / ArchINSTALLBUILDCHECKBUILD BIN
CytoML 2.4.0  (landing page)
Mike Jiang
git_last_commit: 6e64d69
git_last_commit_date: 2021-05-19 12:21:29 -0400
nebbiolo1Linux (Ubuntu 20.04.2 LTS) / x86_64  OK    OK    WARNINGS  UNNEEDED, same version is already published
tokay2Windows Server 2012 R2 Standard / x64  OK    OK    WARNINGS    OK  UNNEEDED, same version is already published
machv2macOS 10.14.6 Mojave / x86_64  OK    OK    WARNINGS    OK  UNNEEDED, same version is already published
Package 9/45HostnameOS / ArchINSTALLBUILDCHECKBUILD BIN
CytoTree 1.2.0  (landing page)
Yuting Dai
git_last_commit: a4311cc
git_last_commit_date: 2021-05-19 12:53:38 -0400
nebbiolo1Linux (Ubuntu 20.04.2 LTS) / x86_64  OK    OK    OK  UNNEEDED, same version is already published
tokay2Windows Server 2012 R2 Standard / x64  OK    OK    OK    OK  UNNEEDED, same version is already published
machv2macOS 10.14.6 Mojave / x86_64  OK    OK    OK    OK  UNNEEDED, same version is already published
Package 10/45HostnameOS / ArchINSTALLBUILDCHECKBUILD BIN
ddPCRclust 1.12.0  (landing page)
Benedikt G. Brink
git_last_commit: edc91db
git_last_commit_date: 2021-05-19 12:33:40 -0400
nebbiolo1Linux (Ubuntu 20.04.2 LTS) / x86_64  OK    OK    OK  UNNEEDED, same version is already published
tokay2Windows Server 2012 R2 Standard / x64  OK    OK    OK    OK  UNNEEDED, same version is already published
machv2macOS 10.14.6 Mojave / x86_64  OK    OK    OK    OK  UNNEEDED, same version is already published
Package 11/45HostnameOS / ArchINSTALLBUILDCHECKBUILD BIN
diffcyt 1.12.0  (landing page)
Lukas M. Weber
git_last_commit: 7e8f4d3
git_last_commit_date: 2021-05-19 12:34:44 -0400
nebbiolo1Linux (Ubuntu 20.04.2 LTS) / x86_64  OK    OK    OK  UNNEEDED, same version is already published
tokay2Windows Server 2012 R2 Standard / x64  OK    OK    OK    OK  UNNEEDED, same version is already published
machv2macOS 10.14.6 Mojave / x86_64  OK    OK    OK    OK  UNNEEDED, same version is already published
Package 12/45HostnameOS / ArchINSTALLBUILDCHECKBUILD BIN
flowAI 1.22.0  (landing page)
Gianni Monaco
git_last_commit: a517a94
git_last_commit_date: 2021-05-19 12:17:33 -0400
nebbiolo1Linux (Ubuntu 20.04.2 LTS) / x86_64  OK    OK    OK  UNNEEDED, same version is already published
tokay2Windows Server 2012 R2 Standard / x64  OK    OK    OK    OK  UNNEEDED, same version is already published
machv2macOS 10.14.6 Mojave / x86_64  OK    OK    OK    OK  UNNEEDED, same version is already published
Package 13/45HostnameOS / ArchINSTALLBUILDCHECKBUILD BIN
flowBeads 1.30.0  (landing page)
Nikolas Pontikos
git_last_commit: 57c2789
git_last_commit_date: 2021-05-19 11:59:07 -0400
nebbiolo1Linux (Ubuntu 20.04.2 LTS) / x86_64  OK    OK    WARNINGS  UNNEEDED, same version is already published
tokay2Windows Server 2012 R2 Standard / x64  OK    OK    WARNINGS    OK  UNNEEDED, same version is already published
machv2macOS 10.14.6 Mojave / x86_64  OK    OK    WARNINGS    OK  UNNEEDED, same version is already published
Package 14/45HostnameOS / ArchINSTALLBUILDCHECKBUILD BIN
flowBin 1.28.0  (landing page)
Kieran O'Neill
git_last_commit: 7e5e658
git_last_commit_date: 2021-05-19 12:02:16 -0400
nebbiolo1Linux (Ubuntu 20.04.2 LTS) / x86_64  OK    OK    OK  UNNEEDED, same version is already published
tokay2Windows Server 2012 R2 Standard / x64  OK    OK    OK    OK  UNNEEDED, same version is already published
machv2macOS 10.14.6 Mojave / x86_64  OK    OK    OK    OK  UNNEEDED, same version is already published
Package 15/45HostnameOS / ArchINSTALLBUILDCHECKBUILD BIN
flowCHIC 1.26.0  (landing page)
Author: Joachim Schumann
git_last_commit: 16676cf
git_last_commit_date: 2021-05-19 12:08:46 -0400
nebbiolo1Linux (Ubuntu 20.04.2 LTS) / x86_64  OK    OK    OK  UNNEEDED, same version is already published
tokay2Windows Server 2012 R2 Standard / x64  OK    OK    OK    OK  UNNEEDED, same version is already published
machv2macOS 10.14.6 Mojave / x86_64  OK    OK    OK    OK  UNNEEDED, same version is already published
Package 16/45HostnameOS / ArchINSTALLBUILDCHECKBUILD BIN
flowClean 1.30.0  (landing page)
Kipper Fletez-Brant
git_last_commit: 5e882c9
git_last_commit_date: 2021-05-19 12:05:20 -0400
nebbiolo1Linux (Ubuntu 20.04.2 LTS) / x86_64  OK    OK    WARNINGS  UNNEEDED, same version is already published
tokay2Windows Server 2012 R2 Standard / x64  OK    OK    WARNINGS    OK  UNNEEDED, same version is already published
machv2macOS 10.14.6 Mojave / x86_64  OK    OK    WARNINGS    OK  UNNEEDED, same version is already published
Package 17/45HostnameOS / ArchINSTALLBUILDCHECKBUILD BIN
flowClust 3.30.0  (landing page)
Greg Finak , Mike Jiang
git_last_commit: c52585b
git_last_commit_date: 2021-05-19 11:40:35 -0400
nebbiolo1Linux (Ubuntu 20.04.2 LTS) / x86_64  OK    OK    OK  UNNEEDED, same version is already published
tokay2Windows Server 2012 R2 Standard / x64  OK    OK    OK    OK  UNNEEDED, same version is already published
machv2macOS 10.14.6 Mojave / x86_64  OK    OK    WARNINGS    OK  UNNEEDED, same version is already published
Package 18/45HostnameOS / ArchINSTALLBUILDCHECKBUILD BIN
flowCut 1.2.0  (landing page)
Justin Meskas
git_last_commit: 3edb4be
git_last_commit_date: 2021-05-19 12:52:50 -0400
nebbiolo1Linux (Ubuntu 20.04.2 LTS) / x86_64  OK    OK    OK  UNNEEDED, same version is already published
tokay2Windows Server 2012 R2 Standard / x64  OK    OK    OK    OK  UNNEEDED, same version is already published
machv2macOS 10.14.6 Mojave / x86_64  OK    OK    OK    OK  UNNEEDED, same version is already published
Package 19/45HostnameOS / ArchINSTALLBUILDCHECKBUILD BIN
flowDensity 1.26.0  (landing page)
Mehrnoush Malek
git_last_commit: 6559b9f
git_last_commit_date: 2021-05-19 12:05:46 -0400
nebbiolo1Linux (Ubuntu 20.04.2 LTS) / x86_64  OK    OK    WARNINGS  UNNEEDED, same version is already published
tokay2Windows Server 2012 R2 Standard / x64  OK    OK    WARNINGS    OK  UNNEEDED, same version is already published
machv2macOS 10.14.6 Mojave / x86_64  OK    OK    WARNINGS    OK  UNNEEDED, same version is already published
Package 20/45HostnameOS / ArchINSTALLBUILDCHECKBUILD BIN
flowFP 1.50.0  (landing page)
Herb Holyst
git_last_commit: 4749abd
git_last_commit_date: 2021-05-19 11:43:28 -0400
nebbiolo1Linux (Ubuntu 20.04.2 LTS) / x86_64  OK    OK    OK  UNNEEDED, same version is already published
tokay2Windows Server 2012 R2 Standard / x64  OK    OK    OK    OK  UNNEEDED, same version is already published
machv2macOS 10.14.6 Mojave / x86_64  OK    OK    OK    OK  UNNEEDED, same version is already published
Package 21/45HostnameOS / ArchINSTALLBUILDCHECKBUILD BIN
flowMatch 1.28.0  (landing page)
Ariful Azad
git_last_commit: 9bf49d3
git_last_commit_date: 2021-05-19 12:02:03 -0400
nebbiolo1Linux (Ubuntu 20.04.2 LTS) / x86_64  OK    OK    OK  UNNEEDED, same version is already published
tokay2Windows Server 2012 R2 Standard / x64  OK    OK    OK    OK  UNNEEDED, same version is already published
machv2macOS 10.14.6 Mojave / x86_64  OK    OK    OK    OK  UNNEEDED, same version is already published
Package 22/45HostnameOS / ArchINSTALLBUILDCHECKBUILD BIN
flowMeans 1.52.0  (landing page)
Nima Aghaeepour
git_last_commit: eaf6792
git_last_commit_date: 2021-05-19 11:45:23 -0400
nebbiolo1Linux (Ubuntu 20.04.2 LTS) / x86_64  OK    OK    OK  UNNEEDED, same version is already published
tokay2Windows Server 2012 R2 Standard / x64  OK    OK    OK    OK  UNNEEDED, same version is already published
machv2macOS 10.14.6 Mojave / x86_64  OK    OK    OK    OK  UNNEEDED, same version is already published
Package 23/45HostnameOS / ArchINSTALLBUILDCHECKBUILD BIN
flowMerge 2.40.0  (landing page)
Greg Finak
git_last_commit: beb6e37
git_last_commit_date: 2021-05-19 11:43:25 -0400
nebbiolo1Linux (Ubuntu 20.04.2 LTS) / x86_64  OK    OK    OK  UNNEEDED, same version is already published
tokay2Windows Server 2012 R2 Standard / x64  OK    OK    OK    OK  UNNEEDED, same version is already published
machv2macOS 10.14.6 Mojave / x86_64  OK    OK    OK    OK  UNNEEDED, same version is already published
Package 24/45HostnameOS / ArchINSTALLBUILDCHECKBUILD BIN
flowPloidy 1.18.0  (landing page)
Tyler Smith
git_last_commit: 565690e
git_last_commit_date: 2021-05-19 12:23:38 -0400
nebbiolo1Linux (Ubuntu 20.04.2 LTS) / x86_64  OK    OK    OK  UNNEEDED, same version is already published
tokay2Windows Server 2012 R2 Standard / x64  OK    OK    OK    OK  UNNEEDED, same version is already published
machv2macOS 10.14.6 Mojave / x86_64  OK    OK    OK    OK  UNNEEDED, same version is already published
Package 25/45HostnameOS / ArchINSTALLBUILDCHECKBUILD BIN
FlowSOM 2.0.0  (landing page)
Sofie Van Gassen
git_last_commit: 663dedc
git_last_commit_date: 2021-05-19 12:10:09 -0400
nebbiolo1Linux (Ubuntu 20.04.2 LTS) / x86_64  OK    OK    OK  UNNEEDED, same version is already published
tokay2Windows Server 2012 R2 Standard / x64  OK    OK    OK    OK  UNNEEDED, same version is already published
machv2macOS 10.14.6 Mojave / x86_64  OK    OK    OK    OK  UNNEEDED, same version is already published
Package 26/45HostnameOS / ArchINSTALLBUILDCHECKBUILD BIN
flowSpecs 1.6.0  (landing page)
Jakob Theorell
git_last_commit: e8a3b4e
git_last_commit_date: 2021-05-19 12:46:22 -0400
nebbiolo1Linux (Ubuntu 20.04.2 LTS) / x86_64  OK    OK    OK  UNNEEDED, same version is already published
tokay2Windows Server 2012 R2 Standard / x64  OK    OK    OK    OK  UNNEEDED, same version is already published
machv2macOS 10.14.6 Mojave / x86_64  OK    OK    OK    OK  UNNEEDED, same version is already published
Package 27/45HostnameOS / ArchINSTALLBUILDCHECKBUILD BIN
flowStats 4.4.0  (landing page)
Greg Finak , Mike Jiang , Jake Wagner
git_last_commit: 5d3758e
git_last_commit_date: 2021-05-19 11:43:07 -0400
nebbiolo1Linux (Ubuntu 20.04.2 LTS) / x86_64  OK    OK    OK  UNNEEDED, same version is already published
tokay2Windows Server 2012 R2 Standard / x64  OK    OK    OK    OK  UNNEEDED, same version is already published
machv2macOS 10.14.6 Mojave / x86_64  OK    OK    OK    OK  UNNEEDED, same version is already published
Package 28/45HostnameOS / ArchINSTALLBUILDCHECKBUILD BIN
flowTime 1.16.1  (landing page)
R. Clay Wright
git_last_commit: 7cd812a
git_last_commit_date: 2021-08-06 11:12:14 -0400
nebbiolo1Linux (Ubuntu 20.04.2 LTS) / x86_64  OK    OK    OK  UNNEEDED, same version is already published
tokay2Windows Server 2012 R2 Standard / x64  OK    OK    OK    OK  UNNEEDED, same version is already published
machv2macOS 10.14.6 Mojave / x86_64  OK    OK    OK    OK  UNNEEDED, same version is already published
Package 29/45HostnameOS / ArchINSTALLBUILDCHECKBUILD BIN
flowTrans 1.44.0  (landing page)
Greg Finak
git_last_commit: 6d79ae3
git_last_commit_date: 2021-05-19 11:45:34 -0400
nebbiolo1Linux (Ubuntu 20.04.2 LTS) / x86_64  OK    OK    OK  UNNEEDED, same version is already published
tokay2Windows Server 2012 R2 Standard / x64  OK    OK    OK    OK  UNNEEDED, same version is already published
machv2macOS 10.14.6 Mojave / x86_64  OK    OK    OK    OK  UNNEEDED, same version is already published
Package 30/45HostnameOS / ArchINSTALLBUILDCHECKBUILD BIN
flowUtils 1.56.0  (landing page)
Josef Spidlen
git_last_commit: ad93cd2
git_last_commit_date: 2021-05-19 11:38:23 -0400
nebbiolo1Linux (Ubuntu 20.04.2 LTS) / x86_64  OK    OK    WARNINGS  UNNEEDED, same version is already published
tokay2Windows Server 2012 R2 Standard / x64  OK    OK    WARNINGS    OK  UNNEEDED, same version is already published
machv2macOS 10.14.6 Mojave / x86_64  OK    OK    WARNINGS    OK  UNNEEDED, same version is already published
Package 31/45HostnameOS / ArchINSTALLBUILDCHECKBUILD BIN
flowViz 1.56.0  (landing page)
Mike Jiang , Jake Wagner
git_last_commit: f90ec49
git_last_commit_date: 2021-05-19 11:38:25 -0400
nebbiolo1Linux (Ubuntu 20.04.2 LTS) / x86_64  OK    OK    OK  UNNEEDED, same version is already published
tokay2Windows Server 2012 R2 Standard / x64  OK    OK    OK    OK  UNNEEDED, same version is already published
machv2macOS 10.14.6 Mojave / x86_64  OK    OK    OK    OK  UNNEEDED, same version is already published
Package 32/45HostnameOS / ArchINSTALLBUILDCHECKBUILD BIN
flowVS 1.24.0  (landing page)
Ariful Azad
git_last_commit: 095b0d3
git_last_commit_date: 2021-05-19 13:02:20 -0400
nebbiolo1Linux (Ubuntu 20.04.2 LTS) / x86_64  OK    OK    OK  UNNEEDED, same version is already published
tokay2Windows Server 2012 R2 Standard / x64  OK    OK    OK    OK  UNNEEDED, same version is already published
machv2macOS 10.14.6 Mojave / x86_64  OK    OK    OK    OK  UNNEEDED, same version is already published
Package 33/45HostnameOS / ArchINSTALLBUILDCHECKBUILD BIN
flowWorkspace 4.4.0  (landing page)
Greg Finak , Mike Jiang
git_last_commit: 8b26faf
git_last_commit_date: 2021-05-19 11:48:41 -0400
nebbiolo1Linux (Ubuntu 20.04.2 LTS) / x86_64  OK    OK    WARNINGS  UNNEEDED, same version is already published
tokay2Windows Server 2012 R2 Standard / x64  OK    OK    WARNINGS    OK  UNNEEDED, same version is already published
machv2macOS 10.14.6 Mojave / x86_64  OK    OK    WARNINGS    OK  UNNEEDED, same version is already published
Package 34/45HostnameOS / ArchINSTALLBUILDCHECKBUILD BIN
GateFinder 1.12.0  (landing page)
Nima Aghaeepour
git_last_commit: fd719d2
git_last_commit_date: 2021-05-19 12:34:27 -0400
nebbiolo1Linux (Ubuntu 20.04.2 LTS) / x86_64  OK    OK    OK  UNNEEDED, same version is already published
tokay2Windows Server 2012 R2 Standard / x64  OK    OK    OK    OK  UNNEEDED, same version is already published
machv2macOS 10.14.6 Mojave / x86_64  OK    OK    OK    OK  UNNEEDED, same version is already published
Package 35/45HostnameOS / ArchINSTALLBUILDCHECKBUILD BIN
ggcyto 1.20.0  (landing page)
Mike Jiang ,Jake Wagner
git_last_commit: 0fbbab2
git_last_commit_date: 2021-05-19 12:17:22 -0400
nebbiolo1Linux (Ubuntu 20.04.2 LTS) / x86_64  OK    OK    OK  UNNEEDED, same version is already published
tokay2Windows Server 2012 R2 Standard / x64  OK    OK    OK    OK  UNNEEDED, same version is already published
machv2macOS 10.14.6 Mojave / x86_64  OK    OK    OK    OK  UNNEEDED, same version is already published
Package 36/45HostnameOS / ArchINSTALLBUILDCHECKBUILD BIN
ImmuneSpaceR 1.20.0  (landing page)
ImmuneSpace Package Maintainer
git_last_commit: e938b1b
git_last_commit_date: 2021-05-19 12:20:27 -0400
nebbiolo1Linux (Ubuntu 20.04.2 LTS) / x86_64  OK    OK    OK  UNNEEDED, same version is already published
tokay2Windows Server 2012 R2 Standard / x64  OK    OK    OK    OK  UNNEEDED, same version is already published
machv2macOS 10.14.6 Mojave / x86_64  OK    OK    OK    OK  UNNEEDED, same version is already published
Package 37/45HostnameOS / ArchINSTALLBUILDCHECKBUILD BIN
immunoClust 1.24.0  (landing page)
Till Soerensen
git_last_commit: 87ad450
git_last_commit_date: 2021-05-19 12:11:42 -0400
nebbiolo1Linux (Ubuntu 20.04.2 LTS) / x86_64  OK    OK    OK  UNNEEDED, same version is already published
tokay2Windows Server 2012 R2 Standard / x64  OK    OK    OK    OK  UNNEEDED, same version is already published
machv2macOS 10.14.6 Mojave / x86_64  OK    OK    OK    OK  UNNEEDED, same version is already published
Package 38/45HostnameOS / ArchINSTALLBUILDCHECKBUILD BIN
infinityFlow 1.2.0  (landing page)
Etienne Becht
git_last_commit: c7ea4d4
git_last_commit_date: 2021-05-19 12:54:00 -0400
nebbiolo1Linux (Ubuntu 20.04.2 LTS) / x86_64  OK    ERROR  skipped
tokay2Windows Server 2012 R2 Standard / x64  OK    ERROR  skippedskipped
machv2macOS 10.14.6 Mojave / x86_64  OK    ERROR  skippedskipped
Package 39/45HostnameOS / ArchINSTALLBUILDCHECKBUILD BIN
MetaCyto 1.14.0  (landing page)
Zicheng Hu
git_last_commit: 39b62a4
git_last_commit_date: 2021-05-19 12:31:44 -0400
nebbiolo1Linux (Ubuntu 20.04.2 LTS) / x86_64  OK    OK    OK  UNNEEDED, same version is already published
tokay2Windows Server 2012 R2 Standard / x64  OK    OK    OK    OK  UNNEEDED, same version is already published
machv2macOS 10.14.6 Mojave / x86_64  OK    OK    OK    OK  UNNEEDED, same version is already published
Package 40/45HostnameOS / ArchINSTALLBUILDCHECKBUILD BIN
ncdfFlow 2.38.0  (landing page)
Mike Jiang , Jake Wagner
git_last_commit: 7902e69
git_last_commit_date: 2021-05-19 11:50:45 -0400
nebbiolo1Linux (Ubuntu 20.04.2 LTS) / x86_64  OK    OK    WARNINGS  UNNEEDED, same version is already published
tokay2Windows Server 2012 R2 Standard / x64  OK    OK    WARNINGS    OK  UNNEEDED, same version is already published
machv2macOS 10.14.6 Mojave / x86_64  OK    OK    WARNINGS    OK  UNNEEDED, same version is already published
Package 41/45HostnameOS / ArchINSTALLBUILDCHECKBUILD BIN
oneSENSE 1.14.0  (landing page)
Yong Kee Tan
git_last_commit: 732f387
git_last_commit_date: 2021-05-19 12:28:59 -0400
nebbiolo1Linux (Ubuntu 20.04.2 LTS) / x86_64  OK    OK    WARNINGS  UNNEEDED, same version is already published
tokay2Windows Server 2012 R2 Standard / x64  OK    OK    ERROR    OK  
machv2macOS 10.14.6 Mojave / x86_64  OK    OK    WARNINGS    OK  UNNEEDED, same version is already published
Package 42/45HostnameOS / ArchINSTALLBUILDCHECKBUILD BIN
openCyto 2.4.0  (landing page)
Mike Jiang ,Jake Wagner
git_last_commit: 458a40d
git_last_commit_date: 2021-05-19 12:01:23 -0400
nebbiolo1Linux (Ubuntu 20.04.2 LTS) / x86_64  OK    OK    OK  UNNEEDED, same version is already published
tokay2Windows Server 2012 R2 Standard / x64  OK    OK    OK    OK  UNNEEDED, same version is already published
machv2macOS 10.14.6 Mojave / x86_64  OK    OK    OK    OK  UNNEEDED, same version is already published
Package 43/45HostnameOS / ArchINSTALLBUILDCHECKBUILD BIN
PeacoQC 1.2.0  (landing page)
Annelies Emmaneel
git_last_commit: 0069897
git_last_commit_date: 2021-05-19 12:53:11 -0400
nebbiolo1Linux (Ubuntu 20.04.2 LTS) / x86_64  OK    OK    OK  UNNEEDED, same version is already published
tokay2Windows Server 2012 R2 Standard / x64  OK    OK    OK    OK  UNNEEDED, same version is already published
machv2macOS 10.14.6 Mojave / x86_64  OK    OK    OK    OK  UNNEEDED, same version is already published
Package 44/45HostnameOS / ArchINSTALLBUILDCHECKBUILD BIN
scDataviz 1.2.0  (landing page)
Kevin Blighe
git_last_commit: 0b82f98
git_last_commit_date: 2021-05-19 12:53:57 -0400
nebbiolo1Linux (Ubuntu 20.04.2 LTS) / x86_64  OK    OK    OK  UNNEEDED, same version is already published
tokay2Windows Server 2012 R2 Standard / x64  OK    OK    OK    OK  UNNEEDED, same version is already published
machv2macOS 10.14.6 Mojave / x86_64  OK    OK    OK    OK  UNNEEDED, same version is already published
Package 45/45HostnameOS / ArchINSTALLBUILDCHECKBUILD BIN
Sconify 1.12.0  (landing page)
Tyler J Burns
git_last_commit: 68c5316
git_last_commit_date: 2021-05-19 12:34:20 -0400
nebbiolo1Linux (Ubuntu 20.04.2 LTS) / x86_64  OK    OK    OK  UNNEEDED, same version is already published
tokay2Windows Server 2012 R2 Standard / x64  OK    OK    OK    OK  UNNEEDED, same version is already published
machv2macOS 10.14.6 Mojave / x86_64  OK    OK    OK    OK  UNNEEDED, same version is already published