Back to Multiple platform build/check report for BioC 3.13
ABCDEF[G]HIJKLMNOPQRSTUVWXYZ

Multiple platform build/check report for BioC 3.13

All results for package graphite

This page was generated on 2021-04-12 12:56:37 -0400 (Mon, 12 Apr 2021).

Package 781/1981HostnameOS / ArchINSTALLBUILDCHECKBUILD BIN
graphite 1.37.0  (landing page)
Gabriele Sales
Snapshot Date: 2021-04-11 14:50:10 -0400 (Sun, 11 Apr 2021)
URL: https://git.bioconductor.org/packages/graphite
Branch: master
Last Commit: 6d03f93
Last Changed Date: 2020-10-27 10:42:38 -0400 (Tue, 27 Oct 2020)
nebbiolo1Linux (Ubuntu 20.04.2 LTS) / x86_64  OK    OK    OK  UNNEEDED, same version exists in internal repository
riesling1Windows Server 2019 Standard / x64  OK    ERROR  skippedskipped
machv2macOS 10.14.6 Mojave / x86_64  OK    OK    OK    OK  UNNEEDED, same version exists in internal repository

Results for Bioconductor software packages that depend directly on package graphite

QUICK STATSOS / ArchINSTALLBUILDCHECKBUILD BIN
nebbiolo1Linux (Ubuntu 20.04.2 LTS) / x86_64
008
008
0125
riesling1Windows Server 2019 Standard / x64
008
026
0114
006
machv2macOS 10.14.6 Mojave / x86_64
008
008
0125
008
Package 1/8HostnameOS / ArchINSTALLBUILDCHECKBUILD BIN
dce 0.99.4  (landing page)
Kim Philipp Jablonski
Last Commit: 9411735
Last Changed Date: 2021-03-27 10:58:30 -0400
nebbiolo1Linux (Ubuntu 20.04.2 LTS) / x86_64  OK    OK    OK  UNNEEDED, same version exists in internal repository
riesling1Windows Server 2019 Standard / x64  OK    ERROR  skippedskipped
machv2macOS 10.14.6 Mojave / x86_64  OK    OK    OK    OK  UNNEEDED, same version exists in internal repository
Package 2/8HostnameOS / ArchINSTALLBUILDCHECKBUILD BIN
EnrichmentBrowser 2.21.10  (landing page)
Ludwig Geistlinger
Last Commit: 339bc56
Last Changed Date: 2021-02-13 15:57:30 -0400
nebbiolo1Linux (Ubuntu 20.04.2 LTS) / x86_64  OK    OK    WARNINGS  UNNEEDED, same version exists in internal repository
riesling1Windows Server 2019 Standard / x64  OK    ERROR  skippedskipped
machv2macOS 10.14.6 Mojave / x86_64  OK    OK    WARNINGS    OK  UNNEEDED, same version exists in internal repository
Package 3/8HostnameOS / ArchINSTALLBUILDCHECKBUILD BIN
mogsa 1.25.0  (landing page)
Chen Meng
Last Commit: 8095d59
Last Changed Date: 2020-10-27 11:04:18 -0400
nebbiolo1Linux (Ubuntu 20.04.2 LTS) / x86_64  OK    OK    OK  UNNEEDED, same version exists in internal repository
riesling1Windows Server 2019 Standard / x64  OK    OK    OK    OK  UNNEEDED, same version exists in internal repository
machv2macOS 10.14.6 Mojave / x86_64  OK    OK    OK    OK  UNNEEDED, same version exists in internal repository
Package 4/8HostnameOS / ArchINSTALLBUILDCHECKBUILD BIN
multiGSEA 1.1.4  (landing page)
Sebastian Canzler
Last Commit: 26fc769
Last Changed Date: 2020-12-09 14:25:42 -0400
nebbiolo1Linux (Ubuntu 20.04.2 LTS) / x86_64  OK    OK    OK  UNNEEDED, same version exists in internal repository
riesling1Windows Server 2019 Standard / x64  OK    OK    OK    OK  UNNEEDED, same version exists in internal repository
machv2macOS 10.14.6 Mojave / x86_64  OK    OK    OK    OK  UNNEEDED, same version exists in internal repository
Package 5/8HostnameOS / ArchINSTALLBUILDCHECKBUILD BIN
PoTRA 1.7.0  (landing page)
Valentin Dinu
Last Commit: 9ebface
Last Changed Date: 2020-10-27 11:43:47 -0400
nebbiolo1Linux (Ubuntu 20.04.2 LTS) / x86_64  OK    OK    OK  UNNEEDED, same version exists in internal repository
riesling1Windows Server 2019 Standard / x64  OK    OK    OK    OK  UNNEEDED, same version exists in internal repository
machv2macOS 10.14.6 Mojave / x86_64  OK    OK    OK    OK  UNNEEDED, same version exists in internal repository
Package 6/8HostnameOS / ArchINSTALLBUILDCHECKBUILD BIN
ReactomePA 1.35.0  (landing page)
Guangchuang Yu
Last Commit: fc9d6c2
Last Changed Date: 2021-03-25 04:44:32 -0400
nebbiolo1Linux (Ubuntu 20.04.2 LTS) / x86_64  OK    OK    OK  UNNEEDED, same version exists in internal repository
riesling1Windows Server 2019 Standard / x64  OK    OK    OK    OK  UNNEEDED, same version exists in internal repository
machv2macOS 10.14.6 Mojave / x86_64  OK    OK    OK    OK  UNNEEDED, same version exists in internal repository
Package 7/8HostnameOS / ArchINSTALLBUILDCHECKBUILD BIN
StarBioTrek 1.17.0  (landing page)
Claudia Cava
Last Commit: 1779567
Last Changed Date: 2020-10-27 11:19:06 -0400
nebbiolo1Linux (Ubuntu 20.04.2 LTS) / x86_64  OK    OK    WARNINGS  UNNEEDED, same version exists in internal repository
riesling1Windows Server 2019 Standard / x64  OK    OK    WARNINGS    OK  UNNEEDED, same version exists in internal repository
machv2macOS 10.14.6 Mojave / x86_64  OK    OK    WARNINGS    OK  UNNEEDED, same version exists in internal repository
Package 8/8HostnameOS / ArchINSTALLBUILDCHECKBUILD BIN
ToPASeq 1.25.1  (landing page)
Ivana Ihnatova
Last Commit: 137b48f
Last Changed Date: 2020-12-07 13:18:54 -0400
nebbiolo1Linux (Ubuntu 20.04.2 LTS) / x86_64  OK    OK    ERROR  
riesling1Windows Server 2019 Standard / x64  OK    OK    ERROR    OK  
machv2macOS 10.14.6 Mojave / x86_64  OK    OK    ERROR    OK