Back to Multiple platform build/check report for BioC 3.13 |
|
This page was generated on 2021-10-15 15:05:59 -0400 (Fri, 15 Oct 2021).
To the developers/maintainers of the CellMapper package: - Please allow up to 24 hours (and sometimes 48 hours) for your latest push to git@git.bioconductor.org:packages/CellMapper.git to reflect on this report. See How and When does the builder pull? When will my changes propagate? here for more information. - Make sure to use the following settings in order to reproduce any error or warning you see on this page. |
Package 263/2041 | Hostname | OS / Arch | INSTALL | BUILD | CHECK | BUILD BIN | ||||||||
CellMapper 1.18.0 (landing page) Brad Nelms
| nebbiolo1 | Linux (Ubuntu 20.04.2 LTS) / x86_64 | OK | OK | WARNINGS | |||||||||
tokay2 | Windows Server 2012 R2 Standard / x64 | OK | OK | WARNINGS | OK | |||||||||
machv2 | macOS 10.14.6 Mojave / x86_64 | OK | OK | WARNINGS | OK | |||||||||
Package: CellMapper |
Version: 1.18.0 |
Command: rm -rf CellMapper.buildbin-libdir && mkdir CellMapper.buildbin-libdir && C:\Users\biocbuild\bbs-3.13-bioc\R\bin\R.exe CMD INSTALL --merge-multiarch --build --library=CellMapper.buildbin-libdir CellMapper_1.18.0.tar.gz |
StartedAt: 2021-10-15 08:27:46 -0400 (Fri, 15 Oct 2021) |
EndedAt: 2021-10-15 08:29:03 -0400 (Fri, 15 Oct 2021) |
EllapsedTime: 76.8 seconds |
RetCode: 0 |
Status: OK |
PackageFile: CellMapper_1.18.0.zip |
PackageFileSize: 350.4 KiB |
############################################################################## ############################################################################## ### ### Running command: ### ### rm -rf CellMapper.buildbin-libdir && mkdir CellMapper.buildbin-libdir && C:\Users\biocbuild\bbs-3.13-bioc\R\bin\R.exe CMD INSTALL --merge-multiarch --build --library=CellMapper.buildbin-libdir CellMapper_1.18.0.tar.gz ### ############################################################################## ############################################################################## install for i386 * installing *source* package 'CellMapper' ... ** using staged installation ** R ** data ** inst ** byte-compile and prepare package for lazy loading Warning: replacing previous import 'stats::sd' by 'S4Vectors::sd' when loading 'CellMapper' Warning: replacing previous import 'stats::var' by 'S4Vectors::var' when loading 'CellMapper' ** help *** installing help indices converting help for package 'CellMapper' finding HTML links ... done CMprep html CMsearch html CellMapperList-class html ExampleGeneLists html ReplicateManuscript html ** building package indices ** installing vignettes ** testing if installed package can be loaded from temporary location Warning: replacing previous import 'stats::sd' by 'S4Vectors::sd' when loading 'CellMapper' Warning: replacing previous import 'stats::var' by 'S4Vectors::var' when loading 'CellMapper' ** testing if installed package can be loaded from final location Warning: replacing previous import 'stats::sd' by 'S4Vectors::sd' when loading 'CellMapper' Warning: replacing previous import 'stats::var' by 'S4Vectors::var' when loading 'CellMapper' ** testing if installed package keeps a record of temporary installation path install for x64 * installing *source* package 'CellMapper' ... ** testing if installed package can be loaded Warning: replacing previous import 'stats::sd' by 'S4Vectors::sd' when loading 'CellMapper' Warning: replacing previous import 'stats::var' by 'S4Vectors::var' when loading 'CellMapper' * MD5 sums packaged installation of 'CellMapper' as CellMapper_1.18.0.zip * DONE (CellMapper)