Back to Multiple platform build/check report for BioC 3.13 |
|
This page was generated on 2021-10-15 15:05:31 -0400 (Fri, 15 Oct 2021).
To the developers/maintainers of the SummarizedExperiment package: - Please allow up to 24 hours (and sometimes 48 hours) for your latest push to git@git.bioconductor.org:packages/SummarizedExperiment.git to reflect on this report. See How and When does the builder pull? When will my changes propagate? here for more information. - Make sure to use the following settings in order to reproduce any error or warning you see on this page. |
Package 1869/2041 | Hostname | OS / Arch | INSTALL | BUILD | CHECK | BUILD BIN | ||||||||
SummarizedExperiment 1.22.0 (landing page) Bioconductor Package Maintainer
| nebbiolo1 | Linux (Ubuntu 20.04.2 LTS) / x86_64 | OK | OK | OK | |||||||||
tokay2 | Windows Server 2012 R2 Standard / x64 | OK | OK | OK | OK | |||||||||
machv2 | macOS 10.14.6 Mojave / x86_64 | OK | OK | OK | OK | |||||||||
QUICK STATS | OS / Arch | INSTALL | BUILD | CHECK | BUILD BIN | |||||||||||||||||
nebbiolo1 | Linux (Ubuntu 20.04.2 LTS) / x86_64 |
|
|
| ||||||||||||||||||
tokay2 | Windows Server 2012 R2 Standard / x64 |
|
|
|
| |||||||||||||||||
machv2 | macOS 10.14.6 Mojave / x86_64 |
|
|
|
| |||||||||||||||||
Package 1/417 | Hostname | OS / Arch | INSTALL | BUILD | CHECK | BUILD BIN | ||||||||||||||||
ADAM 1.8.0 (landing page) Jose Luiz Rybarczyk Filho
| nebbiolo1 | Linux (Ubuntu 20.04.2 LTS) / x86_64 | OK | OK | OK | |||||||||||||||||
tokay2 | Windows Server 2012 R2 Standard / x64 | OK | OK | OK | OK | |||||||||||||||||
machv2 | macOS 10.14.6 Mojave / x86_64 | OK | OK | OK | OK | |||||||||||||||||
Package 2/417 | Hostname | OS / Arch | INSTALL | BUILD | CHECK | BUILD BIN | ||||||||||||||||
ADImpute 1.2.0 (landing page) Ana Carolina Leote
| nebbiolo1 | Linux (Ubuntu 20.04.2 LTS) / x86_64 | OK | OK | WARNINGS | |||||||||||||||||
tokay2 | Windows Server 2012 R2 Standard / x64 | OK | OK | WARNINGS | OK | |||||||||||||||||
machv2 | macOS 10.14.6 Mojave / x86_64 | OK | OK | WARNINGS | OK | |||||||||||||||||
Package 3/417 | Hostname | OS / Arch | INSTALL | BUILD | CHECK | BUILD BIN | ||||||||||||||||
AffiXcan 1.10.0 (landing page) Alessandro Lussana
| nebbiolo1 | Linux (Ubuntu 20.04.2 LTS) / x86_64 | OK | OK | OK | |||||||||||||||||
tokay2 | Windows Server 2012 R2 Standard / x64 | OK | OK | OK | OK | |||||||||||||||||
machv2 | macOS 10.14.6 Mojave / x86_64 | OK | OK | OK | OK | |||||||||||||||||
Package 4/417 | Hostname | OS / Arch | INSTALL | BUILD | CHECK | BUILD BIN | ||||||||||||||||
aggregateBioVar 1.2.0 (landing page) Jason Ratcliff
| nebbiolo1 | Linux (Ubuntu 20.04.2 LTS) / x86_64 | OK | OK | OK | |||||||||||||||||
tokay2 | Windows Server 2012 R2 Standard / x64 | OK | OK | OK | OK | |||||||||||||||||
machv2 | macOS 10.14.6 Mojave / x86_64 | OK | OK | OK | OK | |||||||||||||||||
Package 5/417 | Hostname | OS / Arch | INSTALL | BUILD | CHECK | BUILD BIN | ||||||||||||||||
airpart 1.0.1 (landing page) Wancen Mu
| nebbiolo1 | Linux (Ubuntu 20.04.2 LTS) / x86_64 | OK | OK | OK | |||||||||||||||||
tokay2 | Windows Server 2012 R2 Standard / x64 | OK | OK | OK | OK | |||||||||||||||||
machv2 | macOS 10.14.6 Mojave / x86_64 | OK | OK | OK | OK | |||||||||||||||||
Package 6/417 | Hostname | OS / Arch | INSTALL | BUILD | CHECK | BUILD BIN | ||||||||||||||||
ALDEx2 1.24.0 (landing page) Greg Gloor
| nebbiolo1 | Linux (Ubuntu 20.04.2 LTS) / x86_64 | OK | OK | OK | |||||||||||||||||
tokay2 | Windows Server 2012 R2 Standard / x64 | OK | OK | OK | OK | |||||||||||||||||
machv2 | macOS 10.14.6 Mojave / x86_64 | OK | OK | OK | OK | |||||||||||||||||
Package 7/417 | Hostname | OS / Arch | INSTALL | BUILD | CHECK | BUILD BIN | ||||||||||||||||
AllelicImbalance 1.30.0 (landing page) Jesper R Gadin
| nebbiolo1 | Linux (Ubuntu 20.04.2 LTS) / x86_64 | OK | OK | OK | |||||||||||||||||
tokay2 | Windows Server 2012 R2 Standard / x64 | OK | OK | OK | OK | |||||||||||||||||
machv2 | macOS 10.14.6 Mojave / x86_64 | OK | OK | OK | OK | |||||||||||||||||
Package 8/417 | Hostname | OS / Arch | INSTALL | BUILD | CHECK | BUILD BIN | ||||||||||||||||
alpine 1.18.0 (landing page) Michael Love
| nebbiolo1 | Linux (Ubuntu 20.04.2 LTS) / x86_64 | OK | OK | OK | |||||||||||||||||
tokay2 | Windows Server 2012 R2 Standard / x64 | OK | OK | OK | OK | |||||||||||||||||
machv2 | macOS 10.14.6 Mojave / x86_64 | OK | OK | OK | OK | |||||||||||||||||
Package 9/417 | Hostname | OS / Arch | INSTALL | BUILD | CHECK | BUILD BIN | ||||||||||||||||
AlpsNMR 3.2.3 (landing page) Luis Fernandez
| nebbiolo1 | Linux (Ubuntu 20.04.2 LTS) / x86_64 | OK | OK | OK | |||||||||||||||||
tokay2 | Windows Server 2012 R2 Standard / x64 | OK | OK | OK | OK | |||||||||||||||||
machv2 | macOS 10.14.6 Mojave / x86_64 | OK | OK | OK | OK | |||||||||||||||||
Package 10/417 | Hostname | OS / Arch | INSTALL | BUILD | CHECK | BUILD BIN | ||||||||||||||||
animalcules 1.8.1 (landing page) Yue Zhao
| nebbiolo1 | Linux (Ubuntu 20.04.2 LTS) / x86_64 | OK | OK | OK | |||||||||||||||||
tokay2 | Windows Server 2012 R2 Standard / x64 | OK | OK | OK | OK | |||||||||||||||||
machv2 | macOS 10.14.6 Mojave / x86_64 | OK | OK | OK | OK | |||||||||||||||||
Package 11/417 | Hostname | OS / Arch | INSTALL | BUILD | CHECK | BUILD BIN | ||||||||||||||||
anota2seq 1.14.0 (landing page) Christian Oertlin
| nebbiolo1 | Linux (Ubuntu 20.04.2 LTS) / x86_64 | OK | OK | OK | |||||||||||||||||
tokay2 | Windows Server 2012 R2 Standard / x64 | OK | OK | OK | OK | |||||||||||||||||
machv2 | macOS 10.14.6 Mojave / x86_64 | OK | OK | OK | OK | |||||||||||||||||
Package 12/417 | Hostname | OS / Arch | INSTALL | BUILD | CHECK | BUILD BIN | ||||||||||||||||
APAlyzer 1.6.0 (landing page) Ruijia Wang
| nebbiolo1 | Linux (Ubuntu 20.04.2 LTS) / x86_64 | OK | OK | OK | |||||||||||||||||
tokay2 | Windows Server 2012 R2 Standard / x64 | OK | OK | OK | OK | |||||||||||||||||
machv2 | macOS 10.14.6 Mojave / x86_64 | OK | OK | OK | OK | |||||||||||||||||
Package 13/417 | Hostname | OS / Arch | INSTALL | BUILD | CHECK | BUILD BIN | ||||||||||||||||
apeglm 1.14.0 (landing page) Anqi Zhu
| nebbiolo1 | Linux (Ubuntu 20.04.2 LTS) / x86_64 | OK | OK | OK | |||||||||||||||||
tokay2 | Windows Server 2012 R2 Standard / x64 | OK | OK | OK | OK | |||||||||||||||||
machv2 | macOS 10.14.6 Mojave / x86_64 | OK | OK | OK | OK | |||||||||||||||||
Package 14/417 | Hostname | OS / Arch | INSTALL | BUILD | CHECK | BUILD BIN | ||||||||||||||||
appreci8R 1.10.0 (landing page) Sarah Sandmann
| nebbiolo1 | Linux (Ubuntu 20.04.2 LTS) / x86_64 | OK | OK | OK | |||||||||||||||||
tokay2 | Windows Server 2012 R2 Standard / x64 | OK | OK | OK | OK | |||||||||||||||||
machv2 | macOS 10.14.6 Mojave / x86_64 | OK | OK | OK | OK | |||||||||||||||||
Package 15/417 | Hostname | OS / Arch | INSTALL | BUILD | CHECK | BUILD BIN | ||||||||||||||||
ASICS 2.8.0 (landing page) Gaëlle Lefort
| nebbiolo1 | Linux (Ubuntu 20.04.2 LTS) / x86_64 | OK | OK | OK | |||||||||||||||||
tokay2 | Windows Server 2012 R2 Standard / x64 | OK | OK | OK | OK | |||||||||||||||||
machv2 | macOS 10.14.6 Mojave / x86_64 | OK | OK | OK | OK | |||||||||||||||||
Package 16/417 | Hostname | OS / Arch | INSTALL | BUILD | CHECK | BUILD BIN | ||||||||||||||||
ASpediaFI 1.6.0 (landing page) Doyeong Yu
| nebbiolo1 | Linux (Ubuntu 20.04.2 LTS) / x86_64 | OK | OK | OK | |||||||||||||||||
tokay2 | Windows Server 2012 R2 Standard / x64 | OK | OK | OK | OK | |||||||||||||||||
machv2 | macOS 10.14.6 Mojave / x86_64 | OK | OK | OK | OK | |||||||||||||||||
Package 17/417 | Hostname | OS / Arch | INSTALL | BUILD | CHECK | BUILD BIN | ||||||||||||||||
AUCell 1.14.0 (landing page) Sara Aibar
| nebbiolo1 | Linux (Ubuntu 20.04.2 LTS) / x86_64 | OK | OK | OK | |||||||||||||||||
tokay2 | Windows Server 2012 R2 Standard / x64 | OK | OK | OK | OK | |||||||||||||||||
machv2 | macOS 10.14.6 Mojave / x86_64 | OK | OK | OK | OK | |||||||||||||||||
Package 18/417 | Hostname | OS / Arch | INSTALL | BUILD | CHECK | BUILD BIN | ||||||||||||||||
autonomics 1.0.1 (landing page) Aditya Bhagwat
| nebbiolo1 | Linux (Ubuntu 20.04.2 LTS) / x86_64 | OK | OK | WARNINGS | |||||||||||||||||
tokay2 | Windows Server 2012 R2 Standard / x64 | OK | OK | ERROR | OK | |||||||||||||||||
machv2 | macOS 10.14.6 Mojave / x86_64 | OK | OK | WARNINGS | OK | |||||||||||||||||
Package 19/417 | Hostname | OS / Arch | INSTALL | BUILD | CHECK | BUILD BIN | ||||||||||||||||
awst 1.0.0 (landing page) Davide Risso
| nebbiolo1 | Linux (Ubuntu 20.04.2 LTS) / x86_64 | OK | OK | OK | |||||||||||||||||
tokay2 | Windows Server 2012 R2 Standard / x64 | OK | OK | OK | OK | |||||||||||||||||
machv2 | macOS 10.14.6 Mojave / x86_64 | OK | OK | OK | OK | |||||||||||||||||
Package 20/417 | Hostname | OS / Arch | INSTALL | BUILD | CHECK | BUILD BIN | ||||||||||||||||
bambu 1.2.1 (landing page) Ying Chen
| nebbiolo1 | Linux (Ubuntu 20.04.2 LTS) / x86_64 | OK | OK | OK | |||||||||||||||||
tokay2 | Windows Server 2012 R2 Standard / x64 | OK | OK | OK | OK | |||||||||||||||||
machv2 | macOS 10.14.6 Mojave / x86_64 | OK | OK | OK | OK | |||||||||||||||||
Package 21/417 | Hostname | OS / Arch | INSTALL | BUILD | CHECK | BUILD BIN | ||||||||||||||||
barcodetrackR 1.0.0 (landing page) Diego Alexander Espinoza
| nebbiolo1 | Linux (Ubuntu 20.04.2 LTS) / x86_64 | OK | OK | OK | |||||||||||||||||
tokay2 | Windows Server 2012 R2 Standard / x64 | OK | OK | OK | OK | |||||||||||||||||
machv2 | macOS 10.14.6 Mojave / x86_64 | OK | OK | OK | OK | |||||||||||||||||
Package 22/417 | Hostname | OS / Arch | INSTALL | BUILD | CHECK | BUILD BIN | ||||||||||||||||
BASiCS 2.4.0 (landing page) Alan O'Callaghan
| nebbiolo1 | Linux (Ubuntu 20.04.2 LTS) / x86_64 | OK | OK | OK | |||||||||||||||||
tokay2 | Windows Server 2012 R2 Standard / x64 | OK | OK | OK | OK | |||||||||||||||||
machv2 | macOS 10.14.6 Mojave / x86_64 | OK | OK | OK | OK | |||||||||||||||||
Package 23/417 | Hostname | OS / Arch | INSTALL | BUILD | CHECK | BUILD BIN | ||||||||||||||||
batchelor 1.8.1 (landing page) Aaron Lun
| nebbiolo1 | Linux (Ubuntu 20.04.2 LTS) / x86_64 | OK | OK | OK | |||||||||||||||||
tokay2 | Windows Server 2012 R2 Standard / x64 | OK | OK | OK | OK | |||||||||||||||||
machv2 | macOS 10.14.6 Mojave / x86_64 | OK | OK | OK | OK | |||||||||||||||||
Package 24/417 | Hostname | OS / Arch | INSTALL | BUILD | CHECK | BUILD BIN | ||||||||||||||||
BayesSpace 1.2.1 (landing page) Matt Stone
| nebbiolo1 | Linux (Ubuntu 20.04.2 LTS) / x86_64 | OK | OK | OK | |||||||||||||||||
tokay2 | Windows Server 2012 R2 Standard / x64 | OK | OK | OK | OK | |||||||||||||||||
machv2 | macOS 10.14.6 Mojave / x86_64 | OK | OK | OK | OK | |||||||||||||||||
Package 25/417 | Hostname | OS / Arch | INSTALL | BUILD | CHECK | BUILD BIN | ||||||||||||||||
bayNorm 1.10.0 (landing page) Wenhao Tang
| nebbiolo1 | Linux (Ubuntu 20.04.2 LTS) / x86_64 | OK | OK | OK | |||||||||||||||||
tokay2 | Windows Server 2012 R2 Standard / x64 | OK | OK | OK | OK | |||||||||||||||||
machv2 | macOS 10.14.6 Mojave / x86_64 | OK | OK | OK | OK | |||||||||||||||||
Package 26/417 | Hostname | OS / Arch | INSTALL | BUILD | CHECK | BUILD BIN | ||||||||||||||||
BBCAnalyzer 1.22.0 (landing page) Sarah Sandmann
| nebbiolo1 | Linux (Ubuntu 20.04.2 LTS) / x86_64 | OK | OK | OK | |||||||||||||||||
tokay2 | Windows Server 2012 R2 Standard / x64 | OK | OK | WARNINGS | OK | |||||||||||||||||
machv2 | macOS 10.14.6 Mojave / x86_64 | OK | OK | OK | OK | |||||||||||||||||
Package 27/417 | Hostname | OS / Arch | INSTALL | BUILD | CHECK | BUILD BIN | ||||||||||||||||
BDMMAcorrect 1.10.0 (landing page) ZHENWEI DAI
| nebbiolo1 | Linux (Ubuntu 20.04.2 LTS) / x86_64 | OK | OK | OK | |||||||||||||||||
tokay2 | Windows Server 2012 R2 Standard / x64 | OK | OK | OK | OK | |||||||||||||||||
machv2 | macOS 10.14.6 Mojave / x86_64 | OK | OK | OK | OK | |||||||||||||||||
Package 28/417 | Hostname | OS / Arch | INSTALL | BUILD | CHECK | BUILD BIN | ||||||||||||||||
bigPint 1.8.0 (landing page) Lindsay Rutter
| nebbiolo1 | Linux (Ubuntu 20.04.2 LTS) / x86_64 | OK | OK | WARNINGS | |||||||||||||||||
tokay2 | Windows Server 2012 R2 Standard / x64 | OK | OK | WARNINGS | OK | |||||||||||||||||
machv2 | macOS 10.14.6 Mojave / x86_64 | OK | OK | WARNINGS | OK | |||||||||||||||||
Package 29/417 | Hostname | OS / Arch | INSTALL | BUILD | CHECK | BUILD BIN | ||||||||||||||||
BiocOncoTK 1.12.1 (landing page) VJ Carey
| nebbiolo1 | Linux (Ubuntu 20.04.2 LTS) / x86_64 | OK | OK | OK | |||||||||||||||||
tokay2 | Windows Server 2012 R2 Standard / x64 | OK | OK | OK | OK | |||||||||||||||||
machv2 | macOS 10.14.6 Mojave / x86_64 | OK | OK | OK | OK | |||||||||||||||||
Package 30/417 | Hostname | OS / Arch | INSTALL | BUILD | CHECK | BUILD BIN | ||||||||||||||||
BiocSklearn 1.14.1 (landing page) Vince Carey
| nebbiolo1 | Linux (Ubuntu 20.04.2 LTS) / x86_64 | OK | OK | OK | |||||||||||||||||
tokay2 | Windows Server 2012 R2 Standard / x64 | OK | OK | OK | OK | |||||||||||||||||
machv2 | macOS 10.14.6 Mojave / x86_64 | OK | OK | OK | OK | |||||||||||||||||
Package 31/417 | Hostname | OS / Arch | INSTALL | BUILD | CHECK | BUILD BIN | ||||||||||||||||
BioNERO 1.0.4 (landing page) Fabricio Almeida-Silva
| nebbiolo1 | Linux (Ubuntu 20.04.2 LTS) / x86_64 | OK | OK | OK | |||||||||||||||||
tokay2 | Windows Server 2012 R2 Standard / x64 | OK | OK | OK | OK | |||||||||||||||||
machv2 | macOS 10.14.6 Mojave / x86_64 | OK | OK | OK | OK | |||||||||||||||||
Package 32/417 | Hostname | OS / Arch | INSTALL | BUILD | CHECK | BUILD BIN | ||||||||||||||||
biotmle 1.16.0 (landing page) Nima Hejazi
| nebbiolo1 | Linux (Ubuntu 20.04.2 LTS) / x86_64 | OK | OK | OK | |||||||||||||||||
tokay2 | Windows Server 2012 R2 Standard / x64 | OK | OK | OK | OK | |||||||||||||||||
machv2 | macOS 10.14.6 Mojave / x86_64 | OK | OK | OK | OK | |||||||||||||||||
Package 33/417 | Hostname | OS / Arch | INSTALL | BUILD | CHECK | BUILD BIN | ||||||||||||||||
biovizBase 1.40.0 (landing page) Michael Lawrence
| nebbiolo1 | Linux (Ubuntu 20.04.2 LTS) / x86_64 | OK | OK | WARNINGS | |||||||||||||||||
tokay2 | Windows Server 2012 R2 Standard / x64 | OK | OK | WARNINGS | OK | |||||||||||||||||
machv2 | macOS 10.14.6 Mojave / x86_64 | OK | OK | WARNINGS | OK | |||||||||||||||||
Package 34/417 | Hostname | OS / Arch | INSTALL | BUILD | CHECK | BUILD BIN | ||||||||||||||||
biscuiteer 1.6.0 (landing page) "Jacob Morrison"
| nebbiolo1 | Linux (Ubuntu 20.04.2 LTS) / x86_64 | OK | OK | WARNINGS | |||||||||||||||||
tokay2 | Windows Server 2012 R2 Standard / x64 | OK | OK | WARNINGS | OK | |||||||||||||||||
machv2 | macOS 10.14.6 Mojave / x86_64 | OK | OK | WARNINGS | OK | |||||||||||||||||
Package 35/417 | Hostname | OS / Arch | INSTALL | BUILD | CHECK | BUILD BIN | ||||||||||||||||
BiSeq 1.32.0 (landing page) Katja Hebestreit
| nebbiolo1 | Linux (Ubuntu 20.04.2 LTS) / x86_64 | OK | OK | OK | |||||||||||||||||
tokay2 | Windows Server 2012 R2 Standard / x64 | OK | OK | OK | OK | |||||||||||||||||
machv2 | macOS 10.14.6 Mojave / x86_64 | OK | OK | OK | OK | |||||||||||||||||
Package 36/417 | Hostname | OS / Arch | INSTALL | BUILD | CHECK | BUILD BIN | ||||||||||||||||
blacksheepr 1.6.0 (landing page) RugglesLab
| nebbiolo1 | Linux (Ubuntu 20.04.2 LTS) / x86_64 | OK | OK | OK | |||||||||||||||||
tokay2 | Windows Server 2012 R2 Standard / x64 | OK | OK | OK | OK | |||||||||||||||||
machv2 | macOS 10.14.6 Mojave / x86_64 | OK | OK | OK | OK | |||||||||||||||||
Package 37/417 | Hostname | OS / Arch | INSTALL | BUILD | CHECK | BUILD BIN | ||||||||||||||||
BloodGen3Module 1.0.0 (landing page) Darawan Rinchai
| nebbiolo1 | Linux (Ubuntu 20.04.2 LTS) / x86_64 | OK | OK | WARNINGS | |||||||||||||||||
tokay2 | Windows Server 2012 R2 Standard / x64 | OK | OK | WARNINGS | OK | |||||||||||||||||
machv2 | macOS 10.14.6 Mojave / x86_64 | OK | OK | WARNINGS | OK | |||||||||||||||||
Package 38/417 | Hostname | OS / Arch | INSTALL | BUILD | CHECK | BUILD BIN | ||||||||||||||||
bnbc 1.14.0 (landing page) Kipper Fletez-Brant
| nebbiolo1 | Linux (Ubuntu 20.04.2 LTS) / x86_64 | OK | OK | OK | |||||||||||||||||
tokay2 | Windows Server 2012 R2 Standard / x64 | OK | OK | OK | OK | |||||||||||||||||
machv2 | macOS 10.14.6 Mojave / x86_64 | OK | OK | OK | OK | |||||||||||||||||
Package 39/417 | Hostname | OS / Arch | INSTALL | BUILD | CHECK | BUILD BIN | ||||||||||||||||
BrainSABER 1.2.0 (landing page) USD Biomedical Engineering
| nebbiolo1 | Linux (Ubuntu 20.04.2 LTS) / x86_64 | OK | ERROR | skipped | |||||||||||||||||
tokay2 | Windows Server 2012 R2 Standard / x64 | OK | ERROR | skipped | skipped | |||||||||||||||||
machv2 | macOS 10.14.6 Mojave / x86_64 | OK | ERROR | skipped | skipped | |||||||||||||||||
Package 40/417 | Hostname | OS / Arch | INSTALL | BUILD | CHECK | BUILD BIN | ||||||||||||||||
BRGenomics 1.4.0 (landing page) Mike DeBerardine
| nebbiolo1 | Linux (Ubuntu 20.04.2 LTS) / x86_64 | OK | OK | WARNINGS | |||||||||||||||||
tokay2 | Windows Server 2012 R2 Standard / x64 | OK | OK | WARNINGS | OK | |||||||||||||||||
machv2 | macOS 10.14.6 Mojave / x86_64 | OK | OK | WARNINGS | OK | |||||||||||||||||
Package 41/417 | Hostname | OS / Arch | INSTALL | BUILD | CHECK | BUILD BIN | ||||||||||||||||
bsseq 1.28.0 (landing page) Kasper Daniel Hansen
| nebbiolo1 | Linux (Ubuntu 20.04.2 LTS) / x86_64 | OK | OK | OK | |||||||||||||||||
tokay2 | Windows Server 2012 R2 Standard / x64 | OK | OK | OK | OK | |||||||||||||||||
machv2 | macOS 10.14.6 Mojave / x86_64 | OK | OK | OK | OK | |||||||||||||||||
Package 42/417 | Hostname | OS / Arch | INSTALL | BUILD | CHECK | BUILD BIN | ||||||||||||||||
BUMHMM 1.16.0 (landing page) Alina Selega
| nebbiolo1 | Linux (Ubuntu 20.04.2 LTS) / x86_64 | OK | OK | OK | |||||||||||||||||
tokay2 | Windows Server 2012 R2 Standard / x64 | OK | OK | OK | OK | |||||||||||||||||
machv2 | macOS 10.14.6 Mojave / x86_64 | OK | OK | OK | OK | |||||||||||||||||
Package 43/417 | Hostname | OS / Arch | INSTALL | BUILD | CHECK | BUILD BIN | ||||||||||||||||
BUScorrect 1.10.0 (landing page) Xiangyu Luo
| nebbiolo1 | Linux (Ubuntu 20.04.2 LTS) / x86_64 | OK | OK | OK | |||||||||||||||||
tokay2 | Windows Server 2012 R2 Standard / x64 | OK | OK | OK | OK | |||||||||||||||||
machv2 | macOS 10.14.6 Mojave / x86_64 | OK | OK | OK | OK | |||||||||||||||||
Package 44/417 | Hostname | OS / Arch | INSTALL | BUILD | CHECK | BUILD BIN | ||||||||||||||||
CAEN 1.0.0 (landing page) Zhou Yan
| nebbiolo1 | Linux (Ubuntu 20.04.2 LTS) / x86_64 | OK | OK | OK | |||||||||||||||||
tokay2 | Windows Server 2012 R2 Standard / x64 | OK | OK | OK | OK | |||||||||||||||||
machv2 | macOS 10.14.6 Mojave / x86_64 | OK | OK | OK | OK | |||||||||||||||||
Package 45/417 | Hostname | OS / Arch | INSTALL | BUILD | CHECK | BUILD BIN | ||||||||||||||||
CAGEfightR 1.12.0 (landing page) Malte Thodberg
| nebbiolo1 | Linux (Ubuntu 20.04.2 LTS) / x86_64 | OK | OK | OK | |||||||||||||||||
tokay2 | Windows Server 2012 R2 Standard / x64 | OK | OK | OK | OK | |||||||||||||||||
machv2 | macOS 10.14.6 Mojave / x86_64 | OK | OK | OK | OK | |||||||||||||||||
Package 46/417 | Hostname | OS / Arch | INSTALL | BUILD | CHECK | BUILD BIN | ||||||||||||||||
CAGEr 1.34.0 (landing page) Charles Plessy
| nebbiolo1 | Linux (Ubuntu 20.04.2 LTS) / x86_64 | OK | OK | WARNINGS | |||||||||||||||||
tokay2 | Windows Server 2012 R2 Standard / x64 | OK | OK | WARNINGS | OK | |||||||||||||||||
machv2 | macOS 10.14.6 Mojave / x86_64 | OK | OK | WARNINGS | OK | |||||||||||||||||
Package 47/417 | Hostname | OS / Arch | INSTALL | BUILD | CHECK | BUILD BIN | ||||||||||||||||
CATALYST 1.16.2 (landing page) Helena L. Crowell
| nebbiolo1 | Linux (Ubuntu 20.04.2 LTS) / x86_64 | OK | OK | OK | |||||||||||||||||
tokay2 | Windows Server 2012 R2 Standard / x64 | OK | OK | OK | OK | |||||||||||||||||
machv2 | macOS 10.14.6 Mojave / x86_64 | OK | OK | OK | OK | |||||||||||||||||
Package 48/417 | Hostname | OS / Arch | INSTALL | BUILD | CHECK | BUILD BIN | ||||||||||||||||
cBioPortalData 2.4.10 (landing page) Marcel Ramos
| nebbiolo1 | Linux (Ubuntu 20.04.2 LTS) / x86_64 | OK | OK | WARNINGS | |||||||||||||||||
tokay2 | Windows Server 2012 R2 Standard / x64 | OK | OK | WARNINGS | OK | |||||||||||||||||
machv2 | macOS 10.14.6 Mojave / x86_64 | OK | OK | WARNINGS | OK | |||||||||||||||||
Package 49/417 | Hostname | OS / Arch | INSTALL | BUILD | CHECK | BUILD BIN | ||||||||||||||||
ccfindR 1.12.0 (landing page) Jun Woo
| nebbiolo1 | Linux (Ubuntu 20.04.2 LTS) / x86_64 | OK | OK | OK | |||||||||||||||||
tokay2 | Windows Server 2012 R2 Standard / x64 | OK | OK | OK | OK | |||||||||||||||||
machv2 | macOS 10.14.6 Mojave / x86_64 | OK | OK | OK | OK | |||||||||||||||||
Package 50/417 | Hostname | OS / Arch | INSTALL | BUILD | CHECK | BUILD BIN | ||||||||||||||||
celaref 1.10.0 (landing page) Sarah Williams
| nebbiolo1 | Linux (Ubuntu 20.04.2 LTS) / x86_64 | OK | OK | OK | |||||||||||||||||
tokay2 | Windows Server 2012 R2 Standard / x64 | OK | OK | OK | OK | |||||||||||||||||
machv2 | macOS 10.14.6 Mojave / x86_64 | OK | OK | OK | OK | |||||||||||||||||
Package 51/417 | Hostname | OS / Arch | INSTALL | BUILD | CHECK | BUILD BIN | ||||||||||||||||
celda 1.8.1 (landing page) Joshua Campbell
| nebbiolo1 | Linux (Ubuntu 20.04.2 LTS) / x86_64 | OK | OK | OK | |||||||||||||||||
tokay2 | Windows Server 2012 R2 Standard / x64 | OK | OK | OK | OK | |||||||||||||||||
machv2 | macOS 10.14.6 Mojave / x86_64 | OK | OK | OK | OK | |||||||||||||||||
Package 52/417 | Hostname | OS / Arch | INSTALL | BUILD | CHECK | BUILD BIN | ||||||||||||||||
CelliD 1.0.0 (landing page) Akira Cortal
| nebbiolo1 | Linux (Ubuntu 20.04.2 LTS) / x86_64 | OK | OK | OK | |||||||||||||||||
tokay2 | Windows Server 2012 R2 Standard / x64 | OK | OK | OK | OK | |||||||||||||||||
machv2 | macOS 10.14.6 Mojave / x86_64 | OK | OK | OK | OK | |||||||||||||||||
Package 53/417 | Hostname | OS / Arch | INSTALL | BUILD | CHECK | BUILD BIN | ||||||||||||||||
CellMixS 1.8.0 (landing page) Almut Lütge
| nebbiolo1 | Linux (Ubuntu 20.04.2 LTS) / x86_64 | OK | OK | OK | |||||||||||||||||
tokay2 | Windows Server 2012 R2 Standard / x64 | OK | OK | OK | OK | |||||||||||||||||
machv2 | macOS 10.14.6 Mojave / x86_64 | OK | OK | OK | OK | |||||||||||||||||
Package 54/417 | Hostname | OS / Arch | INSTALL | BUILD | CHECK | BUILD BIN | ||||||||||||||||
CellTrails 1.10.0 (landing page) Daniel Ellwanger
| nebbiolo1 | Linux (Ubuntu 20.04.2 LTS) / x86_64 | OK | OK | OK | |||||||||||||||||
tokay2 | Windows Server 2012 R2 Standard / x64 | OK | OK | OK | OK | |||||||||||||||||
machv2 | macOS 10.14.6 Mojave / x86_64 | OK | OK | OK | OK | |||||||||||||||||
Package 55/417 | Hostname | OS / Arch | INSTALL | BUILD | CHECK | BUILD BIN | ||||||||||||||||
censcyt 1.0.0 (landing page) Reto Gerber
| nebbiolo1 | Linux (Ubuntu 20.04.2 LTS) / x86_64 | OK | OK | OK | |||||||||||||||||
tokay2 | Windows Server 2012 R2 Standard / x64 | OK | OK | OK | OK | |||||||||||||||||
machv2 | macOS 10.14.6 Mojave / x86_64 | OK | OK | OK | OK | |||||||||||||||||
Package 56/417 | Hostname | OS / Arch | INSTALL | BUILD | CHECK | BUILD BIN | ||||||||||||||||
CeTF 1.4.5 (landing page) Carlos Alberto Oliveira de Biagi Junior
| nebbiolo1 | Linux (Ubuntu 20.04.2 LTS) / x86_64 | OK | OK | OK | |||||||||||||||||
tokay2 | Windows Server 2012 R2 Standard / x64 | OK | OK | OK | OK | |||||||||||||||||
machv2 | macOS 10.14.6 Mojave / x86_64 | OK | OK | OK | OK | |||||||||||||||||
Package 57/417 | Hostname | OS / Arch | INSTALL | BUILD | CHECK | BUILD BIN | ||||||||||||||||
CHETAH 1.8.0 (landing page) Jurrian de Kanter
| nebbiolo1 | Linux (Ubuntu 20.04.2 LTS) / x86_64 | OK | ERROR | skipped | |||||||||||||||||
tokay2 | Windows Server 2012 R2 Standard / x64 | OK | ERROR | skipped | skipped | |||||||||||||||||
machv2 | macOS 10.14.6 Mojave / x86_64 | OK | ERROR | skipped | skipped | |||||||||||||||||
Package 58/417 | Hostname | OS / Arch | INSTALL | BUILD | CHECK | BUILD BIN | ||||||||||||||||
ChIPpeakAnno 3.26.4 (landing page) Jianhong Ou
| nebbiolo1 | Linux (Ubuntu 20.04.2 LTS) / x86_64 | OK | OK | OK | |||||||||||||||||
tokay2 | Windows Server 2012 R2 Standard / x64 | OK | OK | OK | OK | |||||||||||||||||
machv2 | macOS 10.14.6 Mojave / x86_64 | OK | OK | OK | OK | |||||||||||||||||
Package 59/417 | Hostname | OS / Arch | INSTALL | BUILD | CHECK | BUILD BIN | ||||||||||||||||
ChromSCape 1.2.62 (landing page) Pacome Prompsy
| nebbiolo1 | Linux (Ubuntu 20.04.2 LTS) / x86_64 | OK | OK | OK | |||||||||||||||||
tokay2 | Windows Server 2012 R2 Standard / x64 | OK | OK | OK | OK | |||||||||||||||||
machv2 | macOS 10.14.6 Mojave / x86_64 | OK | OK | OK | OK | |||||||||||||||||
Package 60/417 | Hostname | OS / Arch | INSTALL | BUILD | CHECK | BUILD BIN | ||||||||||||||||
chromVAR 1.14.0 (landing page) Alicia Schep
| nebbiolo1 | Linux (Ubuntu 20.04.2 LTS) / x86_64 | OK | OK | OK | |||||||||||||||||
tokay2 | Windows Server 2012 R2 Standard / x64 | OK | OK | OK | OK | |||||||||||||||||
machv2 | macOS 10.14.6 Mojave / x86_64 | OK | OK | OK | OK | |||||||||||||||||
Package 61/417 | Hostname | OS / Arch | INSTALL | BUILD | CHECK | BUILD BIN | ||||||||||||||||
CiteFuse 1.4.0 (landing page) Yingxin Lin
| nebbiolo1 | Linux (Ubuntu 20.04.2 LTS) / x86_64 | OK | OK | OK | |||||||||||||||||
tokay2 | Windows Server 2012 R2 Standard / x64 | OK | OK | OK | OK | |||||||||||||||||
machv2 | macOS 10.14.6 Mojave / x86_64 | OK | OK | OK | OK | |||||||||||||||||
Package 62/417 | Hostname | OS / Arch | INSTALL | BUILD | CHECK | BUILD BIN | ||||||||||||||||
clusterExperiment 2.12.0 (landing page) Elizabeth Purdom
| nebbiolo1 | Linux (Ubuntu 20.04.2 LTS) / x86_64 | OK | OK | WARNINGS | |||||||||||||||||
tokay2 | Windows Server 2012 R2 Standard / x64 | OK | OK | TIMEOUT | OK | |||||||||||||||||
machv2 | macOS 10.14.6 Mojave / x86_64 | OK | OK | TIMEOUT | OK | |||||||||||||||||
Package 63/417 | Hostname | OS / Arch | INSTALL | BUILD | CHECK | BUILD BIN | ||||||||||||||||
clustifyr 1.4.0 (landing page) Rui Fu
| nebbiolo1 | Linux (Ubuntu 20.04.2 LTS) / x86_64 | OK | OK | OK | |||||||||||||||||
tokay2 | Windows Server 2012 R2 Standard / x64 | OK | OK | OK | OK | |||||||||||||||||
machv2 | macOS 10.14.6 Mojave / x86_64 | OK | OK | OK | OK | |||||||||||||||||
Package 64/417 | Hostname | OS / Arch | INSTALL | BUILD | CHECK | BUILD BIN | ||||||||||||||||
cmapR 1.4.0 (landing page) Ted Natoli
| nebbiolo1 | Linux (Ubuntu 20.04.2 LTS) / x86_64 | OK | OK | OK | |||||||||||||||||
tokay2 | Windows Server 2012 R2 Standard / x64 | OK | OK | OK | OK | |||||||||||||||||
machv2 | macOS 10.14.6 Mojave / x86_64 | OK | OK | OK | OK | |||||||||||||||||
Package 65/417 | Hostname | OS / Arch | INSTALL | BUILD | CHECK | BUILD BIN | ||||||||||||||||
CNVfilteR 1.6.2 (landing page) Jose Marcos Moreno-Cabrera
| nebbiolo1 | Linux (Ubuntu 20.04.2 LTS) / x86_64 | OK | ERROR | skipped | |||||||||||||||||
tokay2 | Windows Server 2012 R2 Standard / x64 | OK | ERROR | skipped | skipped | |||||||||||||||||
machv2 | macOS 10.14.6 Mojave / x86_64 | OK | ERROR | skipped | skipped | |||||||||||||||||
Package 66/417 | Hostname | OS / Arch | INSTALL | BUILD | CHECK | BUILD BIN | ||||||||||||||||
CNVRanger 1.8.0 (landing page) Ludwig Geistlinger
| nebbiolo1 | Linux (Ubuntu 20.04.2 LTS) / x86_64 | OK | OK | OK | |||||||||||||||||
tokay2 | Windows Server 2012 R2 Standard / x64 | OK | OK | OK | OK | |||||||||||||||||
machv2 | macOS 10.14.6 Mojave / x86_64 | OK | OK | OK | OK | |||||||||||||||||
Package 67/417 | Hostname | OS / Arch | INSTALL | BUILD | CHECK | BUILD BIN | ||||||||||||||||
coexnet 1.14.0 (landing page) Juan David Henao
| nebbiolo1 | Linux (Ubuntu 20.04.2 LTS) / x86_64 | OK | OK | OK | |||||||||||||||||
tokay2 | Windows Server 2012 R2 Standard / x64 | OK | OK | OK | OK | |||||||||||||||||
machv2 | macOS 10.14.6 Mojave / x86_64 | OK | OK | OK | OK | |||||||||||||||||
Package 68/417 | Hostname | OS / Arch | INSTALL | BUILD | CHECK | BUILD BIN | ||||||||||||||||
CoGAPS 3.12.0 (landing page) Elana J. Fertig
| nebbiolo1 | Linux (Ubuntu 20.04.2 LTS) / x86_64 | OK | OK | OK | |||||||||||||||||
tokay2 | Windows Server 2012 R2 Standard / x64 | OK | OK | OK | OK | |||||||||||||||||
machv2 | macOS 10.14.6 Mojave / x86_64 | OK | OK | OK | OK | |||||||||||||||||
Package 69/417 | Hostname | OS / Arch | INSTALL | BUILD | CHECK | BUILD BIN | ||||||||||||||||
combi 1.4.0 (landing page) Joris Meys
| nebbiolo1 | Linux (Ubuntu 20.04.2 LTS) / x86_64 | OK | OK | OK | |||||||||||||||||
tokay2 | Windows Server 2012 R2 Standard / x64 | OK | OK | OK | OK | |||||||||||||||||
machv2 | macOS 10.14.6 Mojave / x86_64 | OK | OK | OK | OK | |||||||||||||||||
Package 70/417 | Hostname | OS / Arch | INSTALL | BUILD | CHECK | BUILD BIN | ||||||||||||||||
compartmap 1.10.0 (landing page) Benjamin Johnson
| nebbiolo1 | Linux (Ubuntu 20.04.2 LTS) / x86_64 | OK | OK | OK | |||||||||||||||||
tokay2 | Windows Server 2012 R2 Standard / x64 | OK | OK | OK | OK | |||||||||||||||||
machv2 | macOS 10.14.6 Mojave / x86_64 | OK | OK | OK | OK | |||||||||||||||||
Package 71/417 | Hostname | OS / Arch | INSTALL | BUILD | CHECK | BUILD BIN | ||||||||||||||||
conclus 1.0.0 (landing page) Ilyess Rachedi
| nebbiolo1 | Linux (Ubuntu 20.04.2 LTS) / x86_64 | OK | OK | OK | |||||||||||||||||
tokay2 | Windows Server 2012 R2 Standard / x64 | OK | OK | ERROR | OK | |||||||||||||||||
machv2 | macOS 10.14.6 Mojave / x86_64 | OK | OK | OK | OK | |||||||||||||||||
Package 72/417 | Hostname | OS / Arch | INSTALL | BUILD | CHECK | BUILD BIN | ||||||||||||||||
condiments 1.0.0 (landing page) Hector Roux de Bezieux
| nebbiolo1 | Linux (Ubuntu 20.04.2 LTS) / x86_64 | OK | OK | OK | |||||||||||||||||
tokay2 | Windows Server 2012 R2 Standard / x64 | OK | OK | OK | OK | |||||||||||||||||
machv2 | macOS 10.14.6 Mojave / x86_64 | OK | OK | OK | OK | |||||||||||||||||
Package 73/417 | Hostname | OS / Arch | INSTALL | BUILD | CHECK | BUILD BIN | ||||||||||||||||
consensusDE 1.10.0 (landing page) Ashley J. Waardenberg
| nebbiolo1 | Linux (Ubuntu 20.04.2 LTS) / x86_64 | OK | OK | OK | |||||||||||||||||
tokay2 | Windows Server 2012 R2 Standard / x64 | OK | OK | OK | OK | |||||||||||||||||
machv2 | macOS 10.14.6 Mojave / x86_64 | OK | OK | OK | OK | |||||||||||||||||
Package 74/417 | Hostname | OS / Arch | INSTALL | BUILD | CHECK | BUILD BIN | ||||||||||||||||
CopyNumberPlots 1.8.0 (landing page) Bernat Gel
| nebbiolo1 | Linux (Ubuntu 20.04.2 LTS) / x86_64 | OK | ERROR | skipped | |||||||||||||||||
tokay2 | Windows Server 2012 R2 Standard / x64 | OK | ERROR | skipped | skipped | |||||||||||||||||
machv2 | macOS 10.14.6 Mojave / x86_64 | OK | ERROR | skipped | skipped | |||||||||||||||||
Package 75/417 | Hostname | OS / Arch | INSTALL | BUILD | CHECK | BUILD BIN | ||||||||||||||||
CoreGx 1.4.2 (landing page) Benjamin Haibe-Kains
| nebbiolo1 | Linux (Ubuntu 20.04.2 LTS) / x86_64 | OK | OK | OK | |||||||||||||||||
tokay2 | Windows Server 2012 R2 Standard / x64 | OK | OK | OK | OK | |||||||||||||||||
machv2 | macOS 10.14.6 Mojave / x86_64 | OK | OK | OK | OK | |||||||||||||||||
Package 76/417 | Hostname | OS / Arch | INSTALL | BUILD | CHECK | BUILD BIN | ||||||||||||||||
corral 1.2.0 (landing page) Lauren Hsu
| nebbiolo1 | Linux (Ubuntu 20.04.2 LTS) / x86_64 | OK | OK | OK | |||||||||||||||||
tokay2 | Windows Server 2012 R2 Standard / x64 | OK | OK | OK | OK | |||||||||||||||||
machv2 | macOS 10.14.6 Mojave / x86_64 | OK | OK | OK | OK | |||||||||||||||||
Package 77/417 | Hostname | OS / Arch | INSTALL | BUILD | CHECK | BUILD BIN | ||||||||||||||||
coseq 1.16.0 (landing page) Andrea Rau
| nebbiolo1 | Linux (Ubuntu 20.04.2 LTS) / x86_64 | OK | OK | OK | |||||||||||||||||
tokay2 | Windows Server 2012 R2 Standard / x64 | OK | OK | OK | OK | |||||||||||||||||
machv2 | macOS 10.14.6 Mojave / x86_64 | OK | OK | OK | OK | |||||||||||||||||
Package 78/417 | Hostname | OS / Arch | INSTALL | BUILD | CHECK | BUILD BIN | ||||||||||||||||
countsimQC 1.10.0 (landing page) Charlotte Soneson
| nebbiolo1 | Linux (Ubuntu 20.04.2 LTS) / x86_64 | OK | OK | OK | |||||||||||||||||
tokay2 | Windows Server 2012 R2 Standard / x64 | OK | OK | OK | OK | |||||||||||||||||
machv2 | macOS 10.14.6 Mojave / x86_64 | OK | OK | OK | OK | |||||||||||||||||
Package 79/417 | Hostname | OS / Arch | INSTALL | BUILD | CHECK | BUILD BIN | ||||||||||||||||
crossmeta 1.18.0 (landing page) Alex Pickering
| nebbiolo1 | Linux (Ubuntu 20.04.2 LTS) / x86_64 | OK | OK | WARNINGS | |||||||||||||||||
tokay2 | Windows Server 2012 R2 Standard / x64 | OK | OK | WARNINGS | OK | |||||||||||||||||
machv2 | macOS 10.14.6 Mojave / x86_64 | OK | OK | WARNINGS | OK | |||||||||||||||||
Package 80/417 | Hostname | OS / Arch | INSTALL | BUILD | CHECK | BUILD BIN | ||||||||||||||||
csaw 1.26.0 (landing page) Aaron Lun
| nebbiolo1 | Linux (Ubuntu 20.04.2 LTS) / x86_64 | OK | OK | OK | |||||||||||||||||
tokay2 | Windows Server 2012 R2 Standard / x64 | OK | OK | OK | OK | |||||||||||||||||
machv2 | macOS 10.14.6 Mojave / x86_64 | OK | OK | OK | OK | |||||||||||||||||
Package 81/417 | Hostname | OS / Arch | INSTALL | BUILD | CHECK | BUILD BIN | ||||||||||||||||
CSSQ 1.4.1 (landing page) Fan Lab at Georgia Institute of Technology
| nebbiolo1 | Linux (Ubuntu 20.04.2 LTS) / x86_64 | OK | OK | OK | |||||||||||||||||
tokay2 | Windows Server 2012 R2 Standard / x64 | OK | OK | OK | OK | |||||||||||||||||
machv2 | macOS 10.14.6 Mojave / x86_64 | OK | OK | OK | OK | |||||||||||||||||
Package 82/417 | Hostname | OS / Arch | INSTALL | BUILD | CHECK | BUILD BIN | ||||||||||||||||
ctgGEM 1.4.0 (landing page) USD Biomedical Engineering
| nebbiolo1 | Linux (Ubuntu 20.04.2 LTS) / x86_64 | OK | OK | WARNINGS | |||||||||||||||||
tokay2 | Windows Server 2012 R2 Standard / x64 | OK | OK | WARNINGS | OK | |||||||||||||||||
machv2 | macOS 10.14.6 Mojave / x86_64 | OK | OK | WARNINGS | OK | |||||||||||||||||
Package 83/417 | Hostname | OS / Arch | INSTALL | BUILD | CHECK | BUILD BIN | ||||||||||||||||
cydar 1.16.0 (landing page) Aaron Lun
| nebbiolo1 | Linux (Ubuntu 20.04.2 LTS) / x86_64 | OK | OK | OK | |||||||||||||||||
tokay2 | Windows Server 2012 R2 Standard / x64 | OK | OK | OK | OK | |||||||||||||||||
machv2 | macOS 10.14.6 Mojave / x86_64 | OK | OK | OK | OK | |||||||||||||||||
Package 84/417 | Hostname | OS / Arch | INSTALL | BUILD | CHECK | BUILD BIN | ||||||||||||||||
cytomapper 1.4.1 (landing page) Nils Eling
| nebbiolo1 | Linux (Ubuntu 20.04.2 LTS) / x86_64 | OK | OK | OK | |||||||||||||||||
tokay2 | Windows Server 2012 R2 Standard / x64 | OK | OK | OK | OK | |||||||||||||||||
machv2 | macOS 10.14.6 Mojave / x86_64 | OK | OK | OK | OK | |||||||||||||||||
Package 85/417 | Hostname | OS / Arch | INSTALL | BUILD | CHECK | BUILD BIN | ||||||||||||||||
DAMEfinder 1.4.0 (landing page) Stephany Orjuela
| nebbiolo1 | Linux (Ubuntu 20.04.2 LTS) / x86_64 | OK | OK | OK | |||||||||||||||||
tokay2 | Windows Server 2012 R2 Standard / x64 | OK | OK | OK | OK | |||||||||||||||||
machv2 | macOS 10.14.6 Mojave / x86_64 | OK | OK | OK | OK | |||||||||||||||||
Package 86/417 | Hostname | OS / Arch | INSTALL | BUILD | CHECK | BUILD BIN | ||||||||||||||||
DaMiRseq 2.4.3 (landing page) Mattia Chiesa
| nebbiolo1 | Linux (Ubuntu 20.04.2 LTS) / x86_64 | OK | OK | WARNINGS | |||||||||||||||||
tokay2 | Windows Server 2012 R2 Standard / x64 | OK | OK | WARNINGS | OK | |||||||||||||||||
machv2 | macOS 10.14.6 Mojave / x86_64 | OK | OK | WARNINGS | OK | |||||||||||||||||
Package 87/417 | Hostname | OS / Arch | INSTALL | BUILD | CHECK | BUILD BIN | ||||||||||||||||
dasper 1.2.0 (landing page) David Zhang
| nebbiolo1 | Linux (Ubuntu 20.04.2 LTS) / x86_64 | OK | OK | ERROR | |||||||||||||||||
tokay2 | Windows Server 2012 R2 Standard / x64 | OK | OK | OK | OK | |||||||||||||||||
machv2 | macOS 10.14.6 Mojave / x86_64 | OK | OK | OK | OK | |||||||||||||||||
Package 88/417 | Hostname | OS / Arch | INSTALL | BUILD | CHECK | BUILD BIN | ||||||||||||||||
debCAM 1.10.0 (landing page) Lulu Chen
| nebbiolo1 | Linux (Ubuntu 20.04.2 LTS) / x86_64 | OK | OK | OK | |||||||||||||||||
tokay2 | Windows Server 2012 R2 Standard / x64 | OK | ERROR | skipped | skipped | |||||||||||||||||
machv2 | macOS 10.14.6 Mojave / x86_64 | OK | OK | OK | OK | |||||||||||||||||
Package 89/417 | Hostname | OS / Arch | INSTALL | BUILD | CHECK | BUILD BIN | ||||||||||||||||
debrowser 1.20.1 (landing page) Alper Kucukural
| nebbiolo1 | Linux (Ubuntu 20.04.2 LTS) / x86_64 | OK | OK | OK | |||||||||||||||||
tokay2 | Windows Server 2012 R2 Standard / x64 | OK | OK | OK | OK | |||||||||||||||||
machv2 | macOS 10.14.6 Mojave / x86_64 | OK | OK | OK | OK | |||||||||||||||||
Package 90/417 | Hostname | OS / Arch | INSTALL | BUILD | CHECK | BUILD BIN | ||||||||||||||||
deco 1.8.0 (landing page) Francisco Jose Campos Laborie
| nebbiolo1 | Linux (Ubuntu 20.04.2 LTS) / x86_64 | OK | OK | WARNINGS | |||||||||||||||||
tokay2 | Windows Server 2012 R2 Standard / x64 | OK | OK | WARNINGS | OK | |||||||||||||||||
machv2 | macOS 10.14.6 Mojave / x86_64 | OK | OK | WARNINGS | OK | |||||||||||||||||
Package 91/417 | Hostname | OS / Arch | INSTALL | BUILD | CHECK | BUILD BIN | ||||||||||||||||
DEComplexDisease 1.12.0 (landing page) Guofeng Meng
| nebbiolo1 | Linux (Ubuntu 20.04.2 LTS) / x86_64 | OK | OK | OK | |||||||||||||||||
tokay2 | Windows Server 2012 R2 Standard / x64 | OK | OK | OK | OK | |||||||||||||||||
machv2 | macOS 10.14.6 Mojave / x86_64 | OK | OK | OK | OK | |||||||||||||||||
Package 92/417 | Hostname | OS / Arch | INSTALL | BUILD | CHECK | BUILD BIN | ||||||||||||||||
decompTumor2Sig 2.8.0 (landing page) Rosario M. Piro
| nebbiolo1 | Linux (Ubuntu 20.04.2 LTS) / x86_64 | OK | OK | OK | |||||||||||||||||
tokay2 | Windows Server 2012 R2 Standard / x64 | OK | OK | OK | OK | |||||||||||||||||
machv2 | macOS 10.14.6 Mojave / x86_64 | OK | OK | OK | OK | |||||||||||||||||
Package 93/417 | Hostname | OS / Arch | INSTALL | BUILD | CHECK | BUILD BIN | ||||||||||||||||
deepSNV 1.38.0 (landing page) Moritz Gerstung
| nebbiolo1 | Linux (Ubuntu 20.04.2 LTS) / x86_64 | OK | OK | OK | |||||||||||||||||
tokay2 | Windows Server 2012 R2 Standard / x64 | OK | OK | OK | OK | |||||||||||||||||
machv2 | macOS 10.14.6 Mojave / x86_64 | OK | OK | OK | OK | |||||||||||||||||
Package 94/417 | Hostname | OS / Arch | INSTALL | BUILD | CHECK | BUILD BIN | ||||||||||||||||
DEFormats 1.20.0 (landing page) Andrzej OleÅ›
| nebbiolo1 | Linux (Ubuntu 20.04.2 LTS) / x86_64 | OK | OK | OK | |||||||||||||||||
tokay2 | Windows Server 2012 R2 Standard / x64 | OK | OK | OK | OK | |||||||||||||||||
machv2 | macOS 10.14.6 Mojave / x86_64 | OK | OK | OK | OK | |||||||||||||||||
Package 95/417 | Hostname | OS / Arch | INSTALL | BUILD | CHECK | BUILD BIN | ||||||||||||||||
DEGreport 1.28.0 (landing page) Lorena Pantano
| nebbiolo1 | Linux (Ubuntu 20.04.2 LTS) / x86_64 | OK | OK | OK | |||||||||||||||||
tokay2 | Windows Server 2012 R2 Standard / x64 | OK | OK | OK | OK | |||||||||||||||||
machv2 | macOS 10.14.6 Mojave / x86_64 | OK | OK | OK | OK | |||||||||||||||||
Package 96/417 | Hostname | OS / Arch | INSTALL | BUILD | CHECK | BUILD BIN | ||||||||||||||||
deltaCaptureC 1.6.0 (landing page) Michael Shapiro
| nebbiolo1 | Linux (Ubuntu 20.04.2 LTS) / x86_64 | OK | OK | OK | |||||||||||||||||
tokay2 | Windows Server 2012 R2 Standard / x64 | OK | OK | OK | OK | |||||||||||||||||
machv2 | macOS 10.14.6 Mojave / x86_64 | OK | OK | OK | OK | |||||||||||||||||
Package 97/417 | Hostname | OS / Arch | INSTALL | BUILD | CHECK | BUILD BIN | ||||||||||||||||
DeMixT 1.8.0 (landing page) Shaolong Cao
| nebbiolo1 | Linux (Ubuntu 20.04.2 LTS) / x86_64 | OK | OK | OK | |||||||||||||||||
tokay2 | Windows Server 2012 R2 Standard / x64 | OK | OK | OK | OK | |||||||||||||||||
machv2 | macOS 10.14.6 Mojave / x86_64 | OK | OK | OK | OK | |||||||||||||||||
Package 98/417 | Hostname | OS / Arch | INSTALL | BUILD | CHECK | BUILD BIN | ||||||||||||||||
DEP 1.14.0 (landing page) Arne Smits
| nebbiolo1 | Linux (Ubuntu 20.04.2 LTS) / x86_64 | OK | OK | WARNINGS | |||||||||||||||||
tokay2 | Windows Server 2012 R2 Standard / x64 | OK | OK | WARNINGS | OK | |||||||||||||||||
machv2 | macOS 10.14.6 Mojave / x86_64 | OK | OK | WARNINGS | OK | |||||||||||||||||
Package 99/417 | Hostname | OS / Arch | INSTALL | BUILD | CHECK | BUILD BIN | ||||||||||||||||
DEScan2 1.12.0 (landing page) Dario Righelli
| nebbiolo1 | Linux (Ubuntu 20.04.2 LTS) / x86_64 | OK | OK | OK | |||||||||||||||||
tokay2 | Windows Server 2012 R2 Standard / x64 | OK | OK | OK | OK | |||||||||||||||||
machv2 | macOS 10.14.6 Mojave / x86_64 | OK | OK | OK | OK | |||||||||||||||||
Package 100/417 | Hostname | OS / Arch | INSTALL | BUILD | CHECK | BUILD BIN | ||||||||||||||||
DESeq2 1.32.0 (landing page) Michael Love
| nebbiolo1 | Linux (Ubuntu 20.04.2 LTS) / x86_64 | OK | OK | OK | |||||||||||||||||
tokay2 | Windows Server 2012 R2 Standard / x64 | OK | OK | OK | OK | |||||||||||||||||
machv2 | macOS 10.14.6 Mojave / x86_64 | OK | OK | OK | OK | |||||||||||||||||
Package 101/417 | Hostname | OS / Arch | INSTALL | BUILD | CHECK | BUILD BIN | ||||||||||||||||
destiny 3.6.0 (landing page) Philipp Angerer
| nebbiolo1 | Linux (Ubuntu 20.04.2 LTS) / x86_64 | OK | ERROR | skipped | |||||||||||||||||
tokay2 | Windows Server 2012 R2 Standard / x64 | OK | OK | OK | OK | |||||||||||||||||
machv2 | macOS 10.14.6 Mojave / x86_64 | OK | ERROR | skipped | skipped | |||||||||||||||||
Package 102/417 | Hostname | OS / Arch | INSTALL | BUILD | CHECK | BUILD BIN | ||||||||||||||||
DEWSeq 1.6.0 (landing page) bioinformatics team Hentze
| nebbiolo1 | Linux (Ubuntu 20.04.2 LTS) / x86_64 | OK | OK | OK | |||||||||||||||||
tokay2 | Windows Server 2012 R2 Standard / x64 | OK | OK | OK | OK | |||||||||||||||||
machv2 | macOS 10.14.6 Mojave / x86_64 | OK | OK | OK | OK | |||||||||||||||||
Package 103/417 | Hostname | OS / Arch | INSTALL | BUILD | CHECK | BUILD BIN | ||||||||||||||||
DEXSeq 1.38.0 (landing page) Alejandro Reyes
| nebbiolo1 | Linux (Ubuntu 20.04.2 LTS) / x86_64 | OK | OK | OK | |||||||||||||||||
tokay2 | Windows Server 2012 R2 Standard / x64 | OK | OK | OK | OK | |||||||||||||||||
machv2 | macOS 10.14.6 Mojave / x86_64 | OK | OK | OK | OK | |||||||||||||||||
Package 104/417 | Hostname | OS / Arch | INSTALL | BUILD | CHECK | BUILD BIN | ||||||||||||||||
DiffBind 3.2.7 (landing page) Rory Stark
| nebbiolo1 | Linux (Ubuntu 20.04.2 LTS) / x86_64 | OK | OK | OK | |||||||||||||||||
tokay2 | Windows Server 2012 R2 Standard / x64 | OK | OK | OK | OK | |||||||||||||||||
machv2 | macOS 10.14.6 Mojave / x86_64 | OK | OK | OK | OK | |||||||||||||||||
Package 105/417 | Hostname | OS / Arch | INSTALL | BUILD | CHECK | BUILD BIN | ||||||||||||||||
diffcoexp 1.12.0 (landing page) Wenbin Wei
| nebbiolo1 | Linux (Ubuntu 20.04.2 LTS) / x86_64 | OK | OK | OK | |||||||||||||||||
tokay2 | Windows Server 2012 R2 Standard / x64 | OK | OK | OK | OK | |||||||||||||||||
machv2 | macOS 10.14.6 Mojave / x86_64 | OK | OK | OK | OK | |||||||||||||||||
Package 106/417 | Hostname | OS / Arch | INSTALL | BUILD | CHECK | BUILD BIN | ||||||||||||||||
diffcyt 1.12.0 (landing page) Lukas M. Weber
| nebbiolo1 | Linux (Ubuntu 20.04.2 LTS) / x86_64 | OK | OK | OK | |||||||||||||||||
tokay2 | Windows Server 2012 R2 Standard / x64 | OK | OK | OK | OK | |||||||||||||||||
machv2 | macOS 10.14.6 Mojave / x86_64 | OK | OK | OK | OK | |||||||||||||||||
Package 107/417 | Hostname | OS / Arch | INSTALL | BUILD | CHECK | BUILD BIN | ||||||||||||||||
diffHic 1.24.1 (landing page) Aaron Lun
| nebbiolo1 | Linux (Ubuntu 20.04.2 LTS) / x86_64 | OK | OK | OK | |||||||||||||||||
tokay2 | Windows Server 2012 R2 Standard / x64 | OK | OK | OK | OK | |||||||||||||||||
machv2 | macOS 10.14.6 Mojave / x86_64 | OK | OK | OK | OK | |||||||||||||||||
Package 108/417 | Hostname | OS / Arch | INSTALL | BUILD | CHECK | BUILD BIN | ||||||||||||||||
diffUTR 1.0.0 (landing page) Pierre-Luc Germain
| nebbiolo1 | Linux (Ubuntu 20.04.2 LTS) / x86_64 | OK | OK | OK | |||||||||||||||||
tokay2 | Windows Server 2012 R2 Standard / x64 | OK | OK | OK | OK | |||||||||||||||||
machv2 | macOS 10.14.6 Mojave / x86_64 | OK | OK | OK | OK | |||||||||||||||||
Package 109/417 | Hostname | OS / Arch | INSTALL | BUILD | CHECK | BUILD BIN | ||||||||||||||||
DiscoRhythm 1.8.0 (landing page) Matthew Carlucci
| nebbiolo1 | Linux (Ubuntu 20.04.2 LTS) / x86_64 | OK | OK | OK | |||||||||||||||||
tokay2 | Windows Server 2012 R2 Standard / x64 | OK | OK | OK | OK | |||||||||||||||||
machv2 | macOS 10.14.6 Mojave / x86_64 | OK | OK | OK | OK | |||||||||||||||||
Package 110/417 | Hostname | OS / Arch | INSTALL | BUILD | CHECK | BUILD BIN | ||||||||||||||||
distinct 1.4.1 (landing page) Simone Tiberi
| nebbiolo1 | Linux (Ubuntu 20.04.2 LTS) / x86_64 | OK | OK | OK | |||||||||||||||||
tokay2 | Windows Server 2012 R2 Standard / x64 | OK | OK | OK | OK | |||||||||||||||||
machv2 | macOS 10.14.6 Mojave / x86_64 | OK | OK | OK | OK | |||||||||||||||||
Package 111/417 | Hostname | OS / Arch | INSTALL | BUILD | CHECK | BUILD BIN | ||||||||||||||||
dittoSeq 1.4.4 (landing page) Daniel Bunis
| nebbiolo1 | Linux (Ubuntu 20.04.2 LTS) / x86_64 | OK | OK | OK | |||||||||||||||||
tokay2 | Windows Server 2012 R2 Standard / x64 | OK | OK | OK | OK | |||||||||||||||||
machv2 | macOS 10.14.6 Mojave / x86_64 | OK | OK | OK | OK | |||||||||||||||||
Package 112/417 | Hostname | OS / Arch | INSTALL | BUILD | CHECK | BUILD BIN | ||||||||||||||||
divergence 1.8.0 (landing page) Wikum Dinalankara
| nebbiolo1 | Linux (Ubuntu 20.04.2 LTS) / x86_64 | OK | OK | OK | |||||||||||||||||
tokay2 | Windows Server 2012 R2 Standard / x64 | OK | OK | OK | OK | |||||||||||||||||
machv2 | macOS 10.14.6 Mojave / x86_64 | OK | OK | OK | OK | |||||||||||||||||
Package 113/417 | Hostname | OS / Arch | INSTALL | BUILD | CHECK | BUILD BIN | ||||||||||||||||
DMCFB 1.6.0 (landing page) Farhad Shokoohi
| nebbiolo1 | Linux (Ubuntu 20.04.2 LTS) / x86_64 | OK | OK | OK | |||||||||||||||||
tokay2 | Windows Server 2012 R2 Standard / x64 | OK | OK | OK | OK | |||||||||||||||||
machv2 | macOS 10.14.6 Mojave / x86_64 | OK | OK | OK | OK | |||||||||||||||||
Package 114/417 | Hostname | OS / Arch | INSTALL | BUILD | CHECK | BUILD BIN | ||||||||||||||||
DMCHMM 1.14.0 (landing page) Farhad Shokoohi
| nebbiolo1 | Linux (Ubuntu 20.04.2 LTS) / x86_64 | OK | OK | OK | |||||||||||||||||
tokay2 | Windows Server 2012 R2 Standard / x64 | OK | OK | WARNINGS | OK | |||||||||||||||||
machv2 | macOS 10.14.6 Mojave / x86_64 | OK | OK | OK | OK | |||||||||||||||||
Package 115/417 | Hostname | OS / Arch | INSTALL | BUILD | CHECK | BUILD BIN | ||||||||||||||||
DMRcate 2.6.0 (landing page) Tim Peters
| nebbiolo1 | Linux (Ubuntu 20.04.2 LTS) / x86_64 | OK | OK | WARNINGS | |||||||||||||||||
tokay2 | Windows Server 2012 R2 Standard / x64 | OK | OK | ERROR | OK | |||||||||||||||||
machv2 | macOS 10.14.6 Mojave / x86_64 | OK | OK | ERROR | OK | |||||||||||||||||
Package 116/417 | Hostname | OS / Arch | INSTALL | BUILD | CHECK | BUILD BIN | ||||||||||||||||
DominoEffect 1.12.0 (landing page) Marija Buljan
| nebbiolo1 | Linux (Ubuntu 20.04.2 LTS) / x86_64 | OK | OK | OK | |||||||||||||||||
tokay2 | Windows Server 2012 R2 Standard / x64 | OK | OK | OK | OK | |||||||||||||||||
machv2 | macOS 10.14.6 Mojave / x86_64 | OK | OK | OK | OK | |||||||||||||||||
Package 117/417 | Hostname | OS / Arch | INSTALL | BUILD | CHECK | BUILD BIN | ||||||||||||||||
doppelgangR 1.20.0 (landing page) Levi Waldron
| nebbiolo1 | Linux (Ubuntu 20.04.2 LTS) / x86_64 | OK | OK | OK | |||||||||||||||||
tokay2 | Windows Server 2012 R2 Standard / x64 | OK | OK | OK | OK | |||||||||||||||||
machv2 | macOS 10.14.6 Mojave / x86_64 | OK | OK | OK | OK | |||||||||||||||||
Package 118/417 | Hostname | OS / Arch | INSTALL | BUILD | CHECK | BUILD BIN | ||||||||||||||||
doseR 1.8.0 (landing page) ake.vastermark
| nebbiolo1 | Linux (Ubuntu 20.04.2 LTS) / x86_64 | OK | OK | OK | |||||||||||||||||
tokay2 | Windows Server 2012 R2 Standard / x64 | OK | OK | OK | OK | |||||||||||||||||
machv2 | macOS 10.14.6 Mojave / x86_64 | OK | OK | OK | OK | |||||||||||||||||
Package 119/417 | Hostname | OS / Arch | INSTALL | BUILD | CHECK | BUILD BIN | ||||||||||||||||
DropletUtils 1.12.3 (landing page) Aaron Lun
| nebbiolo1 | Linux (Ubuntu 20.04.2 LTS) / x86_64 | OK | OK | OK | |||||||||||||||||
tokay2 | Windows Server 2012 R2 Standard / x64 | OK | OK | OK | OK | |||||||||||||||||
machv2 | macOS 10.14.6 Mojave / x86_64 | OK | OK | OK | OK | |||||||||||||||||
Package 120/417 | Hostname | OS / Arch | INSTALL | BUILD | CHECK | BUILD BIN | ||||||||||||||||
Dune 1.4.0 (landing page) Hector Roux de Bezieux
| nebbiolo1 | Linux (Ubuntu 20.04.2 LTS) / x86_64 | OK | OK | OK | |||||||||||||||||
tokay2 | Windows Server 2012 R2 Standard / x64 | OK | OK | OK | OK | |||||||||||||||||
machv2 | macOS 10.14.6 Mojave / x86_64 | OK | OK | OK | OK | |||||||||||||||||
Package 121/417 | Hostname | OS / Arch | INSTALL | BUILD | CHECK | BUILD BIN | ||||||||||||||||
easyRNASeq 2.28.0 (landing page) Nicolas Delhomme
| nebbiolo1 | Linux (Ubuntu 20.04.2 LTS) / x86_64 | OK | OK | OK | |||||||||||||||||
tokay2 | Windows Server 2012 R2 Standard / x64 | OK | OK | OK | OK | |||||||||||||||||
machv2 | macOS 10.14.6 Mojave / x86_64 | OK | OK | OK | OK | |||||||||||||||||
Package 122/417 | Hostname | OS / Arch | INSTALL | BUILD | CHECK | BUILD BIN | ||||||||||||||||
eisaR 1.4.0 (landing page) Michael Stadler
| nebbiolo1 | Linux (Ubuntu 20.04.2 LTS) / x86_64 | OK | OK | OK | |||||||||||||||||
tokay2 | Windows Server 2012 R2 Standard / x64 | OK | OK | OK | OK | |||||||||||||||||
machv2 | macOS 10.14.6 Mojave / x86_64 | OK | OK | OK | OK | |||||||||||||||||
Package 123/417 | Hostname | OS / Arch | INSTALL | BUILD | CHECK | BUILD BIN | ||||||||||||||||
ELMER 2.16.0 (landing page) Tiago Chedraoui Silva
| nebbiolo1 | Linux (Ubuntu 20.04.2 LTS) / x86_64 | OK | OK | OK | |||||||||||||||||
tokay2 | Windows Server 2012 R2 Standard / x64 | OK | OK | OK | OK | |||||||||||||||||
machv2 | macOS 10.14.6 Mojave / x86_64 | OK | OK | OK | OK | |||||||||||||||||
Package 124/417 | Hostname | OS / Arch | INSTALL | BUILD | CHECK | BUILD BIN | ||||||||||||||||
ENmix 1.28.8 (landing page) Zongli Xu
| nebbiolo1 | Linux (Ubuntu 20.04.2 LTS) / x86_64 | OK | OK | OK | |||||||||||||||||
tokay2 | Windows Server 2012 R2 Standard / x64 | OK | OK | OK | OK | |||||||||||||||||
machv2 | macOS 10.14.6 Mojave / x86_64 | OK | OK | OK | OK | |||||||||||||||||
Package 125/417 | Hostname | OS / Arch | INSTALL | BUILD | CHECK | BUILD BIN | ||||||||||||||||
EnrichmentBrowser 2.22.2 (landing page) Ludwig Geistlinger
| nebbiolo1 | Linux (Ubuntu 20.04.2 LTS) / x86_64 | OK | OK | OK | |||||||||||||||||
tokay2 | Windows Server 2012 R2 Standard / x64 | OK | OK | OK | OK | |||||||||||||||||
machv2 | macOS 10.14.6 Mojave / x86_64 | OK | OK | OK | OK | |||||||||||||||||
Package 126/417 | Hostname | OS / Arch | INSTALL | BUILD | CHECK | BUILD BIN | ||||||||||||||||
ensemblVEP 1.34.0 (landing page) Bioconductor Package Maintainer
| nebbiolo1 | Linux (Ubuntu 20.04.2 LTS) / x86_64 | OK | OK | OK | |||||||||||||||||
tokay2 | Windows Server 2012 R2 Standard / x64 | ... NOT SUPPORTED ... | ||||||||||||||||||||
machv2 | macOS 10.14.6 Mojave / x86_64 | OK | OK | OK | OK | |||||||||||||||||
Package 127/417 | Hostname | OS / Arch | INSTALL | BUILD | CHECK | BUILD BIN | ||||||||||||||||
epialleleR 1.0.0 (landing page) Oleksii Nikolaienko
| nebbiolo1 | Linux (Ubuntu 20.04.2 LTS) / x86_64 | OK | OK | WARNINGS | |||||||||||||||||
tokay2 | Windows Server 2012 R2 Standard / x64 | OK | OK | WARNINGS | OK | |||||||||||||||||
machv2 | macOS 10.14.6 Mojave / x86_64 | OK | OK | OK | OK | |||||||||||||||||
Package 128/417 | Hostname | OS / Arch | INSTALL | BUILD | CHECK | BUILD BIN | ||||||||||||||||
epigenomix 1.32.0 (landing page) Hans-Ulrich Klein
| nebbiolo1 | Linux (Ubuntu 20.04.2 LTS) / x86_64 | OK | OK | OK | |||||||||||||||||
tokay2 | Windows Server 2012 R2 Standard / x64 | OK | OK | OK | OK | |||||||||||||||||
machv2 | macOS 10.14.6 Mojave / x86_64 | OK | OK | OK | OK | |||||||||||||||||
Package 129/417 | Hostname | OS / Arch | INSTALL | BUILD | CHECK | BUILD BIN | ||||||||||||||||
epigraHMM 1.0.8 (landing page) Pedro Baldoni
| nebbiolo1 | Linux (Ubuntu 20.04.2 LTS) / x86_64 | OK | OK | OK | |||||||||||||||||
tokay2 | Windows Server 2012 R2 Standard / x64 | OK | OK | OK | OK | |||||||||||||||||
machv2 | macOS 10.14.6 Mojave / x86_64 | OK | OK | OK | OK | |||||||||||||||||
Package 130/417 | Hostname | OS / Arch | INSTALL | BUILD | CHECK | BUILD BIN | ||||||||||||||||
epivizrData 1.20.0 (landing page) Hector Corrada Bravo
| nebbiolo1 | Linux (Ubuntu 20.04.2 LTS) / x86_64 | OK | OK | OK | |||||||||||||||||
tokay2 | Windows Server 2012 R2 Standard / x64 | OK | OK | OK | OK | |||||||||||||||||
machv2 | macOS 10.14.6 Mojave / x86_64 | OK | OK | OK | OK | |||||||||||||||||
Package 131/417 | Hostname | OS / Arch | INSTALL | BUILD | CHECK | BUILD BIN | ||||||||||||||||
erma 1.8.0 (landing page) VJ Carey
| nebbiolo1 | Linux (Ubuntu 20.04.2 LTS) / x86_64 | OK | OK | OK | |||||||||||||||||
tokay2 | Windows Server 2012 R2 Standard / x64 | OK | OK | OK | OK | |||||||||||||||||
machv2 | macOS 10.14.6 Mojave / x86_64 | OK | OK | OK | OK | |||||||||||||||||
Package 132/417 | Hostname | OS / Arch | INSTALL | BUILD | CHECK | BUILD BIN | ||||||||||||||||
evaluomeR 1.8.0 (landing page) José Antonio Bernabé-DÃaz
| nebbiolo1 | Linux (Ubuntu 20.04.2 LTS) / x86_64 | OK | OK | OK | |||||||||||||||||
tokay2 | Windows Server 2012 R2 Standard / x64 | OK | OK | OK | OK | |||||||||||||||||
machv2 | macOS 10.14.6 Mojave / x86_64 | OK | OK | OK | OK | |||||||||||||||||
Package 133/417 | Hostname | OS / Arch | INSTALL | BUILD | CHECK | BUILD BIN | ||||||||||||||||
EventPointer 3.0.0 (landing page) Juan A. Ferrer-Bonsoms
| nebbiolo1 | Linux (Ubuntu 20.04.2 LTS) / x86_64 | OK | OK | OK | |||||||||||||||||
tokay2 | Windows Server 2012 R2 Standard / x64 | OK | OK | OK | OK | |||||||||||||||||
machv2 | macOS 10.14.6 Mojave / x86_64 | OK | OK | OK | OK | |||||||||||||||||
Package 134/417 | Hostname | OS / Arch | INSTALL | BUILD | CHECK | BUILD BIN | ||||||||||||||||
EWCE 1.0.1 (landing page) Alan Murphy
| nebbiolo1 | Linux (Ubuntu 20.04.2 LTS) / x86_64 | OK | OK | OK | |||||||||||||||||
tokay2 | Windows Server 2012 R2 Standard / x64 | OK | OK | OK | OK | |||||||||||||||||
machv2 | macOS 10.14.6 Mojave / x86_64 | OK | OK | OK | OK | |||||||||||||||||
Package 135/417 | Hostname | OS / Arch | INSTALL | BUILD | CHECK | BUILD BIN | ||||||||||||||||
exomePeak2 1.4.2 (landing page) Zhen Wei
| nebbiolo1 | Linux (Ubuntu 20.04.2 LTS) / x86_64 | OK | OK | OK | |||||||||||||||||
tokay2 | Windows Server 2012 R2 Standard / x64 | OK | OK | OK | OK | |||||||||||||||||
machv2 | macOS 10.14.6 Mojave / x86_64 | OK | OK | OK | OK | |||||||||||||||||
Package 136/417 | Hostname | OS / Arch | INSTALL | BUILD | CHECK | BUILD BIN | ||||||||||||||||
ExperimentSubset 1.2.0 (landing page) Irzam Sarfraz
| nebbiolo1 | Linux (Ubuntu 20.04.2 LTS) / x86_64 | OK | OK | OK | |||||||||||||||||
tokay2 | Windows Server 2012 R2 Standard / x64 | OK | OK | OK | OK | |||||||||||||||||
machv2 | macOS 10.14.6 Mojave / x86_64 | OK | OK | OK | OK | |||||||||||||||||
Package 137/417 | Hostname | OS / Arch | INSTALL | BUILD | CHECK | BUILD BIN | ||||||||||||||||
ExpressionAtlas 1.20.0 (landing page) Suhaib Mohammed
| nebbiolo1 | Linux (Ubuntu 20.04.2 LTS) / x86_64 | OK | OK | OK | |||||||||||||||||
tokay2 | Windows Server 2012 R2 Standard / x64 | OK | OK | OK | OK | |||||||||||||||||
machv2 | macOS 10.14.6 Mojave / x86_64 | OK | OK | OK | OK | |||||||||||||||||
Package 138/417 | Hostname | OS / Arch | INSTALL | BUILD | CHECK | BUILD BIN | ||||||||||||||||
FCBF 2.0.0 (landing page) Tiago Lubiana
| nebbiolo1 | Linux (Ubuntu 20.04.2 LTS) / x86_64 | OK | OK | OK | |||||||||||||||||
tokay2 | Windows Server 2012 R2 Standard / x64 | OK | OK | OK | OK | |||||||||||||||||
machv2 | macOS 10.14.6 Mojave / x86_64 | OK | OK | OK | OK | |||||||||||||||||
Package 139/417 | Hostname | OS / Arch | INSTALL | BUILD | CHECK | BUILD BIN | ||||||||||||||||
fcScan 1.6.0 (landing page) Pierre Khoueiry
| nebbiolo1 | Linux (Ubuntu 20.04.2 LTS) / x86_64 | OK | OK | OK | |||||||||||||||||
tokay2 | Windows Server 2012 R2 Standard / x64 | OK | OK | OK | OK | |||||||||||||||||
machv2 | macOS 10.14.6 Mojave / x86_64 | OK | OK | OK | OK | |||||||||||||||||
Package 140/417 | Hostname | OS / Arch | INSTALL | BUILD | CHECK | BUILD BIN | ||||||||||||||||
FEAST 1.0.0 (landing page) Kenong Su
| nebbiolo1 | Linux (Ubuntu 20.04.2 LTS) / x86_64 | OK | OK | OK | |||||||||||||||||
tokay2 | Windows Server 2012 R2 Standard / x64 | OK | OK | OK | OK | |||||||||||||||||
machv2 | macOS 10.14.6 Mojave / x86_64 | OK | OK | OK | OK | |||||||||||||||||
Package 141/417 | Hostname | OS / Arch | INSTALL | BUILD | CHECK | BUILD BIN | ||||||||||||||||
fishpond 1.8.0 (landing page) Michael Love
| nebbiolo1 | Linux (Ubuntu 20.04.2 LTS) / x86_64 | OK | OK | OK | |||||||||||||||||
tokay2 | Windows Server 2012 R2 Standard / x64 | OK | OK | OK | OK | |||||||||||||||||
machv2 | macOS 10.14.6 Mojave / x86_64 | OK | OK | OK | OK | |||||||||||||||||
Package 142/417 | Hostname | OS / Arch | INSTALL | BUILD | CHECK | BUILD BIN | ||||||||||||||||
FRASER 1.4.0 (landing page) Christian Mertes
| nebbiolo1 | Linux (Ubuntu 20.04.2 LTS) / x86_64 | OK | OK | OK | |||||||||||||||||
tokay2 | Windows Server 2012 R2 Standard / x64 | OK | OK | OK | OK | |||||||||||||||||
machv2 | macOS 10.14.6 Mojave / x86_64 | OK | OK | OK | OK | |||||||||||||||||
Package 143/417 | Hostname | OS / Arch | INSTALL | BUILD | CHECK | BUILD BIN | ||||||||||||||||
GARS 1.12.0 (landing page) Mattia Chiesa
| nebbiolo1 | Linux (Ubuntu 20.04.2 LTS) / x86_64 | OK | OK | OK | |||||||||||||||||
tokay2 | Windows Server 2012 R2 Standard / x64 | OK | OK | OK | OK | |||||||||||||||||
machv2 | macOS 10.14.6 Mojave / x86_64 | OK | OK | OK | OK | |||||||||||||||||
Package 144/417 | Hostname | OS / Arch | INSTALL | BUILD | CHECK | BUILD BIN | ||||||||||||||||
gCrisprTools 1.20.0 (landing page) Russell Bainer
| nebbiolo1 | Linux (Ubuntu 20.04.2 LTS) / x86_64 | OK | OK | WARNINGS | |||||||||||||||||
tokay2 | Windows Server 2012 R2 Standard / x64 | OK | OK | WARNINGS | OK | |||||||||||||||||
machv2 | macOS 10.14.6 Mojave / x86_64 | OK | OK | WARNINGS | OK | |||||||||||||||||
Package 145/417 | Hostname | OS / Arch | INSTALL | BUILD | CHECK | BUILD BIN | ||||||||||||||||
GeneTonic 1.4.1 (landing page) Federico Marini
| nebbiolo1 | Linux (Ubuntu 20.04.2 LTS) / x86_64 | OK | OK | OK | |||||||||||||||||
tokay2 | Windows Server 2012 R2 Standard / x64 | OK | OK | OK | OK | |||||||||||||||||
machv2 | macOS 10.14.6 Mojave / x86_64 | OK | OK | OK | OK | |||||||||||||||||
Package 146/417 | Hostname | OS / Arch | INSTALL | BUILD | CHECK | BUILD BIN | ||||||||||||||||
GenoGAM 2.10.0 (landing page) Georg Stricker
| nebbiolo1 | Linux (Ubuntu 20.04.2 LTS) / x86_64 | OK | ERROR | skipped | |||||||||||||||||
tokay2 | Windows Server 2012 R2 Standard / x64 | OK | ERROR | skipped | skipped | |||||||||||||||||
machv2 | macOS 10.14.6 Mojave / x86_64 | OK | ERROR | skipped | skipped | |||||||||||||||||
Package 147/417 | Hostname | OS / Arch | INSTALL | BUILD | CHECK | BUILD BIN | ||||||||||||||||
GenomicAlignments 1.28.0 (landing page) Bioconductor Package Maintainer
| nebbiolo1 | Linux (Ubuntu 20.04.2 LTS) / x86_64 | OK | OK | OK | |||||||||||||||||
tokay2 | Windows Server 2012 R2 Standard / x64 | OK | OK | OK | OK | |||||||||||||||||
machv2 | macOS 10.14.6 Mojave / x86_64 | OK | OK | OK | OK | |||||||||||||||||
Package 148/417 | Hostname | OS / Arch | INSTALL | BUILD | CHECK | BUILD BIN | ||||||||||||||||
GenomicDataCommons 1.16.0 (landing page) Sean Davis
| nebbiolo1 | Linux (Ubuntu 20.04.2 LTS) / x86_64 | OK | OK | WARNINGS | |||||||||||||||||
tokay2 | Windows Server 2012 R2 Standard / x64 | OK | OK | WARNINGS | OK | |||||||||||||||||
machv2 | macOS 10.14.6 Mojave / x86_64 | OK | OK | WARNINGS | OK | |||||||||||||||||
Package 149/417 | Hostname | OS / Arch | INSTALL | BUILD | CHECK | BUILD BIN | ||||||||||||||||
GenomicFiles 1.28.0 (landing page) Bioconductor Package Maintainer
| nebbiolo1 | Linux (Ubuntu 20.04.2 LTS) / x86_64 | OK | OK | OK | |||||||||||||||||
tokay2 | Windows Server 2012 R2 Standard / x64 | OK | OK | OK | OK | |||||||||||||||||
machv2 | macOS 10.14.6 Mojave / x86_64 | OK | OK | OK | OK | |||||||||||||||||
Package 150/417 | Hostname | OS / Arch | INSTALL | BUILD | CHECK | BUILD BIN | ||||||||||||||||
GenomicSuperSignature 1.0.1 (landing page) Sehyun Oh
| nebbiolo1 | Linux (Ubuntu 20.04.2 LTS) / x86_64 | OK | OK | OK | |||||||||||||||||
tokay2 | Windows Server 2012 R2 Standard / x64 | OK | OK | OK | OK | |||||||||||||||||
machv2 | macOS 10.14.6 Mojave / x86_64 | OK | OK | OK | OK | |||||||||||||||||
Package 151/417 | Hostname | OS / Arch | INSTALL | BUILD | CHECK | BUILD BIN | ||||||||||||||||
Peter M. Haverty
| nebbiolo1 | Linux (Ubuntu 20.04.2 LTS) / x86_64 | OK | ERROR | skipped | |||||||||||||||||
tokay2 | Windows Server 2012 R2 Standard / x64 | OK | ERROR | skipped | skipped | |||||||||||||||||
machv2 | macOS 10.14.6 Mojave / x86_64 | OK | ERROR | skipped | skipped | |||||||||||||||||
Package 152/417 | Hostname | OS / Arch | INSTALL | BUILD | CHECK | BUILD BIN | ||||||||||||||||
getDEE2 1.2.0 (landing page) Mark Ziemann
| nebbiolo1 | Linux (Ubuntu 20.04.2 LTS) / x86_64 | OK | OK | OK | |||||||||||||||||
tokay2 | Windows Server 2012 R2 Standard / x64 | OK | OK | OK | OK | |||||||||||||||||
machv2 | macOS 10.14.6 Mojave / x86_64 | OK | OK | OK | OK | |||||||||||||||||
Package 153/417 | Hostname | OS / Arch | INSTALL | BUILD | CHECK | BUILD BIN | ||||||||||||||||
ggbio 1.40.0 (landing page) Michael Lawrence
| nebbiolo1 | Linux (Ubuntu 20.04.2 LTS) / x86_64 | OK | OK | WARNINGS | |||||||||||||||||
tokay2 | Windows Server 2012 R2 Standard / x64 | OK | OK | WARNINGS | OK | |||||||||||||||||
machv2 | macOS 10.14.6 Mojave / x86_64 | OK | OK | WARNINGS | OK | |||||||||||||||||
Package 154/417 | Hostname | OS / Arch | INSTALL | BUILD | CHECK | BUILD BIN | ||||||||||||||||
Glimma 2.2.0 (landing page) Shian Su
| nebbiolo1 | Linux (Ubuntu 20.04.2 LTS) / x86_64 | OK | OK | OK | |||||||||||||||||
tokay2 | Windows Server 2012 R2 Standard / x64 | OK | OK | OK | OK | |||||||||||||||||
machv2 | macOS 10.14.6 Mojave / x86_64 | OK | OK | OK | OK | |||||||||||||||||
Package 155/417 | Hostname | OS / Arch | INSTALL | BUILD | CHECK | BUILD BIN | ||||||||||||||||
glmGamPoi 1.4.0 (landing page) Constantin Ahlmann-Eltze
| nebbiolo1 | Linux (Ubuntu 20.04.2 LTS) / x86_64 | OK | OK | OK | |||||||||||||||||
tokay2 | Windows Server 2012 R2 Standard / x64 | OK | OK | OK | OK | |||||||||||||||||
machv2 | macOS 10.14.6 Mojave / x86_64 | OK | OK | OK | OK | |||||||||||||||||
Package 156/417 | Hostname | OS / Arch | INSTALL | BUILD | CHECK | BUILD BIN | ||||||||||||||||
glmSparseNet 1.10.0 (landing page) André VerÃssimo
| nebbiolo1 | Linux (Ubuntu 20.04.2 LTS) / x86_64 | OK | OK | OK | |||||||||||||||||
tokay2 | Windows Server 2012 R2 Standard / x64 | OK | OK | OK | OK | |||||||||||||||||
machv2 | macOS 10.14.6 Mojave / x86_64 | OK | OK | OK | OK | |||||||||||||||||
Package 157/417 | Hostname | OS / Arch | INSTALL | BUILD | CHECK | BUILD BIN | ||||||||||||||||
GNET2 1.8.0 (landing page) Chen Chen
| nebbiolo1 | Linux (Ubuntu 20.04.2 LTS) / x86_64 | OK | OK | OK | |||||||||||||||||
tokay2 | Windows Server 2012 R2 Standard / x64 | OK | OK | OK | OK | |||||||||||||||||
machv2 | macOS 10.14.6 Mojave / x86_64 | OK | OK | OK | OK | |||||||||||||||||
Package 158/417 | Hostname | OS / Arch | INSTALL | BUILD | CHECK | BUILD BIN | ||||||||||||||||
gramm4R 1.6.0 (landing page) Tianlu Chen
| nebbiolo1 | Linux (Ubuntu 20.04.2 LTS) / x86_64 | ERROR | ERROR | skipped | |||||||||||||||||
tokay2 | Windows Server 2012 R2 Standard / x64 | ERROR | ERROR | skipped | skipped | |||||||||||||||||
machv2 | macOS 10.14.6 Mojave / x86_64 | ERROR | ERROR | skipped | skipped | |||||||||||||||||
Package 159/417 | Hostname | OS / Arch | INSTALL | BUILD | CHECK | BUILD BIN | ||||||||||||||||
GreyListChIP 1.24.0 (landing page) Gordon Brown
| nebbiolo1 | Linux (Ubuntu 20.04.2 LTS) / x86_64 | OK | OK | OK | |||||||||||||||||
tokay2 | Windows Server 2012 R2 Standard / x64 | OK | OK | OK | OK | |||||||||||||||||
machv2 | macOS 10.14.6 Mojave / x86_64 | OK | OK | OK | OK | |||||||||||||||||
Package 160/417 | Hostname | OS / Arch | INSTALL | BUILD | CHECK | BUILD BIN | ||||||||||||||||
GRmetrics 1.18.0 (landing page) Nicholas Clark
| nebbiolo1 | Linux (Ubuntu 20.04.2 LTS) / x86_64 | OK | OK | OK | |||||||||||||||||
tokay2 | Windows Server 2012 R2 Standard / x64 | OK | OK | OK | OK | |||||||||||||||||
machv2 | macOS 10.14.6 Mojave / x86_64 | OK | OK | OK | OK | |||||||||||||||||
Package 161/417 | Hostname | OS / Arch | INSTALL | BUILD | CHECK | BUILD BIN | ||||||||||||||||
gscreend 1.6.0 (landing page) Katharina Imkeller
| nebbiolo1 | Linux (Ubuntu 20.04.2 LTS) / x86_64 | OK | OK | OK | |||||||||||||||||
tokay2 | Windows Server 2012 R2 Standard / x64 | OK | OK | OK | OK | |||||||||||||||||
machv2 | macOS 10.14.6 Mojave / x86_64 | OK | OK | OK | OK | |||||||||||||||||
Package 162/417 | Hostname | OS / Arch | INSTALL | BUILD | CHECK | BUILD BIN | ||||||||||||||||
GSEABenchmarkeR 1.12.1 (landing page) Ludwig Geistlinger
| nebbiolo1 | Linux (Ubuntu 20.04.2 LTS) / x86_64 | OK | OK | OK | |||||||||||||||||
tokay2 | Windows Server 2012 R2 Standard / x64 | OK | OK | OK | OK | |||||||||||||||||
machv2 | macOS 10.14.6 Mojave / x86_64 | OK | OK | OK | OK | |||||||||||||||||
Package 163/417 | Hostname | OS / Arch | INSTALL | BUILD | CHECK | BUILD BIN | ||||||||||||||||
GSVA 1.40.1 (landing page) Justin Guinney
| nebbiolo1 | Linux (Ubuntu 20.04.2 LTS) / x86_64 | OK | OK | OK | |||||||||||||||||
tokay2 | Windows Server 2012 R2 Standard / x64 | OK | OK | OK | OK | |||||||||||||||||
machv2 | macOS 10.14.6 Mojave / x86_64 | OK | OK | OK | OK | |||||||||||||||||
Package 164/417 | Hostname | OS / Arch | INSTALL | BUILD | CHECK | BUILD BIN | ||||||||||||||||
gwasurvivr 1.10.0 (landing page) Abbas Rizvi
| nebbiolo1 | Linux (Ubuntu 20.04.2 LTS) / x86_64 | OK | OK | OK | |||||||||||||||||
tokay2 | Windows Server 2012 R2 Standard / x64 | OK | OK | OK | OK | |||||||||||||||||
machv2 | macOS 10.14.6 Mojave / x86_64 | OK | OK | OK | OK | |||||||||||||||||
Package 165/417 | Hostname | OS / Arch | INSTALL | BUILD | CHECK | BUILD BIN | ||||||||||||||||
GWENA 1.2.0 (landing page) Gwenaëlle Lemoine
| nebbiolo1 | Linux (Ubuntu 20.04.2 LTS) / x86_64 | OK | OK | OK | |||||||||||||||||
tokay2 | Windows Server 2012 R2 Standard / x64 | OK | OK | OK | OK | |||||||||||||||||
machv2 | macOS 10.14.6 Mojave / x86_64 | OK | OK | OK | OK | |||||||||||||||||
Package 166/417 | Hostname | OS / Arch | INSTALL | BUILD | CHECK | BUILD BIN | ||||||||||||||||
HelloRanges 1.18.0 (landing page) Michael Lawrence
| nebbiolo1 | Linux (Ubuntu 20.04.2 LTS) / x86_64 | OK | OK | WARNINGS | |||||||||||||||||
tokay2 | Windows Server 2012 R2 Standard / x64 | OK | OK | WARNINGS | OK | |||||||||||||||||
machv2 | macOS 10.14.6 Mojave / x86_64 | OK | ERROR | skipped | skipped | |||||||||||||||||
Package 167/417 | Hostname | OS / Arch | INSTALL | BUILD | CHECK | BUILD BIN | ||||||||||||||||
hipathia 2.8.0 (landing page) Marta R. Hidalgo
| nebbiolo1 | Linux (Ubuntu 20.04.2 LTS) / x86_64 | OK | OK | OK | |||||||||||||||||
tokay2 | Windows Server 2012 R2 Standard / x64 | OK | OK | OK | OK | |||||||||||||||||
machv2 | macOS 10.14.6 Mojave / x86_64 | OK | OK | OK | OK | |||||||||||||||||
Package 168/417 | Hostname | OS / Arch | INSTALL | BUILD | CHECK | BUILD BIN | ||||||||||||||||
HTSeqGenie 4.22.0 (landing page) Jens Reeder
| nebbiolo1 | Linux (Ubuntu 20.04.2 LTS) / x86_64 | OK | OK | OK | |||||||||||||||||
tokay2 | Windows Server 2012 R2 Standard / x64 | ... NOT SUPPORTED ... | ||||||||||||||||||||
machv2 | macOS 10.14.6 Mojave / x86_64 | ... NOT SUPPORTED ... | ||||||||||||||||||||
Package 169/417 | Hostname | OS / Arch | INSTALL | BUILD | CHECK | BUILD BIN | ||||||||||||||||
HumanTranscriptomeCompendium 1.8.3 (landing page) VJ Carey
| nebbiolo1 | Linux (Ubuntu 20.04.2 LTS) / x86_64 | OK | OK | OK | |||||||||||||||||
tokay2 | Windows Server 2012 R2 Standard / x64 | OK | OK | OK | OK | |||||||||||||||||
machv2 | macOS 10.14.6 Mojave / x86_64 | OK | OK | OK | OK | |||||||||||||||||
Package 170/417 | Hostname | OS / Arch | INSTALL | BUILD | CHECK | BUILD BIN | ||||||||||||||||
hummingbird 1.2.0 (landing page) Eleni Adam
| nebbiolo1 | Linux (Ubuntu 20.04.2 LTS) / x86_64 | OK | OK | OK | |||||||||||||||||
tokay2 | Windows Server 2012 R2 Standard / x64 | OK | OK | OK | OK | |||||||||||||||||
machv2 | macOS 10.14.6 Mojave / x86_64 | OK | OK | OK | OK | |||||||||||||||||
Package 171/417 | Hostname | OS / Arch | INSTALL | BUILD | CHECK | BUILD BIN | ||||||||||||||||
iasva 1.10.0 (landing page) Donghyung Lee
| nebbiolo1 | Linux (Ubuntu 20.04.2 LTS) / x86_64 | OK | OK | OK | |||||||||||||||||
tokay2 | Windows Server 2012 R2 Standard / x64 | OK | OK | OK | OK | |||||||||||||||||
machv2 | macOS 10.14.6 Mojave / x86_64 | OK | OK | OK | OK | |||||||||||||||||
Package 172/417 | Hostname | OS / Arch | INSTALL | BUILD | CHECK | BUILD BIN | ||||||||||||||||
icetea 1.10.0 (landing page) Vivek Bhardwaj
| nebbiolo1 | Linux (Ubuntu 20.04.2 LTS) / x86_64 | OK | OK | OK | |||||||||||||||||
tokay2 | Windows Server 2012 R2 Standard / x64 | OK | OK | OK | OK | |||||||||||||||||
machv2 | macOS 10.14.6 Mojave / x86_64 | OK | OK | OK | OK | |||||||||||||||||
Package 173/417 | Hostname | OS / Arch | INSTALL | BUILD | CHECK | BUILD BIN | ||||||||||||||||
ideal 1.16.1 (landing page) Federico Marini
| nebbiolo1 | Linux (Ubuntu 20.04.2 LTS) / x86_64 | OK | OK | OK | |||||||||||||||||
tokay2 | Windows Server 2012 R2 Standard / x64 | OK | OK | OK | OK | |||||||||||||||||
machv2 | macOS 10.14.6 Mojave / x86_64 | OK | OK | OK | OK | |||||||||||||||||
Package 174/417 | Hostname | OS / Arch | INSTALL | BUILD | CHECK | BUILD BIN | ||||||||||||||||
IgGeneUsage 1.6.0 (landing page) Simo Kitanovski
| nebbiolo1 | Linux (Ubuntu 20.04.2 LTS) / x86_64 | OK | OK | OK | |||||||||||||||||
tokay2 | Windows Server 2012 R2 Standard / x64 | OK | ERROR | skipped | skipped | |||||||||||||||||
machv2 | macOS 10.14.6 Mojave / x86_64 | OK | ERROR | skipped | skipped | |||||||||||||||||
Package 175/417 | Hostname | OS / Arch | INSTALL | BUILD | CHECK | BUILD BIN | ||||||||||||||||
ILoReg 1.2.0 (landing page) Johannes Smolander
| nebbiolo1 | Linux (Ubuntu 20.04.2 LTS) / x86_64 | OK | OK | OK | |||||||||||||||||
tokay2 | Windows Server 2012 R2 Standard / x64 | OK | OK | OK | OK | |||||||||||||||||
machv2 | macOS 10.14.6 Mojave / x86_64 | OK | OK | OK | OK | |||||||||||||||||
Package 176/417 | Hostname | OS / Arch | INSTALL | BUILD | CHECK | BUILD BIN | ||||||||||||||||
infercnv 1.8.1 (landing page) Christophe Georgescu
| nebbiolo1 | Linux (Ubuntu 20.04.2 LTS) / x86_64 | OK | OK | OK | |||||||||||||||||
tokay2 | Windows Server 2012 R2 Standard / x64 | OK | OK | OK | OK | |||||||||||||||||
machv2 | macOS 10.14.6 Mojave / x86_64 | OK | OK | OK | OK | |||||||||||||||||
Package 177/417 | Hostname | OS / Arch | INSTALL | BUILD | CHECK | BUILD BIN | ||||||||||||||||
INSPEcT 1.22.0 (landing page) Stefano de Pretis
| nebbiolo1 | Linux (Ubuntu 20.04.2 LTS) / x86_64 | OK | OK | OK | |||||||||||||||||
tokay2 | Windows Server 2012 R2 Standard / x64 | OK | OK | OK | OK | |||||||||||||||||
machv2 | macOS 10.14.6 Mojave / x86_64 | OK | OK | OK | OK | |||||||||||||||||
Package 178/417 | Hostname | OS / Arch | INSTALL | BUILD | CHECK | BUILD BIN | ||||||||||||||||
InTAD 1.12.0 (landing page) Konstantin Okonechnikov
| nebbiolo1 | Linux (Ubuntu 20.04.2 LTS) / x86_64 | OK | OK | OK | |||||||||||||||||
tokay2 | Windows Server 2012 R2 Standard / x64 | OK | OK | OK | OK | |||||||||||||||||
machv2 | macOS 10.14.6 Mojave / x86_64 | OK | OK | OK | OK | |||||||||||||||||
Package 179/417 | Hostname | OS / Arch | INSTALL | BUILD | CHECK | BUILD BIN | ||||||||||||||||
InteractionSet 1.20.0 (landing page) Aaron Lun
| nebbiolo1 | Linux (Ubuntu 20.04.2 LTS) / x86_64 | OK | OK | OK | |||||||||||||||||
tokay2 | Windows Server 2012 R2 Standard / x64 | OK | OK | OK | OK | |||||||||||||||||
machv2 | macOS 10.14.6 Mojave / x86_64 | OK | OK | OK | OK | |||||||||||||||||
Package 180/417 | Hostname | OS / Arch | INSTALL | BUILD | CHECK | BUILD BIN | ||||||||||||||||
IntEREst 1.16.0 (landing page) Ali Oghabian
| nebbiolo1 | Linux (Ubuntu 20.04.2 LTS) / x86_64 | OK | OK | OK | |||||||||||||||||
tokay2 | Windows Server 2012 R2 Standard / x64 | OK | OK | OK | OK | |||||||||||||||||
machv2 | macOS 10.14.6 Mojave / x86_64 | OK | OK | OK | OK | |||||||||||||||||
Package 181/417 | Hostname | OS / Arch | INSTALL | BUILD | CHECK | BUILD BIN | ||||||||||||||||
InterMineR 1.14.1 (landing page) InterMine Team
| nebbiolo1 | Linux (Ubuntu 20.04.2 LTS) / x86_64 | OK | OK | WARNINGS | |||||||||||||||||
tokay2 | Windows Server 2012 R2 Standard / x64 | OK | OK | WARNINGS | OK | |||||||||||||||||
machv2 | macOS 10.14.6 Mojave / x86_64 | OK | OK | WARNINGS | OK | |||||||||||||||||
Package 182/417 | Hostname | OS / Arch | INSTALL | BUILD | CHECK | BUILD BIN | ||||||||||||||||
iSEE 2.4.0 (landing page) Kevin Rue-Albrecht
| nebbiolo1 | Linux (Ubuntu 20.04.2 LTS) / x86_64 | OK | OK | OK | |||||||||||||||||
tokay2 | Windows Server 2012 R2 Standard / x64 | OK | OK | OK | OK | |||||||||||||||||
machv2 | macOS 10.14.6 Mojave / x86_64 | OK | OK | OK | OK | |||||||||||||||||
Package 183/417 | Hostname | OS / Arch | INSTALL | BUILD | CHECK | BUILD BIN | ||||||||||||||||
iSEEu 1.4.0 (landing page) Kevin Rue-Albrecht
| nebbiolo1 | Linux (Ubuntu 20.04.2 LTS) / x86_64 | OK | OK | WARNINGS | |||||||||||||||||
tokay2 | Windows Server 2012 R2 Standard / x64 | OK | OK | WARNINGS | OK | |||||||||||||||||
machv2 | macOS 10.14.6 Mojave / x86_64 | OK | OK | WARNINGS | OK | |||||||||||||||||
Package 184/417 | Hostname | OS / Arch | INSTALL | BUILD | CHECK | BUILD BIN | ||||||||||||||||
isomiRs 1.20.0 (landing page) Lorena Pantano
| nebbiolo1 | Linux (Ubuntu 20.04.2 LTS) / x86_64 | OK | OK | OK | |||||||||||||||||
tokay2 | Windows Server 2012 R2 Standard / x64 | OK | OK | OK | OK | |||||||||||||||||
machv2 | macOS 10.14.6 Mojave / x86_64 | OK | OK | OK | OK | |||||||||||||||||
Package 185/417 | Hostname | OS / Arch | INSTALL | BUILD | CHECK | BUILD BIN | ||||||||||||||||
iteremoval 1.12.0 (landing page) Jiacheng Chuan
| nebbiolo1 | Linux (Ubuntu 20.04.2 LTS) / x86_64 | OK | OK | OK | |||||||||||||||||
tokay2 | Windows Server 2012 R2 Standard / x64 | OK | OK | OK | OK | |||||||||||||||||
machv2 | macOS 10.14.6 Mojave / x86_64 | OK | OK | OK | OK | |||||||||||||||||
Package 186/417 | Hostname | OS / Arch | INSTALL | BUILD | CHECK | BUILD BIN | ||||||||||||||||
ivygapSE 1.14.1 (landing page) VJ Carey
| nebbiolo1 | Linux (Ubuntu 20.04.2 LTS) / x86_64 | OK | OK | OK | |||||||||||||||||
tokay2 | Windows Server 2012 R2 Standard / x64 | OK | OK | OK | OK | |||||||||||||||||
machv2 | macOS 10.14.6 Mojave / x86_64 | OK | OK | OK | OK | |||||||||||||||||
Package 187/417 | Hostname | OS / Arch | INSTALL | BUILD | CHECK | BUILD BIN | ||||||||||||||||
LACE 1.4.0 (landing page) Davide Maspero
| nebbiolo1 | Linux (Ubuntu 20.04.2 LTS) / x86_64 | OK | OK | OK | |||||||||||||||||
tokay2 | Windows Server 2012 R2 Standard / x64 | OK | OK | OK | OK | |||||||||||||||||
machv2 | macOS 10.14.6 Mojave / x86_64 | OK | OK | OK | OK | |||||||||||||||||
Package 188/417 | Hostname | OS / Arch | INSTALL | BUILD | CHECK | BUILD BIN | ||||||||||||||||
lefser 1.2.0 (landing page) Asya Khleborodova
| nebbiolo1 | Linux (Ubuntu 20.04.2 LTS) / x86_64 | OK | OK | OK | |||||||||||||||||
tokay2 | Windows Server 2012 R2 Standard / x64 | OK | OK | OK | OK | |||||||||||||||||
machv2 | macOS 10.14.6 Mojave / x86_64 | OK | OK | OK | OK | |||||||||||||||||
Package 189/417 | Hostname | OS / Arch | INSTALL | BUILD | CHECK | BUILD BIN | ||||||||||||||||
LineagePulse 1.12.0 (landing page) David S Fischer
| nebbiolo1 | Linux (Ubuntu 20.04.2 LTS) / x86_64 | OK | OK | WARNINGS | |||||||||||||||||
tokay2 | Windows Server 2012 R2 Standard / x64 | OK | OK | WARNINGS | OK | |||||||||||||||||
machv2 | macOS 10.14.6 Mojave / x86_64 | OK | OK | WARNINGS | OK | |||||||||||||||||
Package 190/417 | Hostname | OS / Arch | INSTALL | BUILD | CHECK | BUILD BIN | ||||||||||||||||
lionessR 1.6.0 (landing page) Ping-Han Hsieh
| nebbiolo1 | Linux (Ubuntu 20.04.2 LTS) / x86_64 | OK | OK | OK | |||||||||||||||||
tokay2 | Windows Server 2012 R2 Standard / x64 | OK | OK | OK | OK | |||||||||||||||||
machv2 | macOS 10.14.6 Mojave / x86_64 | OK | OK | OK | OK | |||||||||||||||||
Package 191/417 | Hostname | OS / Arch | INSTALL | BUILD | CHECK | BUILD BIN | ||||||||||||||||
lipidr 2.6.0 (landing page) Ahmed Mohamed
| nebbiolo1 | Linux (Ubuntu 20.04.2 LTS) / x86_64 | OK | OK | OK | |||||||||||||||||
tokay2 | Windows Server 2012 R2 Standard / x64 | OK | OK | OK | OK | |||||||||||||||||
machv2 | macOS 10.14.6 Mojave / x86_64 | OK | OK | OK | OK | |||||||||||||||||
Package 192/417 | Hostname | OS / Arch | INSTALL | BUILD | CHECK | BUILD BIN | ||||||||||||||||
LoomExperiment 1.10.1 (landing page) Bioconductor Package Maintainer
| nebbiolo1 | Linux (Ubuntu 20.04.2 LTS) / x86_64 | OK | OK | OK | |||||||||||||||||
tokay2 | Windows Server 2012 R2 Standard / x64 | OK | OK | OK | OK | |||||||||||||||||
machv2 | macOS 10.14.6 Mojave / x86_64 | OK | OK | OK | OK | |||||||||||||||||
Package 193/417 | Hostname | OS / Arch | INSTALL | BUILD | CHECK | BUILD BIN | ||||||||||||||||
made4 1.66.0 (landing page) Aedin Culhane
| nebbiolo1 | Linux (Ubuntu 20.04.2 LTS) / x86_64 | OK | OK | OK | |||||||||||||||||
tokay2 | Windows Server 2012 R2 Standard / x64 | OK | OK | OK | OK | |||||||||||||||||
machv2 | macOS 10.14.6 Mojave / x86_64 | OK | OK | OK | OK | |||||||||||||||||
Package 194/417 | Hostname | OS / Arch | INSTALL | BUILD | CHECK | BUILD BIN | ||||||||||||||||
MADSEQ 1.18.0 (landing page) Yu Kong
| nebbiolo1 | Linux (Ubuntu 20.04.2 LTS) / x86_64 | OK | OK | OK | |||||||||||||||||
tokay2 | Windows Server 2012 R2 Standard / x64 | OK | OK | OK | OK | |||||||||||||||||
machv2 | macOS 10.14.6 Mojave / x86_64 | OK | OK | OK | OK | |||||||||||||||||
Package 195/417 | Hostname | OS / Arch | INSTALL | BUILD | CHECK | BUILD BIN | ||||||||||||||||
marr 1.2.0 (landing page) Tusharkanti Ghosh
| nebbiolo1 | Linux (Ubuntu 20.04.2 LTS) / x86_64 | OK | OK | OK | |||||||||||||||||
tokay2 | Windows Server 2012 R2 Standard / x64 | OK | OK | OK | OK | |||||||||||||||||
machv2 | macOS 10.14.6 Mojave / x86_64 | OK | OK | OK | OK | |||||||||||||||||
Package 196/417 | Hostname | OS / Arch | INSTALL | BUILD | CHECK | BUILD BIN | ||||||||||||||||
MAST 1.18.0 (landing page) Andrew McDavid
| nebbiolo1 | Linux (Ubuntu 20.04.2 LTS) / x86_64 | OK | OK | OK | |||||||||||||||||
tokay2 | Windows Server 2012 R2 Standard / x64 | OK | OK | OK | OK | |||||||||||||||||
machv2 | macOS 10.14.6 Mojave / x86_64 | OK | OK | OK | OK | |||||||||||||||||
Package 197/417 | Hostname | OS / Arch | INSTALL | BUILD | CHECK | BUILD BIN | ||||||||||||||||
MatrixQCvis 1.0.0 (landing page) Thomas Naake
| nebbiolo1 | Linux (Ubuntu 20.04.2 LTS) / x86_64 | OK | OK | OK | |||||||||||||||||
tokay2 | Windows Server 2012 R2 Standard / x64 | OK | OK | OK | OK | |||||||||||||||||
machv2 | macOS 10.14.6 Mojave / x86_64 | OK | OK | OK | OK | |||||||||||||||||
Package 198/417 | Hostname | OS / Arch | INSTALL | BUILD | CHECK | BUILD BIN | ||||||||||||||||
MBASED 1.26.0 (landing page) Oleg Mayba
| nebbiolo1 | Linux (Ubuntu 20.04.2 LTS) / x86_64 | OK | OK | OK | |||||||||||||||||
tokay2 | Windows Server 2012 R2 Standard / x64 | OK | OK | OK | OK | |||||||||||||||||
machv2 | macOS 10.14.6 Mojave / x86_64 | OK | OK | OK | OK | |||||||||||||||||
Package 199/417 | Hostname | OS / Arch | INSTALL | BUILD | CHECK | BUILD BIN | ||||||||||||||||
mbkmeans 1.8.0 (landing page) Davide Risso
| nebbiolo1 | Linux (Ubuntu 20.04.2 LTS) / x86_64 | OK | OK | OK | |||||||||||||||||
tokay2 | Windows Server 2012 R2 Standard / x64 | OK | OK | OK | OK | |||||||||||||||||
machv2 | macOS 10.14.6 Mojave / x86_64 | OK | OK | OK | OK | |||||||||||||||||
Package 200/417 | Hostname | OS / Arch | INSTALL | BUILD | CHECK | BUILD BIN | ||||||||||||||||
MBQN 2.4.0 (landing page) Ariane Schad
| nebbiolo1 | Linux (Ubuntu 20.04.2 LTS) / x86_64 | OK | ERROR | skipped | |||||||||||||||||
tokay2 | Windows Server 2012 R2 Standard / x64 | OK | ERROR | skipped | skipped | |||||||||||||||||
machv2 | macOS 10.14.6 Mojave / x86_64 | OK | ERROR | skipped | skipped | |||||||||||||||||
Package 201/417 | Hostname | OS / Arch | INSTALL | BUILD | CHECK | BUILD BIN | ||||||||||||||||
mCSEA 1.12.0 (landing page) Jordi Martorell-Marugán
| nebbiolo1 | Linux (Ubuntu 20.04.2 LTS) / x86_64 | OK | OK | OK | |||||||||||||||||
tokay2 | Windows Server 2012 R2 Standard / x64 | OK | OK | OK | OK | |||||||||||||||||
machv2 | macOS 10.14.6 Mojave / x86_64 | OK | OK | OK | OK | |||||||||||||||||
Package 202/417 | Hostname | OS / Arch | INSTALL | BUILD | CHECK | BUILD BIN | ||||||||||||||||
MEAL 1.22.0 (landing page) Xavier Escribà Montagut
| nebbiolo1 | Linux (Ubuntu 20.04.2 LTS) / x86_64 | OK | OK | WARNINGS | |||||||||||||||||
tokay2 | Windows Server 2012 R2 Standard / x64 | OK | OK | WARNINGS | OK | |||||||||||||||||
machv2 | macOS 10.14.6 Mojave / x86_64 | OK | OK | WARNINGS | OK | |||||||||||||||||
Package 203/417 | Hostname | OS / Arch | INSTALL | BUILD | CHECK | BUILD BIN | ||||||||||||||||
MEAT 1.4.0 (landing page) Sarah Voisin
| nebbiolo1 | Linux (Ubuntu 20.04.2 LTS) / x86_64 | OK | OK | WARNINGS | |||||||||||||||||
tokay2 | Windows Server 2012 R2 Standard / x64 | OK | OK | WARNINGS | OK | |||||||||||||||||
machv2 | macOS 10.14.6 Mojave / x86_64 | OK | OK | WARNINGS | OK | |||||||||||||||||
Package 204/417 | Hostname | OS / Arch | INSTALL | BUILD | CHECK | BUILD BIN | ||||||||||||||||
MEB 1.6.0 (landing page) Jiadi Zhu
| nebbiolo1 | Linux (Ubuntu 20.04.2 LTS) / x86_64 | OK | OK | OK | |||||||||||||||||
tokay2 | Windows Server 2012 R2 Standard / x64 | OK | OK | OK | OK | |||||||||||||||||
machv2 | macOS 10.14.6 Mojave / x86_64 | OK | OK | OK | OK | |||||||||||||||||
Package 205/417 | Hostname | OS / Arch | INSTALL | BUILD | CHECK | BUILD BIN | ||||||||||||||||
metabolomicsWorkbenchR 1.2.0 (landing page) Gavin Rhys Lloyd
| nebbiolo1 | Linux (Ubuntu 20.04.2 LTS) / x86_64 | OK | OK | OK | |||||||||||||||||
tokay2 | Windows Server 2012 R2 Standard / x64 | OK | OK | OK | OK | |||||||||||||||||
machv2 | macOS 10.14.6 Mojave / x86_64 | OK | OK | OK | OK | |||||||||||||||||
Package 206/417 | Hostname | OS / Arch | INSTALL | BUILD | CHECK | BUILD BIN | ||||||||||||||||
MetaNeighbor 1.12.0 (landing page) Stephan Fischer
| nebbiolo1 | Linux (Ubuntu 20.04.2 LTS) / x86_64 | OK | OK | WARNINGS | |||||||||||||||||
tokay2 | Windows Server 2012 R2 Standard / x64 | OK | OK | WARNINGS | OK | |||||||||||||||||
machv2 | macOS 10.14.6 Mojave / x86_64 | OK | OK | WARNINGS | OK | |||||||||||||||||
Package 207/417 | Hostname | OS / Arch | INSTALL | BUILD | CHECK | BUILD BIN | ||||||||||||||||
metaseqR2 1.4.14 (landing page) Panagiotis Moulos
| nebbiolo1 | Linux (Ubuntu 20.04.2 LTS) / x86_64 | OK | ERROR | skipped | |||||||||||||||||
tokay2 | Windows Server 2012 R2 Standard / x64 | OK | OK | OK | OK | |||||||||||||||||
machv2 | macOS 10.14.6 Mojave / x86_64 | OK | OK | ERROR | OK | |||||||||||||||||
Package 208/417 | Hostname | OS / Arch | INSTALL | BUILD | CHECK | BUILD BIN | ||||||||||||||||
MethReg 1.2.1 (landing page) Tiago Silva
| nebbiolo1 | Linux (Ubuntu 20.04.2 LTS) / x86_64 | OK | OK | OK | |||||||||||||||||
tokay2 | Windows Server 2012 R2 Standard / x64 | OK | OK | OK | OK | |||||||||||||||||
machv2 | macOS 10.14.6 Mojave / x86_64 | OK | OK | OK | OK | |||||||||||||||||
Package 209/417 | Hostname | OS / Arch | INSTALL | BUILD | CHECK | BUILD BIN | ||||||||||||||||
methrix 1.6.0 (landing page) Anand Mayakonda
| nebbiolo1 | Linux (Ubuntu 20.04.2 LTS) / x86_64 | OK | OK | OK | |||||||||||||||||
tokay2 | Windows Server 2012 R2 Standard / x64 | OK | OK | OK | OK | |||||||||||||||||
machv2 | macOS 10.14.6 Mojave / x86_64 | OK | OK | OK | OK | |||||||||||||||||
Package 210/417 | Hostname | OS / Arch | INSTALL | BUILD | CHECK | BUILD BIN | ||||||||||||||||
Lei Huang
| nebbiolo1 | Linux (Ubuntu 20.04.2 LTS) / x86_64 | OK | OK | WARNINGS | |||||||||||||||||
tokay2 | Windows Server 2012 R2 Standard / x64 | ... NOT SUPPORTED ... | ||||||||||||||||||||
machv2 | macOS 10.14.6 Mojave / x86_64 | OK | OK | WARNINGS | OK | |||||||||||||||||
Package 211/417 | Hostname | OS / Arch | INSTALL | BUILD | CHECK | BUILD BIN | ||||||||||||||||
MethylAid 1.26.0 (landing page) L.J.Sinke
| nebbiolo1 | Linux (Ubuntu 20.04.2 LTS) / x86_64 | OK | OK | OK | |||||||||||||||||
tokay2 | Windows Server 2012 R2 Standard / x64 | OK | OK | OK | OK | |||||||||||||||||
machv2 | macOS 10.14.6 Mojave / x86_64 | OK | OK | OK | OK | |||||||||||||||||
Package 212/417 | Hostname | OS / Arch | INSTALL | BUILD | CHECK | BUILD BIN | ||||||||||||||||
methylPipe 1.26.0 (landing page) Kamal Kishore
| nebbiolo1 | Linux (Ubuntu 20.04.2 LTS) / x86_64 | OK | OK | WARNINGS | |||||||||||||||||
tokay2 | Windows Server 2012 R2 Standard / x64 | OK | OK | WARNINGS | OK | |||||||||||||||||
machv2 | macOS 10.14.6 Mojave / x86_64 | OK | OK | WARNINGS | OK | |||||||||||||||||
Package 213/417 | Hostname | OS / Arch | INSTALL | BUILD | CHECK | BUILD BIN | ||||||||||||||||
methylscaper 1.0.1 (landing page) Bacher Rhonda
| nebbiolo1 | Linux (Ubuntu 20.04.2 LTS) / x86_64 | OK | OK | OK | |||||||||||||||||
tokay2 | Windows Server 2012 R2 Standard / x64 | OK | OK | OK | OK | |||||||||||||||||
machv2 | macOS 10.14.6 Mojave / x86_64 | OK | OK | OK | OK | |||||||||||||||||
Package 214/417 | Hostname | OS / Arch | INSTALL | BUILD | CHECK | BUILD BIN | ||||||||||||||||
methylumi 2.38.0 (landing page) Sean Davis
| nebbiolo1 | Linux (Ubuntu 20.04.2 LTS) / x86_64 | OK | OK | WARNINGS | |||||||||||||||||
tokay2 | Windows Server 2012 R2 Standard / x64 | OK | OK | ERROR | OK | |||||||||||||||||
machv2 | macOS 10.14.6 Mojave / x86_64 | OK | OK | WARNINGS | OK | |||||||||||||||||
Package 215/417 | Hostname | OS / Arch | INSTALL | BUILD | CHECK | BUILD BIN | ||||||||||||||||
MetNet 1.10.0 (landing page) Thomas Naake
| nebbiolo1 | Linux (Ubuntu 20.04.2 LTS) / x86_64 | OK | OK | OK | |||||||||||||||||
tokay2 | Windows Server 2012 R2 Standard / x64 | OK | OK | OK | OK | |||||||||||||||||
machv2 | macOS 10.14.6 Mojave / x86_64 | OK | OK | OK | OK | |||||||||||||||||
Package 216/417 | Hostname | OS / Arch | INSTALL | BUILD | CHECK | BUILD BIN | ||||||||||||||||
mia 1.0.8 (landing page) Felix G.M. Ernst
| nebbiolo1 | Linux (Ubuntu 20.04.2 LTS) / x86_64 | OK | OK | OK | |||||||||||||||||
tokay2 | Windows Server 2012 R2 Standard / x64 | OK | OK | OK | OK | |||||||||||||||||
machv2 | macOS 10.14.6 Mojave / x86_64 | OK | OK | OK | OK | |||||||||||||||||
Package 217/417 | Hostname | OS / Arch | INSTALL | BUILD | CHECK | BUILD BIN | ||||||||||||||||
miaViz 1.0.1 (landing page) Felix G.M. Ernst
| nebbiolo1 | Linux (Ubuntu 20.04.2 LTS) / x86_64 | OK | OK | OK | |||||||||||||||||
tokay2 | Windows Server 2012 R2 Standard / x64 | OK | OK | OK | OK | |||||||||||||||||
machv2 | macOS 10.14.6 Mojave / x86_64 | OK | OK | OK | OK | |||||||||||||||||
Package 218/417 | Hostname | OS / Arch | INSTALL | BUILD | CHECK | BUILD BIN | ||||||||||||||||
MicrobiotaProcess 1.4.4 (landing page) Shuangbin Xu
| nebbiolo1 | Linux (Ubuntu 20.04.2 LTS) / x86_64 | OK | OK | OK | |||||||||||||||||
tokay2 | Windows Server 2012 R2 Standard / x64 | OK | OK | OK | OK | |||||||||||||||||
machv2 | macOS 10.14.6 Mojave / x86_64 | OK | OK | OK | OK | |||||||||||||||||
Package 219/417 | Hostname | OS / Arch | INSTALL | BUILD | CHECK | BUILD BIN | ||||||||||||||||
midasHLA 1.0.0 (landing page) Maciej Migdał
| nebbiolo1 | Linux (Ubuntu 20.04.2 LTS) / x86_64 | OK | OK | OK | |||||||||||||||||
tokay2 | Windows Server 2012 R2 Standard / x64 | OK | OK | OK | OK | |||||||||||||||||
machv2 | macOS 10.14.6 Mojave / x86_64 | OK | OK | OK | OK | |||||||||||||||||
Package 220/417 | Hostname | OS / Arch | INSTALL | BUILD | CHECK | BUILD BIN | ||||||||||||||||
miloR 1.0.0 (landing page) Mike Morgan
| nebbiolo1 | Linux (Ubuntu 20.04.2 LTS) / x86_64 | OK | OK | OK | |||||||||||||||||
tokay2 | Windows Server 2012 R2 Standard / x64 | OK | OK | OK | OK | |||||||||||||||||
machv2 | macOS 10.14.6 Mojave / x86_64 | OK | OK | OK | OK | |||||||||||||||||
Package 221/417 | Hostname | OS / Arch | INSTALL | BUILD | CHECK | BUILD BIN | ||||||||||||||||
minfi 1.38.0 (landing page) Kasper Daniel Hansen
| nebbiolo1 | Linux (Ubuntu 20.04.2 LTS) / x86_64 | OK | OK | OK | |||||||||||||||||
tokay2 | Windows Server 2012 R2 Standard / x64 | OK | OK | OK | OK | |||||||||||||||||
machv2 | macOS 10.14.6 Mojave / x86_64 | OK | OK | OK | OK | |||||||||||||||||
Package 222/417 | Hostname | OS / Arch | INSTALL | BUILD | CHECK | BUILD BIN | ||||||||||||||||
MinimumDistance 1.36.0 (landing page) Robert Scharpf
| nebbiolo1 | Linux (Ubuntu 20.04.2 LTS) / x86_64 | OK | OK | WARNINGS | |||||||||||||||||
tokay2 | Windows Server 2012 R2 Standard / x64 | OK | OK | WARNINGS | OK | |||||||||||||||||
machv2 | macOS 10.14.6 Mojave / x86_64 | OK | OK | WARNINGS | OK | |||||||||||||||||
Package 223/417 | Hostname | OS / Arch | INSTALL | BUILD | CHECK | BUILD BIN | ||||||||||||||||
miRLAB 1.22.0 (landing page) Vu Viet Hoang Pham
| nebbiolo1 | Linux (Ubuntu 20.04.2 LTS) / x86_64 | OK | ERROR | skipped | |||||||||||||||||
tokay2 | Windows Server 2012 R2 Standard / x64 | OK | ERROR | skipped | skipped | |||||||||||||||||
machv2 | macOS 10.14.6 Mojave / x86_64 | OK | ERROR | skipped | skipped | |||||||||||||||||
Package 224/417 | Hostname | OS / Arch | INSTALL | BUILD | CHECK | BUILD BIN | ||||||||||||||||
miRmine 1.14.0 (landing page) Dusan Randjelovic
| nebbiolo1 | Linux (Ubuntu 20.04.2 LTS) / x86_64 | OK | OK | OK | |||||||||||||||||
tokay2 | Windows Server 2012 R2 Standard / x64 | OK | OK | OK | OK | |||||||||||||||||
machv2 | macOS 10.14.6 Mojave / x86_64 | OK | OK | OK | OK | |||||||||||||||||
Package 225/417 | Hostname | OS / Arch | INSTALL | BUILD | CHECK | BUILD BIN | ||||||||||||||||
miRSM 1.10.0 (landing page) Junpeng Zhang
| nebbiolo1 | Linux (Ubuntu 20.04.2 LTS) / x86_64 | OK | OK | OK | |||||||||||||||||
tokay2 | Windows Server 2012 R2 Standard / x64 | OK | OK | OK | OK | |||||||||||||||||
machv2 | macOS 10.14.6 Mojave / x86_64 | OK | OK | OK | OK | |||||||||||||||||
Package 226/417 | Hostname | OS / Arch | INSTALL | BUILD | CHECK | BUILD BIN | ||||||||||||||||
missMethyl 1.26.1 (landing page) Belinda Phipson
| nebbiolo1 | Linux (Ubuntu 20.04.2 LTS) / x86_64 | OK | OK | OK | |||||||||||||||||
tokay2 | Windows Server 2012 R2 Standard / x64 | OK | OK | OK | OK | |||||||||||||||||
machv2 | macOS 10.14.6 Mojave / x86_64 | OK | OK | OK | OK | |||||||||||||||||
Package 227/417 | Hostname | OS / Arch | INSTALL | BUILD | CHECK | BUILD BIN | ||||||||||||||||
MLSeq 2.10.0 (landing page) Gokmen Zararsiz
| nebbiolo1 | Linux (Ubuntu 20.04.2 LTS) / x86_64 | OK | OK | OK | |||||||||||||||||
tokay2 | Windows Server 2012 R2 Standard / x64 | OK | OK | OK | OK | |||||||||||||||||
machv2 | macOS 10.14.6 Mojave / x86_64 | OK | OK | OK | OK | |||||||||||||||||
Package 228/417 | Hostname | OS / Arch | INSTALL | BUILD | CHECK | BUILD BIN | ||||||||||||||||
moanin 1.0.0 (landing page) Nelle Varoquaux
| nebbiolo1 | Linux (Ubuntu 20.04.2 LTS) / x86_64 | OK | OK | OK | |||||||||||||||||
tokay2 | Windows Server 2012 R2 Standard / x64 | OK | OK | OK | OK | |||||||||||||||||
machv2 | macOS 10.14.6 Mojave / x86_64 | OK | OK | OK | OK | |||||||||||||||||
Package 229/417 | Hostname | OS / Arch | INSTALL | BUILD | CHECK | BUILD BIN | ||||||||||||||||
MoonlightR 1.18.0 (landing page) Antonio Colaprico
| nebbiolo1 | Linux (Ubuntu 20.04.2 LTS) / x86_64 | OK | ERROR | skipped | |||||||||||||||||
tokay2 | Windows Server 2012 R2 Standard / x64 | OK | ERROR | skipped | skipped | |||||||||||||||||
machv2 | macOS 10.14.6 Mojave / x86_64 | OK | ERROR | skipped | skipped | |||||||||||||||||
Package 230/417 | Hostname | OS / Arch | INSTALL | BUILD | CHECK | BUILD BIN | ||||||||||||||||
motifbreakR 2.6.1 (landing page) Simon Gert Coetzee
| nebbiolo1 | Linux (Ubuntu 20.04.2 LTS) / x86_64 | OK | OK | WARNINGS | |||||||||||||||||
tokay2 | Windows Server 2012 R2 Standard / x64 | OK | OK | WARNINGS | OK | |||||||||||||||||
machv2 | macOS 10.14.6 Mojave / x86_64 | OK | OK | WARNINGS | OK | |||||||||||||||||
Package 231/417 | Hostname | OS / Arch | INSTALL | BUILD | CHECK | BUILD BIN | ||||||||||||||||
motifmatchr 1.14.0 (landing page) Alicia Schep
| nebbiolo1 | Linux (Ubuntu 20.04.2 LTS) / x86_64 | OK | OK | OK | |||||||||||||||||
tokay2 | Windows Server 2012 R2 Standard / x64 | OK | OK | OK | OK | |||||||||||||||||
machv2 | macOS 10.14.6 Mojave / x86_64 | OK | OK | OK | OK | |||||||||||||||||
Package 232/417 | Hostname | OS / Arch | INSTALL | BUILD | CHECK | BUILD BIN | ||||||||||||||||
mpra 1.14.0 (landing page) Leslie Myint
| nebbiolo1 | Linux (Ubuntu 20.04.2 LTS) / x86_64 | OK | OK | OK | |||||||||||||||||
tokay2 | Windows Server 2012 R2 Standard / x64 | OK | OK | OK | OK | |||||||||||||||||
machv2 | macOS 10.14.6 Mojave / x86_64 | OK | OK | OK | OK | |||||||||||||||||
Package 233/417 | Hostname | OS / Arch | INSTALL | BUILD | CHECK | BUILD BIN | ||||||||||||||||
MPRAnalyze 1.10.0 (landing page) Tal Ashuach
| nebbiolo1 | Linux (Ubuntu 20.04.2 LTS) / x86_64 | OK | OK | OK | |||||||||||||||||
tokay2 | Windows Server 2012 R2 Standard / x64 | OK | OK | OK | OK | |||||||||||||||||
machv2 | macOS 10.14.6 Mojave / x86_64 | OK | OK | OK | OK | |||||||||||||||||
Package 234/417 | Hostname | OS / Arch | INSTALL | BUILD | CHECK | BUILD BIN | ||||||||||||||||
MsFeatures 1.0.0 (landing page) Johannes Rainer
| nebbiolo1 | Linux (Ubuntu 20.04.2 LTS) / x86_64 | OK | OK | OK | |||||||||||||||||
tokay2 | Windows Server 2012 R2 Standard / x64 | OK | OK | OK | OK | |||||||||||||||||
machv2 | macOS 10.14.6 Mojave / x86_64 | OK | OK | OK | OK | |||||||||||||||||
Package 235/417 | Hostname | OS / Arch | INSTALL | BUILD | CHECK | BUILD BIN | ||||||||||||||||
msgbsR 1.16.0 (landing page) Benjamin Mayne
| nebbiolo1 | Linux (Ubuntu 20.04.2 LTS) / x86_64 | OK | OK | WARNINGS | |||||||||||||||||
tokay2 | Windows Server 2012 R2 Standard / x64 | OK | OK | WARNINGS | OK | |||||||||||||||||
machv2 | macOS 10.14.6 Mojave / x86_64 | OK | OK | WARNINGS | OK | |||||||||||||||||
Package 236/417 | Hostname | OS / Arch | INSTALL | BUILD | CHECK | BUILD BIN | ||||||||||||||||
MSPrep 1.2.0 (landing page) Max McGrath
| nebbiolo1 | Linux (Ubuntu 20.04.2 LTS) / x86_64 | OK | OK | OK | |||||||||||||||||
tokay2 | Windows Server 2012 R2 Standard / x64 | OK | OK | OK | OK | |||||||||||||||||
machv2 | macOS 10.14.6 Mojave / x86_64 | OK | OK | OK | OK | |||||||||||||||||
Package 237/417 | Hostname | OS / Arch | INSTALL | BUILD | CHECK | BUILD BIN | ||||||||||||||||
msqrob2 1.0.0 (landing page) Lieven Clement
| nebbiolo1 | Linux (Ubuntu 20.04.2 LTS) / x86_64 | OK | OK | OK | |||||||||||||||||
tokay2 | Windows Server 2012 R2 Standard / x64 | OK | OK | OK | OK | |||||||||||||||||
machv2 | macOS 10.14.6 Mojave / x86_64 | OK | OK | OK | OK | |||||||||||||||||
Package 238/417 | Hostname | OS / Arch | INSTALL | BUILD | CHECK | BUILD BIN | ||||||||||||||||
MultiAssayExperiment 1.18.0 (landing page) Marcel Ramos
| nebbiolo1 | Linux (Ubuntu 20.04.2 LTS) / x86_64 | OK | OK | WARNINGS | |||||||||||||||||
tokay2 | Windows Server 2012 R2 Standard / x64 | OK | OK | WARNINGS | OK | |||||||||||||||||
machv2 | macOS 10.14.6 Mojave / x86_64 | OK | OK | WARNINGS | OK | |||||||||||||||||
Package 239/417 | Hostname | OS / Arch | INSTALL | BUILD | CHECK | BUILD BIN | ||||||||||||||||
MultiDataSet 1.20.2 (landing page) Xavier Escribà Montagut
| nebbiolo1 | Linux (Ubuntu 20.04.2 LTS) / x86_64 | OK | OK | WARNINGS | |||||||||||||||||
tokay2 | Windows Server 2012 R2 Standard / x64 | OK | OK | WARNINGS | OK | |||||||||||||||||
machv2 | macOS 10.14.6 Mojave / x86_64 | OK | OK | WARNINGS | OK | |||||||||||||||||
Package 240/417 | Hostname | OS / Arch | INSTALL | BUILD | CHECK | BUILD BIN | ||||||||||||||||
multiOmicsViz 1.16.0 (landing page) Jing Wang
| nebbiolo1 | Linux (Ubuntu 20.04.2 LTS) / x86_64 | OK | OK | OK | |||||||||||||||||
tokay2 | Windows Server 2012 R2 Standard / x64 | OK | OK | OK | OK | |||||||||||||||||
machv2 | macOS 10.14.6 Mojave / x86_64 | OK | OK | OK | OK | |||||||||||||||||
Package 241/417 | Hostname | OS / Arch | INSTALL | BUILD | CHECK | BUILD BIN | ||||||||||||||||
mumosa 1.0.0 (landing page) Aaron Lun
| nebbiolo1 | Linux (Ubuntu 20.04.2 LTS) / x86_64 | OK | OK | OK | |||||||||||||||||
tokay2 | Windows Server 2012 R2 Standard / x64 | OK | OK | OK | OK | |||||||||||||||||
machv2 | macOS 10.14.6 Mojave / x86_64 | OK | OK | OK | OK | |||||||||||||||||
Package 242/417 | Hostname | OS / Arch | INSTALL | BUILD | CHECK | BUILD BIN | ||||||||||||||||
muscat 1.6.0 (landing page) Helena L. Crowell
| nebbiolo1 | Linux (Ubuntu 20.04.2 LTS) / x86_64 | OK | OK | OK | |||||||||||||||||
tokay2 | Windows Server 2012 R2 Standard / x64 | OK | OK | ERROR | OK | |||||||||||||||||
machv2 | macOS 10.14.6 Mojave / x86_64 | OK | OK | OK | OK | |||||||||||||||||
Package 243/417 | Hostname | OS / Arch | INSTALL | BUILD | CHECK | BUILD BIN | ||||||||||||||||
musicatk 1.2.0 (landing page) Aaron Chevalier
| nebbiolo1 | Linux (Ubuntu 20.04.2 LTS) / x86_64 | OK | OK | OK | |||||||||||||||||
tokay2 | Windows Server 2012 R2 Standard / x64 | OK | OK | OK | OK | |||||||||||||||||
machv2 | macOS 10.14.6 Mojave / x86_64 | OK | OK | OK | OK | |||||||||||||||||
Package 244/417 | Hostname | OS / Arch | INSTALL | BUILD | CHECK | BUILD BIN | ||||||||||||||||
MWASTools 1.16.0 (landing page) Andrea Rodriguez-Martinez
| nebbiolo1 | Linux (Ubuntu 20.04.2 LTS) / x86_64 | OK | OK | OK | |||||||||||||||||
tokay2 | Windows Server 2012 R2 Standard / x64 | OK | OK | OK | OK | |||||||||||||||||
machv2 | macOS 10.14.6 Mojave / x86_64 | OK | OK | OK | OK | |||||||||||||||||
Package 245/417 | Hostname | OS / Arch | INSTALL | BUILD | CHECK | BUILD BIN | ||||||||||||||||
NADfinder 1.16.0 (landing page) Jianhong Ou
| nebbiolo1 | Linux (Ubuntu 20.04.2 LTS) / x86_64 | OK | OK | OK | |||||||||||||||||
tokay2 | Windows Server 2012 R2 Standard / x64 | OK | OK | OK | OK | |||||||||||||||||
machv2 | macOS 10.14.6 Mojave / x86_64 | OK | OK | OK | OK | |||||||||||||||||
Package 246/417 | Hostname | OS / Arch | INSTALL | BUILD | CHECK | BUILD BIN | ||||||||||||||||
NanoMethViz 1.2.0 (landing page) Shian Su
| nebbiolo1 | Linux (Ubuntu 20.04.2 LTS) / x86_64 | OK | OK | OK | |||||||||||||||||
tokay2 | Windows Server 2012 R2 Standard / x64 | OK | ERROR | skipped | skipped | |||||||||||||||||
machv2 | macOS 10.14.6 Mojave / x86_64 | OK | OK | OK | OK | |||||||||||||||||
Package 247/417 | Hostname | OS / Arch | INSTALL | BUILD | CHECK | BUILD BIN | ||||||||||||||||
NBAMSeq 1.8.0 (landing page) Xu Ren
| nebbiolo1 | Linux (Ubuntu 20.04.2 LTS) / x86_64 | OK | OK | OK | |||||||||||||||||
tokay2 | Windows Server 2012 R2 Standard / x64 | OK | OK | OK | OK | |||||||||||||||||
machv2 | macOS 10.14.6 Mojave / x86_64 | OK | OK | OK | OK | |||||||||||||||||
Package 248/417 | Hostname | OS / Arch | INSTALL | BUILD | CHECK | BUILD BIN | ||||||||||||||||
Nebulosa 1.2.0 (landing page) Jose Alquicira-Hernandez
| nebbiolo1 | Linux (Ubuntu 20.04.2 LTS) / x86_64 | OK | OK | OK | |||||||||||||||||
tokay2 | Windows Server 2012 R2 Standard / x64 | OK | OK | OK | OK | |||||||||||||||||
machv2 | macOS 10.14.6 Mojave / x86_64 | OK | OK | OK | OK | |||||||||||||||||
Package 249/417 | Hostname | OS / Arch | INSTALL | BUILD | CHECK | BUILD BIN | ||||||||||||||||
netSmooth 1.12.0 (landing page) Jonathan Ronen
| nebbiolo1 | Linux (Ubuntu 20.04.2 LTS) / x86_64 | OK | OK | OK | |||||||||||||||||
tokay2 | Windows Server 2012 R2 Standard / x64 | OK | OK | OK | OK | |||||||||||||||||
machv2 | macOS 10.14.6 Mojave / x86_64 | OK | OK | OK | OK | |||||||||||||||||
Package 250/417 | Hostname | OS / Arch | INSTALL | BUILD | CHECK | BUILD BIN | ||||||||||||||||
NewWave 1.2.0 (landing page) Federico Agostinis
| nebbiolo1 | Linux (Ubuntu 20.04.2 LTS) / x86_64 | OK | OK | OK | |||||||||||||||||
tokay2 | Windows Server 2012 R2 Standard / x64 | OK | OK | OK | OK | |||||||||||||||||
machv2 | macOS 10.14.6 Mojave / x86_64 | OK | OK | OK | OK | |||||||||||||||||
Package 251/417 | Hostname | OS / Arch | INSTALL | BUILD | CHECK | BUILD BIN | ||||||||||||||||
NoRCE 1.4.0 (landing page) Gulden Olgun
| nebbiolo1 | Linux (Ubuntu 20.04.2 LTS) / x86_64 | OK | OK | OK | |||||||||||||||||
tokay2 | Windows Server 2012 R2 Standard / x64 | OK | OK | ERROR | OK | |||||||||||||||||
machv2 | macOS 10.14.6 Mojave / x86_64 | OK | OK | OK | OK | |||||||||||||||||
Package 252/417 | Hostname | OS / Arch | INSTALL | BUILD | CHECK | BUILD BIN | ||||||||||||||||
NormalyzerDE 1.10.0 (landing page) Jakob Willforss
| nebbiolo1 | Linux (Ubuntu 20.04.2 LTS) / x86_64 | OK | OK | OK | |||||||||||||||||
tokay2 | Windows Server 2012 R2 Standard / x64 | OK | OK | OK | OK | |||||||||||||||||
machv2 | macOS 10.14.6 Mojave / x86_64 | OK | OK | OK | OK | |||||||||||||||||
Package 253/417 | Hostname | OS / Arch | INSTALL | BUILD | CHECK | BUILD BIN | ||||||||||||||||
oligoClasses 1.54.0 (landing page) Benilton Carvalho
| nebbiolo1 | Linux (Ubuntu 20.04.2 LTS) / x86_64 | OK | OK | WARNINGS | |||||||||||||||||
tokay2 | Windows Server 2012 R2 Standard / x64 | OK | OK | WARNINGS | OK | |||||||||||||||||
machv2 | macOS 10.14.6 Mojave / x86_64 | OK | OK | WARNINGS | OK | |||||||||||||||||
Package 254/417 | Hostname | OS / Arch | INSTALL | BUILD | CHECK | BUILD BIN | ||||||||||||||||
omicRexposome 1.14.0 (landing page) Xavier Escribà Montagut
| nebbiolo1 | Linux (Ubuntu 20.04.2 LTS) / x86_64 | OK | OK | OK | |||||||||||||||||
tokay2 | Windows Server 2012 R2 Standard / x64 | OK | TIMEOUT | skipped | skipped | |||||||||||||||||
machv2 | macOS 10.14.6 Mojave / x86_64 | OK | OK | OK | OK | |||||||||||||||||
Package 255/417 | Hostname | OS / Arch | INSTALL | BUILD | CHECK | BUILD BIN | ||||||||||||||||
OmicsLonDA 1.8.0 (landing page) Ahmed A. Metwally
| nebbiolo1 | Linux (Ubuntu 20.04.2 LTS) / x86_64 | OK | OK | OK | |||||||||||||||||
tokay2 | Windows Server 2012 R2 Standard / x64 | OK | OK | OK | OK | |||||||||||||||||
machv2 | macOS 10.14.6 Mojave / x86_64 | OK | OK | OK | OK | |||||||||||||||||
Package 256/417 | Hostname | OS / Arch | INSTALL | BUILD | CHECK | BUILD BIN | ||||||||||||||||
omicsPrint 1.12.0 (landing page) Davy Cats
| nebbiolo1 | Linux (Ubuntu 20.04.2 LTS) / x86_64 | OK | OK | WARNINGS | |||||||||||||||||
tokay2 | Windows Server 2012 R2 Standard / x64 | OK | OK | WARNINGS | OK | |||||||||||||||||
machv2 | macOS 10.14.6 Mojave / x86_64 | OK | OK | WARNINGS | OK | |||||||||||||||||
Package 257/417 | Hostname | OS / Arch | INSTALL | BUILD | CHECK | BUILD BIN | ||||||||||||||||
oncomix 1.14.0 (landing page) Daniel Pique
| nebbiolo1 | Linux (Ubuntu 20.04.2 LTS) / x86_64 | OK | OK | OK | |||||||||||||||||
tokay2 | Windows Server 2012 R2 Standard / x64 | OK | OK | OK | OK | |||||||||||||||||
machv2 | macOS 10.14.6 Mojave / x86_64 | OK | OK | OK | OK | |||||||||||||||||
Package 258/417 | Hostname | OS / Arch | INSTALL | BUILD | CHECK | BUILD BIN | ||||||||||||||||
ORFik 1.12.13 (landing page) Haakon Tjeldnes
| nebbiolo1 | Linux (Ubuntu 20.04.2 LTS) / x86_64 | OK | OK | OK | |||||||||||||||||
tokay2 | Windows Server 2012 R2 Standard / x64 | OK | OK | OK | OK | |||||||||||||||||
machv2 | macOS 10.14.6 Mojave / x86_64 | OK | OK | OK | OK | |||||||||||||||||
Package 259/417 | Hostname | OS / Arch | INSTALL | BUILD | CHECK | BUILD BIN | ||||||||||||||||
OUTRIDER 1.10.0 (landing page) Christian Mertes
| nebbiolo1 | Linux (Ubuntu 20.04.2 LTS) / x86_64 | OK | OK | OK | |||||||||||||||||
tokay2 | Windows Server 2012 R2 Standard / x64 | OK | OK | OK | OK | |||||||||||||||||
machv2 | macOS 10.14.6 Mojave / x86_64 | OK | OK | OK | OK | |||||||||||||||||
Package 260/417 | Hostname | OS / Arch | INSTALL | BUILD | CHECK | BUILD BIN | ||||||||||||||||
OVESEG 1.8.0 (landing page) Lulu Chen
| nebbiolo1 | Linux (Ubuntu 20.04.2 LTS) / x86_64 | OK | OK | OK | |||||||||||||||||
tokay2 | Windows Server 2012 R2 Standard / x64 | OK | OK | OK | OK | |||||||||||||||||
machv2 | macOS 10.14.6 Mojave / x86_64 | OK | OK | OK | OK | |||||||||||||||||
Package 261/417 | Hostname | OS / Arch | INSTALL | BUILD | CHECK | BUILD BIN | ||||||||||||||||
padma 1.2.0 (landing page) Andrea Rau
| nebbiolo1 | Linux (Ubuntu 20.04.2 LTS) / x86_64 | OK | OK | OK | |||||||||||||||||
tokay2 | Windows Server 2012 R2 Standard / x64 | OK | OK | OK | OK | |||||||||||||||||
machv2 | macOS 10.14.6 Mojave / x86_64 | OK | OK | OK | OK | |||||||||||||||||
Package 262/417 | Hostname | OS / Arch | INSTALL | BUILD | CHECK | BUILD BIN | ||||||||||||||||
PAIRADISE 1.8.0 (landing page) Qiang Hu
| nebbiolo1 | Linux (Ubuntu 20.04.2 LTS) / x86_64 | OK | OK | OK | |||||||||||||||||
tokay2 | Windows Server 2012 R2 Standard / x64 | OK | OK | OK | OK | |||||||||||||||||
machv2 | macOS 10.14.6 Mojave / x86_64 | OK | OK | OK | OK | |||||||||||||||||
Package 263/417 | Hostname | OS / Arch | INSTALL | BUILD | CHECK | BUILD BIN | ||||||||||||||||
pcaExplorer 2.18.0 (landing page) Federico Marini
| nebbiolo1 | Linux (Ubuntu 20.04.2 LTS) / x86_64 | OK | OK | OK | |||||||||||||||||
tokay2 | Windows Server 2012 R2 Standard / x64 | OK | OK | OK | OK | |||||||||||||||||
machv2 | macOS 10.14.6 Mojave / x86_64 | OK | OK | OK | OK | |||||||||||||||||
Package 264/417 | Hostname | OS / Arch | INSTALL | BUILD | CHECK | BUILD BIN | ||||||||||||||||
PDATK 1.0.2 (landing page) Benjamin Haibe-Kains
| nebbiolo1 | Linux (Ubuntu 20.04.2 LTS) / x86_64 | OK | OK | WARNINGS | |||||||||||||||||
tokay2 | Windows Server 2012 R2 Standard / x64 | OK | OK | WARNINGS | OK | |||||||||||||||||
machv2 | macOS 10.14.6 Mojave / x86_64 | OK | OK | WARNINGS | OK | |||||||||||||||||
Package 265/417 | Hostname | OS / Arch | INSTALL | BUILD | CHECK | BUILD BIN | ||||||||||||||||
peco 1.4.0 (landing page) Chiaowen Joyce Hsiao
| nebbiolo1 | Linux (Ubuntu 20.04.2 LTS) / x86_64 | OK | OK | OK | |||||||||||||||||
tokay2 | Windows Server 2012 R2 Standard / x64 | OK | OK | OK | OK | |||||||||||||||||
machv2 | macOS 10.14.6 Mojave / x86_64 | OK | OK | OK | OK | |||||||||||||||||
Package 266/417 | Hostname | OS / Arch | INSTALL | BUILD | CHECK | BUILD BIN | ||||||||||||||||
PharmacoGx 2.4.0 (landing page) Benjamin Haibe-Kains
| nebbiolo1 | Linux (Ubuntu 20.04.2 LTS) / x86_64 | OK | OK | OK | |||||||||||||||||
tokay2 | Windows Server 2012 R2 Standard / x64 | OK | OK | OK | OK | |||||||||||||||||
machv2 | macOS 10.14.6 Mojave / x86_64 | OK | OK | OK | OK | |||||||||||||||||
Package 267/417 | Hostname | OS / Arch | INSTALL | BUILD | CHECK | BUILD BIN | ||||||||||||||||
phemd 1.8.0 (landing page) William S Chen
| nebbiolo1 | Linux (Ubuntu 20.04.2 LTS) / x86_64 | OK | OK | OK | |||||||||||||||||
tokay2 | Windows Server 2012 R2 Standard / x64 | OK | OK | OK | OK | |||||||||||||||||
machv2 | macOS 10.14.6 Mojave / x86_64 | OK | OK | OK | OK | |||||||||||||||||
Package 268/417 | Hostname | OS / Arch | INSTALL | BUILD | CHECK | BUILD BIN | ||||||||||||||||
phenopath 1.16.0 (landing page) Kieran Campbell
| nebbiolo1 | Linux (Ubuntu 20.04.2 LTS) / x86_64 | OK | OK | OK | |||||||||||||||||
tokay2 | Windows Server 2012 R2 Standard / x64 | OK | OK | OK | OK | |||||||||||||||||
machv2 | macOS 10.14.6 Mojave / x86_64 | OK | OK | OK | OK | |||||||||||||||||
Package 269/417 | Hostname | OS / Arch | INSTALL | BUILD | CHECK | BUILD BIN | ||||||||||||||||
PhIPData 1.0.0 (landing page) Athena Chen
| nebbiolo1 | Linux (Ubuntu 20.04.2 LTS) / x86_64 | OK | OK | OK | |||||||||||||||||
tokay2 | Windows Server 2012 R2 Standard / x64 | OK | OK | OK | OK | |||||||||||||||||
machv2 | macOS 10.14.6 Mojave / x86_64 | OK | OK | OK | OK | |||||||||||||||||
Package 270/417 | Hostname | OS / Arch | INSTALL | BUILD | CHECK | BUILD BIN | ||||||||||||||||
PhosR 1.2.0 (landing page) Taiyun Kim
| nebbiolo1 | Linux (Ubuntu 20.04.2 LTS) / x86_64 | OK | OK | OK | |||||||||||||||||
tokay2 | Windows Server 2012 R2 Standard / x64 | OK | OK | OK | OK | |||||||||||||||||
machv2 | macOS 10.14.6 Mojave / x86_64 | OK | OK | OK | OK | |||||||||||||||||
Package 271/417 | Hostname | OS / Arch | INSTALL | BUILD | CHECK | BUILD BIN | ||||||||||||||||
pipeComp 1.2.0 (landing page) Pierre-Luc Germain
| nebbiolo1 | Linux (Ubuntu 20.04.2 LTS) / x86_64 | OK | OK | OK | |||||||||||||||||
tokay2 | Windows Server 2012 R2 Standard / x64 | OK | OK | OK | OK | |||||||||||||||||
machv2 | macOS 10.14.6 Mojave / x86_64 | OK | OK | OK | OK | |||||||||||||||||
Package 272/417 | Hostname | OS / Arch | INSTALL | BUILD | CHECK | BUILD BIN | ||||||||||||||||
pmp 1.4.0 (landing page) Gavin Rhys Lloyd
| nebbiolo1 | Linux (Ubuntu 20.04.2 LTS) / x86_64 | OK | OK | OK | |||||||||||||||||
tokay2 | Windows Server 2012 R2 Standard / x64 | OK | OK | OK | OK | |||||||||||||||||
machv2 | macOS 10.14.6 Mojave / x86_64 | OK | OK | OK | OK | |||||||||||||||||
Package 273/417 | Hostname | OS / Arch | INSTALL | BUILD | CHECK | BUILD BIN | ||||||||||||||||
POWSC 1.0.0 (landing page) Kenong Su
| nebbiolo1 | Linux (Ubuntu 20.04.2 LTS) / x86_64 | OK | OK | OK | |||||||||||||||||
tokay2 | Windows Server 2012 R2 Standard / x64 | OK | OK | OK | OK | |||||||||||||||||
machv2 | macOS 10.14.6 Mojave / x86_64 | OK | OK | OK | OK | |||||||||||||||||
Package 274/417 | Hostname | OS / Arch | INSTALL | BUILD | CHECK | BUILD BIN | ||||||||||||||||
proActiv 1.2.0 (landing page) Joseph Lee
| nebbiolo1 | Linux (Ubuntu 20.04.2 LTS) / x86_64 | OK | OK | OK | |||||||||||||||||
tokay2 | Windows Server 2012 R2 Standard / x64 | OK | OK | OK | OK | |||||||||||||||||
machv2 | macOS 10.14.6 Mojave / x86_64 | OK | OK | OK | OK | |||||||||||||||||
Package 275/417 | Hostname | OS / Arch | INSTALL | BUILD | CHECK | BUILD BIN | ||||||||||||||||
proDA 1.6.0 (landing page) Constantin Ahlmann-Eltze
| nebbiolo1 | Linux (Ubuntu 20.04.2 LTS) / x86_64 | OK | OK | OK | |||||||||||||||||
tokay2 | Windows Server 2012 R2 Standard / x64 | OK | OK | OK | OK | |||||||||||||||||
machv2 | macOS 10.14.6 Mojave / x86_64 | OK | OK | OK | OK | |||||||||||||||||
Package 276/417 | Hostname | OS / Arch | INSTALL | BUILD | CHECK | BUILD BIN | ||||||||||||||||
profileplyr 1.8.1 (landing page) Tom Carroll
| nebbiolo1 | Linux (Ubuntu 20.04.2 LTS) / x86_64 | OK | OK | OK | |||||||||||||||||
tokay2 | Windows Server 2012 R2 Standard / x64 | OK | OK | OK | OK | |||||||||||||||||
machv2 | macOS 10.14.6 Mojave / x86_64 | OK | OK | OK | OK | |||||||||||||||||
Package 277/417 | Hostname | OS / Arch | INSTALL | BUILD | CHECK | BUILD BIN | ||||||||||||||||
psichomics 1.18.6 (landing page) Nuno Saraiva-Agostinho
| nebbiolo1 | Linux (Ubuntu 20.04.2 LTS) / x86_64 | OK | OK | OK | |||||||||||||||||
tokay2 | Windows Server 2012 R2 Standard / x64 | OK | OK | OK | OK | |||||||||||||||||
machv2 | macOS 10.14.6 Mojave / x86_64 | OK | OK | OK | OK | |||||||||||||||||
Package 278/417 | Hostname | OS / Arch | INSTALL | BUILD | CHECK | BUILD BIN | ||||||||||||||||
pulsedSilac 1.6.0 (landing page) Marc Pagès-Gallego
| nebbiolo1 | Linux (Ubuntu 20.04.2 LTS) / x86_64 | OK | OK | OK | |||||||||||||||||
tokay2 | Windows Server 2012 R2 Standard / x64 | OK | OK | OK | OK | |||||||||||||||||
machv2 | macOS 10.14.6 Mojave / x86_64 | OK | OK | OK | OK | |||||||||||||||||
Package 279/417 | Hostname | OS / Arch | INSTALL | BUILD | CHECK | BUILD BIN | ||||||||||||||||
PureCN 1.22.2 (landing page) Markus Riester
| nebbiolo1 | Linux (Ubuntu 20.04.2 LTS) / x86_64 | OK | OK | OK | |||||||||||||||||
tokay2 | Windows Server 2012 R2 Standard / x64 | OK | OK | OK | OK | |||||||||||||||||
machv2 | macOS 10.14.6 Mojave / x86_64 | OK | OK | OK | OK | |||||||||||||||||
Package 280/417 | Hostname | OS / Arch | INSTALL | BUILD | CHECK | BUILD BIN | ||||||||||||||||
QFeatures 1.2.0 (landing page) Laurent Gatto
| nebbiolo1 | Linux (Ubuntu 20.04.2 LTS) / x86_64 | OK | OK | OK | |||||||||||||||||
tokay2 | Windows Server 2012 R2 Standard / x64 | OK | OK | OK | OK | |||||||||||||||||
machv2 | macOS 10.14.6 Mojave / x86_64 | OK | OK | OK | OK | |||||||||||||||||
Package 281/417 | Hostname | OS / Arch | INSTALL | BUILD | CHECK | BUILD BIN | ||||||||||||||||
qsmooth 1.8.0 (landing page) Stephanie C. Hicks
| nebbiolo1 | Linux (Ubuntu 20.04.2 LTS) / x86_64 | OK | OK | OK | |||||||||||||||||
tokay2 | Windows Server 2012 R2 Standard / x64 | OK | OK | OK | OK | |||||||||||||||||
machv2 | macOS 10.14.6 Mojave / x86_64 | OK | OK | OK | OK | |||||||||||||||||
Package 282/417 | Hostname | OS / Arch | INSTALL | BUILD | CHECK | BUILD BIN | ||||||||||||||||
quantiseqr 1.0.0 (landing page) Federico Marini
| nebbiolo1 | Linux (Ubuntu 20.04.2 LTS) / x86_64 | OK | OK | OK | |||||||||||||||||
tokay2 | Windows Server 2012 R2 Standard / x64 | OK | OK | OK | OK | |||||||||||||||||
machv2 | macOS 10.14.6 Mojave / x86_64 | OK | OK | OK | OK | |||||||||||||||||
Package 283/417 | Hostname | OS / Arch | INSTALL | BUILD | CHECK | BUILD BIN | ||||||||||||||||
R453Plus1Toolbox 1.42.0 (landing page) Hans-Ulrich Klein
| nebbiolo1 | Linux (Ubuntu 20.04.2 LTS) / x86_64 | OK | OK | OK | |||||||||||||||||
tokay2 | Windows Server 2012 R2 Standard / x64 | OK | OK | OK | OK | |||||||||||||||||
machv2 | macOS 10.14.6 Mojave / x86_64 | OK | OK | OK | OK | |||||||||||||||||
Package 284/417 | Hostname | OS / Arch | INSTALL | BUILD | CHECK | BUILD BIN | ||||||||||||||||
RadioGx 1.2.0 (landing page) Benjamin Haibe-Kains
| nebbiolo1 | Linux (Ubuntu 20.04.2 LTS) / x86_64 | OK | OK | OK | |||||||||||||||||
tokay2 | Windows Server 2012 R2 Standard / x64 | OK | OK | OK | OK | |||||||||||||||||
machv2 | macOS 10.14.6 Mojave / x86_64 | OK | OK | OK | OK | |||||||||||||||||
Package 285/417 | Hostname | OS / Arch | INSTALL | BUILD | CHECK | BUILD BIN | ||||||||||||||||
RaggedExperiment 1.16.0 (landing page) Martin Morgan
| nebbiolo1 | Linux (Ubuntu 20.04.2 LTS) / x86_64 | OK | OK | OK | |||||||||||||||||
tokay2 | Windows Server 2012 R2 Standard / x64 | OK | OK | OK | OK | |||||||||||||||||
machv2 | macOS 10.14.6 Mojave / x86_64 | OK | OK | OK | OK | |||||||||||||||||
Package 286/417 | Hostname | OS / Arch | INSTALL | BUILD | CHECK | BUILD BIN | ||||||||||||||||
RareVariantVis 2.20.0 (landing page) Tomasz Stokowy
| nebbiolo1 | Linux (Ubuntu 20.04.2 LTS) / x86_64 | OK | OK | OK | |||||||||||||||||
tokay2 | Windows Server 2012 R2 Standard / x64 | OK | OK | OK | OK | |||||||||||||||||
machv2 | macOS 10.14.6 Mojave / x86_64 | OK | OK | OK | OK | |||||||||||||||||
Package 287/417 | Hostname | OS / Arch | INSTALL | BUILD | CHECK | BUILD BIN | ||||||||||||||||
RcisTarget 1.12.0 (landing page) Sara Aibar
| nebbiolo1 | Linux (Ubuntu 20.04.2 LTS) / x86_64 | OK | OK | WARNINGS | |||||||||||||||||
tokay2 | Windows Server 2012 R2 Standard / x64 | OK | OK | WARNINGS | OK | |||||||||||||||||
machv2 | macOS 10.14.6 Mojave / x86_64 | OK | OK | WARNINGS | OK | |||||||||||||||||
Package 288/417 | Hostname | OS / Arch | INSTALL | BUILD | CHECK | BUILD BIN | ||||||||||||||||
receptLoss 1.4.0 (landing page) Daniel Pique
| nebbiolo1 | Linux (Ubuntu 20.04.2 LTS) / x86_64 | OK | OK | OK | |||||||||||||||||
tokay2 | Windows Server 2012 R2 Standard / x64 | OK | OK | OK | OK | |||||||||||||||||
machv2 | macOS 10.14.6 Mojave / x86_64 | OK | OK | OK | OK | |||||||||||||||||
Package 289/417 | Hostname | OS / Arch | INSTALL | BUILD | CHECK | BUILD BIN | ||||||||||||||||
recount 1.18.1 (landing page) Leonardo Collado-Torres
| nebbiolo1 | Linux (Ubuntu 20.04.2 LTS) / x86_64 | OK | OK | OK | |||||||||||||||||
tokay2 | Windows Server 2012 R2 Standard / x64 | OK | OK | ERROR | OK | |||||||||||||||||
machv2 | macOS 10.14.6 Mojave / x86_64 | OK | OK | ERROR | OK | |||||||||||||||||
Package 290/417 | Hostname | OS / Arch | INSTALL | BUILD | CHECK | BUILD BIN | ||||||||||||||||
recount3 1.2.6 (landing page) Leonardo Collado-Torres
| nebbiolo1 | Linux (Ubuntu 20.04.2 LTS) / x86_64 | OK | OK | OK | |||||||||||||||||
tokay2 | Windows Server 2012 R2 Standard / x64 | OK | OK | OK | OK | |||||||||||||||||
machv2 | macOS 10.14.6 Mojave / x86_64 | OK | OK | OK | OK | |||||||||||||||||
Package 291/417 | Hostname | OS / Arch | INSTALL | BUILD | CHECK | BUILD BIN | ||||||||||||||||
RegEnrich 1.2.0 (landing page) Weiyang Tao
| nebbiolo1 | Linux (Ubuntu 20.04.2 LTS) / x86_64 | OK | OK | OK | |||||||||||||||||
tokay2 | Windows Server 2012 R2 Standard / x64 | OK | ERROR | skipped | skipped | |||||||||||||||||
machv2 | macOS 10.14.6 Mojave / x86_64 | OK | OK | OK | OK | |||||||||||||||||
Package 292/417 | Hostname | OS / Arch | INSTALL | BUILD | CHECK | BUILD BIN | ||||||||||||||||
regionReport 1.26.0 (landing page) Leonardo Collado-Torres
| nebbiolo1 | Linux (Ubuntu 20.04.2 LTS) / x86_64 | OK | OK | OK | |||||||||||||||||
tokay2 | Windows Server 2012 R2 Standard / x64 | OK | OK | OK | OK | |||||||||||||||||
machv2 | macOS 10.14.6 Mojave / x86_64 | OK | OK | OK | OK | |||||||||||||||||
Package 293/417 | Hostname | OS / Arch | INSTALL | BUILD | CHECK | BUILD BIN | ||||||||||||||||
regsplice 1.18.0 (landing page) Lukas M. Weber
| nebbiolo1 | Linux (Ubuntu 20.04.2 LTS) / x86_64 | OK | OK | OK | |||||||||||||||||
tokay2 | Windows Server 2012 R2 Standard / x64 | OK | OK | OK | OK | |||||||||||||||||
machv2 | macOS 10.14.6 Mojave / x86_64 | OK | OK | OK | OK | |||||||||||||||||
Package 294/417 | Hostname | OS / Arch | INSTALL | BUILD | CHECK | BUILD BIN | ||||||||||||||||
REMP 1.16.0 (landing page) Yinan Zheng
| nebbiolo1 | Linux (Ubuntu 20.04.2 LTS) / x86_64 | OK | OK | OK | |||||||||||||||||
tokay2 | Windows Server 2012 R2 Standard / x64 | OK | OK | OK | OK | |||||||||||||||||
machv2 | macOS 10.14.6 Mojave / x86_64 | OK | OK | OK | OK | |||||||||||||||||
Package 295/417 | Hostname | OS / Arch | INSTALL | BUILD | CHECK | BUILD BIN | ||||||||||||||||
restfulSE 1.14.2 (landing page) Shweta Gopaulakrishnan
| nebbiolo1 | Linux (Ubuntu 20.04.2 LTS) / x86_64 | OK | OK | OK | |||||||||||||||||
tokay2 | Windows Server 2012 R2 Standard / x64 | OK | OK | OK | OK | |||||||||||||||||
machv2 | macOS 10.14.6 Mojave / x86_64 | OK | OK | OK | OK | |||||||||||||||||
Package 296/417 | Hostname | OS / Arch | INSTALL | BUILD | CHECK | BUILD BIN | ||||||||||||||||
rgsepd 1.24.0 (landing page) Karl Stamm
| nebbiolo1 | Linux (Ubuntu 20.04.2 LTS) / x86_64 | OK | OK | OK | |||||||||||||||||
tokay2 | Windows Server 2012 R2 Standard / x64 | OK | OK | OK | OK | |||||||||||||||||
machv2 | macOS 10.14.6 Mojave / x86_64 | OK | OK | OK | OK | |||||||||||||||||
Package 297/417 | Hostname | OS / Arch | INSTALL | BUILD | CHECK | BUILD BIN | ||||||||||||||||
Rmmquant 1.10.0 (landing page) Zytnicki Matthias
| nebbiolo1 | Linux (Ubuntu 20.04.2 LTS) / x86_64 | OK | OK | OK | |||||||||||||||||
tokay2 | Windows Server 2012 R2 Standard / x64 | OK | OK | OK | OK | |||||||||||||||||
machv2 | macOS 10.14.6 Mojave / x86_64 | OK | OK | OK | OK | |||||||||||||||||
Package 298/417 | Hostname | OS / Arch | INSTALL | BUILD | CHECK | BUILD BIN | ||||||||||||||||
RNAAgeCalc 1.4.0 (landing page) Xu Ren
| nebbiolo1 | Linux (Ubuntu 20.04.2 LTS) / x86_64 | OK | OK | OK | |||||||||||||||||
tokay2 | Windows Server 2012 R2 Standard / x64 | OK | OK | OK | OK | |||||||||||||||||
machv2 | macOS 10.14.6 Mojave / x86_64 | OK | OK | OK | OK | |||||||||||||||||
Package 299/417 | Hostname | OS / Arch | INSTALL | BUILD | CHECK | BUILD BIN | ||||||||||||||||
RNAsense 1.6.0 (landing page) Marcus Rosenblatt
| nebbiolo1 | Linux (Ubuntu 20.04.2 LTS) / x86_64 | OK | OK | WARNINGS | |||||||||||||||||
tokay2 | Windows Server 2012 R2 Standard / x64 | OK | OK | WARNINGS | OK | |||||||||||||||||
machv2 | macOS 10.14.6 Mojave / x86_64 | OK | OK | WARNINGS | OK | |||||||||||||||||
Package 300/417 | Hostname | OS / Arch | INSTALL | BUILD | CHECK | BUILD BIN | ||||||||||||||||
roar 1.28.0 (landing page) Elena Grassi
| nebbiolo1 | Linux (Ubuntu 20.04.2 LTS) / x86_64 | OK | OK | OK | |||||||||||||||||
tokay2 | Windows Server 2012 R2 Standard / x64 | OK | OK | OK | OK | |||||||||||||||||
machv2 | macOS 10.14.6 Mojave / x86_64 | OK | OK | OK | OK | |||||||||||||||||
Package 301/417 | Hostname | OS / Arch | INSTALL | BUILD | CHECK | BUILD BIN | ||||||||||||||||
ROCpAI 1.4.0 (landing page) Juan-Pedro Garcia
| nebbiolo1 | Linux (Ubuntu 20.04.2 LTS) / x86_64 | OK | OK | OK | |||||||||||||||||
tokay2 | Windows Server 2012 R2 Standard / x64 | OK | OK | OK | OK | |||||||||||||||||
machv2 | macOS 10.14.6 Mojave / x86_64 | OK | OK | OK | OK | |||||||||||||||||
Package 302/417 | Hostname | OS / Arch | INSTALL | BUILD | CHECK | BUILD BIN | ||||||||||||||||
rqt 1.18.0 (landing page) Ilya Y. Zhbannikov
| nebbiolo1 | Linux (Ubuntu 20.04.2 LTS) / x86_64 | OK | ERROR | skipped | |||||||||||||||||
tokay2 | Windows Server 2012 R2 Standard / x64 | OK | ERROR | skipped | skipped | |||||||||||||||||
machv2 | macOS 10.14.6 Mojave / x86_64 | OK | ERROR | skipped | skipped | |||||||||||||||||
Package 303/417 | Hostname | OS / Arch | INSTALL | BUILD | CHECK | BUILD BIN | ||||||||||||||||
rScudo 1.8.0 (landing page) Matteo Ciciani
| nebbiolo1 | Linux (Ubuntu 20.04.2 LTS) / x86_64 | OK | OK | OK | |||||||||||||||||
tokay2 | Windows Server 2012 R2 Standard / x64 | OK | OK | OK | OK | |||||||||||||||||
machv2 | macOS 10.14.6 Mojave / x86_64 | OK | OK | OK | OK | |||||||||||||||||
Package 304/417 | Hostname | OS / Arch | INSTALL | BUILD | CHECK | BUILD BIN | ||||||||||||||||
RTCGAToolbox 2.22.1 (landing page) Marcel Ramos
| nebbiolo1 | Linux (Ubuntu 20.04.2 LTS) / x86_64 | OK | OK | OK | |||||||||||||||||
tokay2 | Windows Server 2012 R2 Standard / x64 | OK | OK | OK | OK | |||||||||||||||||
machv2 | macOS 10.14.6 Mojave / x86_64 | OK | OK | OK | OK | |||||||||||||||||
Package 305/417 | Hostname | OS / Arch | INSTALL | BUILD | CHECK | BUILD BIN | ||||||||||||||||
RTN 2.16.0 (landing page) Mauro Castro
| nebbiolo1 | Linux (Ubuntu 20.04.2 LTS) / x86_64 | OK | OK | OK | |||||||||||||||||
tokay2 | Windows Server 2012 R2 Standard / x64 | OK | OK | OK | OK | |||||||||||||||||
machv2 | macOS 10.14.6 Mojave / x86_64 | OK | OK | OK | OK | |||||||||||||||||
Package 306/417 | Hostname | OS / Arch | INSTALL | BUILD | CHECK | BUILD BIN | ||||||||||||||||
runibic 1.14.0 (landing page) Patryk Orzechowski
| nebbiolo1 | Linux (Ubuntu 20.04.2 LTS) / x86_64 | OK | OK | OK | |||||||||||||||||
tokay2 | Windows Server 2012 R2 Standard / x64 | OK | OK | OK | OK | |||||||||||||||||
machv2 | macOS 10.14.6 Mojave / x86_64 | ERROR | ERROR | skipped | skipped | |||||||||||||||||
Package 307/417 | Hostname | OS / Arch | INSTALL | BUILD | CHECK | BUILD BIN | ||||||||||||||||
satuRn 1.0.0 (landing page) Jeroen Gilis
| nebbiolo1 | Linux (Ubuntu 20.04.2 LTS) / x86_64 | OK | OK | OK | |||||||||||||||||
tokay2 | Windows Server 2012 R2 Standard / x64 | OK | OK | OK | OK | |||||||||||||||||
machv2 | macOS 10.14.6 Mojave / x86_64 | OK | OK | OK | OK | |||||||||||||||||
Package 308/417 | Hostname | OS / Arch | INSTALL | BUILD | CHECK | BUILD BIN | ||||||||||||||||
SBGNview 1.6.0 (landing page) Weijun Luo
| nebbiolo1 | Linux (Ubuntu 20.04.2 LTS) / x86_64 | OK | OK | OK | |||||||||||||||||
tokay2 | Windows Server 2012 R2 Standard / x64 | OK | OK | OK | OK | |||||||||||||||||
machv2 | macOS 10.14.6 Mojave / x86_64 | OK | OK | OK | OK | |||||||||||||||||
Package 309/417 | Hostname | OS / Arch | INSTALL | BUILD | CHECK | BUILD BIN | ||||||||||||||||
SC3 1.20.0 (landing page) Vladimir Kiselev
| nebbiolo1 | Linux (Ubuntu 20.04.2 LTS) / x86_64 | OK | OK | OK | |||||||||||||||||
tokay2 | Windows Server 2012 R2 Standard / x64 | OK | OK | OK | OK | |||||||||||||||||
machv2 | macOS 10.14.6 Mojave / x86_64 | OK | OK | OK | OK | |||||||||||||||||
Package 310/417 | Hostname | OS / Arch | INSTALL | BUILD | CHECK | BUILD BIN | ||||||||||||||||
Scale4C 1.14.0 (landing page) Carolin Walter
| nebbiolo1 | Linux (Ubuntu 20.04.2 LTS) / x86_64 | OK | OK | OK | |||||||||||||||||
tokay2 | Windows Server 2012 R2 Standard / x64 | OK | OK | OK | OK | |||||||||||||||||
machv2 | macOS 10.14.6 Mojave / x86_64 | OK | OK | OK | OK | |||||||||||||||||
Package 311/417 | Hostname | OS / Arch | INSTALL | BUILD | CHECK | BUILD BIN | ||||||||||||||||
SCArray 1.0.0 (landing page) Xiuwen Zheng
| nebbiolo1 | Linux (Ubuntu 20.04.2 LTS) / x86_64 | OK | OK | OK | |||||||||||||||||
tokay2 | Windows Server 2012 R2 Standard / x64 | OK | OK | OK | OK | |||||||||||||||||
machv2 | macOS 10.14.6 Mojave / x86_64 | OK | OK | OK | OK | |||||||||||||||||
Package 312/417 | Hostname | OS / Arch | INSTALL | BUILD | CHECK | BUILD BIN | ||||||||||||||||
scater 1.20.1 (landing page) Alan O'Callaghan
| nebbiolo1 | Linux (Ubuntu 20.04.2 LTS) / x86_64 | OK | OK | OK | |||||||||||||||||
tokay2 | Windows Server 2012 R2 Standard / x64 | OK | OK | OK | OK | |||||||||||||||||
machv2 | macOS 10.14.6 Mojave / x86_64 | OK | OK | OK | OK | |||||||||||||||||
Package 313/417 | Hostname | OS / Arch | INSTALL | BUILD | CHECK | BUILD BIN | ||||||||||||||||
scBFA 1.6.0 (landing page) Ruoxin Li
| nebbiolo1 | Linux (Ubuntu 20.04.2 LTS) / x86_64 | OK | OK | OK | |||||||||||||||||
tokay2 | Windows Server 2012 R2 Standard / x64 | OK | OK | OK | OK | |||||||||||||||||
machv2 | macOS 10.14.6 Mojave / x86_64 | OK | OK | OK | OK | |||||||||||||||||
Package 314/417 | Hostname | OS / Arch | INSTALL | BUILD | CHECK | BUILD BIN | ||||||||||||||||
scCB2 1.2.0 (landing page) Zijian Ni
| nebbiolo1 | Linux (Ubuntu 20.04.2 LTS) / x86_64 | OK | OK | OK | |||||||||||||||||
tokay2 | Windows Server 2012 R2 Standard / x64 | OK | OK | OK | OK | |||||||||||||||||
machv2 | macOS 10.14.6 Mojave / x86_64 | OK | OK | OK | OK | |||||||||||||||||
Package 315/417 | Hostname | OS / Arch | INSTALL | BUILD | CHECK | BUILD BIN | ||||||||||||||||
scClassifR 1.0.0 (landing page) Johannes Griss
| nebbiolo1 | Linux (Ubuntu 20.04.2 LTS) / x86_64 | OK | OK | WARNINGS | |||||||||||||||||
tokay2 | Windows Server 2012 R2 Standard / x64 | OK | OK | WARNINGS | OK | |||||||||||||||||
machv2 | macOS 10.14.6 Mojave / x86_64 | OK | OK | WARNINGS | OK | |||||||||||||||||
Package 316/417 | Hostname | OS / Arch | INSTALL | BUILD | CHECK | BUILD BIN | ||||||||||||||||
scDblFinder 1.6.0 (landing page) Pierre-Luc Germain
| nebbiolo1 | Linux (Ubuntu 20.04.2 LTS) / x86_64 | OK | OK | WARNINGS | |||||||||||||||||
tokay2 | Windows Server 2012 R2 Standard / x64 | OK | OK | WARNINGS | OK | |||||||||||||||||
machv2 | macOS 10.14.6 Mojave / x86_64 | OK | OK | WARNINGS | OK | |||||||||||||||||
Package 317/417 | Hostname | OS / Arch | INSTALL | BUILD | CHECK | BUILD BIN | ||||||||||||||||
scDD 1.16.0 (landing page) Keegan Korthauer
| nebbiolo1 | Linux (Ubuntu 20.04.2 LTS) / x86_64 | OK | OK | OK | |||||||||||||||||
tokay2 | Windows Server 2012 R2 Standard / x64 | OK | OK | OK | OK | |||||||||||||||||
machv2 | macOS 10.14.6 Mojave / x86_64 | OK | OK | OK | OK | |||||||||||||||||
Package 318/417 | Hostname | OS / Arch | INSTALL | BUILD | CHECK | BUILD BIN | ||||||||||||||||
scds 1.8.0 (landing page) Dennis Kostka
| nebbiolo1 | Linux (Ubuntu 20.04.2 LTS) / x86_64 | OK | OK | OK | |||||||||||||||||
tokay2 | Windows Server 2012 R2 Standard / x64 | OK | OK | OK | OK | |||||||||||||||||
machv2 | macOS 10.14.6 Mojave / x86_64 | OK | OK | OK | OK | |||||||||||||||||
Package 319/417 | Hostname | OS / Arch | INSTALL | BUILD | CHECK | BUILD BIN | ||||||||||||||||
scGPS 1.6.0 (landing page) Quan Nguyen
| nebbiolo1 | Linux (Ubuntu 20.04.2 LTS) / x86_64 | OK | OK | OK | |||||||||||||||||
tokay2 | Windows Server 2012 R2 Standard / x64 | OK | OK | OK | OK | |||||||||||||||||
machv2 | macOS 10.14.6 Mojave / x86_64 | OK | OK | OK | OK | |||||||||||||||||
Package 320/417 | Hostname | OS / Arch | INSTALL | BUILD | CHECK | BUILD BIN | ||||||||||||||||
scHOT 1.4.0 (landing page) Shila Ghazanfar
| nebbiolo1 | Linux (Ubuntu 20.04.2 LTS) / x86_64 | OK | OK | OK | |||||||||||||||||
tokay2 | Windows Server 2012 R2 Standard / x64 | OK | OK | OK | OK | |||||||||||||||||
machv2 | macOS 10.14.6 Mojave / x86_64 | OK | OK | OK | OK | |||||||||||||||||
Package 321/417 | Hostname | OS / Arch | INSTALL | BUILD | CHECK | BUILD BIN | ||||||||||||||||
scmap 1.14.0 (landing page) Vladimir Kiselev
| nebbiolo1 | Linux (Ubuntu 20.04.2 LTS) / x86_64 | OK | OK | OK | |||||||||||||||||
tokay2 | Windows Server 2012 R2 Standard / x64 | OK | OK | OK | OK | |||||||||||||||||
machv2 | macOS 10.14.6 Mojave / x86_64 | OK | OK | OK | OK | |||||||||||||||||
Package 322/417 | Hostname | OS / Arch | INSTALL | BUILD | CHECK | BUILD BIN | ||||||||||||||||
scMerge 1.8.0 (landing page) Yingxin Lin
| nebbiolo1 | Linux (Ubuntu 20.04.2 LTS) / x86_64 | OK | OK | OK | |||||||||||||||||
tokay2 | Windows Server 2012 R2 Standard / x64 | OK | OK | OK | OK | |||||||||||||||||
machv2 | macOS 10.14.6 Mojave / x86_64 | OK | OK | OK | OK | |||||||||||||||||
Package 323/417 | Hostname | OS / Arch | INSTALL | BUILD | CHECK | BUILD BIN | ||||||||||||||||
scmeth 1.12.0 (landing page) Divy Kangeyan
| nebbiolo1 | Linux (Ubuntu 20.04.2 LTS) / x86_64 | OK | OK | OK | |||||||||||||||||
tokay2 | Windows Server 2012 R2 Standard / x64 | OK | OK | OK | OK | |||||||||||||||||
machv2 | macOS 10.14.6 Mojave / x86_64 | OK | OK | OK | OK | |||||||||||||||||
Package 324/417 | Hostname | OS / Arch | INSTALL | BUILD | CHECK | BUILD BIN | ||||||||||||||||
SCnorm 1.14.0 (landing page) Rhonda Bacher
| nebbiolo1 | Linux (Ubuntu 20.04.2 LTS) / x86_64 | OK | OK | OK | |||||||||||||||||
tokay2 | Windows Server 2012 R2 Standard / x64 | OK | OK | OK | OK | |||||||||||||||||
machv2 | macOS 10.14.6 Mojave / x86_64 | OK | OK | OK | OK | |||||||||||||||||
Package 325/417 | Hostname | OS / Arch | INSTALL | BUILD | CHECK | BUILD BIN | ||||||||||||||||
scone 1.16.1 (landing page) Davide Risso
| nebbiolo1 | Linux (Ubuntu 20.04.2 LTS) / x86_64 | OK | OK | OK | |||||||||||||||||
tokay2 | Windows Server 2012 R2 Standard / x64 | OK | OK | OK | OK | |||||||||||||||||
machv2 | macOS 10.14.6 Mojave / x86_64 | OK | OK | OK | OK | |||||||||||||||||
Package 326/417 | Hostname | OS / Arch | INSTALL | BUILD | CHECK | BUILD BIN | ||||||||||||||||
scoreInvHap 1.14.0 (landing page) Dolors Pelegri-Siso
| nebbiolo1 | Linux (Ubuntu 20.04.2 LTS) / x86_64 | OK | OK | OK | |||||||||||||||||
tokay2 | Windows Server 2012 R2 Standard / x64 | OK | OK | OK | OK | |||||||||||||||||
machv2 | macOS 10.14.6 Mojave / x86_64 | OK | OK | OK | OK | |||||||||||||||||
Package 327/417 | Hostname | OS / Arch | INSTALL | BUILD | CHECK | BUILD BIN | ||||||||||||||||
scp 1.2.0 (landing page) Christophe Vanderaa
| nebbiolo1 | Linux (Ubuntu 20.04.2 LTS) / x86_64 | OK | OK | OK | |||||||||||||||||
tokay2 | Windows Server 2012 R2 Standard / x64 | OK | OK | OK | OK | |||||||||||||||||
machv2 | macOS 10.14.6 Mojave / x86_64 | OK | OK | OK | OK | |||||||||||||||||
Package 328/417 | Hostname | OS / Arch | INSTALL | BUILD | CHECK | BUILD BIN | ||||||||||||||||
scPipe 1.14.0 (landing page) Luyi Tian
| nebbiolo1 | Linux (Ubuntu 20.04.2 LTS) / x86_64 | OK | OK | OK | |||||||||||||||||
tokay2 | Windows Server 2012 R2 Standard / x64 | OK | OK | OK | OK | |||||||||||||||||
machv2 | macOS 10.14.6 Mojave / x86_64 | OK | OK | OK | OK | |||||||||||||||||
Package 329/417 | Hostname | OS / Arch | INSTALL | BUILD | CHECK | BUILD BIN | ||||||||||||||||
scran 1.20.1 (landing page) Aaron Lun
| nebbiolo1 | Linux (Ubuntu 20.04.2 LTS) / x86_64 | OK | OK | WARNINGS | |||||||||||||||||
tokay2 | Windows Server 2012 R2 Standard / x64 | OK | OK | WARNINGS | OK | |||||||||||||||||
machv2 | macOS 10.14.6 Mojave / x86_64 | OK | OK | WARNINGS | OK | |||||||||||||||||
Package 330/417 | Hostname | OS / Arch | INSTALL | BUILD | CHECK | BUILD BIN | ||||||||||||||||
scRepertoire 1.2.0 (landing page) Nick Borcherding
| nebbiolo1 | Linux (Ubuntu 20.04.2 LTS) / x86_64 | OK | OK | OK | |||||||||||||||||
tokay2 | Windows Server 2012 R2 Standard / x64 | OK | OK | OK | OK | |||||||||||||||||
machv2 | macOS 10.14.6 Mojave / x86_64 | OK | OK | OK | OK | |||||||||||||||||
Package 331/417 | Hostname | OS / Arch | INSTALL | BUILD | CHECK | BUILD BIN | ||||||||||||||||
scruff 1.10.0 (landing page) Zhe Wang
| nebbiolo1 | Linux (Ubuntu 20.04.2 LTS) / x86_64 | OK | OK | OK | |||||||||||||||||
tokay2 | Windows Server 2012 R2 Standard / x64 | OK | OK | OK | OK | |||||||||||||||||
machv2 | macOS 10.14.6 Mojave / x86_64 | OK | OK | OK | OK | |||||||||||||||||
Package 332/417 | Hostname | OS / Arch | INSTALL | BUILD | CHECK | BUILD BIN | ||||||||||||||||
scry 1.4.0 (landing page) Kelly Street
| nebbiolo1 | Linux (Ubuntu 20.04.2 LTS) / x86_64 | OK | OK | OK | |||||||||||||||||
tokay2 | Windows Server 2012 R2 Standard / x64 | OK | OK | OK | OK | |||||||||||||||||
machv2 | macOS 10.14.6 Mojave / x86_64 | OK | OK | OK | OK | |||||||||||||||||
Package 333/417 | Hostname | OS / Arch | INSTALL | BUILD | CHECK | BUILD BIN | ||||||||||||||||
scTensor 2.2.0 (landing page) Koki Tsuyuzaki
| nebbiolo1 | Linux (Ubuntu 20.04.2 LTS) / x86_64 | OK | OK | OK | |||||||||||||||||
tokay2 | Windows Server 2012 R2 Standard / x64 | OK | OK | OK | OK | |||||||||||||||||
machv2 | macOS 10.14.6 Mojave / x86_64 | OK | OK | OK | OK | |||||||||||||||||
Package 334/417 | Hostname | OS / Arch | INSTALL | BUILD | CHECK | BUILD BIN | ||||||||||||||||
scTGIF 1.6.0 (landing page) Koki Tsuyuzaki
| nebbiolo1 | Linux (Ubuntu 20.04.2 LTS) / x86_64 | OK | OK | OK | |||||||||||||||||
tokay2 | Windows Server 2012 R2 Standard / x64 | OK | OK | OK | OK | |||||||||||||||||
machv2 | macOS 10.14.6 Mojave / x86_64 | OK | OK | OK | OK | |||||||||||||||||
Package 335/417 | Hostname | OS / Arch | INSTALL | BUILD | CHECK | BUILD BIN | ||||||||||||||||
scuttle 1.2.1 (landing page) Aaron Lun
| nebbiolo1 | Linux (Ubuntu 20.04.2 LTS) / x86_64 | OK | OK | WARNINGS | |||||||||||||||||
tokay2 | Windows Server 2012 R2 Standard / x64 | OK | OK | WARNINGS | OK | |||||||||||||||||
machv2 | macOS 10.14.6 Mojave / x86_64 | OK | OK | WARNINGS | OK | |||||||||||||||||
Package 336/417 | Hostname | OS / Arch | INSTALL | BUILD | CHECK | BUILD BIN | ||||||||||||||||
SDAMS 1.12.0 (landing page) Yuntong Li
| nebbiolo1 | Linux (Ubuntu 20.04.2 LTS) / x86_64 | OK | OK | OK | |||||||||||||||||
tokay2 | Windows Server 2012 R2 Standard / x64 | OK | OK | OK | OK | |||||||||||||||||
machv2 | macOS 10.14.6 Mojave / x86_64 | OK | OK | OK | OK | |||||||||||||||||
Package 337/417 | Hostname | OS / Arch | INSTALL | BUILD | CHECK | BUILD BIN | ||||||||||||||||
sechm 1.0.0 (landing page) Pierre-Luc Germain
| nebbiolo1 | Linux (Ubuntu 20.04.2 LTS) / x86_64 | OK | OK | OK | |||||||||||||||||
tokay2 | Windows Server 2012 R2 Standard / x64 | OK | OK | OK | OK | |||||||||||||||||
machv2 | macOS 10.14.6 Mojave / x86_64 | OK | OK | OK | OK | |||||||||||||||||
Package 338/417 | Hostname | OS / Arch | INSTALL | BUILD | CHECK | BUILD BIN | ||||||||||||||||
seqCAT 1.14.1 (landing page) Erik Fasterius
| nebbiolo1 | Linux (Ubuntu 20.04.2 LTS) / x86_64 | OK | OK | OK | |||||||||||||||||
tokay2 | Windows Server 2012 R2 Standard / x64 | OK | OK | OK | OK | |||||||||||||||||
machv2 | macOS 10.14.6 Mojave / x86_64 | OK | OK | OK | OK | |||||||||||||||||
Package 339/417 | Hostname | OS / Arch | INSTALL | BUILD | CHECK | BUILD BIN | ||||||||||||||||
SeqGate 1.2.0 (landing page) Stéphanie Rialle
| nebbiolo1 | Linux (Ubuntu 20.04.2 LTS) / x86_64 | OK | OK | OK | |||||||||||||||||
tokay2 | Windows Server 2012 R2 Standard / x64 | OK | OK | OK | OK | |||||||||||||||||
machv2 | macOS 10.14.6 Mojave / x86_64 | OK | OK | OK | OK | |||||||||||||||||
Package 340/417 | Hostname | OS / Arch | INSTALL | BUILD | CHECK | BUILD BIN | ||||||||||||||||
sesame 1.10.5 (landing page) Wanding Zhou
| nebbiolo1 | Linux (Ubuntu 20.04.2 LTS) / x86_64 | OK | OK | OK | |||||||||||||||||
tokay2 | Windows Server 2012 R2 Standard / x64 | OK | OK | OK | OK | |||||||||||||||||
machv2 | macOS 10.14.6 Mojave / x86_64 | OK | OK | OK | OK | |||||||||||||||||
Package 341/417 | Hostname | OS / Arch | INSTALL | BUILD | CHECK | BUILD BIN | ||||||||||||||||
SEtools 1.6.0 (landing page) Pierre-Luc Germain
| nebbiolo1 | Linux (Ubuntu 20.04.2 LTS) / x86_64 | OK | OK | WARNINGS | |||||||||||||||||
tokay2 | Windows Server 2012 R2 Standard / x64 | OK | OK | WARNINGS | OK | |||||||||||||||||
machv2 | macOS 10.14.6 Mojave / x86_64 | OK | OK | WARNINGS | OK | |||||||||||||||||
Package 342/417 | Hostname | OS / Arch | INSTALL | BUILD | CHECK | BUILD BIN | ||||||||||||||||
SGSeq 1.26.0 (landing page) Leonard Goldstein
| nebbiolo1 | Linux (Ubuntu 20.04.2 LTS) / x86_64 | OK | OK | OK | |||||||||||||||||
tokay2 | Windows Server 2012 R2 Standard / x64 | OK | OK | OK | OK | |||||||||||||||||
machv2 | macOS 10.14.6 Mojave / x86_64 | OK | OK | OK | OK | |||||||||||||||||
Package 343/417 | Hostname | OS / Arch | INSTALL | BUILD | CHECK | BUILD BIN | ||||||||||||||||
sigFeature 1.10.0 (landing page) Pijush Das Developer
| nebbiolo1 | Linux (Ubuntu 20.04.2 LTS) / x86_64 | OK | OK | OK | |||||||||||||||||
tokay2 | Windows Server 2012 R2 Standard / x64 | OK | OK | OK | OK | |||||||||||||||||
machv2 | macOS 10.14.6 Mojave / x86_64 | OK | OK | OK | OK | |||||||||||||||||
Package 344/417 | Hostname | OS / Arch | INSTALL | BUILD | CHECK | BUILD BIN | ||||||||||||||||
signatureSearch 1.6.3 (landing page) Yuzhu Duan
| nebbiolo1 | Linux (Ubuntu 20.04.2 LTS) / x86_64 | OK | OK | OK | |||||||||||||||||
tokay2 | Windows Server 2012 R2 Standard / x64 | OK | OK | OK | OK | |||||||||||||||||
machv2 | macOS 10.14.6 Mojave / x86_64 | OK | OK | OK | OK | |||||||||||||||||
Package 345/417 | Hostname | OS / Arch | INSTALL | BUILD | CHECK | BUILD BIN | ||||||||||||||||
SigsPack 1.6.0 (landing page) Franziska Schumann
| nebbiolo1 | Linux (Ubuntu 20.04.2 LTS) / x86_64 | OK | OK | OK | |||||||||||||||||
tokay2 | Windows Server 2012 R2 Standard / x64 | OK | OK | OK | OK | |||||||||||||||||
machv2 | macOS 10.14.6 Mojave / x86_64 | OK | OK | OK | OK | |||||||||||||||||
Package 346/417 | Hostname | OS / Arch | INSTALL | BUILD | CHECK | BUILD BIN | ||||||||||||||||
Yuqing Zhang
| nebbiolo1 | Linux (Ubuntu 20.04.2 LTS) / x86_64 | ERROR | ERROR | skipped | |||||||||||||||||
tokay2 | Windows Server 2012 R2 Standard / x64 | ERROR | ERROR | skipped | skipped | |||||||||||||||||
machv2 | macOS 10.14.6 Mojave / x86_64 | ERROR | ERROR | skipped | skipped | |||||||||||||||||
Package 347/417 | Hostname | OS / Arch | INSTALL | BUILD | CHECK | BUILD BIN | ||||||||||||||||
SingleCellExperiment 1.14.1 (landing page) Davide Risso
| nebbiolo1 | Linux (Ubuntu 20.04.2 LTS) / x86_64 | OK | OK | OK | |||||||||||||||||
tokay2 | Windows Server 2012 R2 Standard / x64 | OK | OK | OK | OK | |||||||||||||||||
machv2 | macOS 10.14.6 Mojave / x86_64 | OK | OK | OK | OK | |||||||||||||||||
Package 348/417 | Hostname | OS / Arch | INSTALL | BUILD | CHECK | BUILD BIN | ||||||||||||||||
singleCellTK 2.2.0 (landing page) Yusuke Koga
| nebbiolo1 | Linux (Ubuntu 20.04.2 LTS) / x86_64 | OK | OK | OK | |||||||||||||||||
tokay2 | Windows Server 2012 R2 Standard / x64 | OK | OK | ERROR | OK | |||||||||||||||||
machv2 | macOS 10.14.6 Mojave / x86_64 | OK | OK | OK | OK | |||||||||||||||||
Package 349/417 | Hostname | OS / Arch | INSTALL | BUILD | CHECK | BUILD BIN | ||||||||||||||||
SingleR 1.6.1 (landing page) Aaron Lun
| nebbiolo1 | Linux (Ubuntu 20.04.2 LTS) / x86_64 | OK | OK | OK | |||||||||||||||||
tokay2 | Windows Server 2012 R2 Standard / x64 | OK | OK | OK | OK | |||||||||||||||||
machv2 | macOS 10.14.6 Mojave / x86_64 | OK | OK | OK | OK | |||||||||||||||||
Package 350/417 | Hostname | OS / Arch | INSTALL | BUILD | CHECK | BUILD BIN | ||||||||||||||||
singscore 1.12.0 (landing page) Dharmesh D. Bhuva
| nebbiolo1 | Linux (Ubuntu 20.04.2 LTS) / x86_64 | OK | OK | OK | |||||||||||||||||
tokay2 | Windows Server 2012 R2 Standard / x64 | OK | OK | OK | OK | |||||||||||||||||
machv2 | macOS 10.14.6 Mojave / x86_64 | OK | OK | OK | OK | |||||||||||||||||
Package 351/417 | Hostname | OS / Arch | INSTALL | BUILD | CHECK | BUILD BIN | ||||||||||||||||
slalom 1.14.0 (landing page) Davis McCarthy
| nebbiolo1 | Linux (Ubuntu 20.04.2 LTS) / x86_64 | OK | OK | OK | |||||||||||||||||
tokay2 | Windows Server 2012 R2 Standard / x64 | OK | OK | OK | OK | |||||||||||||||||
machv2 | macOS 10.14.6 Mojave / x86_64 | OK | OK | OK | OK | |||||||||||||||||
Package 352/417 | Hostname | OS / Arch | INSTALL | BUILD | CHECK | BUILD BIN | ||||||||||||||||
slingshot 2.0.0 (landing page) Kelly Street
| nebbiolo1 | Linux (Ubuntu 20.04.2 LTS) / x86_64 | OK | OK | OK | |||||||||||||||||
tokay2 | Windows Server 2012 R2 Standard / x64 | OK | OK | OK | OK | |||||||||||||||||
machv2 | macOS 10.14.6 Mojave / x86_64 | OK | OK | OK | OK | |||||||||||||||||
Package 353/417 | Hostname | OS / Arch | INSTALL | BUILD | CHECK | BUILD BIN | ||||||||||||||||
slinky 1.10.2 (landing page) Eric Kort
| nebbiolo1 | Linux (Ubuntu 20.04.2 LTS) / x86_64 | OK | OK | ERROR | |||||||||||||||||
tokay2 | Windows Server 2012 R2 Standard / x64 | OK | OK | ERROR | OK | |||||||||||||||||
machv2 | macOS 10.14.6 Mojave / x86_64 | OK | OK | ERROR | OK | |||||||||||||||||
Package 354/417 | Hostname | OS / Arch | INSTALL | BUILD | CHECK | BUILD BIN | ||||||||||||||||
snapcount 1.4.0 (landing page) Rone Charles
| nebbiolo1 | Linux (Ubuntu 20.04.2 LTS) / x86_64 | OK | OK | OK | |||||||||||||||||
tokay2 | Windows Server 2012 R2 Standard / x64 | OK | OK | OK | OK | |||||||||||||||||
machv2 | macOS 10.14.6 Mojave / x86_64 | OK | OK | OK | OK | |||||||||||||||||
Package 355/417 | Hostname | OS / Arch | INSTALL | BUILD | CHECK | BUILD BIN | ||||||||||||||||
SNPhood 1.22.0 (landing page) Christian Arnold
| nebbiolo1 | Linux (Ubuntu 20.04.2 LTS) / x86_64 | OK | OK | OK | |||||||||||||||||
tokay2 | Windows Server 2012 R2 Standard / x64 | OK | OK | OK | OK | |||||||||||||||||
machv2 | macOS 10.14.6 Mojave / x86_64 | OK | OK | OK | OK | |||||||||||||||||
Package 356/417 | Hostname | OS / Arch | INSTALL | BUILD | CHECK | BUILD BIN | ||||||||||||||||
soGGi 1.24.1 (landing page) Tom Carroll
| nebbiolo1 | Linux (Ubuntu 20.04.2 LTS) / x86_64 | OK | OK | OK | |||||||||||||||||
tokay2 | Windows Server 2012 R2 Standard / x64 | OK | OK | OK | OK | |||||||||||||||||
machv2 | macOS 10.14.6 Mojave / x86_64 | OK | OK | OK | OK | |||||||||||||||||
Package 357/417 | Hostname | OS / Arch | INSTALL | BUILD | CHECK | BUILD BIN | ||||||||||||||||
Spaniel 1.6.0 (landing page) Rachel Queen
| nebbiolo1 | Linux (Ubuntu 20.04.2 LTS) / x86_64 | OK | OK | OK | |||||||||||||||||
tokay2 | Windows Server 2012 R2 Standard / x64 | OK | OK | OK | OK | |||||||||||||||||
machv2 | macOS 10.14.6 Mojave / x86_64 | OK | OK | OK | OK | |||||||||||||||||
Package 358/417 | Hostname | OS / Arch | INSTALL | BUILD | CHECK | BUILD BIN | ||||||||||||||||
SpatialCPie 1.8.0 (landing page) Joseph Bergenstraahle
| nebbiolo1 | Linux (Ubuntu 20.04.2 LTS) / x86_64 | OK | OK | OK | |||||||||||||||||
tokay2 | Windows Server 2012 R2 Standard / x64 | OK | OK | OK | OK | |||||||||||||||||
machv2 | macOS 10.14.6 Mojave / x86_64 | OK | OK | OK | OK | |||||||||||||||||
Package 359/417 | Hostname | OS / Arch | INSTALL | BUILD | CHECK | BUILD BIN | ||||||||||||||||
SpatialExperiment 1.2.1 (landing page) Dario Righelli
| nebbiolo1 | Linux (Ubuntu 20.04.2 LTS) / x86_64 | OK | OK | OK | |||||||||||||||||
tokay2 | Windows Server 2012 R2 Standard / x64 | OK | OK | OK | OK | |||||||||||||||||
machv2 | macOS 10.14.6 Mojave / x86_64 | OK | OK | OK | OK | |||||||||||||||||
Package 360/417 | Hostname | OS / Arch | INSTALL | BUILD | CHECK | BUILD BIN | ||||||||||||||||
spatialHeatmap 1.2.0 (landing page) Jianhai Zhang
| nebbiolo1 | Linux (Ubuntu 20.04.2 LTS) / x86_64 | OK | OK | OK | |||||||||||||||||
tokay2 | Windows Server 2012 R2 Standard / x64 | OK | OK | OK | OK | |||||||||||||||||
machv2 | macOS 10.14.6 Mojave / x86_64 | OK | OK | OK | OK | |||||||||||||||||
Package 361/417 | Hostname | OS / Arch | INSTALL | BUILD | CHECK | BUILD BIN | ||||||||||||||||
splatter 1.16.1 (landing page) Luke Zappia
| nebbiolo1 | Linux (Ubuntu 20.04.2 LTS) / x86_64 | OK | OK | OK | |||||||||||||||||
tokay2 | Windows Server 2012 R2 Standard / x64 | OK | OK | OK | OK | |||||||||||||||||
machv2 | macOS 10.14.6 Mojave / x86_64 | OK | OK | OK | OK | |||||||||||||||||
Package 362/417 | Hostname | OS / Arch | INSTALL | BUILD | CHECK | BUILD BIN | ||||||||||||||||
SplicingFactory 1.0.3 (landing page) Endre Sebestyen
| nebbiolo1 | Linux (Ubuntu 20.04.2 LTS) / x86_64 | OK | OK | OK | |||||||||||||||||
tokay2 | Windows Server 2012 R2 Standard / x64 | OK | OK | OK | OK | |||||||||||||||||
machv2 | macOS 10.14.6 Mojave / x86_64 | OK | OK | OK | OK | |||||||||||||||||
Package 363/417 | Hostname | OS / Arch | INSTALL | BUILD | CHECK | BUILD BIN | ||||||||||||||||
spqn 1.4.0 (landing page) Yi Wang
| nebbiolo1 | Linux (Ubuntu 20.04.2 LTS) / x86_64 | OK | OK | OK | |||||||||||||||||
tokay2 | Windows Server 2012 R2 Standard / x64 | OK | OK | OK | OK | |||||||||||||||||
machv2 | macOS 10.14.6 Mojave / x86_64 | OK | OK | OK | OK | |||||||||||||||||
Package 364/417 | Hostname | OS / Arch | INSTALL | BUILD | CHECK | BUILD BIN | ||||||||||||||||
sRACIPE 1.8.0 (landing page) Vivek Kohar
| nebbiolo1 | Linux (Ubuntu 20.04.2 LTS) / x86_64 | OK | OK | OK | |||||||||||||||||
tokay2 | Windows Server 2012 R2 Standard / x64 | OK | OK | OK | OK | |||||||||||||||||
machv2 | macOS 10.14.6 Mojave / x86_64 | OK | OK | OK | OK | |||||||||||||||||
Package 365/417 | Hostname | OS / Arch | INSTALL | BUILD | CHECK | BUILD BIN | ||||||||||||||||
srnadiff 1.12.2 (landing page) Zytnicki Matthias
| nebbiolo1 | Linux (Ubuntu 20.04.2 LTS) / x86_64 | OK | OK | OK | |||||||||||||||||
tokay2 | Windows Server 2012 R2 Standard / x64 | OK | OK | TIMEOUT | OK | |||||||||||||||||
machv2 | macOS 10.14.6 Mojave / x86_64 | OK | OK | OK | OK | |||||||||||||||||
Package 366/417 | Hostname | OS / Arch | INSTALL | BUILD | CHECK | BUILD BIN | ||||||||||||||||
ssPATHS 1.6.0 (landing page) Natalie R. Davidson
| nebbiolo1 | Linux (Ubuntu 20.04.2 LTS) / x86_64 | OK | OK | OK | |||||||||||||||||
tokay2 | Windows Server 2012 R2 Standard / x64 | OK | OK | OK | OK | |||||||||||||||||
machv2 | macOS 10.14.6 Mojave / x86_64 | OK | OK | OK | OK | |||||||||||||||||
Package 367/417 | Hostname | OS / Arch | INSTALL | BUILD | CHECK | BUILD BIN | ||||||||||||||||
stageR 1.14.0 (landing page) Koen Van den Berge
| nebbiolo1 | Linux (Ubuntu 20.04.2 LTS) / x86_64 | OK | OK | WARNINGS | |||||||||||||||||
tokay2 | Windows Server 2012 R2 Standard / x64 | OK | OK | WARNINGS | OK | |||||||||||||||||
machv2 | macOS 10.14.6 Mojave / x86_64 | OK | OK | WARNINGS | OK | |||||||||||||||||
Package 368/417 | Hostname | OS / Arch | INSTALL | BUILD | CHECK | BUILD BIN | ||||||||||||||||
struct 1.4.0 (landing page) Gavin Rhys Lloyd
| nebbiolo1 | Linux (Ubuntu 20.04.2 LTS) / x86_64 | OK | OK | OK | |||||||||||||||||
tokay2 | Windows Server 2012 R2 Standard / x64 | OK | OK | OK | OK | |||||||||||||||||
machv2 | macOS 10.14.6 Mojave / x86_64 | OK | OK | OK | OK | |||||||||||||||||
Package 369/417 | Hostname | OS / Arch | INSTALL | BUILD | CHECK | BUILD BIN | ||||||||||||||||
StructuralVariantAnnotation 1.8.2 (landing page) Daniel Cameron
| nebbiolo1 | Linux (Ubuntu 20.04.2 LTS) / x86_64 | OK | OK | OK | |||||||||||||||||
tokay2 | Windows Server 2012 R2 Standard / x64 | OK | OK | OK | OK | |||||||||||||||||
machv2 | macOS 10.14.6 Mojave / x86_64 | OK | OK | OK | OK | |||||||||||||||||
Package 370/417 | Hostname | OS / Arch | INSTALL | BUILD | CHECK | BUILD BIN | ||||||||||||||||
SummarizedBenchmark 2.10.0 (landing page) Patrick Kimes
| nebbiolo1 | Linux (Ubuntu 20.04.2 LTS) / x86_64 | OK | OK | WARNINGS | |||||||||||||||||
tokay2 | Windows Server 2012 R2 Standard / x64 | OK | ERROR | skipped | skipped | |||||||||||||||||
machv2 | macOS 10.14.6 Mojave / x86_64 | OK | ERROR | skipped | skipped | |||||||||||||||||
Package 371/417 | Hostname | OS / Arch | INSTALL | BUILD | CHECK | BUILD BIN | ||||||||||||||||
supersigs 1.0.0 (landing page) Albert Kuo
| nebbiolo1 | Linux (Ubuntu 20.04.2 LTS) / x86_64 | OK | OK | OK | |||||||||||||||||
tokay2 | Windows Server 2012 R2 Standard / x64 | OK | OK | OK | OK | |||||||||||||||||
machv2 | macOS 10.14.6 Mojave / x86_64 | OK | OK | OK | OK | |||||||||||||||||
Package 372/417 | Hostname | OS / Arch | INSTALL | BUILD | CHECK | BUILD BIN | ||||||||||||||||
survtype 1.8.0 (landing page) Dongmin Jung
| nebbiolo1 | Linux (Ubuntu 20.04.2 LTS) / x86_64 | OK | OK | OK | |||||||||||||||||
tokay2 | Windows Server 2012 R2 Standard / x64 | OK | OK | OK | OK | |||||||||||||||||
machv2 | macOS 10.14.6 Mojave / x86_64 | OK | OK | OK | OK | |||||||||||||||||
Package 373/417 | Hostname | OS / Arch | INSTALL | BUILD | CHECK | BUILD BIN | ||||||||||||||||
switchde 1.18.0 (landing page) Kieran Campbell
| nebbiolo1 | Linux (Ubuntu 20.04.2 LTS) / x86_64 | OK | OK | OK | |||||||||||||||||
tokay2 | Windows Server 2012 R2 Standard / x64 | OK | OK | OK | OK | |||||||||||||||||
machv2 | macOS 10.14.6 Mojave / x86_64 | OK | OK | OK | OK | |||||||||||||||||
Package 374/417 | Hostname | OS / Arch | INSTALL | BUILD | CHECK | BUILD BIN | ||||||||||||||||
systemPipeR 1.26.3 (landing page) Thomas Girke
| nebbiolo1 | Linux (Ubuntu 20.04.2 LTS) / x86_64 | OK | OK | OK | |||||||||||||||||
tokay2 | Windows Server 2012 R2 Standard / x64 | OK | OK | OK | OK | |||||||||||||||||
machv2 | macOS 10.14.6 Mojave / x86_64 | OK | OK | OK | OK | |||||||||||||||||
Package 375/417 | Hostname | OS / Arch | INSTALL | BUILD | CHECK | BUILD BIN | ||||||||||||||||
systemPipeTools 1.0.0 (landing page) Daniela Cassol
| nebbiolo1 | Linux (Ubuntu 20.04.2 LTS) / x86_64 | OK | OK | OK | |||||||||||||||||
tokay2 | Windows Server 2012 R2 Standard / x64 | OK | OK | OK | OK | |||||||||||||||||
machv2 | macOS 10.14.6 Mojave / x86_64 | OK | OK | OK | OK | |||||||||||||||||
Package 376/417 | Hostname | OS / Arch | INSTALL | BUILD | CHECK | BUILD BIN | ||||||||||||||||
TBSignatureProfiler 1.4.11 (landing page) Aubrey Odom
| nebbiolo1 | Linux (Ubuntu 20.04.2 LTS) / x86_64 | OK | OK | OK | |||||||||||||||||
tokay2 | Windows Server 2012 R2 Standard / x64 | OK | OK | OK | OK | |||||||||||||||||
machv2 | macOS 10.14.6 Mojave / x86_64 | OK | OK | OK | OK | |||||||||||||||||
Package 377/417 | Hostname | OS / Arch | INSTALL | BUILD | CHECK | BUILD BIN | ||||||||||||||||
TCGAbiolinks 2.20.1 (landing page) Tiago Chedraoui Silva
| nebbiolo1 | Linux (Ubuntu 20.04.2 LTS) / x86_64 | OK | OK | WARNINGS | |||||||||||||||||
tokay2 | Windows Server 2012 R2 Standard / x64 | OK | OK | WARNINGS | OK | |||||||||||||||||
machv2 | macOS 10.14.6 Mojave / x86_64 | OK | OK | WARNINGS | OK | |||||||||||||||||
Package 378/417 | Hostname | OS / Arch | INSTALL | BUILD | CHECK | BUILD BIN | ||||||||||||||||
TCGAbiolinksGUI 1.18.0 (landing page) Tiago C. Silva
| nebbiolo1 | Linux (Ubuntu 20.04.2 LTS) / x86_64 | OK | OK | OK | |||||||||||||||||
tokay2 | Windows Server 2012 R2 Standard / x64 | OK | OK | OK | OK | |||||||||||||||||
machv2 | macOS 10.14.6 Mojave / x86_64 | OK | OK | OK | OK | |||||||||||||||||
Package 379/417 | Hostname | OS / Arch | INSTALL | BUILD | CHECK | BUILD BIN | ||||||||||||||||
TCGAutils 1.12.0 (landing page) Marcel Ramos
| nebbiolo1 | Linux (Ubuntu 20.04.2 LTS) / x86_64 | OK | OK | OK | |||||||||||||||||
tokay2 | Windows Server 2012 R2 Standard / x64 | OK | OK | OK | OK | |||||||||||||||||
machv2 | macOS 10.14.6 Mojave / x86_64 | OK | OK | OK | OK | |||||||||||||||||
Package 380/417 | Hostname | OS / Arch | INSTALL | BUILD | CHECK | BUILD BIN | ||||||||||||||||
TCseq 1.16.0 (landing page) Mengjun Wu
| nebbiolo1 | Linux (Ubuntu 20.04.2 LTS) / x86_64 | OK | OK | OK | |||||||||||||||||
tokay2 | Windows Server 2012 R2 Standard / x64 | OK | OK | OK | OK | |||||||||||||||||
machv2 | macOS 10.14.6 Mojave / x86_64 | OK | OK | OK | OK | |||||||||||||||||
Package 381/417 | Hostname | OS / Arch | INSTALL | BUILD | CHECK | BUILD BIN | ||||||||||||||||
tenXplore 1.14.2 (landing page) VJ Carey
| nebbiolo1 | Linux (Ubuntu 20.04.2 LTS) / x86_64 | OK | OK | OK | |||||||||||||||||
tokay2 | Windows Server 2012 R2 Standard / x64 | OK | OK | OK | OK | |||||||||||||||||
machv2 | macOS 10.14.6 Mojave / x86_64 | OK | OK | OK | OK | |||||||||||||||||
Package 382/417 | Hostname | OS / Arch | INSTALL | BUILD | CHECK | BUILD BIN | ||||||||||||||||
tidybulk 1.4.0 (landing page) Stefano Mangiola
| nebbiolo1 | Linux (Ubuntu 20.04.2 LTS) / x86_64 | OK | OK | OK | |||||||||||||||||
tokay2 | Windows Server 2012 R2 Standard / x64 | OK | OK | OK | OK | |||||||||||||||||
machv2 | macOS 10.14.6 Mojave / x86_64 | OK | OK | OK | OK | |||||||||||||||||
Package 383/417 | Hostname | OS / Arch | INSTALL | BUILD | CHECK | BUILD BIN | ||||||||||||||||
tidySingleCellExperiment 1.2.1 (landing page) Stefano Mangiola
| nebbiolo1 | Linux (Ubuntu 20.04.2 LTS) / x86_64 | OK | OK | OK | |||||||||||||||||
tokay2 | Windows Server 2012 R2 Standard / x64 | OK | OK | OK | OK | |||||||||||||||||
machv2 | macOS 10.14.6 Mojave / x86_64 | OK | OK | OK | OK | |||||||||||||||||
Package 384/417 | Hostname | OS / Arch | INSTALL | BUILD | CHECK | BUILD BIN | ||||||||||||||||
tidySummarizedExperiment 1.2.0 (landing page) Stefano Mangiola
| nebbiolo1 | Linux (Ubuntu 20.04.2 LTS) / x86_64 | OK | OK | OK | |||||||||||||||||
tokay2 | Windows Server 2012 R2 Standard / x64 | OK | OK | OK | OK | |||||||||||||||||
machv2 | macOS 10.14.6 Mojave / x86_64 | OK | OK | OK | OK | |||||||||||||||||
Package 385/417 | Hostname | OS / Arch | INSTALL | BUILD | CHECK | BUILD BIN | ||||||||||||||||
TimeSeriesExperiment 1.10.1 (landing page) Lan Huong Nguyen
| nebbiolo1 | Linux (Ubuntu 20.04.2 LTS) / x86_64 | OK | OK | OK | |||||||||||||||||
tokay2 | Windows Server 2012 R2 Standard / x64 | OK | OK | OK | OK | |||||||||||||||||
machv2 | macOS 10.14.6 Mojave / x86_64 | OK | OK | OK | OK | |||||||||||||||||
Package 386/417 | Hostname | OS / Arch | INSTALL | BUILD | CHECK | BUILD BIN | ||||||||||||||||
TissueEnrich 1.12.0 (landing page) Ashish Jain
| nebbiolo1 | Linux (Ubuntu 20.04.2 LTS) / x86_64 | OK | OK | OK | |||||||||||||||||
tokay2 | Windows Server 2012 R2 Standard / x64 | OK | OK | OK | OK | |||||||||||||||||
machv2 | macOS 10.14.6 Mojave / x86_64 | OK | OK | OK | OK | |||||||||||||||||
Package 387/417 | Hostname | OS / Arch | INSTALL | BUILD | CHECK | BUILD BIN | ||||||||||||||||
TNBC.CMS 1.8.0 (landing page) Doyeong Yu
| nebbiolo1 | Linux (Ubuntu 20.04.2 LTS) / x86_64 | OK | OK | OK | |||||||||||||||||
tokay2 | Windows Server 2012 R2 Standard / x64 | OK | OK | OK | OK | |||||||||||||||||
machv2 | macOS 10.14.6 Mojave / x86_64 | OK | OK | OK | OK | |||||||||||||||||
Package 388/417 | Hostname | OS / Arch | INSTALL | BUILD | CHECK | BUILD BIN | ||||||||||||||||
TOAST 1.6.0 (landing page) Ziyi Li
| nebbiolo1 | Linux (Ubuntu 20.04.2 LTS) / x86_64 | OK | OK | WARNINGS | |||||||||||||||||
tokay2 | Windows Server 2012 R2 Standard / x64 | OK | OK | WARNINGS | OK | |||||||||||||||||
machv2 | macOS 10.14.6 Mojave / x86_64 | OK | OK | WARNINGS | OK | |||||||||||||||||
Package 389/417 | Hostname | OS / Arch | INSTALL | BUILD | CHECK | BUILD BIN | ||||||||||||||||
tomoda 1.2.0 (landing page) Wendao Liu
| nebbiolo1 | Linux (Ubuntu 20.04.2 LTS) / x86_64 | OK | OK | OK | |||||||||||||||||
tokay2 | Windows Server 2012 R2 Standard / x64 | OK | OK | OK | OK | |||||||||||||||||
machv2 | macOS 10.14.6 Mojave / x86_64 | OK | OK | OK | OK | |||||||||||||||||
Package 390/417 | Hostname | OS / Arch | INSTALL | BUILD | CHECK | BUILD BIN | ||||||||||||||||
Ivana Ihnatova
| nebbiolo1 | Linux (Ubuntu 20.04.2 LTS) / x86_64 | OK | ERROR | skipped | |||||||||||||||||
tokay2 | Windows Server 2012 R2 Standard / x64 | OK | OK | ERROR | OK | |||||||||||||||||
machv2 | macOS 10.14.6 Mojave / x86_64 | OK | ERROR | skipped | skipped | |||||||||||||||||
Package 391/417 | Hostname | OS / Arch | INSTALL | BUILD | CHECK | BUILD BIN | ||||||||||||||||
ToxicoGx 1.2.1 (landing page) Benjamin Haibe-Kains
| nebbiolo1 | Linux (Ubuntu 20.04.2 LTS) / x86_64 | OK | OK | OK | |||||||||||||||||
tokay2 | Windows Server 2012 R2 Standard / x64 | OK | OK | OK | OK | |||||||||||||||||
machv2 | macOS 10.14.6 Mojave / x86_64 | OK | OK | OK | OK | |||||||||||||||||
Package 392/417 | Hostname | OS / Arch | INSTALL | BUILD | CHECK | BUILD BIN | ||||||||||||||||
tradeSeq 1.6.0 (landing page) Hector Roux de Bezieux
| nebbiolo1 | Linux (Ubuntu 20.04.2 LTS) / x86_64 | OK | OK | OK | |||||||||||||||||
tokay2 | Windows Server 2012 R2 Standard / x64 | OK | OK | TIMEOUT | OK | |||||||||||||||||
machv2 | macOS 10.14.6 Mojave / x86_64 | OK | OK | OK | OK | |||||||||||||||||
Package 393/417 | Hostname | OS / Arch | INSTALL | BUILD | CHECK | BUILD BIN | ||||||||||||||||
TrajectoryUtils 1.0.0 (landing page) Aaron Lun
| nebbiolo1 | Linux (Ubuntu 20.04.2 LTS) / x86_64 | OK | OK | OK | |||||||||||||||||
tokay2 | Windows Server 2012 R2 Standard / x64 | OK | OK | OK | OK | |||||||||||||||||
machv2 | macOS 10.14.6 Mojave / x86_64 | OK | OK | OK | OK | |||||||||||||||||
Package 394/417 | Hostname | OS / Arch | INSTALL | BUILD | CHECK | BUILD BIN | ||||||||||||||||
TraRe 1.0.0 (landing page) Jesus De La Fuente Cedeño
| nebbiolo1 | Linux (Ubuntu 20.04.2 LTS) / x86_64 | OK | OK | OK | |||||||||||||||||
tokay2 | Windows Server 2012 R2 Standard / x64 | OK | OK | OK | OK | |||||||||||||||||
machv2 | macOS 10.14.6 Mojave / x86_64 | OK | OK | OK | OK | |||||||||||||||||
Package 395/417 | Hostname | OS / Arch | INSTALL | BUILD | CHECK | BUILD BIN | ||||||||||||||||
TreeSummarizedExperiment 2.0.3 (landing page) Ruizhu Huang
| nebbiolo1 | Linux (Ubuntu 20.04.2 LTS) / x86_64 | OK | OK | OK | |||||||||||||||||
tokay2 | Windows Server 2012 R2 Standard / x64 | OK | OK | OK | OK | |||||||||||||||||
machv2 | macOS 10.14.6 Mojave / x86_64 | OK | OK | OK | OK | |||||||||||||||||
Package 396/417 | Hostname | OS / Arch | INSTALL | BUILD | CHECK | BUILD BIN | ||||||||||||||||
Trendy 1.14.0 (landing page) Rhonda Bacher
| nebbiolo1 | Linux (Ubuntu 20.04.2 LTS) / x86_64 | OK | OK | OK | |||||||||||||||||
tokay2 | Windows Server 2012 R2 Standard / x64 | OK | OK | OK | OK | |||||||||||||||||
machv2 | macOS 10.14.6 Mojave / x86_64 | OK | OK | OK | OK | |||||||||||||||||
Package 397/417 | Hostname | OS / Arch | INSTALL | BUILD | CHECK | BUILD BIN | ||||||||||||||||
tricycle 1.0.0 (landing page) Shijie Zheng
| nebbiolo1 | Linux (Ubuntu 20.04.2 LTS) / x86_64 | OK | OK | OK | |||||||||||||||||
tokay2 | Windows Server 2012 R2 Standard / x64 | OK | OK | OK | OK | |||||||||||||||||
machv2 | macOS 10.14.6 Mojave / x86_64 | OK | OK | OK | OK | |||||||||||||||||
Package 398/417 | Hostname | OS / Arch | INSTALL | BUILD | CHECK | BUILD BIN | ||||||||||||||||
TSCAN 1.30.0 (landing page) Zhicheng Ji
| nebbiolo1 | Linux (Ubuntu 20.04.2 LTS) / x86_64 | OK | OK | WARNINGS | |||||||||||||||||
tokay2 | Windows Server 2012 R2 Standard / x64 | OK | OK | WARNINGS | OK | |||||||||||||||||
machv2 | macOS 10.14.6 Mojave / x86_64 | OK | OK | WARNINGS | OK | |||||||||||||||||
Package 399/417 | Hostname | OS / Arch | INSTALL | BUILD | CHECK | BUILD BIN | ||||||||||||||||
tscR 1.4.0 (landing page) Pérez-Sanz, Fernando
| nebbiolo1 | Linux (Ubuntu 20.04.2 LTS) / x86_64 | OK | OK | OK | |||||||||||||||||
tokay2 | Windows Server 2012 R2 Standard / x64 | OK | OK | OK | OK | |||||||||||||||||
machv2 | macOS 10.14.6 Mojave / x86_64 | OK | OK | OK | OK | |||||||||||||||||
Package 400/417 | Hostname | OS / Arch | INSTALL | BUILD | CHECK | BUILD BIN | ||||||||||||||||
TSRchitect 1.18.0 (landing page) R. Taylor Raborn
| nebbiolo1 | Linux (Ubuntu 20.04.2 LTS) / x86_64 | OK | OK | WARNINGS | |||||||||||||||||
tokay2 | Windows Server 2012 R2 Standard / x64 | OK | OK | WARNINGS | OK | |||||||||||||||||
machv2 | macOS 10.14.6 Mojave / x86_64 | OK | OK | WARNINGS | OK | |||||||||||||||||
Package 401/417 | Hostname | OS / Arch | INSTALL | BUILD | CHECK | BUILD BIN | ||||||||||||||||
TTMap 1.14.0 (landing page) Rachel Jeitziner
| nebbiolo1 | Linux (Ubuntu 20.04.2 LTS) / x86_64 | OK | OK | OK | |||||||||||||||||
tokay2 | Windows Server 2012 R2 Standard / x64 | OK | OK | OK | OK | |||||||||||||||||
machv2 | macOS 10.14.6 Mojave / x86_64 | OK | OK | OK | OK | |||||||||||||||||
Package 402/417 | Hostname | OS / Arch | INSTALL | BUILD | CHECK | BUILD BIN | ||||||||||||||||
TVTB 1.18.0 (landing page) Kevin Rue-Albrecht
| nebbiolo1 | Linux (Ubuntu 20.04.2 LTS) / x86_64 | OK | OK | OK | |||||||||||||||||
tokay2 | Windows Server 2012 R2 Standard / x64 | ... NOT SUPPORTED ... | ||||||||||||||||||||
machv2 | macOS 10.14.6 Mojave / x86_64 | OK | OK | OK | OK | |||||||||||||||||
Package 403/417 | Hostname | OS / Arch | INSTALL | BUILD | CHECK | BUILD BIN | ||||||||||||||||
tximeta 1.10.0 (landing page) Michael Love
| nebbiolo1 | Linux (Ubuntu 20.04.2 LTS) / x86_64 | OK | OK | OK | |||||||||||||||||
tokay2 | Windows Server 2012 R2 Standard / x64 | OK | OK | OK | OK | |||||||||||||||||
machv2 | macOS 10.14.6 Mojave / x86_64 | OK | OK | OK | OK | |||||||||||||||||
Package 404/417 | Hostname | OS / Arch | INSTALL | BUILD | CHECK | BUILD BIN | ||||||||||||||||
UMI4Cats 1.2.1 (landing page) Mireia Ramos-Rodriguez
| nebbiolo1 | Linux (Ubuntu 20.04.2 LTS) / x86_64 | OK | OK | OK | |||||||||||||||||
tokay2 | Windows Server 2012 R2 Standard / x64 | OK | OK | OK | OK | |||||||||||||||||
machv2 | macOS 10.14.6 Mojave / x86_64 | OK | OK | OK | OK | |||||||||||||||||
Package 405/417 | Hostname | OS / Arch | INSTALL | BUILD | CHECK | BUILD BIN | ||||||||||||||||
VanillaICE 1.54.0 (landing page) Robert Scharpf
| nebbiolo1 | Linux (Ubuntu 20.04.2 LTS) / x86_64 | OK | OK | WARNINGS | |||||||||||||||||
tokay2 | Windows Server 2012 R2 Standard / x64 | OK | OK | WARNINGS | OK | |||||||||||||||||
machv2 | macOS 10.14.6 Mojave / x86_64 | OK | OK | WARNINGS | OK | |||||||||||||||||
Package 406/417 | Hostname | OS / Arch | INSTALL | BUILD | CHECK | BUILD BIN | ||||||||||||||||
VariantAnnotation 1.38.0 (landing page) Bioconductor Package Maintainer
| nebbiolo1 | Linux (Ubuntu 20.04.2 LTS) / x86_64 | OK | OK | OK | |||||||||||||||||
tokay2 | Windows Server 2012 R2 Standard / x64 | OK | OK | OK | OK | |||||||||||||||||
machv2 | macOS 10.14.6 Mojave / x86_64 | OK | OK | OK | OK | |||||||||||||||||
Package 407/417 | Hostname | OS / Arch | INSTALL | BUILD | CHECK | BUILD BIN | ||||||||||||||||
VariantExperiment 1.6.0 (landing page) Qian Liu
| nebbiolo1 | Linux (Ubuntu 20.04.2 LTS) / x86_64 | OK | OK | OK | |||||||||||||||||
tokay2 | Windows Server 2012 R2 Standard / x64 | OK | OK | OK | OK | |||||||||||||||||
machv2 | macOS 10.14.6 Mojave / x86_64 | OK | OK | OK | OK | |||||||||||||||||
Package 408/417 | Hostname | OS / Arch | INSTALL | BUILD | CHECK | BUILD BIN | ||||||||||||||||
VariantFiltering 1.28.0 (landing page) Robert Castelo
| nebbiolo1 | Linux (Ubuntu 20.04.2 LTS) / x86_64 | OK | OK | OK | |||||||||||||||||
tokay2 | Windows Server 2012 R2 Standard / x64 | OK | OK | OK | OK | |||||||||||||||||
machv2 | macOS 10.14.6 Mojave / x86_64 | OK | OK | OK | OK | |||||||||||||||||
Package 409/417 | Hostname | OS / Arch | INSTALL | BUILD | CHECK | BUILD BIN | ||||||||||||||||
velociraptor 1.2.0 (landing page) Kevin Rue-Albrecht
| nebbiolo1 | Linux (Ubuntu 20.04.2 LTS) / x86_64 | OK | OK | OK | |||||||||||||||||
tokay2 | Windows Server 2012 R2 Standard / x64 | OK | OK | OK | OK | |||||||||||||||||
machv2 | macOS 10.14.6 Mojave / x86_64 | OK | OK | OK | OK | |||||||||||||||||
Package 410/417 | Hostname | OS / Arch | INSTALL | BUILD | CHECK | BUILD BIN | ||||||||||||||||
vidger 1.12.0 (landing page) Brandon Monier
| nebbiolo1 | Linux (Ubuntu 20.04.2 LTS) / x86_64 | OK | OK | OK | |||||||||||||||||
tokay2 | Windows Server 2012 R2 Standard / x64 | OK | OK | OK | OK | |||||||||||||||||
machv2 | macOS 10.14.6 Mojave / x86_64 | OK | OK | OK | OK | |||||||||||||||||
Package 411/417 | Hostname | OS / Arch | INSTALL | BUILD | CHECK | BUILD BIN | ||||||||||||||||
weitrix 1.4.0 (landing page) Paul Harrison
| nebbiolo1 | Linux (Ubuntu 20.04.2 LTS) / x86_64 | OK | OK | OK | |||||||||||||||||
tokay2 | Windows Server 2012 R2 Standard / x64 | OK | OK | OK | OK | |||||||||||||||||
machv2 | macOS 10.14.6 Mojave / x86_64 | OK | OK | OK | OK | |||||||||||||||||
Package 412/417 | Hostname | OS / Arch | INSTALL | BUILD | CHECK | BUILD BIN | ||||||||||||||||
wpm 1.2.1 (landing page) Helene Borges
| nebbiolo1 | Linux (Ubuntu 20.04.2 LTS) / x86_64 | OK | OK | OK | |||||||||||||||||
tokay2 | Windows Server 2012 R2 Standard / x64 | OK | OK | OK | OK | |||||||||||||||||
machv2 | macOS 10.14.6 Mojave / x86_64 | OK | OK | OK | OK | |||||||||||||||||
Package 413/417 | Hostname | OS / Arch | INSTALL | BUILD | CHECK | BUILD BIN | ||||||||||||||||
xcms 3.14.1 (landing page) Steffen Neumann
| nebbiolo1 | Linux (Ubuntu 20.04.2 LTS) / x86_64 | OK | OK | OK | |||||||||||||||||
tokay2 | Windows Server 2012 R2 Standard / x64 | OK | OK | OK | OK | |||||||||||||||||
machv2 | macOS 10.14.6 Mojave / x86_64 | OK | OK | OK | OK | |||||||||||||||||
Package 414/417 | Hostname | OS / Arch | INSTALL | BUILD | CHECK | BUILD BIN | ||||||||||||||||
yamss 1.18.0 (landing page) Leslie Myint
| nebbiolo1 | Linux (Ubuntu 20.04.2 LTS) / x86_64 | OK | OK | OK | |||||||||||||||||
tokay2 | Windows Server 2012 R2 Standard / x64 | OK | OK | OK | OK | |||||||||||||||||
machv2 | macOS 10.14.6 Mojave / x86_64 | OK | OK | OK | OK | |||||||||||||||||
Package 415/417 | Hostname | OS / Arch | INSTALL | BUILD | CHECK | BUILD BIN | ||||||||||||||||
zellkonverter 1.2.1 (landing page) Luke Zappia
| nebbiolo1 | Linux (Ubuntu 20.04.2 LTS) / x86_64 | OK | OK | OK | |||||||||||||||||
tokay2 | Windows Server 2012 R2 Standard / x64 | OK | OK | OK | OK | |||||||||||||||||
machv2 | macOS 10.14.6 Mojave / x86_64 | OK | OK | OK | OK | |||||||||||||||||
Package 416/417 | Hostname | OS / Arch | INSTALL | BUILD | CHECK | BUILD BIN | ||||||||||||||||
zFPKM 1.14.0 (landing page) Ron Ammar
| nebbiolo1 | Linux (Ubuntu 20.04.2 LTS) / x86_64 | OK | OK | OK | |||||||||||||||||
tokay2 | Windows Server 2012 R2 Standard / x64 | OK | OK | OK | OK | |||||||||||||||||
machv2 | macOS 10.14.6 Mojave / x86_64 | OK | OK | OK | OK | |||||||||||||||||
Package 417/417 | Hostname | OS / Arch | INSTALL | BUILD | CHECK | BUILD BIN | ||||||||||||||||
zinbwave 1.14.2 (landing page) Davide Risso
| nebbiolo1 | Linux (Ubuntu 20.04.2 LTS) / x86_64 | OK | OK | OK | |||||||||||||||||
tokay2 | Windows Server 2012 R2 Standard / x64 | OK | ERROR | skipped | skipped | |||||||||||||||||
machv2 | macOS 10.14.6 Mojave / x86_64 | OK | OK | OK | OK | |||||||||||||||||