Back to Multiple platform build/check report for BioC 3.13
ABCDEF[G]HIJKLMNOPQRSTUVWXYZ

Multiple platform build/check report for BioC 3.13

All results for package GSALightning

This page was generated on 2021-04-16 12:55:48 -0400 (Fri, 16 Apr 2021).

Package 792/1986HostnameOS / ArchINSTALLBUILDCHECKBUILD BIN
GSALightning 1.19.0  (landing page)
Billy Heung Wing Chang
Snapshot Date: 2021-04-15 14:50:10 -0400 (Thu, 15 Apr 2021)
URL: https://git.bioconductor.org/packages/GSALightning
Branch: master
Last Commit: f19ead6
Last Changed Date: 2020-10-27 11:10:20 -0400 (Tue, 27 Oct 2020)
nebbiolo1Linux (Ubuntu 20.04.2 LTS) / x86_64  OK    OK    OK  UNNEEDED, same version exists in internal repository
riesling1Windows Server 2019 Standard / x64  OK    OK    OK    OK  UNNEEDED, same version exists in internal repository
machv2macOS 10.14.6 Mojave / x86_64  OK    OK    OK    OK  UNNEEDED, same version exists in internal repository