Back to Multiple platform build/check report for BioC 3.13
ABCDEF[G]HIJKLMNOPQRSTUVWXYZ

This page was generated on 2021-09-27 15:05:32 -0400 (Mon, 27 Sep 2021).

All results for package GeneExpressionSignature

To the developers/maintainers of the GeneExpressionSignature package:
- Please allow up to 24 hours (and sometimes 48 hours) for your latest push to git@git.bioconductor.org:packages/GeneExpressionSignature.git to
reflect on this report. See How and When does the builder pull? When will my changes propagate? here for more information.
- Make sure to use the following settings in order to reproduce any error or warning you see on this page.

raw results

Package 712/2041HostnameOS / ArchINSTALLBUILDCHECKBUILD BIN
GeneExpressionSignature 1.38.0  (landing page)
Yang Cao
Snapshot Date: 2021-09-26 04:50:10 -0400 (Sun, 26 Sep 2021)
git_url: https://git.bioconductor.org/packages/GeneExpressionSignature
git_branch: RELEASE_3_13
git_last_commit: ed0ab84
git_last_commit_date: 2021-05-19 11:49:38 -0400 (Wed, 19 May 2021)
nebbiolo1Linux (Ubuntu 20.04.2 LTS) / x86_64  OK    OK    OK  UNNEEDED, same version is already published
tokay2Windows Server 2012 R2 Standard / x64  OK    OK    OK    OK  UNNEEDED, same version is already published
machv2macOS 10.14.6 Mojave / x86_64  OK    ERROR  skippedskipped