Back to Multiple platform build/check report for BioC 3.13
ABCDEFGHIJKL[M]NOPQRSTUVWXYZ

This page was generated on 2021-10-13 15:04:41 -0400 (Wed, 13 Oct 2021).

All results for package marray

To the developers/maintainers of the marray package:
- Please allow up to 24 hours (and sometimes 48 hours) for your latest push to git@git.bioconductor.org:packages/marray.git to
reflect on this report. See How and When does the builder pull? When will my changes propagate? here for more information.
- Make sure to use the following settings in order to reproduce any error or warning you see on this page.

raw results

Package 1033/2041HostnameOS / ArchINSTALLBUILDCHECKBUILD BIN
marray 1.70.0  (landing page)
Yee Hwa (Jean) Yang
Snapshot Date: 2021-10-12 04:50:13 -0400 (Tue, 12 Oct 2021)
git_url: https://git.bioconductor.org/packages/marray
git_branch: RELEASE_3_13
git_last_commit: 9f63605
git_last_commit_date: 2021-05-19 11:34:22 -0400 (Wed, 19 May 2021)
nebbiolo1Linux (Ubuntu 20.04.2 LTS) / x86_64  OK    OK    OK  UNNEEDED, same version is already published
tokay2Windows Server 2012 R2 Standard / x64  OK    OK    OK    OK  UNNEEDED, same version is already published
machv2macOS 10.14.6 Mojave / x86_64  OK    OK    OK    OK  UNNEEDED, same version is already published

Results for Bioconductor software packages that depend directly on package marray

QUICK STATSOS / ArchINSTALLBUILDCHECKBUILD BIN
nebbiolo1Linux (Ubuntu 20.04.2 LTS) / x86_64
0017
0017
00512
tokay2Windows Server 2012 R2 Standard / x64
0017
0017
00512
0017
machv2macOS 10.14.6 Mojave / x86_64
0017
0017
00413
0017
Package 1/17HostnameOS / ArchINSTALLBUILDCHECKBUILD BIN
arrayQuality 1.70.0  (landing page)
Agnes Paquet
git_last_commit: f319a3a
git_last_commit_date: 2021-05-19 11:34:12 -0400
nebbiolo1Linux (Ubuntu 20.04.2 LTS) / x86_64  OK    OK    WARNINGS  UNNEEDED, same version is already published
tokay2Windows Server 2012 R2 Standard / x64  OK    OK    WARNINGS    OK  UNNEEDED, same version is already published
machv2macOS 10.14.6 Mojave / x86_64  OK    OK    WARNINGS    OK  UNNEEDED, same version is already published
Package 2/17HostnameOS / ArchINSTALLBUILDCHECKBUILD BIN
CGHbase 1.52.0  (landing page)
Mark van de Wiel
git_last_commit: 25d9f08
git_last_commit_date: 2021-05-19 11:40:57 -0400
nebbiolo1Linux (Ubuntu 20.04.2 LTS) / x86_64  OK    OK    OK  UNNEEDED, same version is already published
tokay2Windows Server 2012 R2 Standard / x64  OK    OK    OK    OK  UNNEEDED, same version is already published
machv2macOS 10.14.6 Mojave / x86_64  OK    OK    OK    OK  UNNEEDED, same version is already published
Package 3/17HostnameOS / ArchINSTALLBUILDCHECKBUILD BIN
ChAMP 2.22.0  (landing page)
Yuan Tian
git_last_commit: 2350b07
git_last_commit_date: 2021-05-19 12:01:34 -0400
nebbiolo1Linux (Ubuntu 20.04.2 LTS) / x86_64  OK    OK    WARNINGS  UNNEEDED, same version is already published
tokay2Windows Server 2012 R2 Standard / x64  OK    OK    WARNINGS    OK  UNNEEDED, same version is already published
machv2macOS 10.14.6 Mojave / x86_64  OK    OK    WARNINGS    OK  UNNEEDED, same version is already published
Package 4/17HostnameOS / ArchINSTALLBUILDCHECKBUILD BIN
convert 1.68.0  (landing page)
Yee Hwa (Jean) Yang
git_last_commit: 4c67da1
git_last_commit_date: 2021-05-19 11:34:24 -0400
nebbiolo1Linux (Ubuntu 20.04.2 LTS) / x86_64  OK    OK    OK  UNNEEDED, same version is already published
tokay2Windows Server 2012 R2 Standard / x64  OK    OK    OK    OK  UNNEEDED, same version is already published
machv2macOS 10.14.6 Mojave / x86_64  OK    OK    OK    OK  UNNEEDED, same version is already published
Package 5/17HostnameOS / ArchINSTALLBUILDCHECKBUILD BIN
dyebias 1.52.0  (landing page)
Philip Lijnzaad
git_last_commit: 90e5fe4
git_last_commit_date: 2021-05-19 11:42:55 -0400
nebbiolo1Linux (Ubuntu 20.04.2 LTS) / x86_64  OK    OK    OK  UNNEEDED, same version is already published
tokay2Windows Server 2012 R2 Standard / x64  OK    OK    OK    OK  UNNEEDED, same version is already published
machv2macOS 10.14.6 Mojave / x86_64  OK    OK    OK    OK  UNNEEDED, same version is already published
Package 6/17HostnameOS / ArchINSTALLBUILDCHECKBUILD BIN
maigesPack 1.56.0  (landing page)
Gustavo H. Esteves
git_last_commit: 3f54ee8
git_last_commit_date: 2021-05-19 11:39:47 -0400
nebbiolo1Linux (Ubuntu 20.04.2 LTS) / x86_64  OK    OK    OK  UNNEEDED, same version is already published
tokay2Windows Server 2012 R2 Standard / x64  OK    OK    OK    OK  UNNEEDED, same version is already published
machv2macOS 10.14.6 Mojave / x86_64  OK    OK    OK    OK  UNNEEDED, same version is already published
Package 7/17HostnameOS / ArchINSTALLBUILDCHECKBUILD BIN
methylPipe 1.26.0  (landing page)
Kamal Kishore
git_last_commit: ca8dade
git_last_commit_date: 2021-05-19 12:07:06 -0400
nebbiolo1Linux (Ubuntu 20.04.2 LTS) / x86_64  OK    OK    WARNINGS  UNNEEDED, same version is already published
tokay2Windows Server 2012 R2 Standard / x64  OK    OK    WARNINGS    OK  UNNEEDED, same version is already published
machv2macOS 10.14.6 Mojave / x86_64  OK    OK    WARNINGS    OK  UNNEEDED, same version is already published
Package 8/17HostnameOS / ArchINSTALLBUILDCHECKBUILD BIN
MineICA 1.32.0  (landing page)
Anne Biton
git_last_commit: def84c7
git_last_commit_date: 2021-05-19 11:57:33 -0400
nebbiolo1Linux (Ubuntu 20.04.2 LTS) / x86_64  OK    OK    WARNINGS  UNNEEDED, same version is already published
tokay2Windows Server 2012 R2 Standard / x64  OK    OK    WARNINGS    OK  UNNEEDED, same version is already published
machv2macOS 10.14.6 Mojave / x86_64  OK    OK    WARNINGS    OK  UNNEEDED, same version is already published
Package 9/17HostnameOS / ArchINSTALLBUILDCHECKBUILD BIN
MSstats 4.0.1  (landing page)
Meena Choi
git_last_commit: afa9e58
git_last_commit_date: 2021-05-31 23:11:01 -0400
nebbiolo1Linux (Ubuntu 20.04.2 LTS) / x86_64  OK    OK    OK  UNNEEDED, same version is already published
tokay2Windows Server 2012 R2 Standard / x64  OK    OK    OK    OK  UNNEEDED, same version is already published
machv2macOS 10.14.6 Mojave / x86_64  OK    OK    OK    OK  UNNEEDED, same version is already published
Package 10/17HostnameOS / ArchINSTALLBUILDCHECKBUILD BIN
nnNorm 2.56.0  (landing page)
Adi Laurentiu Tarca
git_last_commit: 04838e4
git_last_commit_date: 2021-05-19 11:34:45 -0400
nebbiolo1Linux (Ubuntu 20.04.2 LTS) / x86_64  OK    OK    OK  UNNEEDED, same version is already published
tokay2Windows Server 2012 R2 Standard / x64  OK    OK    OK    OK  UNNEEDED, same version is already published
machv2macOS 10.14.6 Mojave / x86_64  OK    OK    OK    OK  UNNEEDED, same version is already published
Package 11/17HostnameOS / ArchINSTALLBUILDCHECKBUILD BIN
OLIN 1.70.0  (landing page)
Matthias Futschik
git_last_commit: 2be671b
git_last_commit_date: 2021-05-19 11:34:40 -0400
nebbiolo1Linux (Ubuntu 20.04.2 LTS) / x86_64  OK    OK    OK  UNNEEDED, same version is already published
tokay2Windows Server 2012 R2 Standard / x64  OK    OK    OK    OK  UNNEEDED, same version is already published
machv2macOS 10.14.6 Mojave / x86_64  OK    OK    OK    OK  UNNEEDED, same version is already published
Package 12/17HostnameOS / ArchINSTALLBUILDCHECKBUILD BIN
OLINgui 1.66.0  (landing page)
Matthias Futschik
git_last_commit: 62bd0d2
git_last_commit_date: 2021-05-19 11:34:57 -0400
nebbiolo1Linux (Ubuntu 20.04.2 LTS) / x86_64  OK    OK    OK  UNNEEDED, same version is already published
tokay2Windows Server 2012 R2 Standard / x64  OK    OK    OK    OK  UNNEEDED, same version is already published
machv2macOS 10.14.6 Mojave / x86_64  OK    OK    OK    OK  UNNEEDED, same version is already published
Package 13/17HostnameOS / ArchINSTALLBUILDCHECKBUILD BIN
piano 2.8.0  (landing page)
Leif Varemo Wigge
git_last_commit: f9697f5
git_last_commit_date: 2021-05-19 11:58:37 -0400
nebbiolo1Linux (Ubuntu 20.04.2 LTS) / x86_64  OK    OK    WARNINGS  UNNEEDED, same version is already published
tokay2Windows Server 2012 R2 Standard / x64  OK    OK    WARNINGS    OK  UNNEEDED, same version is already published
machv2macOS 10.14.6 Mojave / x86_64  OK    OK    OK    OK  UNNEEDED, same version is already published
Package 14/17HostnameOS / ArchINSTALLBUILDCHECKBUILD BIN
RBM 1.24.0  (landing page)
Dongmei Li
git_last_commit: f2a8092
git_last_commit_date: 2021-05-19 12:12:25 -0400
nebbiolo1Linux (Ubuntu 20.04.2 LTS) / x86_64  OK    OK    OK  UNNEEDED, same version is already published
tokay2Windows Server 2012 R2 Standard / x64  OK    OK    OK    OK  UNNEEDED, same version is already published
machv2macOS 10.14.6 Mojave / x86_64  OK    OK    OK    OK  UNNEEDED, same version is already published
Package 15/17HostnameOS / ArchINSTALLBUILDCHECKBUILD BIN
stepNorm 1.64.0  (landing page)
Yuanyuan Xiao
git_last_commit: 5cd3b38
git_last_commit_date: 2021-05-19 11:34:59 -0400
nebbiolo1Linux (Ubuntu 20.04.2 LTS) / x86_64  OK    OK    OK  UNNEEDED, same version is already published
tokay2Windows Server 2012 R2 Standard / x64  OK    OK    OK    OK  UNNEEDED, same version is already published
machv2macOS 10.14.6 Mojave / x86_64  OK    OK    OK    OK  UNNEEDED, same version is already published
Package 16/17HostnameOS / ArchINSTALLBUILDCHECKBUILD BIN
timecourse 1.64.0  (landing page)
Yu Chuan Tai
git_last_commit: c91dd66
git_last_commit_date: 2021-05-19 11:36:14 -0400
nebbiolo1Linux (Ubuntu 20.04.2 LTS) / x86_64  OK    OK    OK  UNNEEDED, same version is already published
tokay2Windows Server 2012 R2 Standard / x64  OK    OK    OK    OK  UNNEEDED, same version is already published
machv2macOS 10.14.6 Mojave / x86_64  OK    OK    OK    OK  UNNEEDED, same version is already published
Package 17/17HostnameOS / ArchINSTALLBUILDCHECKBUILD BIN
TurboNorm 1.40.0  (landing page)
Maarten van Iterson
git_last_commit: 707184a
git_last_commit_date: 2021-05-19 11:47:01 -0400
nebbiolo1Linux (Ubuntu 20.04.2 LTS) / x86_64  OK    OK    OK  UNNEEDED, same version is already published
tokay2Windows Server 2012 R2 Standard / x64  OK    OK    OK    OK  UNNEEDED, same version is already published
machv2macOS 10.14.6 Mojave / x86_64  OK    OK    OK    OK  UNNEEDED, same version is already published