Back to Multiple platform build/check report for BioC 3.13 |
|
This page was generated on 2021-10-15 15:06:06 -0400 (Fri, 15 Oct 2021).
To the developers/maintainers of the GOsummaries package: - Please allow up to 24 hours (and sometimes 48 hours) for your latest push to git@git.bioconductor.org:packages/GOsummaries.git to reflect on this report. See How and When does the builder pull? When will my changes propagate? here for more information. - Make sure to use the following settings in order to reproduce any error or warning you see on this page. |
Package 794/2041 | Hostname | OS / Arch | INSTALL | BUILD | CHECK | BUILD BIN | ||||||||
GOsummaries 2.28.0 (landing page) Raivo Kolde
| nebbiolo1 | Linux (Ubuntu 20.04.2 LTS) / x86_64 | OK | OK | OK | |||||||||
tokay2 | Windows Server 2012 R2 Standard / x64 | OK | OK | OK | OK | |||||||||
machv2 | macOS 10.14.6 Mojave / x86_64 | OK | OK | OK | OK | |||||||||
Package: GOsummaries |
Version: 2.28.0 |
Command: rm -rf GOsummaries.buildbin-libdir && mkdir GOsummaries.buildbin-libdir && C:\Users\biocbuild\bbs-3.13-bioc\R\bin\R.exe CMD INSTALL --merge-multiarch --build --library=GOsummaries.buildbin-libdir GOsummaries_2.28.0.tar.gz |
StartedAt: 2021-10-15 09:39:33 -0400 (Fri, 15 Oct 2021) |
EndedAt: 2021-10-15 09:40:57 -0400 (Fri, 15 Oct 2021) |
EllapsedTime: 84.4 seconds |
RetCode: 0 |
Status: OK |
PackageFile: GOsummaries_2.28.0.zip |
PackageFileSize: 3.14 MiB |
############################################################################## ############################################################################## ### ### Running command: ### ### rm -rf GOsummaries.buildbin-libdir && mkdir GOsummaries.buildbin-libdir && C:\Users\biocbuild\bbs-3.13-bioc\R\bin\R.exe CMD INSTALL --merge-multiarch --build --library=GOsummaries.buildbin-libdir GOsummaries_2.28.0.tar.gz ### ############################################################################## ############################################################################## install for i386 * installing *source* package 'GOsummaries' ... ** using staged installation ** libs "C:/rtools40/mingw32/bin/"g++ -std=gnu++11 -I"C:/Users/BIOCBU~1/BBS-3~1.13-/R/include" -DNDEBUG -I'C:/Users/biocbuild/bbs-3.13-bioc/R/library/Rcpp/include' -I"c:/extsoft/include" -O2 -Wall -mfpmath=sse -msse2 -mstackrealign -c findCoordinates.cpp -o findCoordinates.o C:/rtools40/mingw32/bin/g++ -std=gnu++11 -shared -s -static-libgcc -o GOsummaries.dll tmp.def findCoordinates.o -Lc:/extsoft/lib/i386 -Lc:/extsoft/lib -LC:/Users/BIOCBU~1/BBS-3~1.13-/R/bin/i386 -lR installing to C:/Users/biocbuild/bbs-3.13-bioc/meat/GOsummaries.buildbin-libdir/00LOCK-GOsummaries/00new/GOsummaries/libs/i386 ** R ** data ** inst ** byte-compile and prepare package for lazy loading ** help *** installing help indices converting help for package 'GOsummaries' finding HTML links ... done GOsummaries-package html add_expression.gosummaries html add_to_slot.gosummaries html customize html gosummaries.MArrayLM html finding level-2 HTML links ... done gosummaries html REDIRECT:topic Previous alias or file overwritten by alias: C:/Users/biocbuild/bbs-3.13-bioc/meat/GOsummaries.buildbin-libdir/00LOCK-GOsummaries/00new/GOsummaries/help/gosummaries.html gosummaries.kmeans html gosummaries.matrix html gosummaries.prcomp html metabolomic_example html metagenomic_example html panel_boxplot html plot.gosummaries html plotWordcloud html tissue_example html ** building package indices ** installing vignettes ** testing if installed package can be loaded from temporary location ** testing if installed package can be loaded from final location ** testing if installed package keeps a record of temporary installation path install for x64 * installing *source* package 'GOsummaries' ... ** libs "C:/rtools40/mingw64/bin/"g++ -std=gnu++11 -I"C:/Users/BIOCBU~1/BBS-3~1.13-/R/include" -DNDEBUG -I'C:/Users/biocbuild/bbs-3.13-bioc/R/library/Rcpp/include' -I"C:/extsoft/include" -O2 -Wall -mfpmath=sse -msse2 -mstackrealign -c findCoordinates.cpp -o findCoordinates.o C:/rtools40/mingw64/bin/g++ -std=gnu++11 -shared -s -static-libgcc -o GOsummaries.dll tmp.def findCoordinates.o -LC:/extsoft/lib/x64 -LC:/extsoft/lib -LC:/Users/BIOCBU~1/BBS-3~1.13-/R/bin/x64 -lR installing to C:/Users/biocbuild/bbs-3.13-bioc/meat/GOsummaries.buildbin-libdir/GOsummaries/libs/x64 ** testing if installed package can be loaded * MD5 sums packaged installation of 'GOsummaries' as GOsummaries_2.28.0.zip * DONE (GOsummaries)