Back to Multiple platform build/check report for BioC 3.13
ABCDEFGHIJKLMNO[P]QRSTUVWXYZ

This page was generated on 2021-09-17 15:05:25 -0400 (Fri, 17 Sep 2021).

All results for package preprocessCore

To the developers/maintainers of the preprocessCore package:
- Please allow up to 24 hours (and sometimes 48 hours) for your latest push to git@git.bioconductor.org:packages/preprocessCore.git to
reflect on this report. See How and When does the builder pull? When will my changes propagate? here for more information.
- Make sure to use the following settings in order to reproduce any error or warning you see on this page.

raw results

Package 1429/2041HostnameOS / ArchINSTALLBUILDCHECKBUILD BIN
preprocessCore 1.54.0  (landing page)
Ben Bolstad
Snapshot Date: 2021-09-16 04:50:11 -0400 (Thu, 16 Sep 2021)
git_url: https://git.bioconductor.org/packages/preprocessCore
git_branch: RELEASE_3_13
git_last_commit: 66a30ca
git_last_commit_date: 2021-05-19 11:32:55 -0400 (Wed, 19 May 2021)
nebbiolo1Linux (Ubuntu 20.04.2 LTS) / x86_64  OK    OK    OK  UNNEEDED, same version is already published
tokay2Windows Server 2012 R2 Standard / x64  OK    OK    OK    OK  UNNEEDED, same version is already published
machv2macOS 10.14.6 Mojave / x86_64  OK    OK    OK    OK  UNNEEDED, same version is already published

Results for Bioconductor software packages that depend directly on package preprocessCore

QUICK STATSOS / ArchINSTALLBUILDCHECKBUILD BIN
nebbiolo1Linux (Ubuntu 20.04.2 LTS) / x86_64
0043
0241
00734
tokay2Windows Server 2012 R2 Standard / x64
0043
0241
00635
0041
machv2macOS 10.14.6 Mojave / x86_64
0043
0241
00635
0041
Package 1/43HostnameOS / ArchINSTALLBUILDCHECKBUILD BIN
affy 1.70.0  (landing page)
Rafael A. Irizarry
git_last_commit: 9c32d61
git_last_commit_date: 2021-05-19 11:32:58 -0400
nebbiolo1Linux (Ubuntu 20.04.2 LTS) / x86_64  OK    OK    WARNINGS  UNNEEDED, same version is already published
tokay2Windows Server 2012 R2 Standard / x64  OK    OK    WARNINGS    OK  UNNEEDED, same version is already published
machv2macOS 10.14.6 Mojave / x86_64  OK    OK    WARNINGS    OK  UNNEEDED, same version is already published
Package 2/43HostnameOS / ArchINSTALLBUILDCHECKBUILD BIN
affyPLM 1.68.0  (landing page)
Ben Bolstad
git_last_commit: 492a50a
git_last_commit_date: 2021-05-19 11:33:35 -0400
nebbiolo1Linux (Ubuntu 20.04.2 LTS) / x86_64  OK    OK    WARNINGS  UNNEEDED, same version is already published
tokay2Windows Server 2012 R2 Standard / x64  OK    OK    OK    OK  UNNEEDED, same version is already published
machv2macOS 10.14.6 Mojave / x86_64  OK    OK    OK    OK  UNNEEDED, same version is already published
Package 3/43HostnameOS / ArchINSTALLBUILDCHECKBUILD BIN
AgiMicroRna 2.42.0  (landing page)
Pedro Lopez-Romero
git_last_commit: 5f453f7
git_last_commit_date: 2021-05-19 11:43:52 -0400
nebbiolo1Linux (Ubuntu 20.04.2 LTS) / x86_64  OK    OK    OK  UNNEEDED, same version is already published
tokay2Windows Server 2012 R2 Standard / x64  OK    OK    OK    OK  UNNEEDED, same version is already published
machv2macOS 10.14.6 Mojave / x86_64  OK    OK    OK    OK  UNNEEDED, same version is already published
Package 4/43HostnameOS / ArchINSTALLBUILDCHECKBUILD BIN
BloodGen3Module 1.0.0  (landing page)
Darawan Rinchai
git_last_commit: 2f62a72
git_last_commit_date: 2021-05-19 13:03:34 -0400
nebbiolo1Linux (Ubuntu 20.04.2 LTS) / x86_64  OK    OK    WARNINGS  UNNEEDED, same version is already published
tokay2Windows Server 2012 R2 Standard / x64  OK    OK    WARNINGS    OK  UNNEEDED, same version is already published
machv2macOS 10.14.6 Mojave / x86_64  OK    OK    WARNINGS    OK  UNNEEDED, same version is already published
Package 5/43HostnameOS / ArchINSTALLBUILDCHECKBUILD BIN
bnbc 1.14.0  (landing page)
Kipper Fletez-Brant
git_last_commit: 210c4d2
git_last_commit_date: 2021-05-19 12:31:07 -0400
nebbiolo1Linux (Ubuntu 20.04.2 LTS) / x86_64  OK    OK    OK  UNNEEDED, same version is already published
tokay2Windows Server 2012 R2 Standard / x64  OK    OK    OK    OK  UNNEEDED, same version is already published
machv2macOS 10.14.6 Mojave / x86_64  OK    OK    OK    OK  UNNEEDED, same version is already published
Package 6/43HostnameOS / ArchINSTALLBUILDCHECKBUILD BIN
ChAMP 2.22.0  (landing page)
Yuan Tian
git_last_commit: 2350b07
git_last_commit_date: 2021-05-19 12:01:34 -0400
nebbiolo1Linux (Ubuntu 20.04.2 LTS) / x86_64  OK    OK    WARNINGS  UNNEEDED, same version is already published
tokay2Windows Server 2012 R2 Standard / x64  OK    OK    WARNINGS    OK  UNNEEDED, same version is already published
machv2macOS 10.14.6 Mojave / x86_64  OK    OK    WARNINGS    OK  UNNEEDED, same version is already published
Package 7/43HostnameOS / ArchINSTALLBUILDCHECKBUILD BIN
cn.farms 1.40.0  (landing page)
Andreas Mitterecker
git_last_commit: 8b80539
git_last_commit_date: 2021-05-19 11:47:57 -0400
nebbiolo1Linux (Ubuntu 20.04.2 LTS) / x86_64  OK    OK    OK  UNNEEDED, same version is already published
tokay2Windows Server 2012 R2 Standard / x64  OK    OK    OK    OK  UNNEEDED, same version is already published
machv2macOS 10.14.6 Mojave / x86_64  OK    OK    OK    OK  UNNEEDED, same version is already published
Package 8/43HostnameOS / ArchINSTALLBUILDCHECKBUILD BIN
cqn 1.38.0  (landing page)
Kasper Daniel Hansen
git_last_commit: 0d15ecc
git_last_commit_date: 2021-05-19 11:49:01 -0400
nebbiolo1Linux (Ubuntu 20.04.2 LTS) / x86_64  OK    OK    OK  UNNEEDED, same version is already published
tokay2Windows Server 2012 R2 Standard / x64  OK    OK    OK    OK  UNNEEDED, same version is already published
machv2macOS 10.14.6 Mojave / x86_64  OK    OK    OK    OK  UNNEEDED, same version is already published
Package 9/43HostnameOS / ArchINSTALLBUILDCHECKBUILD BIN
crlmm 1.50.0  (landing page)
Benilton S Carvalho
git_last_commit: c3560d3
git_last_commit_date: 2021-05-19 11:42:53 -0400
nebbiolo1Linux (Ubuntu 20.04.2 LTS) / x86_64  OK    OK    OK  UNNEEDED, same version is already published
tokay2Windows Server 2012 R2 Standard / x64  OK    OK    OK    OK  UNNEEDED, same version is already published
machv2macOS 10.14.6 Mojave / x86_64  OK    OK    OK    OK  UNNEEDED, same version is already published
Package 10/43HostnameOS / ArchINSTALLBUILDCHECKBUILD BIN
DAPAR 1.24.8  (landing page)
Samuel Wieczorek
git_last_commit: 9faf177
git_last_commit_date: 2021-09-01 02:34:05 -0400
nebbiolo1Linux (Ubuntu 20.04.2 LTS) / x86_64  OK    OK    OK  UNNEEDED, same version is already published
tokay2Windows Server 2012 R2 Standard / x64  OK    OK    OK    OK  UNNEEDED, same version is already published
machv2macOS 10.14.6 Mojave / x86_64  OK    OK    OK    OK  UNNEEDED, same version is already published
Package 11/43HostnameOS / ArchINSTALLBUILDCHECKBUILD BIN
EMDomics 2.22.0  (landing page)
Sadhika Malladi and Daniel Schmolze
git_last_commit: 86b3e22
git_last_commit_date: 2021-05-19 12:13:42 -0400
nebbiolo1Linux (Ubuntu 20.04.2 LTS) / x86_64  OK    OK    OK  UNNEEDED, same version is already published
tokay2Windows Server 2012 R2 Standard / x64  OK    OK    OK    OK  UNNEEDED, same version is already published
machv2macOS 10.14.6 Mojave / x86_64  OK    OK    OK    OK  UNNEEDED, same version is already published
Package 12/43HostnameOS / ArchINSTALLBUILDCHECKBUILD BIN
ENmix 1.28.5  (landing page)
Zongli Xu
git_last_commit: 5178831
git_last_commit_date: 2021-08-09 15:21:39 -0400
nebbiolo1Linux (Ubuntu 20.04.2 LTS) / x86_64  OK    OK    OK  UNNEEDED, same version is already published
tokay2Windows Server 2012 R2 Standard / x64  OK    OK    OK    OK  UNNEEDED, same version is already published
machv2macOS 10.14.6 Mojave / x86_64  OK    OK    OK    OK  UNNEEDED, same version is already published
Package 13/43HostnameOS / ArchINSTALLBUILDCHECKBUILD BIN
ExiMiR 2.34.0  (landing page)
Sylvain Gubian
git_last_commit: 8830d07
git_last_commit_date: 2021-05-19 11:47:16 -0400
nebbiolo1Linux (Ubuntu 20.04.2 LTS) / x86_64  OK    OK    OK  UNNEEDED, same version is already published
tokay2Windows Server 2012 R2 Standard / x64  OK    OK    OK    OK  UNNEEDED, same version is already published
machv2macOS 10.14.6 Mojave / x86_64  OK    OK    OK    OK  UNNEEDED, same version is already published
Package 14/43HostnameOS / ArchINSTALLBUILDCHECKBUILD BIN
fastLiquidAssociation 1.28.0  (landing page)
Tina Gunderson
git_last_commit: a7ffa47
git_last_commit_date: 2021-05-19 12:05:00 -0400
nebbiolo1Linux (Ubuntu 20.04.2 LTS) / x86_64  OK    OK    WARNINGS  UNNEEDED, same version is already published
tokay2Windows Server 2012 R2 Standard / x64  OK    OK    WARNINGS    OK  UNNEEDED, same version is already published
machv2macOS 10.14.6 Mojave / x86_64  OK    OK    WARNINGS    OK  UNNEEDED, same version is already published
Package 15/43HostnameOS / ArchINSTALLBUILDCHECKBUILD BIN
frma 1.44.0  (landing page)
Matthew N. McCall
git_last_commit: 6ef2453
git_last_commit_date: 2021-05-19 11:44:33 -0400
nebbiolo1Linux (Ubuntu 20.04.2 LTS) / x86_64  OK    OK    OK  UNNEEDED, same version is already published
tokay2Windows Server 2012 R2 Standard / x64  OK    OK    OK    OK  UNNEEDED, same version is already published
machv2macOS 10.14.6 Mojave / x86_64  OK    OK    OK    OK  UNNEEDED, same version is already published
Package 16/43HostnameOS / ArchINSTALLBUILDCHECKBUILD BIN
frmaTools 1.44.0  (landing page)
Matthew N. McCall
git_last_commit: 619dae9
git_last_commit_date: 2021-05-19 11:44:35 -0400
nebbiolo1Linux (Ubuntu 20.04.2 LTS) / x86_64  OK    OK    OK  UNNEEDED, same version is already published
tokay2Windows Server 2012 R2 Standard / x64  OK    OK    OK    OK  UNNEEDED, same version is already published
machv2macOS 10.14.6 Mojave / x86_64  OK    OK    OK    OK  UNNEEDED, same version is already published
Package 17/43HostnameOS / ArchINSTALLBUILDCHECKBUILD BIN
hipathia 2.8.0  (landing page)
Marta R. Hidalgo
git_last_commit: c46391b
git_last_commit_date: 2021-05-19 12:35:11 -0400
nebbiolo1Linux (Ubuntu 20.04.2 LTS) / x86_64  OK    OK    OK  UNNEEDED, same version is already published
tokay2Windows Server 2012 R2 Standard / x64  OK    OK    OK    OK  UNNEEDED, same version is already published
machv2macOS 10.14.6 Mojave / x86_64  OK    OK    OK    OK  UNNEEDED, same version is already published
Package 18/43HostnameOS / ArchINSTALLBUILDCHECKBUILD BIN
iCheck 1.22.0  (landing page)
Weiliang Qiu
git_last_commit: 400b77a
git_last_commit_date: 2021-05-19 12:15:56 -0400
nebbiolo1Linux (Ubuntu 20.04.2 LTS) / x86_64  OK    OK    OK  UNNEEDED, same version is already published
tokay2Windows Server 2012 R2 Standard / x64  OK    OK    OK    OK  UNNEEDED, same version is already published
machv2macOS 10.14.6 Mojave / x86_64  OK    OK    OK    OK  UNNEEDED, same version is already published
Package 19/43HostnameOS / ArchINSTALLBUILDCHECKBUILD BIN
ImmuneSpaceR 1.20.0  (landing page)
ImmuneSpace Package Maintainer
git_last_commit: e938b1b
git_last_commit_date: 2021-05-19 12:20:27 -0400
nebbiolo1Linux (Ubuntu 20.04.2 LTS) / x86_64  OK    OK    OK  UNNEEDED, same version is already published
tokay2Windows Server 2012 R2 Standard / x64  OK    OK    OK    OK  UNNEEDED, same version is already published
machv2macOS 10.14.6 Mojave / x86_64  OK    OK    OK    OK  UNNEEDED, same version is already published
Package 20/43HostnameOS / ArchINSTALLBUILDCHECKBUILD BIN
InPAS 2.0.0  (landing page)
Jianhong Ou
git_last_commit: d402f5c
git_last_commit_date: 2021-05-19 12:12:03 -0400
nebbiolo1Linux (Ubuntu 20.04.2 LTS) / x86_64  OK    OK    OK  UNNEEDED, same version is already published
tokay2Windows Server 2012 R2 Standard / x64  OK    OK    OK    OK  UNNEEDED, same version is already published
machv2macOS 10.14.6 Mojave / x86_64  OK    OK    OK    OK  UNNEEDED, same version is already published
Package 21/43HostnameOS / ArchINSTALLBUILDCHECKBUILD BIN
lumi 2.44.0  (landing page)
Lei Huang
git_last_commit: 9783629
git_last_commit_date: 2021-05-19 11:38:35 -0400
nebbiolo1Linux (Ubuntu 20.04.2 LTS) / x86_64  OK    OK    WARNINGS  UNNEEDED, same version is already published
tokay2Windows Server 2012 R2 Standard / x64  OK    OK    WARNINGS    OK  UNNEEDED, same version is already published
machv2macOS 10.14.6 Mojave / x86_64  OK    OK    WARNINGS    OK  UNNEEDED, same version is already published
Package 22/43HostnameOS / ArchINSTALLBUILDCHECKBUILD BIN
MADSEQ 1.18.0  (landing page)
Yu Kong
git_last_commit: 64cfc9c
git_last_commit_date: 2021-05-19 12:20:58 -0400
nebbiolo1Linux (Ubuntu 20.04.2 LTS) / x86_64  OK    OK    OK  UNNEEDED, same version is already published
tokay2Windows Server 2012 R2 Standard / x64  OK    OK    OK    OK  UNNEEDED, same version is already published
machv2macOS 10.14.6 Mojave / x86_64  OK    OK    OK    OK  UNNEEDED, same version is already published
Package 23/43HostnameOS / ArchINSTALLBUILDCHECKBUILD BIN
MBCB 1.46.0  (landing page)
Jeff Allen
git_last_commit: 151a5fe
git_last_commit_date: 2021-05-19 11:45:53 -0400
nebbiolo1Linux (Ubuntu 20.04.2 LTS) / x86_64  OK    OK    OK  UNNEEDED, same version is already published
tokay2Windows Server 2012 R2 Standard / x64  OK    OK    OK    OK  UNNEEDED, same version is already published
machv2macOS 10.14.6 Mojave / x86_64  OK    OK    OK    OK  UNNEEDED, same version is already published
Package 24/43HostnameOS / ArchINSTALLBUILDCHECKBUILD BIN
MBQN 2.4.0  (landing page)
Ariane Schad
git_last_commit: 5d61122
git_last_commit_date: 2021-05-19 12:47:21 -0400
nebbiolo1Linux (Ubuntu 20.04.2 LTS) / x86_64  OK    ERROR  skipped
tokay2Windows Server 2012 R2 Standard / x64  OK    ERROR  skippedskipped
machv2macOS 10.14.6 Mojave / x86_64  OK    ERROR  skippedskipped
Package 25/43HostnameOS / ArchINSTALLBUILDCHECKBUILD BIN
MEDIPS 1.44.0  (landing page)
Lukas Chavez
git_last_commit: 4df0aee
git_last_commit_date: 2021-05-19 11:46:46 -0400
nebbiolo1Linux (Ubuntu 20.04.2 LTS) / x86_64  OK    OK    OK  UNNEEDED, same version is already published
tokay2Windows Server 2012 R2 Standard / x64  OK    OK    OK    OK  UNNEEDED, same version is already published
machv2macOS 10.14.6 Mojave / x86_64  OK    OK    OK    OK  UNNEEDED, same version is already published
Package 26/43HostnameOS / ArchINSTALLBUILDCHECKBUILD BIN
mimager 1.16.0  (landing page)
Aaron Wolen
git_last_commit: e793400
git_last_commit_date: 2021-05-19 12:25:20 -0400
nebbiolo1Linux (Ubuntu 20.04.2 LTS) / x86_64  OK    OK    OK  UNNEEDED, same version is already published
tokay2Windows Server 2012 R2 Standard / x64  OK    OK    OK    OK  UNNEEDED, same version is already published
machv2macOS 10.14.6 Mojave / x86_64  OK    OK    OK    OK  UNNEEDED, same version is already published
Package 27/43HostnameOS / ArchINSTALLBUILDCHECKBUILD BIN
minfi 1.38.0  (landing page)
Kasper Daniel Hansen
git_last_commit: ff3bf4a
git_last_commit_date: 2021-05-19 11:50:18 -0400
nebbiolo1Linux (Ubuntu 20.04.2 LTS) / x86_64  OK    OK    OK  UNNEEDED, same version is already published
tokay2Windows Server 2012 R2 Standard / x64  OK    OK    OK    OK  UNNEEDED, same version is already published
machv2macOS 10.14.6 Mojave / x86_64  OK    OK    OK    OK  UNNEEDED, same version is already published
Package 28/43HostnameOS / ArchINSTALLBUILDCHECKBUILD BIN
MSPrep 1.2.0  (landing page)
Max McGrath
git_last_commit: a135a71
git_last_commit_date: 2021-05-19 12:56:11 -0400
nebbiolo1Linux (Ubuntu 20.04.2 LTS) / x86_64  OK    OK    OK  UNNEEDED, same version is already published
tokay2Windows Server 2012 R2 Standard / x64  OK    OK    OK    OK  UNNEEDED, same version is already published
machv2macOS 10.14.6 Mojave / x86_64  OK    OK    OK    OK  UNNEEDED, same version is already published
Package 29/43HostnameOS / ArchINSTALLBUILDCHECKBUILD BIN
MSstats 4.0.1  (landing page)
Meena Choi
git_last_commit: afa9e58
git_last_commit_date: 2021-05-31 23:11:01 -0400
nebbiolo1Linux (Ubuntu 20.04.2 LTS) / x86_64  OK    OK    OK  UNNEEDED, same version is already published
tokay2Windows Server 2012 R2 Standard / x64  OK    OK    OK    OK  UNNEEDED, same version is already published
machv2macOS 10.14.6 Mojave / x86_64  OK    OK    OK    OK  UNNEEDED, same version is already published
Package 30/43HostnameOS / ArchINSTALLBUILDCHECKBUILD BIN
NormalyzerDE 1.10.0  (landing page)
Jakob Willforss
git_last_commit: 94eb4bc
git_last_commit_date: 2021-05-19 12:37:47 -0400
nebbiolo1Linux (Ubuntu 20.04.2 LTS) / x86_64  OK    OK    OK  UNNEEDED, same version is already published
tokay2Windows Server 2012 R2 Standard / x64  OK    OK    OK    OK  UNNEEDED, same version is already published
machv2macOS 10.14.6 Mojave / x86_64  OK    OK    OK    OK  UNNEEDED, same version is already published
Package 31/43HostnameOS / ArchINSTALLBUILDCHECKBUILD BIN
oligo 1.56.0  (landing page)
Benilton Carvalho
git_last_commit: b3b6d7e
git_last_commit_date: 2021-05-19 11:36:00 -0400
nebbiolo1Linux (Ubuntu 20.04.2 LTS) / x86_64  OK    OK    WARNINGS  UNNEEDED, same version is already published
tokay2Windows Server 2012 R2 Standard / x64  OK    OK    WARNINGS    OK  UNNEEDED, same version is already published
machv2macOS 10.14.6 Mojave / x86_64  OK    OK    WARNINGS    OK  UNNEEDED, same version is already published
Package 32/43HostnameOS / ArchINSTALLBUILDCHECKBUILD BIN
PECA 1.28.0  (landing page)
Tomi Suomi
git_last_commit: 08d2016
git_last_commit_date: 2021-05-19 12:02:00 -0400
nebbiolo1Linux (Ubuntu 20.04.2 LTS) / x86_64  OK    OK    OK  UNNEEDED, same version is already published
tokay2Windows Server 2012 R2 Standard / x64  OK    OK    OK    OK  UNNEEDED, same version is already published
machv2macOS 10.14.6 Mojave / x86_64  OK    OK    OK    OK  UNNEEDED, same version is already published
Package 33/43HostnameOS / ArchINSTALLBUILDCHECKBUILD BIN
PhosR 1.2.0  (landing page)
Taiyun Kim
git_last_commit: cd5ab36
git_last_commit_date: 2021-05-19 12:55:51 -0400
nebbiolo1Linux (Ubuntu 20.04.2 LTS) / x86_64  OK    OK    OK  UNNEEDED, same version is already published
tokay2Windows Server 2012 R2 Standard / x64  OK    OK    OK    OK  UNNEEDED, same version is already published
machv2macOS 10.14.6 Mojave / x86_64  OK    OK    OK    OK  UNNEEDED, same version is already published
Package 34/43HostnameOS / ArchINSTALLBUILDCHECKBUILD BIN
Pigengene 1.18.0  (landing page)
Habil Zare
git_last_commit: 848d21a
git_last_commit_date: 2021-05-19 12:20:45 -0400
nebbiolo1Linux (Ubuntu 20.04.2 LTS) / x86_64  OK    ERROR  skipped
tokay2Windows Server 2012 R2 Standard / x64  OK    ERROR  skippedskipped
machv2macOS 10.14.6 Mojave / x86_64  OK    ERROR  skippedskipped
Package 35/43HostnameOS / ArchINSTALLBUILDCHECKBUILD BIN
proBatch 1.8.0  (landing page)
Chloe H. Lee
git_last_commit: a577fe3
git_last_commit_date: 2021-05-19 12:42:05 -0400
nebbiolo1Linux (Ubuntu 20.04.2 LTS) / x86_64  OK    OK    OK  UNNEEDED, same version is already published
tokay2Windows Server 2012 R2 Standard / x64  OK    OK    OK    OK  UNNEEDED, same version is already published
machv2macOS 10.14.6 Mojave / x86_64  OK    OK    OK    OK  UNNEEDED, same version is already published
Package 36/43HostnameOS / ArchINSTALLBUILDCHECKBUILD BIN
qPLEXanalyzer 1.10.0  (landing page)
Ashley Sawle
git_last_commit: 1edf1ad
git_last_commit_date: 2021-05-19 12:36:30 -0400
nebbiolo1Linux (Ubuntu 20.04.2 LTS) / x86_64  OK    OK    OK  UNNEEDED, same version is already published
tokay2Windows Server 2012 R2 Standard / x64  OK    OK    OK    OK  UNNEEDED, same version is already published
machv2macOS 10.14.6 Mojave / x86_64  OK    OK    OK    OK  UNNEEDED, same version is already published
Package 37/43HostnameOS / ArchINSTALLBUILDCHECKBUILD BIN
quantiseqr 1.0.0  (landing page)
Federico Marini
git_last_commit: 4408bea
git_last_commit_date: 2021-05-19 13:02:37 -0400
nebbiolo1Linux (Ubuntu 20.04.2 LTS) / x86_64  OK    OK    OK  UNNEEDED, same version is already published
tokay2Windows Server 2012 R2 Standard / x64  OK    OK    OK    OK  UNNEEDED, same version is already published
machv2macOS 10.14.6 Mojave / x86_64  OK    OK    OK    OK  UNNEEDED, same version is already published
Package 38/43HostnameOS / ArchINSTALLBUILDCHECKBUILD BIN
RefPlus 1.62.0  (landing page)
Kai-Ming Chang
git_last_commit: 9fed9a4
git_last_commit_date: 2021-05-19 11:38:30 -0400
nebbiolo1Linux (Ubuntu 20.04.2 LTS) / x86_64  OK    OK    OK  UNNEEDED, same version is already published
tokay2Windows Server 2012 R2 Standard / x64  OK    OK    OK    OK  UNNEEDED, same version is already published
machv2macOS 10.14.6 Mojave / x86_64  OK    OK    OK    OK  UNNEEDED, same version is already published
Package 39/43HostnameOS / ArchINSTALLBUILDCHECKBUILD BIN
SCATE 1.2.0  (landing page)
Wenpin Hou
git_last_commit: f1f5a43
git_last_commit_date: 2021-05-19 12:54:55 -0400
nebbiolo1Linux (Ubuntu 20.04.2 LTS) / x86_64  OK    OK    OK  UNNEEDED, same version is already published
tokay2Windows Server 2012 R2 Standard / x64  OK    OK    OK    OK  UNNEEDED, same version is already published
machv2macOS 10.14.6 Mojave / x86_64  OK    OK    OK    OK  UNNEEDED, same version is already published
Package 40/43HostnameOS / ArchINSTALLBUILDCHECKBUILD BIN
sesame 1.10.4  (landing page)
Wanding Zhou
git_last_commit: 323ca39
git_last_commit_date: 2021-06-03 16:32:54 -0400
nebbiolo1Linux (Ubuntu 20.04.2 LTS) / x86_64  OK    OK    OK  UNNEEDED, same version is already published
tokay2Windows Server 2012 R2 Standard / x64  OK    OK    OK    OK  UNNEEDED, same version is already published
machv2macOS 10.14.6 Mojave / x86_64  OK    OK    OK    OK  UNNEEDED, same version is already published
Package 41/43HostnameOS / ArchINSTALLBUILDCHECKBUILD BIN
soGGi 1.24.1  (landing page)
Tom Carroll
git_last_commit: 24358f6
git_last_commit_date: 2021-08-27 15:35:04 -0400
nebbiolo1Linux (Ubuntu 20.04.2 LTS) / x86_64  OK    OK    OK  UNNEEDED, same version is already published
tokay2Windows Server 2012 R2 Standard / x64  OK    OK    OK    OK  UNNEEDED, same version is already published
machv2macOS 10.14.6 Mojave / x86_64  OK    OK    OK    OK  UNNEEDED, same version is already published
Package 42/43HostnameOS / ArchINSTALLBUILDCHECKBUILD BIN
tidybulk 1.4.0  (landing page)
Stefano Mangiola
git_last_commit: 945a727
git_last_commit_date: 2021-05-19 12:50:13 -0400
nebbiolo1Linux (Ubuntu 20.04.2 LTS) / x86_64  OK    OK    OK  UNNEEDED, same version is already published
tokay2Windows Server 2012 R2 Standard / x64  OK    OK    OK    OK  UNNEEDED, same version is already published
machv2macOS 10.14.6 Mojave / x86_64  OK    OK    OK    OK  UNNEEDED, same version is already published
Package 43/43HostnameOS / ArchINSTALLBUILDCHECKBUILD BIN
yarn 1.18.0  (landing page)
Joseph N Paulson
git_last_commit: a8b8b57
git_last_commit_date: 2021-05-19 12:24:27 -0400
nebbiolo1Linux (Ubuntu 20.04.2 LTS) / x86_64  OK    OK    OK  UNNEEDED, same version is already published
tokay2Windows Server 2012 R2 Standard / x64  OK    OK    OK    OK  UNNEEDED, same version is already published
machv2macOS 10.14.6 Mojave / x86_64  OK    OK    OK    OK  UNNEEDED, same version is already published