Back to Multiple platform build/check report for BioC 3.13 |
|
This page was generated on 2021-10-15 15:06:10 -0400 (Fri, 15 Oct 2021).
To the developers/maintainers of the mCSEA package: - Please allow up to 24 hours (and sometimes 48 hours) for your latest push to git@git.bioconductor.org:packages/mCSEA.git to reflect on this report. See How and When does the builder pull? When will my changes propagate? here for more information. - Make sure to use the following settings in order to reproduce any error or warning you see on this page. |
Package 1055/2041 | Hostname | OS / Arch | INSTALL | BUILD | CHECK | BUILD BIN | ||||||||
mCSEA 1.12.0 (landing page) Jordi Martorell-Marugán
| nebbiolo1 | Linux (Ubuntu 20.04.2 LTS) / x86_64 | OK | OK | OK | |||||||||
tokay2 | Windows Server 2012 R2 Standard / x64 | OK | OK | OK | OK | |||||||||
machv2 | macOS 10.14.6 Mojave / x86_64 | OK | OK | OK | OK | |||||||||
Package: mCSEA |
Version: 1.12.0 |
Command: C:\cygwin\bin\curl.exe -O http://155.52.207.165/BBS/3.13/bioc/src/contrib/mCSEA_1.12.0.tar.gz && rm -rf mCSEA.buildbin-libdir && mkdir mCSEA.buildbin-libdir && C:\Users\biocbuild\bbs-3.13-bioc\R\bin\R.exe CMD INSTALL --merge-multiarch --build --library=mCSEA.buildbin-libdir mCSEA_1.12.0.tar.gz && C:\Users\biocbuild\bbs-3.13-bioc\R\bin\R.exe CMD INSTALL mCSEA_1.12.0.zip && rm mCSEA_1.12.0.tar.gz mCSEA_1.12.0.zip |
StartedAt: 2021-10-14 10:54:39 -0400 (Thu, 14 Oct 2021) |
EndedAt: 2021-10-14 10:56:08 -0400 (Thu, 14 Oct 2021) |
EllapsedTime: 89.1 seconds |
RetCode: 0 |
Status: OK |
############################################################################## ############################################################################## ### ### Running command: ### ### C:\cygwin\bin\curl.exe -O http://155.52.207.165/BBS/3.13/bioc/src/contrib/mCSEA_1.12.0.tar.gz && rm -rf mCSEA.buildbin-libdir && mkdir mCSEA.buildbin-libdir && C:\Users\biocbuild\bbs-3.13-bioc\R\bin\R.exe CMD INSTALL --merge-multiarch --build --library=mCSEA.buildbin-libdir mCSEA_1.12.0.tar.gz && C:\Users\biocbuild\bbs-3.13-bioc\R\bin\R.exe CMD INSTALL mCSEA_1.12.0.zip && rm mCSEA_1.12.0.tar.gz mCSEA_1.12.0.zip ### ############################################################################## ############################################################################## % Total % Received % Xferd Average Speed Time Time Time Current Dload Upload Total Spent Left Speed 0 0 0 0 0 0 0 0 --:--:-- --:--:-- --:--:-- 0 88 1546k 88 1364k 0 0 1614k 0 --:--:-- --:--:-- --:--:-- 1614k 100 1546k 100 1546k 0 0 1681k 0 --:--:-- --:--:-- --:--:-- 1681k install for i386 * installing *source* package 'mCSEA' ... ** using staged installation ** R ** data *** moving datasets to lazyload DB ** inst ** byte-compile and prepare package for lazy loading ** help *** installing help indices converting help for package 'mCSEA' finding HTML links ... done exprTest html mCSEA-package html mCSEAIntegrate html mCSEAPlot html mCSEAPlotGSEA html mCSEATest html precomputedmCSEA html rankProbes html ** building package indices ** installing vignettes ** testing if installed package can be loaded from temporary location ** testing if installed package can be loaded from final location ** testing if installed package keeps a record of temporary installation path install for x64 * installing *source* package 'mCSEA' ... ** testing if installed package can be loaded * MD5 sums packaged installation of 'mCSEA' as mCSEA_1.12.0.zip * DONE (mCSEA) * installing to library 'C:/Users/biocbuild/bbs-3.13-bioc/R/library' package 'mCSEA' successfully unpacked and MD5 sums checked