Back to Multiple platform build/check report for BioC 3.13
[A]BCDEFGHIJKLMNOPQRSTUVWXYZ

This page was generated on 2021-10-15 15:05:05 -0400 (Fri, 15 Oct 2021).

All results for package AnnotationDbi

To the developers/maintainers of the AnnotationDbi package:
- Please allow up to 24 hours (and sometimes 48 hours) for your latest push to git@git.bioconductor.org:packages/AnnotationDbi.git to
reflect on this report. See How and When does the builder pull? When will my changes propagate? here for more information.
- Make sure to use the following settings in order to reproduce any error or warning you see on this page.

raw results

Package 62/2041HostnameOS / ArchINSTALLBUILDCHECKBUILD BIN
AnnotationDbi 1.54.1  (landing page)
Bioconductor Package Maintainer
Snapshot Date: 2021-10-14 04:50:12 -0400 (Thu, 14 Oct 2021)
git_url: https://git.bioconductor.org/packages/AnnotationDbi
git_branch: RELEASE_3_13
git_last_commit: 0040118
git_last_commit_date: 2021-06-07 12:36:06 -0400 (Mon, 07 Jun 2021)
nebbiolo1Linux (Ubuntu 20.04.2 LTS) / x86_64  OK    OK    OK  UNNEEDED, same version is already published
tokay2Windows Server 2012 R2 Standard / x64  OK    OK    OK    OK  UNNEEDED, same version is already published
machv2macOS 10.14.6 Mojave / x86_64  OK    OK    OK    OK  UNNEEDED, same version is already published

Results for Bioconductor software packages that depend directly on package AnnotationDbi

QUICK STATSOS / ArchINSTALLBUILDCHECKBUILD BIN
nebbiolo1Linux (Ubuntu 20.04.2 LTS) / x86_64
05187
010182
0535142
tokay2Windows Server 2012 R2 Standard / x64
05186
012179
01232135
00179
machv2macOS 10.14.6 Mojave / x86_64
05187
010182
0534143
00182
Package 1/192HostnameOS / ArchINSTALLBUILDCHECKBUILD BIN
adSplit 1.62.0  (landing page)
Claudio Lottaz
git_last_commit: 2181a05
git_last_commit_date: 2021-05-19 11:37:05 -0400
nebbiolo1Linux (Ubuntu 20.04.2 LTS) / x86_64  OK    OK    OK  UNNEEDED, same version is already published
tokay2Windows Server 2012 R2 Standard / x64  OK    OK    OK    OK  UNNEEDED, same version is already published
machv2macOS 10.14.6 Mojave / x86_64  OK    OK    OK    OK  UNNEEDED, same version is already published
Package 2/192HostnameOS / ArchINSTALLBUILDCHECKBUILD BIN
affycoretools 1.64.0  (landing page)
James W. MacDonald
git_last_commit: ed4f10c
git_last_commit_date: 2021-05-19 11:36:33 -0400
nebbiolo1Linux (Ubuntu 20.04.2 LTS) / x86_64  OK    OK    WARNINGS  UNNEEDED, same version is already published
tokay2Windows Server 2012 R2 Standard / x64  OK    OK    WARNINGS    OK  UNNEEDED, same version is already published
machv2macOS 10.14.6 Mojave / x86_64  OK    OK    WARNINGS    OK  UNNEEDED, same version is already published
Package 3/192HostnameOS / ArchINSTALLBUILDCHECKBUILD BIN
affylmGUI 1.66.0  (landing page)
Gordon Smyth
git_last_commit: ff6d6f1
git_last_commit_date: 2021-05-19 11:34:17 -0400
nebbiolo1Linux (Ubuntu 20.04.2 LTS) / x86_64  OK    OK    OK  UNNEEDED, same version is already published
tokay2Windows Server 2012 R2 Standard / x64  OK    OK    OK    OK  UNNEEDED, same version is already published
machv2macOS 10.14.6 Mojave / x86_64  OK    OK    OK    OK  UNNEEDED, same version is already published
Package 4/192HostnameOS / ArchINSTALLBUILDCHECKBUILD BIN
AllelicImbalance 1.30.0  (landing page)
Jesper R Gadin
git_last_commit: 5e00a1f
git_last_commit_date: 2021-05-19 12:00:58 -0400
nebbiolo1Linux (Ubuntu 20.04.2 LTS) / x86_64  OK    OK    OK  UNNEEDED, same version is already published
tokay2Windows Server 2012 R2 Standard / x64  OK    OK    OK    OK  UNNEEDED, same version is already published
machv2macOS 10.14.6 Mojave / x86_64  OK    OK    OK    OK  UNNEEDED, same version is already published
Package 5/192HostnameOS / ArchINSTALLBUILDCHECKBUILD BIN
annaffy 1.64.2  (landing page)
Colin A. Smith
git_last_commit: e4b2445
git_last_commit_date: 2021-06-19 21:06:30 -0400
nebbiolo1Linux (Ubuntu 20.04.2 LTS) / x86_64  OK    OK    WARNINGS  UNNEEDED, same version is already published
tokay2Windows Server 2012 R2 Standard / x64  OK    OK    WARNINGS    OK  UNNEEDED, same version is already published
machv2macOS 10.14.6 Mojave / x86_64  OK    OK    WARNINGS    OK  UNNEEDED, same version is already published
Package 6/192HostnameOS / ArchINSTALLBUILDCHECKBUILD BIN
annotate 1.70.0  (landing page)
Bioconductor Package Maintainer
git_last_commit: 9c8cb9d
git_last_commit_date: 2021-05-19 11:32:35 -0400
nebbiolo1Linux (Ubuntu 20.04.2 LTS) / x86_64  OK    OK    OK  UNNEEDED, same version is already published
tokay2Windows Server 2012 R2 Standard / x64  OK    OK    OK    OK  UNNEEDED, same version is already published
machv2macOS 10.14.6 Mojave / x86_64  OK    OK    OK    OK  UNNEEDED, same version is already published
Package 7/192HostnameOS / ArchINSTALLBUILDCHECKBUILD BIN
AnnotationForge 1.34.1  (landing page)
Bioconductor Package Maintainer
git_last_commit: a2fccf4
git_last_commit_date: 2021-10-11 19:11:15 -0400
nebbiolo1Linux (Ubuntu 20.04.2 LTS) / x86_64  OK    OK    OK  UNNEEDED, same version is already published
tokay2Windows Server 2012 R2 Standard / x64  OK    OK    OK    OK  UNNEEDED, same version is already published
machv2macOS 10.14.6 Mojave / x86_64  OK    OK    OK    OK  UNNEEDED, same version is already published
Package 8/192HostnameOS / ArchINSTALLBUILDCHECKBUILD BIN
AnnotationFuncs 1.42.0  (landing page)
Stefan McKinnon Edwards
git_last_commit: e88a01e
git_last_commit_date: 2021-05-19 11:47:52 -0400
nebbiolo1Linux (Ubuntu 20.04.2 LTS) / x86_64  OK    ERROR  skipped
tokay2Windows Server 2012 R2 Standard / x64  OK    ERROR  skippedskipped
machv2macOS 10.14.6 Mojave / x86_64  OK    ERROR  skippedskipped
Package 9/192HostnameOS / ArchINSTALLBUILDCHECKBUILD BIN
AnnotationHub 3.0.2  (landing page)
Bioconductor Package Maintainer
git_last_commit: cdca7b7
git_last_commit_date: 2021-10-13 15:55:42 -0400
nebbiolo1Linux (Ubuntu 20.04.2 LTS) / x86_64  OK    OK    WARNINGS  YES
tokay2Windows Server 2012 R2 Standard / x64  OK    OK    WARNINGS    OK  YES
machv2macOS 10.14.6 Mojave / x86_64  OK    OK    WARNINGS    OK  YES
Package 10/192HostnameOS / ArchINSTALLBUILDCHECKBUILD BIN
AnnotationHubData 1.22.0  (landing page)
Bioconductor Package Maintainer
git_last_commit: c2a76fb
git_last_commit_date: 2021-05-19 12:15:21 -0400
nebbiolo1Linux (Ubuntu 20.04.2 LTS) / x86_64  OK    OK    ERROR  
tokay2Windows Server 2012 R2 Standard / x64  OK    OK    ERROR    OK  
machv2macOS 10.14.6 Mojave / x86_64  OK    OK    ERROR    OK  
Package 11/192HostnameOS / ArchINSTALLBUILDCHECKBUILD BIN
annotatr 1.18.1  (landing page)
Raymond G. Cavalcante
git_last_commit: 0066d80
git_last_commit_date: 2021-07-12 10:41:46 -0400
nebbiolo1Linux (Ubuntu 20.04.2 LTS) / x86_64  OK    OK    WARNINGS  UNNEEDED, same version is already published
tokay2Windows Server 2012 R2 Standard / x64  OK    OK    WARNINGS    OK  UNNEEDED, same version is already published
machv2macOS 10.14.6 Mojave / x86_64  OK    OK    WARNINGS    OK  UNNEEDED, same version is already published
Package 12/192HostnameOS / ArchINSTALLBUILDCHECKBUILD BIN
artMS 1.10.2  (landing page)
David Jimenez-Morales
git_last_commit: 9f507a7
git_last_commit_date: 2021-07-14 02:53:05 -0400
nebbiolo1Linux (Ubuntu 20.04.2 LTS) / x86_64  OK    OK    OK  UNNEEDED, same version is already published
tokay2Windows Server 2012 R2 Standard / x64  OK    OK    OK    OK  UNNEEDED, same version is already published
machv2macOS 10.14.6 Mojave / x86_64  OK    OK    OK    OK  UNNEEDED, same version is already published
Package 13/192HostnameOS / ArchINSTALLBUILDCHECKBUILD BIN
ASpli 2.2.0  (landing page)
Estefania Mancini
git_last_commit: 6dddfb0
git_last_commit_date: 2021-05-19 12:22:07 -0400
nebbiolo1Linux (Ubuntu 20.04.2 LTS) / x86_64  OK    OK    OK  UNNEEDED, same version is already published
tokay2Windows Server 2012 R2 Standard / x64  OK    OK    OK    OK  UNNEEDED, same version is already published
machv2macOS 10.14.6 Mojave / x86_64  OK    OK    OK    OK  UNNEEDED, same version is already published
Package 14/192HostnameOS / ArchINSTALLBUILDCHECKBUILD BIN
attract 1.44.0  (landing page)
Samuel Zimmerman
git_last_commit: 6497b3f
git_last_commit_date: 2021-05-19 11:45:42 -0400
nebbiolo1Linux (Ubuntu 20.04.2 LTS) / x86_64  OK    ERROR  skipped
tokay2Windows Server 2012 R2 Standard / x64  OK    ERROR  skippedskipped
machv2macOS 10.14.6 Mojave / x86_64  OK    ERROR  skippedskipped
Package 15/192HostnameOS / ArchINSTALLBUILDCHECKBUILD BIN
beadarray 2.42.0  (landing page)
Mark Dunning
git_last_commit: 028000c
git_last_commit_date: 2021-05-19 11:37:00 -0400
nebbiolo1Linux (Ubuntu 20.04.2 LTS) / x86_64  OK    OK    OK  UNNEEDED, same version is already published
tokay2Windows Server 2012 R2 Standard / x64  OK    OK    OK    OK  UNNEEDED, same version is already published
machv2macOS 10.14.6 Mojave / x86_64  OK    OK    OK    OK  UNNEEDED, same version is already published
Package 16/192HostnameOS / ArchINSTALLBUILDCHECKBUILD BIN
bioCancer 1.20.02  (landing page)
Karim Mezhoud
git_last_commit: 19fc7ba
git_last_commit_date: 2021-06-30 07:34:37 -0400
nebbiolo1Linux (Ubuntu 20.04.2 LTS) / x86_64  OK    OK    OK  UNNEEDED, same version is already published
tokay2Windows Server 2012 R2 Standard / x64  OK    OK    OK    OK  UNNEEDED, same version is already published
machv2macOS 10.14.6 Mojave / x86_64  OK    OK    OK    OK  UNNEEDED, same version is already published
Package 17/192HostnameOS / ArchINSTALLBUILDCHECKBUILD BIN
BiocSet 1.6.1  (landing page)
Kayla Morrell
git_last_commit: 9572684
git_last_commit_date: 2021-08-05 15:24:49 -0400
nebbiolo1Linux (Ubuntu 20.04.2 LTS) / x86_64  OK    OK    ERROR  
tokay2Windows Server 2012 R2 Standard / x64  OK    OK    ERROR    OK  
machv2macOS 10.14.6 Mojave / x86_64  OK    OK    ERROR    OK  
Package 18/192HostnameOS / ArchINSTALLBUILDCHECKBUILD BIN
biomaRt 2.48.3  (landing page)
Mike Smith
git_last_commit: 66a592e
git_last_commit_date: 2021-08-12 09:34:37 -0400
nebbiolo1Linux (Ubuntu 20.04.2 LTS) / x86_64  OK    OK    OK  UNNEEDED, same version is already published
tokay2Windows Server 2012 R2 Standard / x64  OK    OK    OK    OK  UNNEEDED, same version is already published
machv2macOS 10.14.6 Mojave / x86_64  OK    OK    OK    OK  UNNEEDED, same version is already published
Package 19/192HostnameOS / ArchINSTALLBUILDCHECKBUILD BIN
BioNet 1.52.0  (landing page)
Marcus Dittrich
git_last_commit: 5045304
git_last_commit_date: 2021-05-19 11:46:01 -0400
nebbiolo1Linux (Ubuntu 20.04.2 LTS) / x86_64  OK    OK    OK  UNNEEDED, same version is already published
tokay2Windows Server 2012 R2 Standard / x64  OK    OK    OK    OK  UNNEEDED, same version is already published
machv2macOS 10.14.6 Mojave / x86_64  OK    OK    OK    OK  UNNEEDED, same version is already published
Package 20/192HostnameOS / ArchINSTALLBUILDCHECKBUILD BIN
biovizBase 1.40.0  (landing page)
Michael Lawrence
git_last_commit: e741735
git_last_commit_date: 2021-05-19 11:50:05 -0400
nebbiolo1Linux (Ubuntu 20.04.2 LTS) / x86_64  OK    OK    WARNINGS  UNNEEDED, same version is already published
tokay2Windows Server 2012 R2 Standard / x64  OK    OK    WARNINGS    OK  UNNEEDED, same version is already published
machv2macOS 10.14.6 Mojave / x86_64  OK    OK    WARNINGS    OK  UNNEEDED, same version is already published
Package 21/192HostnameOS / ArchINSTALLBUILDCHECKBUILD BIN
bumphunter 1.34.0  (landing page)
Rafael A. Irizarry
git_last_commit: 905ec98
git_last_commit_date: 2021-05-19 11:54:54 -0400
nebbiolo1Linux (Ubuntu 20.04.2 LTS) / x86_64  OK    OK    OK  UNNEEDED, same version is already published
tokay2Windows Server 2012 R2 Standard / x64  OK    OK    ERROR    OK  
machv2macOS 10.14.6 Mojave / x86_64  OK    OK    ERROR    OK  
Package 22/192HostnameOS / ArchINSTALLBUILDCHECKBUILD BIN
BUSpaRse 1.6.1  (landing page)
Lambda Moses
git_last_commit: 10db5d4
git_last_commit_date: 2021-06-07 21:09:14 -0400
nebbiolo1Linux (Ubuntu 20.04.2 LTS) / x86_64  OK    OK    OK  UNNEEDED, same version is already published
tokay2Windows Server 2012 R2 Standard / x64  OK    OK    OK    OK  UNNEEDED, same version is already published
machv2macOS 10.14.6 Mojave / x86_64  OK    OK    OK    OK  UNNEEDED, same version is already published
Package 23/192HostnameOS / ArchINSTALLBUILDCHECKBUILD BIN
CancerMutationAnalysis 1.34.0  (landing page)
Simina M. Boca
git_last_commit: c101998
git_last_commit_date: 2021-05-19 11:52:03 -0400
nebbiolo1Linux (Ubuntu 20.04.2 LTS) / x86_64  OK    ERROR  skipped
tokay2Windows Server 2012 R2 Standard / x64  OK    ERROR  skippedskipped
machv2macOS 10.14.6 Mojave / x86_64  OK    ERROR  skippedskipped
Package 24/192HostnameOS / ArchINSTALLBUILDCHECKBUILD BIN
Category 2.58.0  (landing page)
Bioconductor Package Maintainer
git_last_commit: 5a966e0
git_last_commit_date: 2021-05-19 11:35:55 -0400
nebbiolo1Linux (Ubuntu 20.04.2 LTS) / x86_64  OK    OK    OK  UNNEEDED, same version is already published
tokay2Windows Server 2012 R2 Standard / x64  OK    OK    OK    OK  UNNEEDED, same version is already published
machv2macOS 10.14.6 Mojave / x86_64  OK    OK    OK    OK  UNNEEDED, same version is already published
Package 25/192HostnameOS / ArchINSTALLBUILDCHECKBUILD BIN
categoryCompare 1.36.0  (landing page)
Robert M. Flight
git_last_commit: 325b381
git_last_commit_date: 2021-05-19 11:52:22 -0400
nebbiolo1Linux (Ubuntu 20.04.2 LTS) / x86_64  OK    OK    OK  UNNEEDED, same version is already published
tokay2Windows Server 2012 R2 Standard / x64  OK    OK    OK    OK  UNNEEDED, same version is already published
machv2macOS 10.14.6 Mojave / x86_64  OK    OK    OK    OK  UNNEEDED, same version is already published
Package 26/192HostnameOS / ArchINSTALLBUILDCHECKBUILD BIN
ccmap 1.18.0  (landing page)
Alex Pickering
git_last_commit: 7f8150c
git_last_commit_date: 2021-05-19 12:21:21 -0400
nebbiolo1Linux (Ubuntu 20.04.2 LTS) / x86_64  OK    OK    WARNINGS  UNNEEDED, same version is already published
tokay2Windows Server 2012 R2 Standard / x64  OK    OK    WARNINGS    OK  UNNEEDED, same version is already published
machv2macOS 10.14.6 Mojave / x86_64  OK    OK    WARNINGS    OK  UNNEEDED, same version is already published
Package 27/192HostnameOS / ArchINSTALLBUILDCHECKBUILD BIN
cellity 1.20.0  (landing page)
Tomislav Ilicic
git_last_commit: a34d727
git_last_commit_date: 2021-05-19 12:18:12 -0400
nebbiolo1Linux (Ubuntu 20.04.2 LTS) / x86_64  OK    OK    OK  UNNEEDED, same version is already published
tokay2Windows Server 2012 R2 Standard / x64  OK    OK    OK    OK  UNNEEDED, same version is already published
machv2macOS 10.14.6 Mojave / x86_64  OK    OK    OK    OK  UNNEEDED, same version is already published
Package 28/192HostnameOS / ArchINSTALLBUILDCHECKBUILD BIN
chimeraviz 1.18.0  (landing page)
Stian Lågstad
git_last_commit: bc2b277
git_last_commit_date: 2021-05-19 12:24:46 -0400
nebbiolo1Linux (Ubuntu 20.04.2 LTS) / x86_64  OK    OK    OK  UNNEEDED, same version is already published
tokay2Windows Server 2012 R2 Standard / x64  OK    OK    OK    OK  UNNEEDED, same version is already published
machv2macOS 10.14.6 Mojave / x86_64  OK    OK    OK    OK  UNNEEDED, same version is already published
Package 29/192HostnameOS / ArchINSTALLBUILDCHECKBUILD BIN
chipenrich 2.16.0  (landing page)
Raymond G. Cavalcante
git_last_commit: 4653bc8
git_last_commit_date: 2021-05-19 12:00:32 -0400
nebbiolo1Linux (Ubuntu 20.04.2 LTS) / x86_64  OK    OK    WARNINGS  UNNEEDED, same version is already published
tokay2Windows Server 2012 R2 Standard / x64  OK    OK    WARNINGS    OK  UNNEEDED, same version is already published
machv2macOS 10.14.6 Mojave / x86_64  OK    OK    WARNINGS    OK  UNNEEDED, same version is already published
Package 30/192HostnameOS / ArchINSTALLBUILDCHECKBUILD BIN
ChIPpeakAnno 3.26.4  (landing page)
Jianhong Ou
git_last_commit: 5104b7d
git_last_commit_date: 2021-09-09 15:41:30 -0400
nebbiolo1Linux (Ubuntu 20.04.2 LTS) / x86_64  OK    OK    OK  UNNEEDED, same version is already published
tokay2Windows Server 2012 R2 Standard / x64  OK    OK    OK    OK  UNNEEDED, same version is already published
machv2macOS 10.14.6 Mojave / x86_64  OK    OK    OK    OK  UNNEEDED, same version is already published
Package 31/192HostnameOS / ArchINSTALLBUILDCHECKBUILD BIN
ChIPseeker 1.28.3  (landing page)
Guangchuang Yu
git_last_commit: 2c3e718
git_last_commit_date: 2021-05-21 05:08:25 -0400
nebbiolo1Linux (Ubuntu 20.04.2 LTS) / x86_64  OK    OK    OK  UNNEEDED, same version is already published
tokay2Windows Server 2012 R2 Standard / x64  OK    OK    OK    OK  UNNEEDED, same version is already published
machv2macOS 10.14.6 Mojave / x86_64  OK    OK    OK    OK  UNNEEDED, same version is already published
Package 32/192HostnameOS / ArchINSTALLBUILDCHECKBUILD BIN
ChromHeatMap 1.46.0  (landing page)
Tim F. Rayner
git_last_commit: 8f112f2
git_last_commit_date: 2021-05-19 11:44:11 -0400
nebbiolo1Linux (Ubuntu 20.04.2 LTS) / x86_64  OK    OK    OK  UNNEEDED, same version is already published
tokay2Windows Server 2012 R2 Standard / x64  OK    OK    OK    OK  UNNEEDED, same version is already published
machv2macOS 10.14.6 Mojave / x86_64  OK    OK    OK    OK  UNNEEDED, same version is already published
Package 33/192HostnameOS / ArchINSTALLBUILDCHECKBUILD BIN
clusterProfiler 4.0.5  (landing page)
Guangchuang Yu
git_last_commit: 1b76287
git_last_commit_date: 2021-08-20 03:19:09 -0400
nebbiolo1Linux (Ubuntu 20.04.2 LTS) / x86_64  OK    OK    OK  UNNEEDED, same version is already published
tokay2Windows Server 2012 R2 Standard / x64  OK    OK    OK    OK  UNNEEDED, same version is already published
machv2macOS 10.14.6 Mojave / x86_64  OK    OK    OK    OK  UNNEEDED, same version is already published
Package 34/192HostnameOS / ArchINSTALLBUILDCHECKBUILD BIN
CoCiteStats 1.64.0  (landing page)
Bioconductor Package Maintainer
git_last_commit: 9a21bd3
git_last_commit_date: 2021-05-19 11:35:15 -0400
nebbiolo1Linux (Ubuntu 20.04.2 LTS) / x86_64  OK    OK    OK  UNNEEDED, same version is already published
tokay2Windows Server 2012 R2 Standard / x64  OK    OK    OK    OK  UNNEEDED, same version is already published
machv2macOS 10.14.6 Mojave / x86_64  OK    OK    OK    OK  UNNEEDED, same version is already published
Package 35/192HostnameOS / ArchINSTALLBUILDCHECKBUILD BIN
compEpiTools 1.26.0  (landing page)
Kamal Kishore
git_last_commit: cefdb04
git_last_commit_date: 2021-05-19 12:06:54 -0400
nebbiolo1Linux (Ubuntu 20.04.2 LTS) / x86_64  OK    OK    OK  UNNEEDED, same version is already published
tokay2Windows Server 2012 R2 Standard / x64  OK    OK    OK    OK  UNNEEDED, same version is already published
machv2macOS 10.14.6 Mojave / x86_64  OK    OK    OK    OK  UNNEEDED, same version is already published
Package 36/192HostnameOS / ArchINSTALLBUILDCHECKBUILD BIN
conclus 1.0.0  (landing page)
Ilyess Rachedi
git_last_commit: 1336595
git_last_commit_date: 2021-05-19 13:01:43 -0400
nebbiolo1Linux (Ubuntu 20.04.2 LTS) / x86_64  OK    OK    OK  UNNEEDED, same version is already published
tokay2Windows Server 2012 R2 Standard / x64  OK    OK    ERROR    OK  
machv2macOS 10.14.6 Mojave / x86_64  OK    OK    OK    OK  UNNEEDED, same version is already published
Package 37/192HostnameOS / ArchINSTALLBUILDCHECKBUILD BIN
consensusDE 1.10.0  (landing page)
Ashley J. Waardenberg
git_last_commit: 1b434d7
git_last_commit_date: 2021-05-19 12:39:09 -0400
nebbiolo1Linux (Ubuntu 20.04.2 LTS) / x86_64  OK    OK    OK  UNNEEDED, same version is already published
tokay2Windows Server 2012 R2 Standard / x64  OK    OK    OK    OK  UNNEEDED, same version is already published
machv2macOS 10.14.6 Mojave / x86_64  OK    OK    OK    OK  UNNEEDED, same version is already published
Package 38/192HostnameOS / ArchINSTALLBUILDCHECKBUILD BIN
cosmosR 1.0.1  (landing page)
Katharina Zirngibl
git_last_commit: 6d16ee7
git_last_commit_date: 2021-06-22 08:43:44 -0400
nebbiolo1Linux (Ubuntu 20.04.2 LTS) / x86_64  OK    OK    OK  UNNEEDED, same version is already published
tokay2Windows Server 2012 R2 Standard / x64  OK    OK    OK    OK  UNNEEDED, same version is already published
machv2macOS 10.14.6 Mojave / x86_64  OK    OK    OK    OK  UNNEEDED, same version is already published
Package 39/192HostnameOS / ArchINSTALLBUILDCHECKBUILD BIN
crisprseekplus 1.18.0  (landing page)
Alper Kucukural
git_last_commit: bd34985
git_last_commit_date: 2021-05-19 12:23:59 -0400
nebbiolo1Linux (Ubuntu 20.04.2 LTS) / x86_64  OK    OK    OK  UNNEEDED, same version is already published
tokay2Windows Server 2012 R2 Standard / x64  OK    OK    OK    OK  UNNEEDED, same version is already published
machv2macOS 10.14.6 Mojave / x86_64  OK    OK    OK    OK  UNNEEDED, same version is already published
Package 40/192HostnameOS / ArchINSTALLBUILDCHECKBUILD BIN
CrispRVariants 1.20.0  (landing page)
Helen Lindsay
git_last_commit: 6789cce
git_last_commit_date: 2021-05-19 12:17:13 -0400
nebbiolo1Linux (Ubuntu 20.04.2 LTS) / x86_64  OK    OK    WARNINGS  UNNEEDED, same version is already published
tokay2Windows Server 2012 R2 Standard / x64  OK    OK    WARNINGS    OK  UNNEEDED, same version is already published
machv2macOS 10.14.6 Mojave / x86_64  OK    OK    WARNINGS    OK  UNNEEDED, same version is already published
Package 41/192HostnameOS / ArchINSTALLBUILDCHECKBUILD BIN
crossmeta 1.18.0  (landing page)
Alex Pickering
git_last_commit: 8e42dd1
git_last_commit_date: 2021-05-19 12:21:08 -0400
nebbiolo1Linux (Ubuntu 20.04.2 LTS) / x86_64  OK    OK    WARNINGS  UNNEEDED, same version is already published
tokay2Windows Server 2012 R2 Standard / x64  OK    OK    WARNINGS    OK  UNNEEDED, same version is already published
machv2macOS 10.14.6 Mojave / x86_64  OK    OK    WARNINGS    OK  UNNEEDED, same version is already published
Package 42/192HostnameOS / ArchINSTALLBUILDCHECKBUILD BIN
customProDB 1.32.0  (landing page)
Xiaojing Wang
git_last_commit: 6c740d6
git_last_commit_date: 2021-05-19 11:59:12 -0400
nebbiolo1Linux (Ubuntu 20.04.2 LTS) / x86_64  OK    OK    OK  UNNEEDED, same version is already published
tokay2Windows Server 2012 R2 Standard / x64  OK    OK    OK    OK  UNNEEDED, same version is already published
machv2macOS 10.14.6 Mojave / x86_64  OK    OK    OK    OK  UNNEEDED, same version is already published
Package 43/192HostnameOS / ArchINSTALLBUILDCHECKBUILD BIN
DAPAR 1.24.8  (landing page)
Samuel Wieczorek
git_last_commit: 9faf177
git_last_commit_date: 2021-09-01 02:34:05 -0400
nebbiolo1Linux (Ubuntu 20.04.2 LTS) / x86_64  OK    OK    OK  UNNEEDED, same version is already published
tokay2Windows Server 2012 R2 Standard / x64  OK    OK    OK    OK  UNNEEDED, same version is already published
machv2macOS 10.14.6 Mojave / x86_64  OK    OK    OK    OK  UNNEEDED, same version is already published
Package 44/192HostnameOS / ArchINSTALLBUILDCHECKBUILD BIN
debrowser 1.20.1  (landing page)
Alper Kucukural
git_last_commit: 3379462
git_last_commit_date: 2021-08-11 22:11:22 -0400
nebbiolo1Linux (Ubuntu 20.04.2 LTS) / x86_64  OK    OK    OK  UNNEEDED, same version is already published
tokay2Windows Server 2012 R2 Standard / x64  OK    OK    OK    OK  UNNEEDED, same version is already published
machv2macOS 10.14.6 Mojave / x86_64  OK    OK    OK    OK  UNNEEDED, same version is already published
Package 45/192HostnameOS / ArchINSTALLBUILDCHECKBUILD BIN
deco 1.8.0  (landing page)
Francisco Jose Campos Laborie
git_last_commit: b3606bb
git_last_commit_date: 2021-05-19 12:40:07 -0400
nebbiolo1Linux (Ubuntu 20.04.2 LTS) / x86_64  OK    OK    WARNINGS  UNNEEDED, same version is already published
tokay2Windows Server 2012 R2 Standard / x64  OK    OK    WARNINGS    OK  UNNEEDED, same version is already published
machv2macOS 10.14.6 Mojave / x86_64  OK    OK    WARNINGS    OK  UNNEEDED, same version is already published
Package 46/192HostnameOS / ArchINSTALLBUILDCHECKBUILD BIN
derfinder 1.26.0  (landing page)
Leonardo Collado-Torres
git_last_commit: 7fc343a
git_last_commit_date: 2021-05-19 12:08:08 -0400
nebbiolo1Linux (Ubuntu 20.04.2 LTS) / x86_64  OK    OK    OK  UNNEEDED, same version is already published
tokay2Windows Server 2012 R2 Standard / x64  OK    OK    OK    OK  UNNEEDED, same version is already published
machv2macOS 10.14.6 Mojave / x86_64  OK    OK    OK    OK  UNNEEDED, same version is already published
Package 47/192HostnameOS / ArchINSTALLBUILDCHECKBUILD BIN
DEXSeq 1.38.0  (landing page)
Alejandro Reyes
git_last_commit: 62dc651
git_last_commit_date: 2021-05-19 11:48:55 -0400
nebbiolo1Linux (Ubuntu 20.04.2 LTS) / x86_64  OK    OK    OK  UNNEEDED, same version is already published
tokay2Windows Server 2012 R2 Standard / x64  OK    OK    OK    OK  UNNEEDED, same version is already published
machv2macOS 10.14.6 Mojave / x86_64  OK    OK    OK    OK  UNNEEDED, same version is already published
Package 48/192HostnameOS / ArchINSTALLBUILDCHECKBUILD BIN
DominoEffect 1.12.0  (landing page)
Marija Buljan
git_last_commit: bce8fe8
git_last_commit_date: 2021-05-19 12:33:35 -0400
nebbiolo1Linux (Ubuntu 20.04.2 LTS) / x86_64  OK    OK    OK  UNNEEDED, same version is already published
tokay2Windows Server 2012 R2 Standard / x64  OK    OK    OK    OK  UNNEEDED, same version is already published
machv2macOS 10.14.6 Mojave / x86_64  OK    OK    OK    OK  UNNEEDED, same version is already published
Package 49/192HostnameOS / ArchINSTALLBUILDCHECKBUILD BIN
DOSE 3.18.3  (landing page)
Guangchuang Yu
git_last_commit: f01fef4
git_last_commit_date: 2021-09-30 06:10:18 -0400
nebbiolo1Linux (Ubuntu 20.04.2 LTS) / x86_64  OK    OK    OK  UNNEEDED, same version is already published
tokay2Windows Server 2012 R2 Standard / x64  OK    OK    OK    OK  UNNEEDED, same version is already published
machv2macOS 10.14.6 Mojave / x86_64  OK    OK    OK    OK  UNNEEDED, same version is already published
Package 50/192HostnameOS / ArchINSTALLBUILDCHECKBUILD BIN
EDASeq 2.26.1  (landing page)
Davide Risso
git_last_commit: 49df07d
git_last_commit_date: 2021-06-18 04:56:09 -0400
nebbiolo1Linux (Ubuntu 20.04.2 LTS) / x86_64  OK    OK    OK  UNNEEDED, same version is already published
tokay2Windows Server 2012 R2 Standard / x64  OK    OK    OK    OK  UNNEEDED, same version is already published
machv2macOS 10.14.6 Mojave / x86_64  OK    OK    OK    OK  UNNEEDED, same version is already published
Package 51/192HostnameOS / ArchINSTALLBUILDCHECKBUILD BIN
eegc 1.18.0  (landing page)
Xiaoyuan Zhou
git_last_commit: d0acc6a
git_last_commit_date: 2021-05-19 12:22:38 -0400
nebbiolo1Linux (Ubuntu 20.04.2 LTS) / x86_64  OK    OK    WARNINGS  UNNEEDED, same version is already published
tokay2Windows Server 2012 R2 Standard / x64  OK    OK    WARNINGS    OK  UNNEEDED, same version is already published
machv2macOS 10.14.6 Mojave / x86_64  OK    OK    WARNINGS    OK  UNNEEDED, same version is already published
Package 52/192HostnameOS / ArchINSTALLBUILDCHECKBUILD BIN
EGSEA 1.20.0  (landing page)
Monther Alhamdoosh
git_last_commit: 77593a7
git_last_commit_date: 2021-05-19 12:20:22 -0400
nebbiolo1Linux (Ubuntu 20.04.2 LTS) / x86_64  OK    OK    OK  UNNEEDED, same version is already published
tokay2Windows Server 2012 R2 Standard / x64  OK    OK    OK    OK  UNNEEDED, same version is already published
machv2macOS 10.14.6 Mojave / x86_64  OK    OK    OK    OK  UNNEEDED, same version is already published
Package 53/192HostnameOS / ArchINSTALLBUILDCHECKBUILD BIN
eisa 1.44.0  (landing page)
Gabor Csardi
git_last_commit: 1bb635e
git_last_commit_date: 2021-05-19 11:44:27 -0400
nebbiolo1Linux (Ubuntu 20.04.2 LTS) / x86_64  OK    OK    ERROR  
tokay2Windows Server 2012 R2 Standard / x64  OK    OK    ERROR    OK  
machv2macOS 10.14.6 Mojave / x86_64  OK    OK    ERROR    OK  
Package 54/192HostnameOS / ArchINSTALLBUILDCHECKBUILD BIN
EnrichmentBrowser 2.22.2  (landing page)
Ludwig Geistlinger
git_last_commit: e3ba414
git_last_commit_date: 2021-07-21 08:44:59 -0400
nebbiolo1Linux (Ubuntu 20.04.2 LTS) / x86_64  OK    OK    OK  UNNEEDED, same version is already published
tokay2Windows Server 2012 R2 Standard / x64  OK    OK    OK    OK  UNNEEDED, same version is already published
machv2macOS 10.14.6 Mojave / x86_64  OK    OK    OK    OK  UNNEEDED, same version is already published
Package 55/192HostnameOS / ArchINSTALLBUILDCHECKBUILD BIN
ensembldb 2.16.4  (landing page)
Johannes Rainer
git_last_commit: 130dbcc
git_last_commit_date: 2021-08-04 10:18:05 -0400
nebbiolo1Linux (Ubuntu 20.04.2 LTS) / x86_64  OK    OK    OK  UNNEEDED, same version is already published
tokay2Windows Server 2012 R2 Standard / x64  OK    OK    OK    OK  UNNEEDED, same version is already published
machv2macOS 10.14.6 Mojave / x86_64  OK    OK    OK    OK  UNNEEDED, same version is already published
Package 56/192HostnameOS / ArchINSTALLBUILDCHECKBUILD BIN
EpiTxDb 1.4.0  (landing page)
Felix G.M. Ernst
git_last_commit: 14681e3
git_last_commit_date: 2021-05-19 12:50:24 -0400
nebbiolo1Linux (Ubuntu 20.04.2 LTS) / x86_64  OK    OK    OK  UNNEEDED, same version is already published
tokay2Windows Server 2012 R2 Standard / x64  OK    OK    OK    OK  UNNEEDED, same version is already published
machv2macOS 10.14.6 Mojave / x86_64  OK    OK    OK    OK  UNNEEDED, same version is already published
Package 57/192HostnameOS / ArchINSTALLBUILDCHECKBUILD BIN
erma 1.8.0  (landing page)
VJ Carey
git_last_commit: 6958ee9
git_last_commit_date: 2021-05-19 12:14:10 -0400
nebbiolo1Linux (Ubuntu 20.04.2 LTS) / x86_64  OK    OK    OK  UNNEEDED, same version is already published
tokay2Windows Server 2012 R2 Standard / x64  OK    OK    OK    OK  UNNEEDED, same version is already published
machv2macOS 10.14.6 Mojave / x86_64  OK    OK    OK    OK  UNNEEDED, same version is already published
Package 58/192HostnameOS / ArchINSTALLBUILDCHECKBUILD BIN
esATAC 1.14.0  (landing page)
Zheng Wei
git_last_commit: 2939dd0
git_last_commit_date: 2021-05-19 12:31:59 -0400
nebbiolo1Linux (Ubuntu 20.04.2 LTS) / x86_64  OK    OK    WARNINGS  UNNEEDED, same version is already published
tokay2Windows Server 2012 R2 Standard / x64  OK    OK    WARNINGS    OK  UNNEEDED, same version is already published
machv2macOS 10.14.6 Mojave / x86_64  OK    OK    WARNINGS    OK  UNNEEDED, same version is already published
Package 59/192HostnameOS / ArchINSTALLBUILDCHECKBUILD BIN
ExpressionView 1.44.0  (landing page)
Gabor Csardi
git_last_commit: 29190eb
git_last_commit_date: 2021-05-19 11:45:10 -0400
nebbiolo1Linux (Ubuntu 20.04.2 LTS) / x86_64  ERROR    ERROR  skipped
tokay2Windows Server 2012 R2 Standard / x64  ERROR    ERROR  skippedskipped
machv2macOS 10.14.6 Mojave / x86_64  ERROR    ERROR  skippedskipped
Package 60/192HostnameOS / ArchINSTALLBUILDCHECKBUILD BIN
FRASER 1.4.0  (landing page)
Christian Mertes
git_last_commit: 926f313
git_last_commit_date: 2021-05-19 12:51:54 -0400
nebbiolo1Linux (Ubuntu 20.04.2 LTS) / x86_64  OK    OK    OK  UNNEEDED, same version is already published
tokay2Windows Server 2012 R2 Standard / x64  OK    OK    OK    OK  UNNEEDED, same version is already published
machv2macOS 10.14.6 Mojave / x86_64  OK    OK    OK    OK  UNNEEDED, same version is already published
Package 61/192HostnameOS / ArchINSTALLBUILDCHECKBUILD BIN
GA4GHshiny 1.14.0  (landing page)
Welliton Souza
git_last_commit: 8c2cb31
git_last_commit_date: 2021-05-19 12:27:58 -0400
nebbiolo1Linux (Ubuntu 20.04.2 LTS) / x86_64  OK    OK    OK  UNNEEDED, same version is already published
tokay2Windows Server 2012 R2 Standard / x64  OK    OK    OK    OK  UNNEEDED, same version is already published
machv2macOS 10.14.6 Mojave / x86_64  OK    OK    OK    OK  UNNEEDED, same version is already published
Package 62/192HostnameOS / ArchINSTALLBUILDCHECKBUILD BIN
gage 2.42.0  (landing page)
Weijun Luo
git_last_commit: 8b222d6
git_last_commit_date: 2021-05-19 11:46:29 -0400
nebbiolo1Linux (Ubuntu 20.04.2 LTS) / x86_64  OK    OK    WARNINGS  UNNEEDED, same version is already published
tokay2Windows Server 2012 R2 Standard / x64  OK    OK    WARNINGS    OK  UNNEEDED, same version is already published
machv2macOS 10.14.6 Mojave / x86_64  OK    OK    WARNINGS    OK  UNNEEDED, same version is already published
Package 63/192HostnameOS / ArchINSTALLBUILDCHECKBUILD BIN
GAPGOM 1.8.0  (landing page)
Rezvan Ehsani
git_last_commit: e8e35ed
git_last_commit_date: 2021-05-19 12:40:41 -0400
nebbiolo1Linux (Ubuntu 20.04.2 LTS) / x86_64  OK    OK    OK  UNNEEDED, same version is already published
tokay2Windows Server 2012 R2 Standard / x64  OK    OK    OK    OK  UNNEEDED, same version is already published
machv2macOS 10.14.6 Mojave / x86_64  OK    OK    OK    OK  UNNEEDED, same version is already published
Package 64/192HostnameOS / ArchINSTALLBUILDCHECKBUILD BIN
genefilter 1.74.1  (landing page)
Bioconductor Package Maintainer
git_last_commit: 3ca5b57
git_last_commit_date: 2021-08-19 18:03:39 -0400
nebbiolo1Linux (Ubuntu 20.04.2 LTS) / x86_64  OK    OK    WARNINGS  UNNEEDED, same version is already published
tokay2Windows Server 2012 R2 Standard / x64  OK    OK    WARNINGS    OK  UNNEEDED, same version is already published
machv2macOS 10.14.6 Mojave / x86_64  OK    OK    OK    OK  UNNEEDED, same version is already published
Package 65/192HostnameOS / ArchINSTALLBUILDCHECKBUILD BIN
geneplotter 1.70.0  (landing page)
Bioconductor Package Maintainer
git_last_commit: ca484d3
git_last_commit_date: 2021-05-19 11:32:40 -0400
nebbiolo1Linux (Ubuntu 20.04.2 LTS) / x86_64  OK    OK    OK  UNNEEDED, same version is already published
tokay2Windows Server 2012 R2 Standard / x64  OK    OK    OK    OK  UNNEEDED, same version is already published
machv2macOS 10.14.6 Mojave / x86_64  OK    OK    OK    OK  UNNEEDED, same version is already published
Package 66/192HostnameOS / ArchINSTALLBUILDCHECKBUILD BIN
GeneTonic 1.4.1  (landing page)
Federico Marini
git_last_commit: 32c4e77
git_last_commit_date: 2021-06-04 17:41:55 -0400
nebbiolo1Linux (Ubuntu 20.04.2 LTS) / x86_64  OK    OK    OK  UNNEEDED, same version is already published
tokay2Windows Server 2012 R2 Standard / x64  OK    OK    OK    OK  UNNEEDED, same version is already published
machv2macOS 10.14.6 Mojave / x86_64  OK    OK    OK    OK  UNNEEDED, same version is already published
Package 67/192HostnameOS / ArchINSTALLBUILDCHECKBUILD BIN
geneXtendeR 1.18.0  (landing page)
Bohdan Khomtchouk
git_last_commit: 5f7ff0e
git_last_commit_date: 2021-05-19 12:23:33 -0400
nebbiolo1Linux (Ubuntu 20.04.2 LTS) / x86_64  OK    OK    WARNINGS  UNNEEDED, same version is already published
tokay2Windows Server 2012 R2 Standard / x64  OK    OK    ERROR    OK  
machv2macOS 10.14.6 Mojave / x86_64  OK    OK    WARNINGS    OK  UNNEEDED, same version is already published
Package 68/192HostnameOS / ArchINSTALLBUILDCHECKBUILD BIN
GenomicFeatures 1.44.2  (landing page)
Bioconductor Package Maintainer
git_last_commit: 49566bc
git_last_commit_date: 2021-08-26 00:53:36 -0400
nebbiolo1Linux (Ubuntu 20.04.2 LTS) / x86_64  OK    OK    WARNINGS  UNNEEDED, same version is already published
tokay2Windows Server 2012 R2 Standard / x64  OK    OK    WARNINGS    OK  UNNEEDED, same version is already published
machv2macOS 10.14.6 Mojave / x86_64  OK    OK    WARNINGS    OK  UNNEEDED, same version is already published
Package 69/192HostnameOS / ArchINSTALLBUILDCHECKBUILD BIN
GenVisR 1.24.0  (landing page)
Zachary Skidmore
git_last_commit: 3b6abcf
git_last_commit_date: 2021-05-19 12:17:38 -0400
nebbiolo1Linux (Ubuntu 20.04.2 LTS) / x86_64  OK    OK    ERROR  
tokay2Windows Server 2012 R2 Standard / x64  OK    OK    OK    OK  UNNEEDED, same version is already published
machv2macOS 10.14.6 Mojave / x86_64  OK    OK    OK    OK  UNNEEDED, same version is already published
Package 70/192HostnameOS / ArchINSTALLBUILDCHECKBUILD BIN
ggbio 1.40.0  (landing page)
Michael Lawrence
git_last_commit: c084632
git_last_commit_date: 2021-05-19 11:50:29 -0400
nebbiolo1Linux (Ubuntu 20.04.2 LTS) / x86_64  OK    OK    WARNINGS  UNNEEDED, same version is already published
tokay2Windows Server 2012 R2 Standard / x64  OK    OK    WARNINGS    OK  UNNEEDED, same version is already published
machv2macOS 10.14.6 Mojave / x86_64  OK    OK    WARNINGS    OK  UNNEEDED, same version is already published
Package 71/192HostnameOS / ArchINSTALLBUILDCHECKBUILD BIN
GlobalAncova 4.10.0  (landing page)
Manuela Hummel
git_last_commit: 4854ac8
git_last_commit_date: 2021-05-19 11:36:25 -0400
nebbiolo1Linux (Ubuntu 20.04.2 LTS) / x86_64  OK    OK    OK  UNNEEDED, same version is already published
tokay2Windows Server 2012 R2 Standard / x64  OK    OK    OK    OK  UNNEEDED, same version is already published
machv2macOS 10.14.6 Mojave / x86_64  OK    OK    OK    OK  UNNEEDED, same version is already published
Package 72/192HostnameOS / ArchINSTALLBUILDCHECKBUILD BIN
globaltest 5.46.0  (landing page)
Jelle Goeman
git_last_commit: 8595301
git_last_commit_date: 2021-05-19 11:34:38 -0400
nebbiolo1Linux (Ubuntu 20.04.2 LTS) / x86_64  OK    OK    OK  UNNEEDED, same version is already published
tokay2Windows Server 2012 R2 Standard / x64  OK    OK    OK    OK  UNNEEDED, same version is already published
machv2macOS 10.14.6 Mojave / x86_64  OK    OK    OK    OK  UNNEEDED, same version is already published
Package 73/192HostnameOS / ArchINSTALLBUILDCHECKBUILD BIN
GmicR 1.6.0  (landing page)
Richard Virgen-Slane
git_last_commit: 1f79941
git_last_commit_date: 2021-05-19 12:46:39 -0400
nebbiolo1Linux (Ubuntu 20.04.2 LTS) / x86_64  OK    OK    OK  UNNEEDED, same version is already published
tokay2Windows Server 2012 R2 Standard / x64  OK    OK    OK    OK  UNNEEDED, same version is already published
machv2macOS 10.14.6 Mojave / x86_64  OK    OK    OK    OK  UNNEEDED, same version is already published
Package 74/192HostnameOS / ArchINSTALLBUILDCHECKBUILD BIN
GOfuncR 1.12.0  (landing page)
Steffi Grote
git_last_commit: 5a31fd1
git_last_commit_date: 2021-05-19 12:32:17 -0400
nebbiolo1Linux (Ubuntu 20.04.2 LTS) / x86_64  OK    OK    OK  UNNEEDED, same version is already published
tokay2Windows Server 2012 R2 Standard / x64  OK    OK    OK    OK  UNNEEDED, same version is already published
machv2macOS 10.14.6 Mojave / x86_64  OK    OK    OK    OK  UNNEEDED, same version is already published
Package 75/192HostnameOS / ArchINSTALLBUILDCHECKBUILD BIN
GOpro 1.18.0  (landing page)
Lidia Chrabaszcz
git_last_commit: b5688fa
git_last_commit_date: 2021-05-19 12:23:21 -0400
nebbiolo1Linux (Ubuntu 20.04.2 LTS) / x86_64  OK    OK    WARNINGS  UNNEEDED, same version is already published
tokay2Windows Server 2012 R2 Standard / x64  OK    OK    WARNINGS    OK  UNNEEDED, same version is already published
machv2macOS 10.14.6 Mojave / x86_64  OK    OK    WARNINGS    OK  UNNEEDED, same version is already published
Package 76/192HostnameOS / ArchINSTALLBUILDCHECKBUILD BIN
goProfiles 1.54.0  (landing page)
Alex Sanchez
git_last_commit: df63e70
git_last_commit_date: 2021-05-19 11:40:49 -0400
nebbiolo1Linux (Ubuntu 20.04.2 LTS) / x86_64  OK    OK    OK  UNNEEDED, same version is already published
tokay2Windows Server 2012 R2 Standard / x64  OK    OK    OK    OK  UNNEEDED, same version is already published
machv2macOS 10.14.6 Mojave / x86_64  OK    OK    OK    OK  UNNEEDED, same version is already published
Package 77/192HostnameOS / ArchINSTALLBUILDCHECKBUILD BIN
GOSemSim 2.18.1  (landing page)
Guangchuang Yu
git_last_commit: d2edfc5
git_last_commit_date: 2021-07-28 02:59:58 -0400
nebbiolo1Linux (Ubuntu 20.04.2 LTS) / x86_64  OK    OK    OK  UNNEEDED, same version is already published
tokay2Windows Server 2012 R2 Standard / x64  OK    OK    OK    OK  UNNEEDED, same version is already published
machv2macOS 10.14.6 Mojave / x86_64  OK    OK    OK    OK  UNNEEDED, same version is already published
Package 78/192HostnameOS / ArchINSTALLBUILDCHECKBUILD BIN
goseq 1.44.0  (landing page)
Matthew Young , Nadia Davidson
git_last_commit: 4868dfb
git_last_commit_date: 2021-05-19 11:45:16 -0400
nebbiolo1Linux (Ubuntu 20.04.2 LTS) / x86_64  OK    OK    OK  UNNEEDED, same version is already published
tokay2Windows Server 2012 R2 Standard / x64  OK    OK    OK    OK  UNNEEDED, same version is already published
machv2macOS 10.14.6 Mojave / x86_64  OK    OK    OK    OK  UNNEEDED, same version is already published
Package 79/192HostnameOS / ArchINSTALLBUILDCHECKBUILD BIN
GOSim 1.30.0  (landing page)
Holger Froehlich
git_last_commit: cd2c2c0
git_last_commit_date: 2021-05-19 12:00:43 -0400
nebbiolo1Linux (Ubuntu 20.04.2 LTS) / x86_64  OK    OK    OK  UNNEEDED, same version is already published
tokay2Windows Server 2012 R2 Standard / x64  OK    OK    OK    OK  UNNEEDED, same version is already published
machv2macOS 10.14.6 Mojave / x86_64  OK    OK    OK    OK  UNNEEDED, same version is already published
Package 80/192HostnameOS / ArchINSTALLBUILDCHECKBUILD BIN
goSTAG 1.16.0  (landing page)
Brian D. Bennett
git_last_commit: 01e14e9
git_last_commit_date: 2021-05-19 12:25:30 -0400
nebbiolo1Linux (Ubuntu 20.04.2 LTS) / x86_64  OK    OK    OK  UNNEEDED, same version is already published
tokay2Windows Server 2012 R2 Standard / x64  OK    OK    OK    OK  UNNEEDED, same version is already published
machv2macOS 10.14.6 Mojave / x86_64  OK    OK    OK    OK  UNNEEDED, same version is already published
Package 81/192HostnameOS / ArchINSTALLBUILDCHECKBUILD BIN
GOstats 2.58.0  (landing page)
Bioconductor Package Maintainer
git_last_commit: d3406a6
git_last_commit_date: 2021-05-19 11:34:28 -0400
nebbiolo1Linux (Ubuntu 20.04.2 LTS) / x86_64  OK    OK    OK  UNNEEDED, same version is already published
tokay2Windows Server 2012 R2 Standard / x64  OK    OK    OK    OK  UNNEEDED, same version is already published
machv2macOS 10.14.6 Mojave / x86_64  OK    OK    OK    OK  UNNEEDED, same version is already published
Package 82/192HostnameOS / ArchINSTALLBUILDCHECKBUILD BIN
goTools 1.66.0  (landing page)
Agnes Paquet
git_last_commit: cc7fafe
git_last_commit_date: 2021-05-19 11:34:14 -0400
nebbiolo1Linux (Ubuntu 20.04.2 LTS) / x86_64  OK    OK    OK  UNNEEDED, same version is already published
tokay2Windows Server 2012 R2 Standard / x64  OK    OK    OK    OK  UNNEEDED, same version is already published
machv2macOS 10.14.6 Mojave / x86_64  OK    OK    OK    OK  UNNEEDED, same version is already published
Package 83/192HostnameOS / ArchINSTALLBUILDCHECKBUILD BIN
gpart 1.10.0  (landing page)
Sun Ah Kim
git_last_commit: 39e0086
git_last_commit_date: 2021-05-19 12:38:06 -0400
nebbiolo1Linux (Ubuntu 20.04.2 LTS) / x86_64  OK    OK    OK  UNNEEDED, same version is already published
tokay2Windows Server 2012 R2 Standard / x64  OK    OK    OK    OK  UNNEEDED, same version is already published
machv2macOS 10.14.6 Mojave / x86_64  OK    OK    OK    OK  UNNEEDED, same version is already published
Package 84/192HostnameOS / ArchINSTALLBUILDCHECKBUILD BIN
graphite 1.38.0  (landing page)
Gabriele Sales
git_last_commit: 7517460
git_last_commit_date: 2021-05-19 11:49:41 -0400
nebbiolo1Linux (Ubuntu 20.04.2 LTS) / x86_64  OK    OK    OK  UNNEEDED, same version is already published
tokay2Windows Server 2012 R2 Standard / x64  OK    OK    OK    OK  UNNEEDED, same version is already published
machv2macOS 10.14.6 Mojave / x86_64  OK    OK    OK    OK  UNNEEDED, same version is already published
Package 85/192HostnameOS / ArchINSTALLBUILDCHECKBUILD BIN
GSEABase 1.54.0  (landing page)
Bioconductor Package Maintainer
git_last_commit: 5b59f70
git_last_commit_date: 2021-05-19 11:39:15 -0400
nebbiolo1Linux (Ubuntu 20.04.2 LTS) / x86_64  OK    OK    OK  UNNEEDED, same version is already published
tokay2Windows Server 2012 R2 Standard / x64  OK    OK    OK    OK  UNNEEDED, same version is already published
machv2macOS 10.14.6 Mojave / x86_64  OK    OK    OK    OK  UNNEEDED, same version is already published
Package 86/192HostnameOS / ArchINSTALLBUILDCHECKBUILD BIN
GSEABenchmarkeR 1.12.1  (landing page)
Ludwig Geistlinger
git_last_commit: 06d448c
git_last_commit_date: 2021-07-16 17:21:02 -0400
nebbiolo1Linux (Ubuntu 20.04.2 LTS) / x86_64  OK    OK    OK  UNNEEDED, same version is already published
tokay2Windows Server 2012 R2 Standard / x64  OK    OK    OK    OK  UNNEEDED, same version is already published
machv2macOS 10.14.6 Mojave / x86_64  OK    OK    OK    OK  UNNEEDED, same version is already published
Package 87/192HostnameOS / ArchINSTALLBUILDCHECKBUILD BIN
GSReg 1.26.0  (landing page)
Bahman Afsari , Elana J. Fertig
git_last_commit: f0f3ac7
git_last_commit_date: 2021-05-19 12:06:07 -0400
nebbiolo1Linux (Ubuntu 20.04.2 LTS) / x86_64  OK    OK    WARNINGS  UNNEEDED, same version is already published
tokay2Windows Server 2012 R2 Standard / x64  OK    OK    WARNINGS    OK  UNNEEDED, same version is already published
machv2macOS 10.14.6 Mojave / x86_64  OK    OK    WARNINGS    OK  UNNEEDED, same version is already published
Package 88/192HostnameOS / ArchINSTALLBUILDCHECKBUILD BIN
Guitar 2.8.0  (landing page)
Jia Meng
git_last_commit: c233129
git_last_commit_date: 2021-05-19 12:15:47 -0400
nebbiolo1Linux (Ubuntu 20.04.2 LTS) / x86_64  OK    OK    OK  UNNEEDED, same version is already published
tokay2Windows Server 2012 R2 Standard / x64  OK    OK    OK    OK  UNNEEDED, same version is already published
machv2macOS 10.14.6 Mojave / x86_64  OK    OK    OK    OK  UNNEEDED, same version is already published
Package 89/192HostnameOS / ArchINSTALLBUILDCHECKBUILD BIN
Gviz 1.36.2  (landing page)
Robert Ivanek
git_last_commit: 742ed80
git_last_commit_date: 2021-07-02 05:34:16 -0400
nebbiolo1Linux (Ubuntu 20.04.2 LTS) / x86_64  OK    OK    OK  UNNEEDED, same version is already published
tokay2Windows Server 2012 R2 Standard / x64  OK    OK    OK    OK  UNNEEDED, same version is already published
machv2macOS 10.14.6 Mojave / x86_64  OK    OK    OK    OK  UNNEEDED, same version is already published
Package 90/192HostnameOS / ArchINSTALLBUILDCHECKBUILD BIN
gwascat 2.24.0  (landing page)
VJ Carey
git_last_commit: d251baa
git_last_commit_date: 2021-05-19 11:51:31 -0400
nebbiolo1Linux (Ubuntu 20.04.2 LTS) / x86_64  OK    OK    OK  UNNEEDED, same version is already published
tokay2Windows Server 2012 R2 Standard / x64  OK    OK    OK    OK  UNNEEDED, same version is already published
machv2macOS 10.14.6 Mojave / x86_64  OK    OK    OK    OK  UNNEEDED, same version is already published
Package 91/192HostnameOS / ArchINSTALLBUILDCHECKBUILD BIN
ideal 1.16.1  (landing page)
Federico Marini
git_last_commit: e898da4
git_last_commit_date: 2021-10-07 06:14:14 -0400
nebbiolo1Linux (Ubuntu 20.04.2 LTS) / x86_64  OK    OK    OK  UNNEEDED, same version is already published
tokay2Windows Server 2012 R2 Standard / x64  OK    OK    OK    OK  UNNEEDED, same version is already published
machv2macOS 10.14.6 Mojave / x86_64  OK    OK    OK    OK  UNNEEDED, same version is already published
Package 92/192HostnameOS / ArchINSTALLBUILDCHECKBUILD BIN
IMAS 1.16.0  (landing page)
Seonggyun Han
git_last_commit: b45a2cb
git_last_commit_date: 2021-05-19 12:27:18 -0400
nebbiolo1Linux (Ubuntu 20.04.2 LTS) / x86_64  OK    OK    OK  UNNEEDED, same version is already published
tokay2Windows Server 2012 R2 Standard / x64  OK    OK    OK    OK  UNNEEDED, same version is already published
machv2macOS 10.14.6 Mojave / x86_64  OK    OK    OK    OK  UNNEEDED, same version is already published
Package 93/192HostnameOS / ArchINSTALLBUILDCHECKBUILD BIN
InPAS 2.0.0  (landing page)
Jianhong Ou
git_last_commit: d402f5c
git_last_commit_date: 2021-05-19 12:12:03 -0400
nebbiolo1Linux (Ubuntu 20.04.2 LTS) / x86_64  OK    OK    OK  UNNEEDED, same version is already published
tokay2Windows Server 2012 R2 Standard / x64  OK    OK    OK    OK  UNNEEDED, same version is already published
machv2macOS 10.14.6 Mojave / x86_64  OK    OK    OK    OK  UNNEEDED, same version is already published
Package 94/192HostnameOS / ArchINSTALLBUILDCHECKBUILD BIN
interactiveDisplay 1.30.0  (landing page)
Shawn Balcome
git_last_commit: 7c9aab4
git_last_commit_date: 2021-05-19 12:01:38 -0400
nebbiolo1Linux (Ubuntu 20.04.2 LTS) / x86_64  OK    OK    WARNINGS  UNNEEDED, same version is already published
tokay2Windows Server 2012 R2 Standard / x64  OK    OK    WARNINGS    OK  UNNEEDED, same version is already published
machv2macOS 10.14.6 Mojave / x86_64  OK    OK    WARNINGS    OK  UNNEEDED, same version is already published
Package 95/192HostnameOS / ArchINSTALLBUILDCHECKBUILD BIN
ipdDb 1.10.0  (landing page)
Steffen Klasberg
git_last_commit: 926b8bd
git_last_commit_date: 2021-05-19 12:36:37 -0400
nebbiolo1Linux (Ubuntu 20.04.2 LTS) / x86_64  OK    OK    OK  UNNEEDED, same version is already published
tokay2Windows Server 2012 R2 Standard / x64  OK    OK    OK    OK  UNNEEDED, same version is already published
machv2macOS 10.14.6 Mojave / x86_64  OK    OK    OK    OK  UNNEEDED, same version is already published
Package 96/192HostnameOS / ArchINSTALLBUILDCHECKBUILD BIN
IRISFGM 1.0.0  (landing page)
Yuzhou Chang
git_last_commit: aacc387
git_last_commit_date: 2021-05-19 12:59:57 -0400
nebbiolo1Linux (Ubuntu 20.04.2 LTS) / x86_64  OK    OK    OK  UNNEEDED, same version is already published
tokay2Windows Server 2012 R2 Standard / x64  OK    OK    OK    OK  UNNEEDED, same version is already published
machv2macOS 10.14.6 Mojave / x86_64  OK    OK    OK    OK  UNNEEDED, same version is already published
Package 97/192HostnameOS / ArchINSTALLBUILDCHECKBUILD BIN
isomiRs 1.20.0  (landing page)
Lorena Pantano
git_last_commit: f09067d
git_last_commit_date: 2021-05-19 12:19:21 -0400
nebbiolo1Linux (Ubuntu 20.04.2 LTS) / x86_64  OK    OK    OK  UNNEEDED, same version is already published
tokay2Windows Server 2012 R2 Standard / x64  OK    OK    OK    OK  UNNEEDED, same version is already published
machv2macOS 10.14.6 Mojave / x86_64  OK    OK    OK    OK  UNNEEDED, same version is already published
Package 98/192HostnameOS / ArchINSTALLBUILDCHECKBUILD BIN
IVAS 2.12.0  (landing page)
Seonggyun Han
git_last_commit: 72bbdb6
git_last_commit_date: 2021-05-19 12:10:52 -0400
nebbiolo1Linux (Ubuntu 20.04.2 LTS) / x86_64  OK    OK    WARNINGS  UNNEEDED, same version is already published
tokay2Windows Server 2012 R2 Standard / x64  OK    OK    WARNINGS    OK  UNNEEDED, same version is already published
machv2macOS 10.14.6 Mojave / x86_64  OK    OK    WARNINGS    OK  UNNEEDED, same version is already published
Package 99/192HostnameOS / ArchINSTALLBUILDCHECKBUILD BIN
karyoploteR 1.18.0  (landing page)
Bernat Gel
git_last_commit: 7dcb80b
git_last_commit_date: 2021-05-19 12:25:36 -0400
nebbiolo1Linux (Ubuntu 20.04.2 LTS) / x86_64  OK    OK    OK  UNNEEDED, same version is already published
tokay2Windows Server 2012 R2 Standard / x64  OK    OK    OK    OK  UNNEEDED, same version is already published
machv2macOS 10.14.6 Mojave / x86_64  OK    OK    OK    OK  UNNEEDED, same version is already published
Package 100/192HostnameOS / ArchINSTALLBUILDCHECKBUILD BIN
KEGGlincs 1.18.0  (landing page)
Shana White , Mario Medvedovic
git_last_commit: 899d372
git_last_commit_date: 2021-05-19 12:23:35 -0400
nebbiolo1Linux (Ubuntu 20.04.2 LTS) / x86_64  OK    OK    OK  UNNEEDED, same version is already published
tokay2Windows Server 2012 R2 Standard / x64  OK    OK    OK    OK  UNNEEDED, same version is already published
machv2macOS 10.14.6 Mojave / x86_64  OK    OK    OK    OK  UNNEEDED, same version is already published
Package 101/192HostnameOS / ArchINSTALLBUILDCHECKBUILD BIN
keggorthology 2.44.0  (landing page)
VJ Carey
git_last_commit: 479043c
git_last_commit_date: 2021-05-19 11:39:23 -0400
nebbiolo1Linux (Ubuntu 20.04.2 LTS) / x86_64  OK    OK    OK  UNNEEDED, same version is already published
tokay2Windows Server 2012 R2 Standard / x64  OK    OK    OK    OK  UNNEEDED, same version is already published
machv2macOS 10.14.6 Mojave / x86_64  OK    OK    OK    OK  UNNEEDED, same version is already published
Package 102/192HostnameOS / ArchINSTALLBUILDCHECKBUILD BIN
KEGGprofile 1.34.0  (landing page)
Shilin Zhao
git_last_commit: ba84540
git_last_commit_date: 2021-05-19 11:52:53 -0400
nebbiolo1Linux (Ubuntu 20.04.2 LTS) / x86_64  ERROR    ERROR  skipped
tokay2Windows Server 2012 R2 Standard / x64  ERROR    ERROR  skippedskipped
machv2macOS 10.14.6 Mojave / x86_64  ERROR    ERROR  skippedskipped
Package 103/192HostnameOS / ArchINSTALLBUILDCHECKBUILD BIN
LRBaseDbi 2.2.0  (landing page)
Koki Tsuyuzaki
git_last_commit: 4c1b2fd
git_last_commit_date: 2021-05-19 12:36:57 -0400
nebbiolo1Linux (Ubuntu 20.04.2 LTS) / x86_64  OK    OK    OK  UNNEEDED, same version is already published
tokay2Windows Server 2012 R2 Standard / x64  OK    OK    OK    OK  UNNEEDED, same version is already published
machv2macOS 10.14.6 Mojave / x86_64  OK    OK    OK    OK  UNNEEDED, same version is already published
Package 104/192HostnameOS / ArchINSTALLBUILDCHECKBUILD BIN
lumi 2.44.0  (landing page)
Lei Huang
git_last_commit: 9783629
git_last_commit_date: 2021-05-19 11:38:35 -0400
nebbiolo1Linux (Ubuntu 20.04.2 LTS) / x86_64  OK    OK    WARNINGS  UNNEEDED, same version is already published
tokay2Windows Server 2012 R2 Standard / x64  OK    OK    WARNINGS    OK  UNNEEDED, same version is already published
machv2macOS 10.14.6 Mojave / x86_64  OK    OK    WARNINGS    OK  UNNEEDED, same version is already published
Package 105/192HostnameOS / ArchINSTALLBUILDCHECKBUILD BIN
mAPKL 1.22.0  (landing page)
Argiris Sakellariou
git_last_commit: 3f87c86
git_last_commit_date: 2021-05-19 12:10:36 -0400
nebbiolo1Linux (Ubuntu 20.04.2 LTS) / x86_64  OK    OK    OK  UNNEEDED, same version is already published
tokay2Windows Server 2012 R2 Standard / x64  OK    OK    OK    OK  UNNEEDED, same version is already published
machv2macOS 10.14.6 Mojave / x86_64  OK    OK    OK    OK  UNNEEDED, same version is already published
Package 106/192HostnameOS / ArchINSTALLBUILDCHECKBUILD BIN
maPredictDSC 1.30.0  (landing page)
Adi Laurentiu Tarca
git_last_commit: 69aac22
git_last_commit_date: 2021-05-19 11:59:26 -0400
nebbiolo1Linux (Ubuntu 20.04.2 LTS) / x86_64  OK    OK    OK  UNNEEDED, same version is already published
tokay2Windows Server 2012 R2 Standard / x64  OK    OK    OK    OK  UNNEEDED, same version is already published
machv2macOS 10.14.6 Mojave / x86_64  OK    OK    OK    OK  UNNEEDED, same version is already published
Package 107/192HostnameOS / ArchINSTALLBUILDCHECKBUILD BIN
MCbiclust 1.16.0  (landing page)
Robert Bentham
git_last_commit: b0ffc3e
git_last_commit_date: 2021-05-19 12:25:43 -0400
nebbiolo1Linux (Ubuntu 20.04.2 LTS) / x86_64  OK    OK    OK  UNNEEDED, same version is already published
tokay2Windows Server 2012 R2 Standard / x64  OK    OK    OK    OK  UNNEEDED, same version is already published
machv2macOS 10.14.6 Mojave / x86_64  OK    OK    OK    OK  UNNEEDED, same version is already published
Package 108/192HostnameOS / ArchINSTALLBUILDCHECKBUILD BIN
mdgsa 1.24.0  (landing page)
David Montaner
git_last_commit: f91687f
git_last_commit_date: 2021-05-19 12:10:12 -0400
nebbiolo1Linux (Ubuntu 20.04.2 LTS) / x86_64  ERROR    ERROR  skipped
tokay2Windows Server 2012 R2 Standard / x64  ERROR    ERROR  skippedskipped
machv2macOS 10.14.6 Mojave / x86_64  ERROR    ERROR  skippedskipped
Package 109/192HostnameOS / ArchINSTALLBUILDCHECKBUILD BIN
MeSHDbi 1.28.0  (landing page)
Koki Tsuyuzaki
git_last_commit: 5e396b6
git_last_commit_date: 2021-05-19 12:04:49 -0400
nebbiolo1Linux (Ubuntu 20.04.2 LTS) / x86_64  OK    OK    OK  UNNEEDED, same version is already published
tokay2Windows Server 2012 R2 Standard / x64  OK    OK    OK    OK  UNNEEDED, same version is already published
machv2macOS 10.14.6 Mojave / x86_64  OK    OK    OK    OK  UNNEEDED, same version is already published
Package 110/192HostnameOS / ArchINSTALLBUILDCHECKBUILD BIN
meshes 1.18.1  (landing page)
Guangchuang Yu
git_last_commit: 0a45118
git_last_commit_date: 2021-08-20 03:35:47 -0400
nebbiolo1Linux (Ubuntu 20.04.2 LTS) / x86_64  OK    OK    OK  UNNEEDED, same version is already published
tokay2Windows Server 2012 R2 Standard / x64  OK    OK    OK    OK  UNNEEDED, same version is already published
machv2macOS 10.14.6 Mojave / x86_64  OK    OK    OK    OK  UNNEEDED, same version is already published
Package 111/192HostnameOS / ArchINSTALLBUILDCHECKBUILD BIN
MesKit 1.2.0  (landing page)
Mengni Liu
git_last_commit: faa3f2a
git_last_commit_date: 2021-05-19 12:54:10 -0400
nebbiolo1Linux (Ubuntu 20.04.2 LTS) / x86_64  OK    OK    OK  UNNEEDED, same version is already published
tokay2Windows Server 2012 R2 Standard / x64  OK    OK    OK    OK  UNNEEDED, same version is already published
machv2macOS 10.14.6 Mojave / x86_64  OK    OK    OK    OK  UNNEEDED, same version is already published
Package 112/192HostnameOS / ArchINSTALLBUILDCHECKBUILD BIN
MetaboSignal 1.22.0  (landing page)
Andrea Rodriguez-Martinez
git_last_commit: b02adbe
git_last_commit_date: 2021-05-19 12:22:49 -0400
nebbiolo1Linux (Ubuntu 20.04.2 LTS) / x86_64  OK    OK    OK  UNNEEDED, same version is already published
tokay2Windows Server 2012 R2 Standard / x64  OK    OK    OK    OK  UNNEEDED, same version is already published
machv2macOS 10.14.6 Mojave / x86_64  OK    OK    OK    OK  UNNEEDED, same version is already published
Package 113/192HostnameOS / ArchINSTALLBUILDCHECKBUILD BIN
methyAnalysis 1.34.0  (landing page)
Lei Huang
git_last_commit: 96aa183
git_last_commit_date: 2021-05-19 11:53:36 -0400
nebbiolo1Linux (Ubuntu 20.04.2 LTS) / x86_64  OK    OK    WARNINGS  UNNEEDED, same version is already published
tokay2Windows Server 2012 R2 Standard / x64... NOT SUPPORTED ...
machv2macOS 10.14.6 Mojave / x86_64  OK    OK    WARNINGS    OK  UNNEEDED, same version is already published
Package 114/192HostnameOS / ArchINSTALLBUILDCHECKBUILD BIN
methylGSA 1.10.0  (landing page)
Xu Ren
git_last_commit: 935072a
git_last_commit_date: 2021-05-19 12:36:39 -0400
nebbiolo1Linux (Ubuntu 20.04.2 LTS) / x86_64  OK    OK    OK  UNNEEDED, same version is already published
tokay2Windows Server 2012 R2 Standard / x64  OK    OK    OK    OK  UNNEEDED, same version is already published
machv2macOS 10.14.6 Mojave / x86_64  OK    OK    OK    OK  UNNEEDED, same version is already published
Package 115/192HostnameOS / ArchINSTALLBUILDCHECKBUILD BIN
methylumi 2.38.0  (landing page)
Sean Davis
git_last_commit: 13b2e06
git_last_commit_date: 2021-05-19 11:43:15 -0400
nebbiolo1Linux (Ubuntu 20.04.2 LTS) / x86_64  OK    OK    WARNINGS  UNNEEDED, same version is already published
tokay2Windows Server 2012 R2 Standard / x64  OK    OK    ERROR    OK  
machv2macOS 10.14.6 Mojave / x86_64  OK    OK    WARNINGS    OK  UNNEEDED, same version is already published
Package 116/192HostnameOS / ArchINSTALLBUILDCHECKBUILD BIN
MGFM 1.26.0  (landing page)
Khadija El Amrani
git_last_commit: c2c218c
git_last_commit_date: 2021-05-19 12:07:48 -0400
nebbiolo1Linux (Ubuntu 20.04.2 LTS) / x86_64  OK    OK    OK  UNNEEDED, same version is already published
tokay2Windows Server 2012 R2 Standard / x64  OK    OK    OK    OK  UNNEEDED, same version is already published
machv2macOS 10.14.6 Mojave / x86_64  OK    OK    OK    OK  UNNEEDED, same version is already published
Package 117/192HostnameOS / ArchINSTALLBUILDCHECKBUILD BIN
MIGSA 1.16.0  (landing page)
Juan C. Rodriguez
git_last_commit: 021bffb
git_last_commit_date: 2021-05-19 12:26:14 -0400
nebbiolo1Linux (Ubuntu 20.04.2 LTS) / x86_64  OK    OK    OK  UNNEEDED, same version is already published
tokay2Windows Server 2012 R2 Standard / x64  OK    OK    ERROR    OK  
machv2macOS 10.14.6 Mojave / x86_64  OK    OK    OK    OK  UNNEEDED, same version is already published
Package 118/192HostnameOS / ArchINSTALLBUILDCHECKBUILD BIN
MineICA 1.32.0  (landing page)
Anne Biton
git_last_commit: def84c7
git_last_commit_date: 2021-05-19 11:57:33 -0400
nebbiolo1Linux (Ubuntu 20.04.2 LTS) / x86_64  OK    OK    WARNINGS  UNNEEDED, same version is already published
tokay2Windows Server 2012 R2 Standard / x64  OK    OK    WARNINGS    OK  UNNEEDED, same version is already published
machv2macOS 10.14.6 Mojave / x86_64  OK    OK    WARNINGS    OK  UNNEEDED, same version is already published
Package 119/192HostnameOS / ArchINSTALLBUILDCHECKBUILD BIN
MiRaGE 1.34.0  (landing page)
Y-h. Taguchi
git_last_commit: 726e7d4
git_last_commit_date: 2021-05-19 11:52:32 -0400
nebbiolo1Linux (Ubuntu 20.04.2 LTS) / x86_64  OK    OK    WARNINGS  UNNEEDED, same version is already published
tokay2Windows Server 2012 R2 Standard / x64  OK    OK    WARNINGS    OK  UNNEEDED, same version is already published
machv2macOS 10.14.6 Mojave / x86_64  OK    OK    WARNINGS    OK  UNNEEDED, same version is already published
Package 120/192HostnameOS / ArchINSTALLBUILDCHECKBUILD BIN
mirIntegrator 1.22.0  (landing page)
Diana Diaz
git_last_commit: 7ce3bbd
git_last_commit_date: 2021-05-19 12:14:07 -0400
nebbiolo1Linux (Ubuntu 20.04.2 LTS) / x86_64  OK    OK    OK  UNNEEDED, same version is already published
tokay2Windows Server 2012 R2 Standard / x64  OK    OK    OK    OK  UNNEEDED, same version is already published
machv2macOS 10.14.6 Mojave / x86_64  OK    OK    OK    OK  UNNEEDED, same version is already published
Package 121/192HostnameOS / ArchINSTALLBUILDCHECKBUILD BIN
miRNAmeConverter 1.20.0  (landing page)
Stefan J. Haunsberger
git_last_commit: bd0599b
git_last_commit_date: 2021-05-19 12:18:36 -0400
nebbiolo1Linux (Ubuntu 20.04.2 LTS) / x86_64  OK    OK    WARNINGS  UNNEEDED, same version is already published
tokay2Windows Server 2012 R2 Standard / x64  OK    OK    WARNINGS    OK  UNNEEDED, same version is already published
machv2macOS 10.14.6 Mojave / x86_64  OK    OK    WARNINGS    OK  UNNEEDED, same version is already published
Package 122/192HostnameOS / ArchINSTALLBUILDCHECKBUILD BIN
miRNAtap 1.26.0  (landing page)
T. Ian Simpson
git_last_commit: 22a41a2
git_last_commit_date: 2021-05-19 12:06:40 -0400
nebbiolo1Linux (Ubuntu 20.04.2 LTS) / x86_64  OK    OK    OK  UNNEEDED, same version is already published
tokay2Windows Server 2012 R2 Standard / x64  OK    OK    OK    OK  UNNEEDED, same version is already published
machv2macOS 10.14.6 Mojave / x86_64  OK    OK    OK    OK  UNNEEDED, same version is already published
Package 123/192HostnameOS / ArchINSTALLBUILDCHECKBUILD BIN
missMethyl 1.26.1  (landing page)
Belinda Phipson
git_last_commit: 3a43a5e
git_last_commit_date: 2021-06-18 03:47:55 -0400
nebbiolo1Linux (Ubuntu 20.04.2 LTS) / x86_64  OK    OK    OK  UNNEEDED, same version is already published
tokay2Windows Server 2012 R2 Standard / x64  OK    OK    OK    OK  NO, package depends on 'methylumi' which is not available
machv2macOS 10.14.6 Mojave / x86_64  OK    OK    OK    OK  UNNEEDED, same version is already published
Package 124/192HostnameOS / ArchINSTALLBUILDCHECKBUILD BIN
MLP 1.40.0  (landing page)
Tobias Verbeke
git_last_commit: 40d425d
git_last_commit_date: 2021-05-19 11:46:51 -0400
nebbiolo1Linux (Ubuntu 20.04.2 LTS) / x86_64  OK    OK    OK  UNNEEDED, same version is already published
tokay2Windows Server 2012 R2 Standard / x64  OK    OK    OK    OK  UNNEEDED, same version is already published
machv2macOS 10.14.6 Mojave / x86_64  OK    OK    OK    OK  UNNEEDED, same version is already published
Package 125/192HostnameOS / ArchINSTALLBUILDCHECKBUILD BIN
MSEADbi 1.2.0  (landing page)
Kozo Nishida
git_last_commit: 79634ad
git_last_commit_date: 2021-05-19 12:57:48 -0400
nebbiolo1Linux (Ubuntu 20.04.2 LTS) / x86_64  OK    OK    WARNINGS  UNNEEDED, same version is already published
tokay2Windows Server 2012 R2 Standard / x64  OK    OK    WARNINGS    OK  UNNEEDED, same version is already published
machv2macOS 10.14.6 Mojave / x86_64  OK    OK    WARNINGS    OK  UNNEEDED, same version is already published
Package 126/192HostnameOS / ArchINSTALLBUILDCHECKBUILD BIN
MSnID 1.26.0  (landing page)
Vlad Petyuk
git_last_commit: 542b32c
git_last_commit_date: 2021-05-19 12:07:42 -0400
nebbiolo1Linux (Ubuntu 20.04.2 LTS) / x86_64  OK    OK    OK  UNNEEDED, same version is already published
tokay2Windows Server 2012 R2 Standard / x64  OK    OK    OK    OK  UNNEEDED, same version is already published
machv2macOS 10.14.6 Mojave / x86_64  OK    OK    OK    OK  UNNEEDED, same version is already published
Package 127/192HostnameOS / ArchINSTALLBUILDCHECKBUILD BIN
multiGSEA 1.2.0  (landing page)
Sebastian Canzler
git_last_commit: db2c0e1
git_last_commit_date: 2021-05-19 12:53:28 -0400
nebbiolo1Linux (Ubuntu 20.04.2 LTS) / x86_64  OK    OK    OK  UNNEEDED, same version is already published
tokay2Windows Server 2012 R2 Standard / x64  OK    OK    OK    OK  UNNEEDED, same version is already published
machv2macOS 10.14.6 Mojave / x86_64  OK    OK    OK    OK  UNNEEDED, same version is already published
Package 128/192HostnameOS / ArchINSTALLBUILDCHECKBUILD BIN
multiMiR 1.14.0  (landing page)
Matt Mulvahill
git_last_commit: 2166ba3
git_last_commit_date: 2021-05-19 12:30:26 -0400
nebbiolo1Linux (Ubuntu 20.04.2 LTS) / x86_64  OK    OK    OK  UNNEEDED, same version is already published
tokay2Windows Server 2012 R2 Standard / x64  OK    OK    OK    OK  UNNEEDED, same version is already published
machv2macOS 10.14.6 Mojave / x86_64  OK    OK    OK    OK  UNNEEDED, same version is already published
Package 129/192HostnameOS / ArchINSTALLBUILDCHECKBUILD BIN
NanoMethViz 1.2.0  (landing page)
Shian Su
git_last_commit: 15c307c
git_last_commit_date: 2021-05-19 12:57:23 -0400
nebbiolo1Linux (Ubuntu 20.04.2 LTS) / x86_64  OK    OK    OK  UNNEEDED, same version is already published
tokay2Windows Server 2012 R2 Standard / x64  OK    ERROR  skippedskipped
machv2macOS 10.14.6 Mojave / x86_64  OK    OK    OK    OK  UNNEEDED, same version is already published
Package 130/192HostnameOS / ArchINSTALLBUILDCHECKBUILD BIN
NanoStringQCPro 1.24.0  (landing page)
Robert Ziman
git_last_commit: 1366855
git_last_commit_date: 2021-05-19 12:12:54 -0400
nebbiolo1Linux (Ubuntu 20.04.2 LTS) / x86_64  OK    OK    OK  UNNEEDED, same version is already published
tokay2Windows Server 2012 R2 Standard / x64  OK    OK    OK    OK  UNNEEDED, same version is already published
machv2macOS 10.14.6 Mojave / x86_64  OK    OK    OK    OK  UNNEEDED, same version is already published
Package 131/192HostnameOS / ArchINSTALLBUILDCHECKBUILD BIN
nanotatoR 1.8.0  (landing page)
Surajit Bhattacharya
git_last_commit: 40f3c9e
git_last_commit_date: 2021-05-19 12:43:28 -0400
nebbiolo1Linux (Ubuntu 20.04.2 LTS) / x86_64  OK    ERROR  skipped
tokay2Windows Server 2012 R2 Standard / x64  OK    ERROR  skippedskipped
machv2macOS 10.14.6 Mojave / x86_64  OK    ERROR  skippedskipped
Package 132/192HostnameOS / ArchINSTALLBUILDCHECKBUILD BIN
NetSAM 1.32.0  (landing page)
Zhiao Shi
git_last_commit: f04aab5
git_last_commit_date: 2021-05-19 11:59:14 -0400
nebbiolo1Linux (Ubuntu 20.04.2 LTS) / x86_64  OK    OK    OK  UNNEEDED, same version is already published
tokay2Windows Server 2012 R2 Standard / x64  OK    OK    ERROR    OK  
machv2macOS 10.14.6 Mojave / x86_64  OK    OK    OK    OK  UNNEEDED, same version is already published
Package 133/192HostnameOS / ArchINSTALLBUILDCHECKBUILD BIN
NoRCE 1.4.0  (landing page)
Gulden Olgun
git_last_commit: 1bfbc5e
git_last_commit_date: 2021-09-27 16:57:20 -0400
nebbiolo1Linux (Ubuntu 20.04.2 LTS) / x86_64  OK    OK    OK  UNNEEDED, same version is already published
tokay2Windows Server 2012 R2 Standard / x64  OK    OK    ERROR    OK  
machv2macOS 10.14.6 Mojave / x86_64  OK    OK    OK    OK  UNNEEDED, same version is already published
Package 134/192HostnameOS / ArchINSTALLBUILDCHECKBUILD BIN
Onassis 1.14.0  (landing page)
Eugenia Galeota
git_last_commit: e143c4b
git_last_commit_date: 2021-05-19 12:29:27 -0400
nebbiolo1Linux (Ubuntu 20.04.2 LTS) / x86_64  ERROR    ERROR  skipped
tokay2Windows Server 2012 R2 Standard / x64  ERROR    ERROR  skippedskipped
machv2macOS 10.14.6 Mojave / x86_64  ERROR    ERROR  skippedskipped
Package 135/192HostnameOS / ArchINSTALLBUILDCHECKBUILD BIN
ontoProc 1.14.0  (landing page)
VJ Carey
git_last_commit: 2ba1033
git_last_commit_date: 2021-05-19 12:31:28 -0400
nebbiolo1Linux (Ubuntu 20.04.2 LTS) / x86_64  OK    OK    OK  UNNEEDED, same version is already published
tokay2Windows Server 2012 R2 Standard / x64  OK    OK    OK    OK  UNNEEDED, same version is already published
machv2macOS 10.14.6 Mojave / x86_64  OK    OK    OK    OK  UNNEEDED, same version is already published
Package 136/192HostnameOS / ArchINSTALLBUILDCHECKBUILD BIN
ORFik 1.12.13  (landing page)
Haakon Tjeldnes
git_last_commit: b86b7a7
git_last_commit_date: 2021-09-29 10:33:24 -0400
nebbiolo1Linux (Ubuntu 20.04.2 LTS) / x86_64  OK    OK    OK  UNNEEDED, same version is already published
tokay2Windows Server 2012 R2 Standard / x64  OK    OK    OK    OK  UNNEEDED, same version is already published
machv2macOS 10.14.6 Mojave / x86_64  OK    OK    OK    OK  UNNEEDED, same version is already published
Package 137/192HostnameOS / ArchINSTALLBUILDCHECKBUILD BIN
Organism.dplyr 1.20.0  (landing page)
Martin Morgan
git_last_commit: 1806248
git_last_commit_date: 2021-05-19 12:26:12 -0400
nebbiolo1Linux (Ubuntu 20.04.2 LTS) / x86_64  OK    OK    OK  UNNEEDED, same version is already published
tokay2Windows Server 2012 R2 Standard / x64  OK    OK    OK    OK  UNNEEDED, same version is already published
machv2macOS 10.14.6 Mojave / x86_64  OK    OK    OK    OK  UNNEEDED, same version is already published
Package 138/192HostnameOS / ArchINSTALLBUILDCHECKBUILD BIN
OrganismDbi 1.34.0  (landing page)
Bioconductor Package Maintainer
git_last_commit: 253c4ae
git_last_commit_date: 2021-05-19 11:53:46 -0400
nebbiolo1Linux (Ubuntu 20.04.2 LTS) / x86_64  OK    OK    WARNINGS  UNNEEDED, same version is already published
tokay2Windows Server 2012 R2 Standard / x64  OK    OK    WARNINGS    OK  UNNEEDED, same version is already published
machv2macOS 10.14.6 Mojave / x86_64  OK    OK    WARNINGS    OK  UNNEEDED, same version is already published
Package 139/192HostnameOS / ArchINSTALLBUILDCHECKBUILD BIN
PADOG 1.34.0  (landing page)
Adi L. Tarca
git_last_commit: 66c89e4
git_last_commit_date: 2021-05-19 11:53:17 -0400
nebbiolo1Linux (Ubuntu 20.04.2 LTS) / x86_64  OK    OK    OK  UNNEEDED, same version is already published
tokay2Windows Server 2012 R2 Standard / x64  OK    OK    OK    OK  UNNEEDED, same version is already published
machv2macOS 10.14.6 Mojave / x86_64  OK    OK    OK    OK  UNNEEDED, same version is already published
Package 140/192HostnameOS / ArchINSTALLBUILDCHECKBUILD BIN
pathRender 1.60.0  (landing page)
Vince Carey
git_last_commit: a976baf
git_last_commit_date: 2021-05-19 11:36:44 -0400
nebbiolo1Linux (Ubuntu 20.04.2 LTS) / x86_64  OK    OK    OK  UNNEEDED, same version is already published
tokay2Windows Server 2012 R2 Standard / x64  OK    OK    OK    OK  UNNEEDED, same version is already published
machv2macOS 10.14.6 Mojave / x86_64  OK    OK    OK    OK  UNNEEDED, same version is already published
Package 141/192HostnameOS / ArchINSTALLBUILDCHECKBUILD BIN
pathview 1.32.0  (landing page)
Weijun Luo
git_last_commit: ec7e0e1
git_last_commit_date: 2021-05-19 11:58:02 -0400
nebbiolo1Linux (Ubuntu 20.04.2 LTS) / x86_64  OK    OK    WARNINGS  UNNEEDED, same version is already published
tokay2Windows Server 2012 R2 Standard / x64  OK    OK    WARNINGS    OK  UNNEEDED, same version is already published
machv2macOS 10.14.6 Mojave / x86_64  OK    OK    WARNINGS    OK  UNNEEDED, same version is already published
Package 142/192HostnameOS / ArchINSTALLBUILDCHECKBUILD BIN
pcaExplorer 2.18.0  (landing page)
Federico Marini
git_last_commit: 724482a
git_last_commit_date: 2021-05-19 12:19:46 -0400
nebbiolo1Linux (Ubuntu 20.04.2 LTS) / x86_64  OK    OK    OK  UNNEEDED, same version is already published
tokay2Windows Server 2012 R2 Standard / x64  OK    OK    OK    OK  UNNEEDED, same version is already published
machv2macOS 10.14.6 Mojave / x86_64  OK    OK    OK    OK  UNNEEDED, same version is already published
Package 143/192HostnameOS / ArchINSTALLBUILDCHECKBUILD BIN
PCpheno 1.54.0  (landing page)
Nolwenn Le Meur
git_last_commit: a344578
git_last_commit_date: 2021-05-19 11:40:08 -0400
nebbiolo1Linux (Ubuntu 20.04.2 LTS) / x86_64  ERROR    ERROR  skipped
tokay2Windows Server 2012 R2 Standard / x64  ERROR    ERROR  skippedskipped
machv2macOS 10.14.6 Mojave / x86_64  ERROR    ERROR  skippedskipped
Package 144/192HostnameOS / ArchINSTALLBUILDCHECKBUILD BIN
phantasus 1.12.0  (landing page)
Alexey Sergushichev
git_last_commit: e2115e2
git_last_commit_date: 2021-05-19 12:34:17 -0400
nebbiolo1Linux (Ubuntu 20.04.2 LTS) / x86_64  OK    OK    OK  UNNEEDED, same version is already published
tokay2Windows Server 2012 R2 Standard / x64  OK    OK    OK    OK  UNNEEDED, same version is already published
machv2macOS 10.14.6 Mojave / x86_64  OK    OK    OK    OK  UNNEEDED, same version is already published
Package 145/192HostnameOS / ArchINSTALLBUILDCHECKBUILD BIN
phenoTest 1.40.0  (landing page)
Evarist Planet
git_last_commit: 2fbc5e7
git_last_commit_date: 2021-05-19 11:47:14 -0400
nebbiolo1Linux (Ubuntu 20.04.2 LTS) / x86_64  OK    OK    WARNINGS  UNNEEDED, same version is already published
tokay2Windows Server 2012 R2 Standard / x64  OK    OK    WARNINGS    OK  UNNEEDED, same version is already published
machv2macOS 10.14.6 Mojave / x86_64  OK    OK    WARNINGS    OK  UNNEEDED, same version is already published
Package 146/192HostnameOS / ArchINSTALLBUILDCHECKBUILD BIN
proActiv 1.2.0  (landing page)
Joseph Lee
git_last_commit: 0a66788
git_last_commit_date: 2021-05-19 12:55:29 -0400
nebbiolo1Linux (Ubuntu 20.04.2 LTS) / x86_64  OK    OK    OK  UNNEEDED, same version is already published
tokay2Windows Server 2012 R2 Standard / x64  OK    OK    OK    OK  UNNEEDED, same version is already published
machv2macOS 10.14.6 Mojave / x86_64  OK    OK    OK    OK  UNNEEDED, same version is already published
Package 147/192HostnameOS / ArchINSTALLBUILDCHECKBUILD BIN
proBAMr 1.26.0  (landing page)
Xiaojing Wang
git_last_commit: cf5184b
git_last_commit_date: 2021-05-19 12:08:26 -0400
nebbiolo1Linux (Ubuntu 20.04.2 LTS) / x86_64  OK    OK    OK  UNNEEDED, same version is already published
tokay2Windows Server 2012 R2 Standard / x64  OK    OK    OK    OK  UNNEEDED, same version is already published
machv2macOS 10.14.6 Mojave / x86_64  OK    OK    OK    OK  UNNEEDED, same version is already published
Package 148/192HostnameOS / ArchINSTALLBUILDCHECKBUILD BIN
psichomics 1.18.6  (landing page)
Nuno Saraiva-Agostinho
git_last_commit: 2ffd219
git_last_commit_date: 2021-10-04 13:47:26 -0400
nebbiolo1Linux (Ubuntu 20.04.2 LTS) / x86_64  OK    OK    OK  UNNEEDED, same version is already published
tokay2Windows Server 2012 R2 Standard / x64  OK    OK    OK    OK  UNNEEDED, same version is already published
machv2macOS 10.14.6 Mojave / x86_64  OK    OK    OK    OK  UNNEEDED, same version is already published
Package 149/192HostnameOS / ArchINSTALLBUILDCHECKBUILD BIN
pwOmics 1.24.0  (landing page)
Maren Sitte
git_last_commit: 9b1e369
git_last_commit_date: 2021-05-19 12:13:37 -0400
nebbiolo1Linux (Ubuntu 20.04.2 LTS) / x86_64  OK    OK    WARNINGS  UNNEEDED, same version is already published
tokay2Windows Server 2012 R2 Standard / x64  OK    OK    WARNINGS    OK  UNNEEDED, same version is already published
machv2macOS 10.14.6 Mojave / x86_64  OK    OK    WARNINGS    OK  UNNEEDED, same version is already published
Package 150/192HostnameOS / ArchINSTALLBUILDCHECKBUILD BIN
qpgraph 2.26.0  (landing page)
Robert Castelo
git_last_commit: 80062b5
git_last_commit_date: 2021-05-19 11:42:31 -0400
nebbiolo1Linux (Ubuntu 20.04.2 LTS) / x86_64  OK    OK    WARNINGS  UNNEEDED, same version is already published
tokay2Windows Server 2012 R2 Standard / x64  OK    OK    WARNINGS    OK  UNNEEDED, same version is already published
machv2macOS 10.14.6 Mojave / x86_64  OK    OK    WARNINGS    OK  UNNEEDED, same version is already published
Package 151/192HostnameOS / ArchINSTALLBUILDCHECKBUILD BIN
QuasR 1.32.0  (landing page)
Michael Stadler
git_last_commit: b24d275
git_last_commit_date: 2021-05-19 11:55:11 -0400
nebbiolo1Linux (Ubuntu 20.04.2 LTS) / x86_64  OK    OK    OK  UNNEEDED, same version is already published
tokay2Windows Server 2012 R2 Standard / x64  OK    OK    OK    OK  UNNEEDED, same version is already published
machv2macOS 10.14.6 Mojave / x86_64  OK    OK    OK    OK  UNNEEDED, same version is already published
Package 152/192HostnameOS / ArchINSTALLBUILDCHECKBUILD BIN
rCGH 1.22.0  (landing page)
Frederic Commo
git_last_commit: 23845ef
git_last_commit_date: 2021-05-19 12:14:32 -0400
nebbiolo1Linux (Ubuntu 20.04.2 LTS) / x86_64  OK    OK    OK  UNNEEDED, same version is already published
tokay2Windows Server 2012 R2 Standard / x64  OK    OK    OK    OK  UNNEEDED, same version is already published
machv2macOS 10.14.6 Mojave / x86_64  OK    OK    OK    OK  UNNEEDED, same version is already published
Package 153/192HostnameOS / ArchINSTALLBUILDCHECKBUILD BIN
ReactomePA 1.36.0  (landing page)
Guangchuang Yu
git_last_commit: 78eb2e3
git_last_commit_date: 2021-05-19 11:51:50 -0400
nebbiolo1Linux (Ubuntu 20.04.2 LTS) / x86_64  OK    OK    OK  UNNEEDED, same version is already published
tokay2Windows Server 2012 R2 Standard / x64  OK    OK    OK    OK  UNNEEDED, same version is already published
machv2macOS 10.14.6 Mojave / x86_64  OK    OK    OK    OK  UNNEEDED, same version is already published
Package 154/192HostnameOS / ArchINSTALLBUILDCHECKBUILD BIN
REDseq 1.38.0  (landing page)
Lihua Julie Zhu
git_last_commit: 4c3b25a
git_last_commit_date: 2021-05-19 11:48:43 -0400
nebbiolo1Linux (Ubuntu 20.04.2 LTS) / x86_64  OK    OK    OK  UNNEEDED, same version is already published
tokay2Windows Server 2012 R2 Standard / x64  OK    OK    OK    OK  UNNEEDED, same version is already published
machv2macOS 10.14.6 Mojave / x86_64  OK    OK    OK    OK  UNNEEDED, same version is already published
Package 155/192HostnameOS / ArchINSTALLBUILDCHECKBUILD BIN
regutools 1.4.0  (landing page)
Joselyn Chavez
git_last_commit: fe87b86
git_last_commit_date: 2021-05-19 12:52:12 -0400
nebbiolo1Linux (Ubuntu 20.04.2 LTS) / x86_64  OK    OK    OK  UNNEEDED, same version is already published
tokay2Windows Server 2012 R2 Standard / x64  OK    OK    OK    OK  UNNEEDED, same version is already published
machv2macOS 10.14.6 Mojave / x86_64  OK    OK    OK    OK  UNNEEDED, same version is already published
Package 156/192HostnameOS / ArchINSTALLBUILDCHECKBUILD BIN
ReportingTools 2.32.1  (landing page)
Jason A. Hackney , Gabriel Becker
git_last_commit: 158e4a4
git_last_commit_date: 2021-07-26 17:54:42 -0400
nebbiolo1Linux (Ubuntu 20.04.2 LTS) / x86_64  OK    OK    OK  UNNEEDED, same version is already published
tokay2Windows Server 2012 R2 Standard / x64  OK    OK    OK    OK  UNNEEDED, same version is already published
machv2macOS 10.14.6 Mojave / x86_64  OK    OK    OK    OK  UNNEEDED, same version is already published
Package 157/192HostnameOS / ArchINSTALLBUILDCHECKBUILD BIN
restfulSE 1.14.2  (landing page)
Shweta Gopaulakrishnan
git_last_commit: 9a05544
git_last_commit_date: 2021-08-20 18:46:43 -0400
nebbiolo1Linux (Ubuntu 20.04.2 LTS) / x86_64  OK    OK    OK  UNNEEDED, same version is already published
tokay2Windows Server 2012 R2 Standard / x64  OK    OK    OK    OK  UNNEEDED, same version is already published
machv2macOS 10.14.6 Mojave / x86_64  OK    OK    OK    OK  UNNEEDED, same version is already published
Package 158/192HostnameOS / ArchINSTALLBUILDCHECKBUILD BIN
rgsepd 1.24.0  (landing page)
Karl Stamm
git_last_commit: a30ee67
git_last_commit_date: 2021-05-19 12:10:16 -0400
nebbiolo1Linux (Ubuntu 20.04.2 LTS) / x86_64  OK    OK    OK  UNNEEDED, same version is already published
tokay2Windows Server 2012 R2 Standard / x64  OK    OK    OK    OK  UNNEEDED, same version is already published
machv2macOS 10.14.6 Mojave / x86_64  OK    OK    OK    OK  UNNEEDED, same version is already published
Package 159/192HostnameOS / ArchINSTALLBUILDCHECKBUILD BIN
ribosomeProfilingQC 1.4.0  (landing page)
Jianhong Ou
git_last_commit: 482e0e7
git_last_commit_date: 2021-05-19 12:49:46 -0400
nebbiolo1Linux (Ubuntu 20.04.2 LTS) / x86_64  OK    OK    OK  UNNEEDED, same version is already published
tokay2Windows Server 2012 R2 Standard / x64  OK    OK    OK    OK  UNNEEDED, same version is already published
machv2macOS 10.14.6 Mojave / x86_64  OK    OK    OK    OK  UNNEEDED, same version is already published
Package 160/192HostnameOS / ArchINSTALLBUILDCHECKBUILD BIN
RNAAgeCalc 1.4.0  (landing page)
Xu Ren
git_last_commit: a4fe63d
git_last_commit_date: 2021-05-19 12:50:18 -0400
nebbiolo1Linux (Ubuntu 20.04.2 LTS) / x86_64  OK    OK    OK  UNNEEDED, same version is already published
tokay2Windows Server 2012 R2 Standard / x64  OK    OK    OK    OK  UNNEEDED, same version is already published
machv2macOS 10.14.6 Mojave / x86_64  OK    OK    OK    OK  UNNEEDED, same version is already published
Package 161/192HostnameOS / ArchINSTALLBUILDCHECKBUILD BIN
RpsiXML 2.34.0  (landing page)
Jitao David Zhang
git_last_commit: 94db0a3
git_last_commit_date: 2021-05-19 11:41:31 -0400
nebbiolo1Linux (Ubuntu 20.04.2 LTS) / x86_64  OK    OK    OK  UNNEEDED, same version is already published
tokay2Windows Server 2012 R2 Standard / x64  OK    OK    OK    OK  UNNEEDED, same version is already published
machv2macOS 10.14.6 Mojave / x86_64  OK    OK    OK    OK  UNNEEDED, same version is already published
Package 162/192HostnameOS / ArchINSTALLBUILDCHECKBUILD BIN
rrvgo 1.4.4  (landing page)
Sergi Sayols
git_last_commit: 60a1114
git_last_commit_date: 2021-07-28 10:44:24 -0400
nebbiolo1Linux (Ubuntu 20.04.2 LTS) / x86_64  OK    OK    OK  UNNEEDED, same version is already published
tokay2Windows Server 2012 R2 Standard / x64  OK    OK    OK    OK  UNNEEDED, same version is already published
machv2macOS 10.14.6 Mojave / x86_64  OK    OK    OK    OK  UNNEEDED, same version is already published
Package 163/192HostnameOS / ArchINSTALLBUILDCHECKBUILD BIN
rTRM 1.30.0  (landing page)
Diego Diez
git_last_commit: 4d427e2
git_last_commit_date: 2021-05-19 11:59:24 -0400
nebbiolo1Linux (Ubuntu 20.04.2 LTS) / x86_64  OK    OK    OK  UNNEEDED, same version is already published
tokay2Windows Server 2012 R2 Standard / x64  OK    OK    OK    OK  UNNEEDED, same version is already published
machv2macOS 10.14.6 Mojave / x86_64  OK    OK    OK    OK  UNNEEDED, same version is already published
Package 164/192HostnameOS / ArchINSTALLBUILDCHECKBUILD BIN
safe 3.32.0  (landing page)
Ludwig Geistlinger
git_last_commit: 0919b3a
git_last_commit_date: 2021-05-19 11:35:30 -0400
nebbiolo1Linux (Ubuntu 20.04.2 LTS) / x86_64  OK    OK    OK  UNNEEDED, same version is already published
tokay2Windows Server 2012 R2 Standard / x64  OK    OK    OK    OK  UNNEEDED, same version is already published
machv2macOS 10.14.6 Mojave / x86_64  OK    OK    OK    OK  UNNEEDED, same version is already published
Package 165/192HostnameOS / ArchINSTALLBUILDCHECKBUILD BIN
SBGNview 1.6.0  (landing page)
Weijun Luo
git_last_commit: 7fc4f04
git_last_commit_date: 2021-05-19 12:44:37 -0400
nebbiolo1Linux (Ubuntu 20.04.2 LTS) / x86_64  OK    OK    OK  UNNEEDED, same version is already published
tokay2Windows Server 2012 R2 Standard / x64  OK    OK    OK    OK  UNNEEDED, same version is already published
machv2macOS 10.14.6 Mojave / x86_64  OK    OK    OK    OK  UNNEEDED, same version is already published
Package 166/192HostnameOS / ArchINSTALLBUILDCHECKBUILD BIN
ScISI 1.64.0  (landing page)
Tony Chiang
git_last_commit: 1ee59b4
git_last_commit_date: 2021-05-19 11:36:57 -0400
nebbiolo1Linux (Ubuntu 20.04.2 LTS) / x86_64  OK    OK    OK  UNNEEDED, same version is already published
tokay2Windows Server 2012 R2 Standard / x64  OK    OK    OK    OK  UNNEEDED, same version is already published
machv2macOS 10.14.6 Mojave / x86_64  OK    OK    OK    OK  UNNEEDED, same version is already published
Package 167/192HostnameOS / ArchINSTALLBUILDCHECKBUILD BIN
scPipe 1.14.0  (landing page)
Luyi Tian
git_last_commit: 998ffca
git_last_commit_date: 2021-05-19 12:31:10 -0400
nebbiolo1Linux (Ubuntu 20.04.2 LTS) / x86_64  OK    OK    OK  UNNEEDED, same version is already published
tokay2Windows Server 2012 R2 Standard / x64  OK    OK    OK    OK  UNNEEDED, same version is already published
machv2macOS 10.14.6 Mojave / x86_64  OK    OK    OK    OK  UNNEEDED, same version is already published
Package 168/192HostnameOS / ArchINSTALLBUILDCHECKBUILD BIN
scruff 1.10.0  (landing page)
Zhe Wang
git_last_commit: 027572f
git_last_commit_date: 2021-05-19 12:36:52 -0400
nebbiolo1Linux (Ubuntu 20.04.2 LTS) / x86_64  OK    OK    OK  UNNEEDED, same version is already published
tokay2Windows Server 2012 R2 Standard / x64  OK    OK    OK    OK  UNNEEDED, same version is already published
machv2macOS 10.14.6 Mojave / x86_64  OK    OK    OK    OK  UNNEEDED, same version is already published
Package 169/192HostnameOS / ArchINSTALLBUILDCHECKBUILD BIN
scTensor 2.2.0  (landing page)
Koki Tsuyuzaki
git_last_commit: adb0ecb
git_last_commit_date: 2021-05-19 12:39:42 -0400
nebbiolo1Linux (Ubuntu 20.04.2 LTS) / x86_64  OK    OK    OK  UNNEEDED, same version is already published
tokay2Windows Server 2012 R2 Standard / x64  OK    OK    OK    OK  UNNEEDED, same version is already published
machv2macOS 10.14.6 Mojave / x86_64  OK    OK    OK    OK  UNNEEDED, same version is already published
Package 170/192HostnameOS / ArchINSTALLBUILDCHECKBUILD BIN
SemDist 1.26.0  (landing page)
Ian Gonzalez
git_last_commit: d508e59
git_last_commit_date: 2021-05-19 12:06:49 -0400
nebbiolo1Linux (Ubuntu 20.04.2 LTS) / x86_64  OK    OK    OK  UNNEEDED, same version is already published
tokay2Windows Server 2012 R2 Standard / x64  OK    OK    OK    OK  UNNEEDED, same version is already published
machv2macOS 10.14.6 Mojave / x86_64  OK    OK    OK    OK  UNNEEDED, same version is already published
Package 171/192HostnameOS / ArchINSTALLBUILDCHECKBUILD BIN
SGSeq 1.26.0  (landing page)
Leonard Goldstein
git_last_commit: d7ca914
git_last_commit_date: 2021-05-19 12:08:58 -0400
nebbiolo1Linux (Ubuntu 20.04.2 LTS) / x86_64  OK    OK    OK  UNNEEDED, same version is already published
tokay2Windows Server 2012 R2 Standard / x64  OK    OK    OK    OK  UNNEEDED, same version is already published
machv2macOS 10.14.6 Mojave / x86_64  OK    OK    OK    OK  UNNEEDED, same version is already published
Package 172/192HostnameOS / ArchINSTALLBUILDCHECKBUILD BIN
signatureSearch 1.6.3  (landing page)
Yuzhu Duan
git_last_commit: 5c1eebb
git_last_commit_date: 2021-08-29 20:33:50 -0400
nebbiolo1Linux (Ubuntu 20.04.2 LTS) / x86_64  OK    OK    OK  UNNEEDED, same version is already published
tokay2Windows Server 2012 R2 Standard / x64  OK    OK    OK    OK  UNNEEDED, same version is already published
machv2macOS 10.14.6 Mojave / x86_64  OK    OK    OK    OK  UNNEEDED, same version is already published
Package 173/192HostnameOS / ArchINSTALLBUILDCHECKBUILD BIN
simplifyEnrichment 1.2.0  (landing page)
Zuguang Gu
git_last_commit: 02e5cb4
git_last_commit_date: 2021-05-19 12:52:56 -0400
nebbiolo1Linux (Ubuntu 20.04.2 LTS) / x86_64  OK    OK    OK  UNNEEDED, same version is already published
tokay2Windows Server 2012 R2 Standard / x64  OK    OK    OK    OK  UNNEEDED, same version is already published
machv2macOS 10.14.6 Mojave / x86_64  OK    OK    OK    OK  UNNEEDED, same version is already published
Package 174/192HostnameOS / ArchINSTALLBUILDCHECKBUILD BIN
singleCellTK 2.2.0  (landing page)
Yusuke Koga
git_last_commit: 9fdc1a1
git_last_commit_date: 2021-05-19 12:35:15 -0400
nebbiolo1Linux (Ubuntu 20.04.2 LTS) / x86_64  OK    OK    OK  UNNEEDED, same version is already published
tokay2Windows Server 2012 R2 Standard / x64  OK    OK    ERROR    OK  
machv2macOS 10.14.6 Mojave / x86_64  OK    OK    OK    OK  UNNEEDED, same version is already published
Package 175/192HostnameOS / ArchINSTALLBUILDCHECKBUILD BIN
SLGI 1.52.0  (landing page)
Nolwenn Le Meur
git_last_commit: cdf0469
git_last_commit_date: 2021-05-19 11:40:05 -0400
nebbiolo1Linux (Ubuntu 20.04.2 LTS) / x86_64  OK    OK    OK  UNNEEDED, same version is already published
tokay2Windows Server 2012 R2 Standard / x64  OK    OK    OK    OK  UNNEEDED, same version is already published
machv2macOS 10.14.6 Mojave / x86_64  OK    OK    OK    OK  UNNEEDED, same version is already published
Package 176/192HostnameOS / ArchINSTALLBUILDCHECKBUILD BIN
SMITE 1.20.0  (landing page)
Neil Ari Wijetunga
git_last_commit: 7acefe7
git_last_commit_date: 2021-05-19 12:17:52 -0400
nebbiolo1Linux (Ubuntu 20.04.2 LTS) / x86_64  OK    OK    OK  UNNEEDED, same version is already published
tokay2Windows Server 2012 R2 Standard / x64  OK    OK    OK    OK  UNNEEDED, same version is already published
machv2macOS 10.14.6 Mojave / x86_64  OK    OK    OK    OK  UNNEEDED, same version is already published
Package 177/192HostnameOS / ArchINSTALLBUILDCHECKBUILD BIN
SpidermiR 1.22.1  (landing page)
Claudia Cava
git_last_commit: 45680ec
git_last_commit_date: 2021-06-16 06:21:54 -0400
nebbiolo1Linux (Ubuntu 20.04.2 LTS) / x86_64  OK    OK    ERROR  
tokay2Windows Server 2012 R2 Standard / x64  OK    OK    ERROR    OK  
machv2macOS 10.14.6 Mojave / x86_64  OK    OK    ERROR    OK  
Package 178/192HostnameOS / ArchINSTALLBUILDCHECKBUILD BIN
StarBioTrek 1.18.0  (landing page)
Claudia Cava
git_last_commit: 4e39230
git_last_commit_date: 2021-05-19 12:24:11 -0400
nebbiolo1Linux (Ubuntu 20.04.2 LTS) / x86_64  OK    OK    WARNINGS  UNNEEDED, same version is already published
tokay2Windows Server 2012 R2 Standard / x64  OK    OK    WARNINGS    OK  UNNEEDED, same version is already published
machv2macOS 10.14.6 Mojave / x86_64  OK    OK    WARNINGS    OK  UNNEEDED, same version is already published
Package 179/192HostnameOS / ArchINSTALLBUILDCHECKBUILD BIN
SubCellBarCode 1.8.0  (landing page)
Taner Arslan
git_last_commit: b5578c6
git_last_commit_date: 2021-05-19 12:43:49 -0400
nebbiolo1Linux (Ubuntu 20.04.2 LTS) / x86_64  OK    OK    OK  UNNEEDED, same version is already published
tokay2Windows Server 2012 R2 Standard / x64  OK    OK    OK    OK  UNNEEDED, same version is already published
machv2macOS 10.14.6 Mojave / x86_64  OK    OK    OK    OK  UNNEEDED, same version is already published
Package 180/192HostnameOS / ArchINSTALLBUILDCHECKBUILD BIN
TCGAutils 1.12.0  (landing page)
Marcel Ramos
git_last_commit: d0b9159
git_last_commit_date: 2021-05-19 12:35:30 -0400
nebbiolo1Linux (Ubuntu 20.04.2 LTS) / x86_64  OK    OK    OK  UNNEEDED, same version is already published
tokay2Windows Server 2012 R2 Standard / x64  OK    OK    OK    OK  UNNEEDED, same version is already published
machv2macOS 10.14.6 Mojave / x86_64  OK    OK    OK    OK  UNNEEDED, same version is already published
Package 181/192HostnameOS / ArchINSTALLBUILDCHECKBUILD BIN
tenXplore 1.14.2  (landing page)
VJ Carey
git_last_commit: bd72b38
git_last_commit_date: 2021-09-11 14:39:10 -0400
nebbiolo1Linux (Ubuntu 20.04.2 LTS) / x86_64  OK    OK    OK  UNNEEDED, same version is already published
tokay2Windows Server 2012 R2 Standard / x64  OK    OK    OK    OK  UNNEEDED, same version is already published
machv2macOS 10.14.6 Mojave / x86_64  OK    OK    OK    OK  UNNEEDED, same version is already published
Package 182/192HostnameOS / ArchINSTALLBUILDCHECKBUILD BIN
tigre 1.46.0  (landing page)
Antti Honkela
git_last_commit: 95c5a86
git_last_commit_date: 2021-05-19 11:45:13 -0400
nebbiolo1Linux (Ubuntu 20.04.2 LTS) / x86_64  OK    OK    OK  UNNEEDED, same version is already published
tokay2Windows Server 2012 R2 Standard / x64  OK    OK    OK    OK  UNNEEDED, same version is already published
machv2macOS 10.14.6 Mojave / x86_64  OK    OK    OK    OK  UNNEEDED, same version is already published
Package 183/192HostnameOS / ArchINSTALLBUILDCHECKBUILD BIN
topGO 2.44.0  (landing page)
Adrian Alexa
git_last_commit: d907c12
git_last_commit_date: 2021-05-19 11:38:47 -0400
nebbiolo1Linux (Ubuntu 20.04.2 LTS) / x86_64  OK    OK    OK  UNNEEDED, same version is already published
tokay2Windows Server 2012 R2 Standard / x64  OK    OK    OK    OK  UNNEEDED, same version is already published
machv2macOS 10.14.6 Mojave / x86_64  OK    OK    OK    OK  UNNEEDED, same version is already published
Package 184/192HostnameOS / ArchINSTALLBUILDCHECKBUILD BIN
trackViewer 1.28.1  (landing page)
Jianhong Ou
git_last_commit: 84fca6e
git_last_commit_date: 2021-07-06 12:09:25 -0400
nebbiolo1Linux (Ubuntu 20.04.2 LTS) / x86_64  OK    OK    OK  UNNEEDED, same version is already published
tokay2Windows Server 2012 R2 Standard / x64  OK    OK    OK    OK  UNNEEDED, same version is already published
machv2macOS 10.14.6 Mojave / x86_64  OK    OK    OK    OK  UNNEEDED, same version is already published
Package 185/192HostnameOS / ArchINSTALLBUILDCHECKBUILD BIN
trena 1.14.0  (landing page)
Paul Shannon
git_last_commit: c848203
git_last_commit_date: 2021-05-19 12:27:55 -0400
nebbiolo1Linux (Ubuntu 20.04.2 LTS) / x86_64  OK    ERROR  skipped
tokay2Windows Server 2012 R2 Standard / x64  OK    ERROR  skippedskipped
machv2macOS 10.14.6 Mojave / x86_64  OK    ERROR  skippedskipped
Package 186/192HostnameOS / ArchINSTALLBUILDCHECKBUILD BIN
tricycle 1.0.0  (landing page)
Shijie Zheng
git_last_commit: 0586b67
git_last_commit_date: 2021-05-19 13:02:06 -0400
nebbiolo1Linux (Ubuntu 20.04.2 LTS) / x86_64  OK    OK    OK  UNNEEDED, same version is already published
tokay2Windows Server 2012 R2 Standard / x64  OK    OK    OK    OK  UNNEEDED, same version is already published
machv2macOS 10.14.6 Mojave / x86_64  OK    OK    OK    OK  UNNEEDED, same version is already published
Package 187/192HostnameOS / ArchINSTALLBUILDCHECKBUILD BIN
tximeta 1.10.0  (landing page)
Michael Love
git_last_commit: da94a30
git_last_commit_date: 2021-05-19 12:37:40 -0400
nebbiolo1Linux (Ubuntu 20.04.2 LTS) / x86_64  OK    OK    OK  UNNEEDED, same version is already published
tokay2Windows Server 2012 R2 Standard / x64  OK    OK    OK    OK  UNNEEDED, same version is already published
machv2macOS 10.14.6 Mojave / x86_64  OK    OK    OK    OK  UNNEEDED, same version is already published
Package 188/192HostnameOS / ArchINSTALLBUILDCHECKBUILD BIN
Ularcirc 1.10.0  (landing page)
David Humphreys
git_last_commit: 5661ddd
git_last_commit_date: 2021-05-19 12:36:10 -0400
nebbiolo1Linux (Ubuntu 20.04.2 LTS) / x86_64  OK    OK    OK  UNNEEDED, same version is already published
tokay2Windows Server 2012 R2 Standard / x64  OK    OK    OK    OK  UNNEEDED, same version is already published
machv2macOS 10.14.6 Mojave / x86_64  OK    OK    OK    OK  UNNEEDED, same version is already published
Package 189/192HostnameOS / ArchINSTALLBUILDCHECKBUILD BIN
UniProt.ws 2.32.0  (landing page)
Bioconductor Package Maintainer
git_last_commit: f289fbf
git_last_commit_date: 2021-05-19 11:54:41 -0400
nebbiolo1Linux (Ubuntu 20.04.2 LTS) / x86_64  OK    OK    OK  UNNEEDED, same version is already published
tokay2Windows Server 2012 R2 Standard / x64  OK    ERROR  skippedskipped
machv2macOS 10.14.6 Mojave / x86_64  OK    OK    OK    OK  UNNEEDED, same version is already published
Package 190/192HostnameOS / ArchINSTALLBUILDCHECKBUILD BIN
VariantAnnotation 1.38.0  (landing page)
Bioconductor Package Maintainer
git_last_commit: 1deefec
git_last_commit_date: 2021-05-19 11:49:26 -0400
nebbiolo1Linux (Ubuntu 20.04.2 LTS) / x86_64  OK    OK    OK  UNNEEDED, same version is already published
tokay2Windows Server 2012 R2 Standard / x64  OK    OK    OK    OK  UNNEEDED, same version is already published
machv2macOS 10.14.6 Mojave / x86_64  OK    OK    OK    OK  UNNEEDED, same version is already published
Package 191/192HostnameOS / ArchINSTALLBUILDCHECKBUILD BIN
VariantFiltering 1.28.0  (landing page)
Robert Castelo
git_last_commit: a7b2d16
git_last_commit_date: 2021-05-19 12:04:28 -0400
nebbiolo1Linux (Ubuntu 20.04.2 LTS) / x86_64  OK    OK    OK  UNNEEDED, same version is already published
tokay2Windows Server 2012 R2 Standard / x64  OK    OK    OK    OK  UNNEEDED, same version is already published
machv2macOS 10.14.6 Mojave / x86_64  OK    OK    OK    OK  UNNEEDED, same version is already published
Package 192/192HostnameOS / ArchINSTALLBUILDCHECKBUILD BIN
ViSEAGO 1.6.0  (landing page)
Aurelien Brionne
git_last_commit: 320ba38
git_last_commit_date: 2021-05-19 12:44:50 -0400
nebbiolo1Linux (Ubuntu 20.04.2 LTS) / x86_64  OK    OK    WARNINGS  UNNEEDED, same version is already published
tokay2Windows Server 2012 R2 Standard / x64  OK    OK    WARNINGS    OK  UNNEEDED, same version is already published
machv2macOS 10.14.6 Mojave / x86_64  OK    OK    WARNINGS    OK  UNNEEDED, same version is already published