Back to Multiple platform build/check report for BioC 3.13
ABC[D]EFGHIJKLMNOPQRSTUVWXYZ

Multiple platform build/check report for BioC 3.13

All results for package DEGraph

This page was generated on 2021-04-12 12:56:30 -0400 (Mon, 12 Apr 2021).

Package 451/1981HostnameOS / ArchINSTALLBUILDCHECKBUILD BIN
DEGraph 1.43.0  (landing page)
Laurent Jacob
Snapshot Date: 2021-04-11 14:50:10 -0400 (Sun, 11 Apr 2021)
URL: https://git.bioconductor.org/packages/DEGraph
Branch: master
Last Commit: 25d2d6f
Last Changed Date: 2020-10-27 10:39:35 -0400 (Tue, 27 Oct 2020)
nebbiolo1Linux (Ubuntu 20.04.2 LTS) / x86_64  OK    OK    OK  UNNEEDED, same version exists in internal repository
riesling1Windows Server 2019 Standard / x64... NOT SUPPORTED ...
machv2macOS 10.14.6 Mojave / x86_64... NOT SUPPORTED ...