Back to Multiple platform build/check report for BioC 3.13 |
|
This page was generated on 2021-10-15 15:06:10 -0400 (Fri, 15 Oct 2021).
To the developers/maintainers of the mdp package: - Please allow up to 24 hours (and sometimes 48 hours) for your latest push to git@git.bioconductor.org:packages/mdp.git to reflect on this report. See How and When does the builder pull? When will my changes propagate? here for more information. - Make sure to use the following settings in order to reproduce any error or warning you see on this page. |
Package 1057/2041 | Hostname | OS / Arch | INSTALL | BUILD | CHECK | BUILD BIN | ||||||||
mdp 1.12.0 (landing page) Helder Nakaya
| nebbiolo1 | Linux (Ubuntu 20.04.2 LTS) / x86_64 | OK | OK | OK | |||||||||
tokay2 | Windows Server 2012 R2 Standard / x64 | OK | OK | OK | OK | |||||||||
machv2 | macOS 10.14.6 Mojave / x86_64 | OK | OK | OK | OK | |||||||||
Package: mdp |
Version: 1.12.0 |
Command: C:\cygwin\bin\curl.exe -O http://155.52.207.165/BBS/3.13/bioc/src/contrib/mdp_1.12.0.tar.gz && rm -rf mdp.buildbin-libdir && mkdir mdp.buildbin-libdir && C:\Users\biocbuild\bbs-3.13-bioc\R\bin\R.exe CMD INSTALL --merge-multiarch --build --library=mdp.buildbin-libdir mdp_1.12.0.tar.gz && C:\Users\biocbuild\bbs-3.13-bioc\R\bin\R.exe CMD INSTALL mdp_1.12.0.zip && rm mdp_1.12.0.tar.gz mdp_1.12.0.zip |
StartedAt: 2021-10-14 08:19:27 -0400 (Thu, 14 Oct 2021) |
EndedAt: 2021-10-14 08:20:16 -0400 (Thu, 14 Oct 2021) |
EllapsedTime: 49.3 seconds |
RetCode: 0 |
Status: OK |
############################################################################## ############################################################################## ### ### Running command: ### ### C:\cygwin\bin\curl.exe -O http://155.52.207.165/BBS/3.13/bioc/src/contrib/mdp_1.12.0.tar.gz && rm -rf mdp.buildbin-libdir && mkdir mdp.buildbin-libdir && C:\Users\biocbuild\bbs-3.13-bioc\R\bin\R.exe CMD INSTALL --merge-multiarch --build --library=mdp.buildbin-libdir mdp_1.12.0.tar.gz && C:\Users\biocbuild\bbs-3.13-bioc\R\bin\R.exe CMD INSTALL mdp_1.12.0.zip && rm mdp_1.12.0.tar.gz mdp_1.12.0.zip ### ############################################################################## ############################################################################## % Total % Received % Xferd Average Speed Time Time Time Current Dload Upload Total Spent Left Speed 0 0 0 0 0 0 0 0 --:--:-- --:--:-- --:--:-- 0 62 3929k 62 2438k 0 0 2707k 0 0:00:01 --:--:-- 0:00:01 2706k 100 3929k 100 3929k 0 0 3223k 0 0:00:01 0:00:01 --:--:-- 3226k install for i386 * installing *source* package 'mdp' ... ** using staged installation ** R ** data *** moving datasets to lazyload DB ** inst ** byte-compile and prepare package for lazy loading ** help *** installing help indices converting help for package 'mdp' finding HTML links ... done compute_gene_score html compute_perturbed_genes html compute_sample_scores html compute_zscore html example_data html example_pheno html mdp html pathway_summary html sample_data html sample_plot html ** building package indices ** installing vignettes ** testing if installed package can be loaded from temporary location ** testing if installed package can be loaded from final location ** testing if installed package keeps a record of temporary installation path install for x64 * installing *source* package 'mdp' ... ** testing if installed package can be loaded * MD5 sums packaged installation of 'mdp' as mdp_1.12.0.zip * DONE (mdp) * installing to library 'C:/Users/biocbuild/bbs-3.13-bioc/R/library' package 'mdp' successfully unpacked and MD5 sums checked