Back to Multiple platform build/check report for BioC 3.13 |
|
This page was generated on 2021-10-15 15:06:30 -0400 (Fri, 15 Oct 2021).
To the developers/maintainers of the bluster package: - Please allow up to 24 hours (and sometimes 48 hours) for your latest push to git@git.bioconductor.org:packages/bluster.git to reflect on this report. See How and When does the builder pull? When will my changes propagate? here for more information. - Make sure to use the following settings in order to reproduce any error or warning you see on this page. |
Package 202/2041 | Hostname | OS / Arch | INSTALL | BUILD | CHECK | BUILD BIN | ||||||||
bluster 1.2.1 (landing page) Aaron Lun
| nebbiolo1 | Linux (Ubuntu 20.04.2 LTS) / x86_64 | OK | OK | OK | |||||||||
tokay2 | Windows Server 2012 R2 Standard / x64 | OK | OK | OK | OK | |||||||||
machv2 | macOS 10.14.6 Mojave / x86_64 | OK | OK | OK | OK | |||||||||
Package: bluster |
Version: 1.2.1 |
Command: rm -rf bluster.buildbin-libdir && mkdir bluster.buildbin-libdir && /Users/biocbuild/BBS/utils/build-universal.sh bluster_1.2.1.tar.gz /Library/Frameworks/R.framework/Versions/Current/Resources/bin/R bluster.buildbin-libdir |
StartedAt: 2021-10-15 01:46:55 -0400 (Fri, 15 Oct 2021) |
EndedAt: 2021-10-15 01:47:55 -0400 (Fri, 15 Oct 2021) |
EllapsedTime: 59.6 seconds |
RetCode: 0 |
Status: OK |
PackageFile: bluster_1.2.1.tgz |
PackageFileSize: 3.25 MiB |
############################################################################## ############################################################################## ### ### Running command: ### ### rm -rf bluster.buildbin-libdir && mkdir bluster.buildbin-libdir && /Users/biocbuild/BBS/utils/build-universal.sh bluster_1.2.1.tar.gz /Library/Frameworks/R.framework/Versions/Current/Resources/bin/R bluster.buildbin-libdir ### ############################################################################## ############################################################################## >>>>>>> >>>>>>> INSTALLATION WITH 'R CMD INSTALL --preclean --no-multiarch --library=bluster.buildbin-libdir bluster_1.2.1.tar.gz' >>>>>>> * installing *source* package ‘bluster’ ... ** using staged installation ** libs clang++ -mmacosx-version-min=10.13 -std=gnu++11 -I"/Library/Frameworks/R.framework/Resources/include" -DNDEBUG -I'/Library/Frameworks/R.framework/Versions/4.1/Resources/library/Rcpp/include' -I/usr/local/include -fPIC -Wall -g -O2 -c RcppExports.cpp -o RcppExports.o clang++ -mmacosx-version-min=10.13 -std=gnu++11 -I"/Library/Frameworks/R.framework/Resources/include" -DNDEBUG -I'/Library/Frameworks/R.framework/Versions/4.1/Resources/library/Rcpp/include' -I/usr/local/include -fPIC -Wall -g -O2 -c build_snn.cpp -o build_snn.o clang++ -mmacosx-version-min=10.13 -std=gnu++11 -I"/Library/Frameworks/R.framework/Resources/include" -DNDEBUG -I'/Library/Frameworks/R.framework/Versions/4.1/Resources/library/Rcpp/include' -I/usr/local/include -fPIC -Wall -g -O2 -c sum_neighbor_weights.cpp -o sum_neighbor_weights.o clang++ -mmacosx-version-min=10.13 -std=gnu++11 -dynamiclib -Wl,-headerpad_max_install_names -undefined dynamic_lookup -single_module -multiply_defined suppress -L/Library/Frameworks/R.framework/Resources/lib -L/usr/local/lib -o bluster.so RcppExports.o build_snn.o sum_neighbor_weights.o -F/Library/Frameworks/R.framework/.. -framework R -Wl,-framework -Wl,CoreFoundation installing to /Users/biocbuild/bbs-3.13-bioc/meat/bluster.buildbin-libdir/00LOCK-bluster/00new/bluster/libs ** R ** inst ** byte-compile and prepare package for lazy loading ** help *** installing help indices ** building package indices ** installing vignettes ** testing if installed package can be loaded from temporary location ** checking absolute paths in shared objects and dynamic libraries ** testing if installed package can be loaded from final location ** testing if installed package keeps a record of temporary installation path * DONE (bluster) >>>>>>> >>>>>>> FIXING LINKS FOR bluster.buildbin-libdir/bluster/libs/bluster.so >>>>>>> install_name_tool -change "/usr/local/lib/libgcc_s.1.dylib" "/Library/Frameworks/R.framework/Versions/4.1/Resources/lib/libgcc_s.1.dylib" "bluster.buildbin-libdir/bluster/libs/bluster.so" install_name_tool -change "/usr/local/lib/libgfortran.5.dylib" "/Library/Frameworks/R.framework/Versions/4.1/Resources/lib/libgfortran.5.dylib" "bluster.buildbin-libdir/bluster/libs/bluster.so" install_name_tool -change "/usr/local/lib/libquadmath.0.dylib" "/Library/Frameworks/R.framework/Versions/4.1/Resources/lib/libquadmath.0.dylib" "bluster.buildbin-libdir/bluster/libs/bluster.so"