Back to Multiple platform build/check report for BioC 3.13

This page was generated on 2021-10-15 15:07:01 -0400 (Fri, 15 Oct 2021).

All results on machv2


Package status is indicated by one of the following glyphs
  TIMEOUT  
INSTALL, BUILD, CHECK or BUILD BIN of package took more than 40 minutes
  ERROR  
Bad DESCRIPTION file or INSTALL, BUILD or BUILD BIN of package failed, or CHECK produced errors
  WARNINGS  
CHECK of package produced warnings
  OK  
INSTALL, BUILD, CHECK or BUILD BIN of package was OK
skipped
CHECK or BUILD BIN of package was skipped because the BUILD step failed
  NA  
BUILD, CHECK or BUILD BIN result is not available because of an anomaly in the Build System
Click on any glyph in the report below to access the detailed report.
Package propagation status is indicated by one of the following LEDs
YES YES: Package was propagated because it didn't previously exist or version was bumped
NO NO: Package was not propagated because of a problem (impossible dependencies, or version lower than what is already propagated)
UNNEEDED UNNEEDED: Package was not propagated because it is already in the repository with this version. A version bump is required in order to propagate it

A crossed-out package name indicates the package is deprecated


QUICK STATSOS / ArchINSTALLBUILDCHECKBUILD BIN
nebbiolo1Linux (Ubuntu 20.04.2 LTS) / x86_64
0242016
0781962
1313111619
tokay2Windows Server 2012 R2 Standard / x64
0301981
2921917
8472951567
021915
machv2macOS 10.14.6 Mojave / x86_64
0262007
2861945
1372941613
001945
A
ABCDEFGHIJKLMNOPQRSTUVWXYZ
PackageMaintainerINSTALLBUILDCHECKBUILD BIN
1/2041a4 1.40.0  (landing page)Laure Cougnaud  OK    OK    OK    OK  UNNEEDED, same version is already published
2/2041a4Base 1.40.0  (landing page)Laure Cougnaud  OK    OK    OK    OK  UNNEEDED, same version is already published
3/2041a4Classif 1.40.0  (landing page)Laure Cougnaud  OK    OK    OK    OK  UNNEEDED, same version is already published
4/2041a4Core 1.40.0  (landing page)Laure Cougnaud  OK    OK    OK    OK  UNNEEDED, same version is already published
5/2041a4Preproc 1.40.0  (landing page)Laure Cougnaud  OK    OK    OK    OK  UNNEEDED, same version is already published
6/2041a4Reporting 1.40.0  (landing page)Laure Cougnaud  OK    OK    OK    OK  UNNEEDED, same version is already published
7/2041ABAEnrichment 1.22.0  (landing page)Steffi Grote  OK    OK    OK    OK  UNNEEDED, same version is already published
8/2041ABarray 1.60.0  (landing page)Yongming Andrew Sun  OK    OK    OK    OK  UNNEEDED, same version is already published
9/2041abseqR 1.10.0  (landing page)JiaHong Fong  OK    OK    OK    OK  UNNEEDED, same version is already published
10/2041ABSSeq 1.46.0  (landing page)Wentao Yang  OK    OK    OK    OK  UNNEEDED, same version is already published
11/2041acde 1.22.0  (landing page)Juan Pablo Acosta  OK    OK    OK    OK  UNNEEDED, same version is already published
12/2041ACE 1.10.0  (landing page)Jos B Poell  OK    OK    OK    OK  UNNEEDED, same version is already published
13/2041aCGH 1.70.0  (landing page)Peter Dimitrov  OK    OK    OK    OK  UNNEEDED, same version is already published
14/2041ACME 2.48.0  (landing page)Sean Davis  OK    OK    OK    OK  UNNEEDED, same version is already published
15/2041ADaCGH2 2.32.0  (landing page)Ramon Diaz-Uriarte  OK    OK    OK    OK  UNNEEDED, same version is already published
16/2041ADAM 1.8.0  (landing page)Jose Luiz Rybarczyk Filho  OK    OK    OK    OK  UNNEEDED, same version is already published
17/2041ADAMgui 1.8.0  (landing page)Jose Luiz Rybarczyk Filho  OK    OK    OK    OK  UNNEEDED, same version is already published
18/2041adductomicsR 1.8.0  (landing page)Josie Hayes  OK    OK    WARNINGS    OK  UNNEEDED, same version is already published
19/2041ADImpute 1.2.0  (landing page)Ana Carolina Leote  OK    OK    WARNINGS    OK  UNNEEDED, same version is already published
20/2041adSplit 1.62.0  (landing page)Claudio Lottaz  OK    OK    OK    OK  UNNEEDED, same version is already published
21/2041AffiXcan 1.10.0  (landing page)Alessandro Lussana  OK    OK    OK    OK  UNNEEDED, same version is already published
22/2041affxparser 1.64.1  (landing page)Kasper Daniel Hansen  OK    OK    WARNINGS    OK  UNNEEDED, same version is already published
23/2041affy 1.70.0  (landing page)Rafael A. Irizarry  OK    OK    WARNINGS    OK  UNNEEDED, same version is already published
24/2041affycomp 1.68.0  (landing page)Rafael A. Irizarry  OK    OK    OK    OK  UNNEEDED, same version is already published
25/2041AffyCompatible 1.52.0  (landing page)Martin Morgan  OK    OK    OK    OK  UNNEEDED, same version is already published
26/2041affyContam 1.50.0  (landing page)V. Carey  OK    OK    OK    OK  UNNEEDED, same version is already published
27/2041affycoretools 1.64.0  (landing page)James W. MacDonald  OK    OK    WARNINGS    OK  UNNEEDED, same version is already published
28/2041AffyExpress 1.58.0  (landing page)Xuejun Arthur Li  OK    ERROR  skippedskipped
29/2041affyILM 1.44.0  (landing page)Myriam Kroll and Fabrice Berger  OK    OK    OK    OK  UNNEEDED, same version is already published
30/2041affyio 1.62.0  (landing page)Ben Bolstad  OK    OK    OK    OK  UNNEEDED, same version is already published
31/2041affylmGUI 1.66.0  (landing page)Gordon Smyth  OK    OK    OK    OK  UNNEEDED, same version is already published
32/2041affyPara 1.52.0  (landing page)Markus Schmidberger  ERROR    ERROR  skippedskipped
33/2041affyPLM 1.68.0  (landing page)Ben Bolstad  OK    OK    OK    OK  UNNEEDED, same version is already published
34/2041affyQCReport 1.70.0  (landing page)Craig Parman  ERROR    ERROR  skippedskipped
35/2041AffyRNADegradation 1.38.0  (landing page)Mario Fasold  OK    OK    OK    OK  UNNEEDED, same version is already published
36/2041AGDEX 1.40.0  (landing page)Cuilan lani Gao  OK    OK    OK    OK  UNNEEDED, same version is already published
37/2041aggregateBioVar 1.2.0  (landing page)Jason Ratcliff  OK    OK    OK    OK  UNNEEDED, same version is already published
38/2041agilp 3.24.0  (landing page)Benny Chain  OK    OK    OK    OK  UNNEEDED, same version is already published
39/2041AgiMicroRna 2.42.0  (landing page)Pedro Lopez-Romero  OK    OK    OK    OK  UNNEEDED, same version is already published
40/2041AIMS 1.24.0  (landing page)Eric R Paquet  OK    OK    OK    OK  UNNEEDED, same version is already published
41/2041airpart 1.0.1  (landing page)Wancen Mu  OK    OK    OK    OK  UNNEEDED, same version is already published
42/2041ALDEx2 1.24.0  (landing page)Greg Gloor  OK    OK    OK    OK  UNNEEDED, same version is already published
43/2041alevinQC 1.8.0  (landing page)Charlotte Soneson  OK    OK    OK    OK  UNNEEDED, same version is already published
44/2041AllelicImbalance 1.30.0  (landing page)Jesper R Gadin  OK    OK    OK    OK  UNNEEDED, same version is already published
45/2041AlphaBeta 1.6.1  (landing page)Yadollah Shahryary Dizaji  OK    OK    OK    OK  UNNEEDED, same version is already published
46/2041alpine 1.18.0  (landing page)Michael Love  OK    OK    OK    OK  UNNEEDED, same version is already published
47/2041ALPS 1.6.0  (landing page)Venu Thatikonda  OK    ERROR  skippedskipped
48/2041AlpsNMR 3.2.3  (landing page)Luis Fernandez  OK    OK    OK    OK  UNNEEDED, same version is already published
49/2041alsace 1.28.0  (landing page)Ron Wehrens  OK    OK    OK    OK  UNNEEDED, same version is already published
50/2041altcdfenvs 2.54.0  (landing page)Laurent Gautier  OK    OK    OK    OK  UNNEEDED, same version is already published
51/2041AMARETTO 1.8.0  (landing page)Olivier Gevaert  OK    OK    OK    OK  UNNEEDED, same version is already published
52/2041AMOUNTAIN 1.18.0  (landing page)Dong Li  OK    OK    OK    OK  UNNEEDED, same version is already published
53/2041amplican 1.14.0  (landing page)Eivind Valen  OK    OK    OK    OK  UNNEEDED, same version is already published
54/2041Anaquin 2.16.0  (landing page)Ted Wong  OK    OK    OK    OK  UNNEEDED, same version is already published
55/2041ANCOMBC 1.2.2  (landing page)Huang Lin  OK    OK    OK    OK  UNNEEDED, same version is already published
56/2041AneuFinder 1.20.0  (landing page)Aaron Taudt  OK    OK    OK    OK  UNNEEDED, same version is already published
57/2041ANF 1.14.0  (landing page)Tianle Ma  OK    OK    OK    OK  UNNEEDED, same version is already published
58/2041animalcules 1.8.1  (landing page)Yue Zhao  OK    OK    OK    OK  UNNEEDED, same version is already published
59/2041annaffy 1.64.2  (landing page)Colin A. Smith  OK    OK    WARNINGS    OK  UNNEEDED, same version is already published
60/2041annmap 1.34.0  (landing page)Chris Wirth  OK    OK    WARNINGS    OK  UNNEEDED, same version is already published
61/2041annotate 1.70.0  (landing page)Bioconductor Package Maintainer  OK    OK    OK    OK  UNNEEDED, same version is already published
62/2041AnnotationDbi 1.54.1  (landing page)Bioconductor Package Maintainer  OK    OK    OK    OK  UNNEEDED, same version is already published
63/2041AnnotationFilter 1.16.0  (landing page)Bioconductor Package Maintainer  OK    OK    OK    OK  UNNEEDED, same version is already published
64/2041AnnotationForge 1.34.1  (landing page)Bioconductor Package Maintainer  OK    OK    OK    OK  UNNEEDED, same version is already published
65/2041AnnotationFuncs 1.42.0  (landing page)Stefan McKinnon Edwards  OK    ERROR  skippedskipped
66/2041AnnotationHub 3.0.2  (landing page)Bioconductor Package Maintainer  OK    OK    WARNINGS    OK  YES
67/2041AnnotationHubData 1.22.0  (landing page)Bioconductor Package Maintainer  OK    OK    ERROR    OK  
68/2041annotationTools 1.66.0  (landing page)Alexandre Kuhn  OK    OK    OK    OK  UNNEEDED, same version is already published
69/2041annotatr 1.18.1  (landing page)Raymond G. Cavalcante  OK    OK    WARNINGS    OK  UNNEEDED, same version is already published
70/2041anota 1.40.0  (landing page)Ola Larsson  OK    OK    OK    OK  UNNEEDED, same version is already published
71/2041anota2seq 1.14.0  (landing page)Christian Oertlin , Julie Lorent  OK    OK    OK    OK  UNNEEDED, same version is already published
72/2041antiProfiles 1.32.0  (landing page)Hector Corrada Bravo  OK    OK    OK    OK  UNNEEDED, same version is already published
73/2041AnVIL 1.4.1  (landing page)Martin Morgan  OK    OK    OK    OK  UNNEEDED, same version is already published
74/2041AnVILBilling 1.2.0  (landing page)Vince Carey  OK    OK    OK    OK  UNNEEDED, same version is already published
75/2041AnVILPublish 1.2.0  (landing page)Martin Morgan  OK    OK    OK    OK  UNNEEDED, same version is already published
76/2041APAlyzer 1.6.0  (landing page)Ruijia Wang  OK    OK    OK    OK  UNNEEDED, same version is already published
77/2041apComplex 2.58.0  (landing page)Denise Scholtens  OK    OK    OK    OK  UNNEEDED, same version is already published
78/2041apeglm 1.14.0  (landing page)Anqi Zhu  OK    OK    OK    OK  UNNEEDED, same version is already published
79/2041appreci8R 1.10.0  (landing page)Sarah Sandmann  OK    OK    OK    OK  UNNEEDED, same version is already published
80/2041aroma.light 3.22.0  (landing page)Henrik Bengtsson  OK    OK    OK    OK  UNNEEDED, same version is already published
81/2041ArrayExpress 1.52.0  (landing page)Suhaib Mohammed  OK    OK    OK    OK  UNNEEDED, same version is already published
82/2041ArrayExpressHTS 1.42.0  (landing page)Angela Goncalves , Andrew Tikhonov  OK    OK    OK    OK  UNNEEDED, same version is already published
83/2041arrayMvout 1.50.0  (landing page)V. Carey  OK    OK    OK    OK  UNNEEDED, same version is already published
84/2041arrayQuality 1.70.0  (landing page)Agnes Paquet  OK    OK    WARNINGS    OK  UNNEEDED, same version is already published
85/2041arrayQualityMetrics 3.48.0  (landing page)Mike Smith  OK    OK    OK    OK  UNNEEDED, same version is already published
86/2041ArrayTools 1.52.0  (landing page)Arthur Li  OK    ERROR  skippedskipped
87/2041ARRmNormalization 1.32.0  (landing page)Jean-Philippe Fortin  OK    OK    OK    OK  UNNEEDED, same version is already published
88/2041artMS 1.10.2  (landing page)David Jimenez-Morales  OK    OK    OK    OK  UNNEEDED, same version is already published
89/2041ASAFE 1.18.0  (landing page)Qian Zhang  OK    OK    OK    OK  UNNEEDED, same version is already published
90/2041ASEB 1.36.0  (landing page)Likun Wang  OK    OK    OK    OK  UNNEEDED, same version is already published
91/2041ASGSCA 1.26.0  (landing page)Hela Romdhani  OK    OK    OK    OK  UNNEEDED, same version is already published
92/2041ASICS 2.8.0  (landing page)Gaëlle Lefort  OK    OK    OK    OK  UNNEEDED, same version is already published
93/2041ASpediaFI 1.6.0  (landing page)Doyeong Yu  OK    OK    OK    OK  UNNEEDED, same version is already published
94/2041ASpli 2.2.0  (landing page)Estefania Mancini  OK    OK    OK    OK  UNNEEDED, same version is already published
95/2041AssessORF 1.10.0  (landing page)Deepank Korandla  OK    OK    OK    OK  UNNEEDED, same version is already published
96/2041ASSET 2.10.1  (landing page)Samsiddhi Bhattacharjee  OK    OK    OK    OK  UNNEEDED, same version is already published
97/2041ASSIGN 1.28.1  (landing page)Ying Shen , W. Evan Johnson  OK    OK    OK    OK  UNNEEDED, same version is already published
98/2041ATACseqQC 1.16.0  (landing page)Jianhong Ou  OK    OK    OK    OK  UNNEEDED, same version is already published
99/2041atSNP 1.8.0  (landing page)Sunyoung Shin  OK    OK    OK    OK  UNNEEDED, same version is already published
100/2041attract 1.44.0  (landing page)Samuel Zimmerman  OK    ERROR  skippedskipped
101/2041AUCell 1.14.0  (landing page)Sara Aibar  OK    OK    OK    OK  UNNEEDED, same version is already published
102/2041autonomics 1.0.1  (landing page)Aditya Bhagwat  OK    OK    WARNINGS    OK  UNNEEDED, same version is already published
103/2041Autotuner 1.6.0  (landing page)Craig McLean  OK    OK    OK    OK  UNNEEDED, same version is already published
104/2041AWFisher 1.6.0  (landing page)Zhiguang Huo  OK    OK    OK    OK  UNNEEDED, same version is already published
105/2041awst 1.0.0  (landing page)Davide Risso  OK    OK    OK    OK  UNNEEDED, same version is already published
B
ABCDEFGHIJKLMNOPQRSTUVWXYZ
PackageMaintainerINSTALLBUILDCHECKBUILD BIN
106/2041BaalChIP 1.18.0  (landing page)Ines de Santiago  OK    OK    WARNINGS    OK  UNNEEDED, same version is already published
107/2041BAC 1.52.0  (landing page)Raphael Gottardo  OK    OK    OK    OK  UNNEEDED, same version is already published
108/2041bacon 1.20.0  (landing page)Maarten van Iterson  OK    OK    OK    OK  UNNEEDED, same version is already published
109/2041BADER 1.30.0  (landing page)Andreas Neudecker  OK    OK    OK    OK  UNNEEDED, same version is already published
110/2041BadRegionFinder 1.20.0  (landing page)Sarah Sandmann  OK    OK    OK    OK  UNNEEDED, same version is already published
111/2041BAGS 2.32.0  (landing page)Alejandro Quiroz-Zarate  OK    OK    OK    OK  UNNEEDED, same version is already published
112/2041ballgown 2.24.0  (landing page)Jack Fu  OK    OK    OK    OK  UNNEEDED, same version is already published
113/2041bambu 1.2.1  (landing page)Ying Chen  OK    OK    OK    OK  UNNEEDED, same version is already published
114/2041bamsignals 1.24.0  (landing page)Johannes Helmuth  OK    OK    OK    OK  UNNEEDED, same version is already published
115/2041BANDITS 1.8.0  (landing page)Simone Tiberi  OK    OK    OK    OK  UNNEEDED, same version is already published
116/2041banocc 1.16.0  (landing page)George Weingart  OK    OK    OK    OK  UNNEEDED, same version is already published
117/2041barcodetrackR 1.0.0  (landing page)Diego Alexander Espinoza  OK    OK    OK    OK  UNNEEDED, same version is already published
118/2041basecallQC 1.16.0  (landing page)Thomas Carroll  OK    OK    OK    OK  UNNEEDED, same version is already published
119/2041BaseSpaceR 1.36.0  (landing page)Jared O'Connell  OK    OK    OK    OK  UNNEEDED, same version is already published
120/2041Basic4Cseq 1.28.0  (landing page)Carolin Walter  OK    OK    OK    OK  UNNEEDED, same version is already published
121/2041BASiCS 2.4.0  (landing page)Alan O'Callaghan  OK    OK    OK    OK  UNNEEDED, same version is already published
122/2041BasicSTARRseq 1.20.0  (landing page)Annika Buerger  OK    OK    OK    OK  UNNEEDED, same version is already published
123/2041basilisk 1.4.0  (landing page)Aaron Lun  OK    OK    OK    OK  UNNEEDED, same version is already published
124/2041basilisk.utils 1.4.0  (landing page)Aaron Lun  OK    OK    OK    OK  UNNEEDED, same version is already published
125/2041batchelor 1.8.1  (landing page)Aaron Lun  OK    OK    OK    OK  UNNEEDED, same version is already published
126/2041BatchQC 1.20.0  (landing page)Solaiappan Manimaran  OK    OK    OK    OK  UNNEEDED, same version is already published
127/2041BayesKnockdown 1.18.0  (landing page)William Chad Young  OK    OK    OK    OK  UNNEEDED, same version is already published
128/2041BayesSpace 1.2.1  (landing page)Matt Stone  OK    OK    OK    OK  UNNEEDED, same version is already published
129/2041bayNorm 1.10.0  (landing page)Wenhao Tang  OK    OK    OK    OK  UNNEEDED, same version is already published
130/2041baySeq 2.26.0  (landing page)Thomas J. Hardcastle  OK    OK    OK    OK  UNNEEDED, same version is already published
131/2041BBCAnalyzer 1.22.0  (landing page)Sarah Sandmann  OK    OK    OK    OK  UNNEEDED, same version is already published
132/2041BCRANK 1.54.0  (landing page)Adam Ameur  OK    OK    OK    OK  UNNEEDED, same version is already published
133/2041bcSeq 1.14.0  (landing page)Jiaxing Lin  OK    OK    OK    OK  UNNEEDED, same version is already published
134/2041BDMMAcorrect 1.10.0  (landing page)ZHENWEI DAI  OK    OK    OK    OK  UNNEEDED, same version is already published
135/2041beachmat 2.8.1  (landing page)Aaron Lun  OK    OK    OK    OK  UNNEEDED, same version is already published
136/2041beadarray 2.42.0  (landing page)Mark Dunning  OK    OK    OK    OK  UNNEEDED, same version is already published
137/2041beadarraySNP 1.58.0  (landing page)Jan Oosting  OK    OK    OK    OK  UNNEEDED, same version is already published
138/2041BeadDataPackR 1.44.0  (landing page)Mike Smith  OK    OK    OK    OK  UNNEEDED, same version is already published
139/2041BEARscc 1.12.0  (landing page)Benjamin Schuster-Boeckler  OK    OK    OK    OK  UNNEEDED, same version is already published
140/2041BEAT 1.30.0  (landing page)Kemal Akman  OK    OK    OK    OK  UNNEEDED, same version is already published
141/2041BEclear 2.8.0  (landing page)David Rasp  OK    OK    OK    OK  UNNEEDED, same version is already published
142/2041BgeeCall 1.8.0  (landing page)Julien Wollbrett  OK    OK    OK    OK  UNNEEDED, same version is already published
143/2041BgeeDB 2.18.1  (landing page)Julien Wollbrett , Julien Roux , Andrea Komljenovic , Frederic Bastian  OK    OK    OK    OK  UNNEEDED, same version is already published
144/2041BGmix 1.52.0  (landing page)Alex Lewin  OK    OK    OK    OK  UNNEEDED, same version is already published
145/2041bgx 1.58.0  (landing page)Ernest Turro  OK    OK    WARNINGS    OK  UNNEEDED, same version is already published
146/2041BHC 1.44.0  (landing page)Rich Savage  OK    OK    OK    OK  UNNEEDED, same version is already published
147/2041BicARE 1.50.0  (landing page)Pierre Gestraud  OK    OK    OK    OK  UNNEEDED, same version is already published
148/2041BiFET 1.12.0  (landing page)Ahrim Youn  OK    OK    OK    OK  UNNEEDED, same version is already published
149/2041BiGGR   (landing page)... NOT SUPPORTED ...
150/2041bigmelon 1.18.0  (landing page)Tyler J. Gorrie-Stone  OK    OK    OK    OK  UNNEEDED, same version is already published
151/2041bigmemoryExtras 1.40.0  (landing page)Peter M. Haverty  OK    OK    ERROR    OK  
152/2041bigPint 1.8.0  (landing page)Lindsay Rutter  OK    OK    WARNINGS    OK  UNNEEDED, same version is already published
153/2041bioassayR 1.30.0  (landing page)Daniela Cassol  OK    OK    OK    OK  UNNEEDED, same version is already published
154/2041Biobase 2.52.0  (landing page)Bioconductor Package Maintainer  OK    OK    OK    OK  UNNEEDED, same version is already published
155/2041biobroom 1.24.0  (landing page)John D. Storey and Andrew J. Bass  OK    OK    WARNINGS    OK  UNNEEDED, same version is already published
156/2041biobtreeR 1.4.0  (landing page)Tamer Gur  OK    OK    OK    OK  UNNEEDED, same version is already published
157/2041bioCancer 1.20.02  (landing page)Karim Mezhoud  OK    OK    OK    OK  UNNEEDED, same version is already published
158/2041BiocCaseStudies 1.54.0  (landing page)Bioconductor Package Maintainer  OK    OK    ERROR    OK  
159/2041BiocCheck 1.28.0  (landing page)Bioconductor Package Maintainer  OK    OK    OK    OK  UNNEEDED, same version is already published
160/2041BiocDockerManager 1.4.0  (landing page)Bioconductor Package Maintainer  OK    OK    OK    OK  UNNEEDED, same version is already published
161/2041BiocFileCache 2.0.0  (landing page)Lori Shepherd  OK    OK    OK    OK  UNNEEDED, same version is already published
162/2041BiocGenerics 0.38.0  (landing page)Bioconductor Package Maintainer  OK    OK    WARNINGS    OK  UNNEEDED, same version is already published
163/2041biocGraph 1.54.0  (landing page)Florian Hahne  OK    OK    OK    OK  UNNEEDED, same version is already published
164/2041BiocIO 1.2.0  (landing page)Bioconductor Package Maintainer  OK    OK    OK    OK  UNNEEDED, same version is already published
165/2041BiocNeighbors 1.10.0  (landing page)Aaron Lun  OK    OK    OK    OK  UNNEEDED, same version is already published
166/2041BiocOncoTK 1.12.1  (landing page)VJ Carey  OK    OK    OK    OK  UNNEEDED, same version is already published
167/2041BioCor 1.16.0  (landing page)Lluís Revilla Sancho  OK    OK    OK    OK  UNNEEDED, same version is already published
168/2041BiocParallel 1.26.2  (landing page)Bioconductor Package Maintainer  OK    OK    OK    OK  UNNEEDED, same version is already published
169/2041BiocPkgTools 1.10.2  (landing page)Sean Davis  OK    OK    OK    OK  UNNEEDED, same version is already published
170/2041BiocSet 1.6.1  (landing page)Kayla Morrell  OK    OK    ERROR    OK  
171/2041BiocSingular 1.8.1  (landing page)Aaron Lun  OK    OK    OK    OK  UNNEEDED, same version is already published
172/2041BiocSklearn 1.14.1  (landing page)Vince Carey  OK    OK    OK    OK  UNNEEDED, same version is already published
173/2041BiocStyle 2.20.2  (landing page)Bioconductor Package  OK    OK    OK    OK  UNNEEDED, same version is already published
174/2041biocthis 1.2.0  (landing page)Leonardo Collado-Torres  OK    OK    OK    OK  UNNEEDED, same version is already published
175/2041BiocVersion 3.13.1  (landing page)Bioconductor Package Maintainer  OK    OK    OK    OK  UNNEEDED, same version is already published
176/2041biocViews 1.60.0  (landing page)Bioconductor Package Maintainer  OK    OK    OK    OK  UNNEEDED, same version is already published
177/2041BiocWorkflowTools 1.18.0  (landing page)Mike Smith  OK    OK    OK    OK  UNNEEDED, same version is already published
178/2041biodb 1.0.4  (landing page)Pierrick Roger  OK    OK    OK    OK  UNNEEDED, same version is already published
179/2041bioDist 1.64.0  (landing page)Bioconductor Package Maintainer  OK    OK    OK    OK  UNNEEDED, same version is already published
180/2041biomaRt 2.48.3  (landing page)Mike Smith  OK    OK    OK    OK  UNNEEDED, same version is already published
181/2041biomformat 1.20.0  (landing page)Paul J. McMurdie  OK    OK    WARNINGS    OK  UNNEEDED, same version is already published
182/2041BioMM 1.8.0  (landing page)Junfang Chen  OK    OK    OK    OK  UNNEEDED, same version is already published
183/2041BioMVCClass 1.60.0  (landing page)Elizabeth Whalen  OK    OK    OK    OK  UNNEEDED, same version is already published
184/2041biomvRCNS 1.32.0  (landing page)Yang Du  OK    OK    OK    OK  UNNEEDED, same version is already published
185/2041BioNERO 1.0.4  (landing page)Fabricio Almeida-Silva  OK    OK    OK    OK  UNNEEDED, same version is already published
186/2041BioNet 1.52.0  (landing page)Marcus Dittrich  OK    OK    OK    OK  UNNEEDED, same version is already published
187/2041BioNetStat 1.12.0  (landing page)Vinicius Jardim  OK    OK    OK    OK  UNNEEDED, same version is already published
188/2041BioQC 1.20.0  (landing page)Jitao David Zhang  OK    OK    OK    OK  UNNEEDED, same version is already published
189/2041biosigner 1.20.0  (landing page)Philippe Rinaudo , Etienne Thevenot  OK    OK    OK    OK  UNNEEDED, same version is already published
190/2041Biostrings 2.60.2  (landing page)H. Pagès  OK    OK    WARNINGS    OK  UNNEEDED, same version is already published
191/2041BioTIP 1.6.0  (landing page)Yuxi (Jennifer) Sun , Zhezhen Wang , and X Holly Yang  OK    OK    WARNINGS    OK  UNNEEDED, same version is already published
192/2041biotmle 1.16.0  (landing page)Nima Hejazi  OK    OK    OK    OK  UNNEEDED, same version is already published
193/2041biovizBase 1.40.0  (landing page)Michael Lawrence  OK    OK    WARNINGS    OK  UNNEEDED, same version is already published
194/2041BiRewire 3.24.0  (landing page)Andrea Gobbi  OK    OK    OK    OK  UNNEEDED, same version is already published
195/2041biscuiteer 1.6.0  (landing page)"Jacob Morrison"  OK    OK    WARNINGS    OK  UNNEEDED, same version is already published
196/2041BiSeq 1.32.0  (landing page)Katja Hebestreit  OK    OK    OK    OK  UNNEEDED, same version is already published
197/2041BitSeq 1.36.0  (landing page)Antti Honkela , Panagiotis Papastamoulis  OK    OK    WARNINGS    OK  UNNEEDED, same version is already published
198/2041blacksheepr 1.6.0  (landing page)RugglesLab  OK    OK    OK    OK  UNNEEDED, same version is already published
199/2041blima 1.26.0  (landing page)Vojtěch Kulvait  OK    OK    WARNINGS    OK  UNNEEDED, same version is already published
200/2041BLMA 1.16.0  (landing page)Hung Nguyen  OK    OK    OK    OK  UNNEEDED, same version is already published
201/2041BloodGen3Module 1.0.0  (landing page)Darawan Rinchai  OK    OK    WARNINGS    OK  UNNEEDED, same version is already published
202/2041bluster 1.2.1  (landing page)Aaron Lun  OK    OK    OK    OK  UNNEEDED, same version is already published
203/2041bnbc 1.14.0  (landing page)Kipper Fletez-Brant  OK    OK    OK    OK  UNNEEDED, same version is already published
204/2041bnem 1.0.0  (landing page)Martin Pirkl  OK    OK    OK    OK  UNNEEDED, same version is already published
205/2041BPRMeth 1.18.0  (landing page)Chantriolnt-Andreas Kapourani  OK    OK    OK    OK  UNNEEDED, same version is already published
206/2041BRAIN 1.38.0  (landing page)Piotr Dittwald  OK    OK    WARNINGS    OK  UNNEEDED, same version is already published
207/2041brainflowprobes 1.6.0  (landing page)Amanda Price  OK    OK    OK    OK  UNNEEDED, same version is already published
208/2041BrainSABER 1.2.0  (landing page)USD Biomedical Engineering  OK    ERROR  skippedskipped
209/2041BrainStars 1.36.0  (landing page)Itoshi NIKAIDO  OK    ERROR  skippedskipped
210/2041branchpointer 1.18.0  (landing page)Beth Signal  OK    OK    OK    OK  UNNEEDED, same version is already published
211/2041breakpointR 1.10.0  (landing page)David Porubsky  OK    OK    OK    OK  UNNEEDED, same version is already published
212/2041brendaDb 1.6.0  (landing page)Yi Zhou  OK    OK    OK    OK  UNNEEDED, same version is already published
213/2041BRGenomics 1.4.0  (landing page)Mike DeBerardine  OK    OK    WARNINGS    OK  UNNEEDED, same version is already published
214/2041bridge 1.56.0  (landing page)Raphael Gottardo  OK    OK    OK    OK  UNNEEDED, same version is already published
215/2041BridgeDbR 2.2.1  (landing page)Egon Willighagen  OK    OK    OK    OK  UNNEEDED, same version is already published
216/2041BrowserViz 2.14.1  (landing page)Paul Shannon  OK    OK    OK    OK  UNNEEDED, same version is already published
217/2041BSgenome 1.60.0  (landing page)H. Pagès  OK    OK    WARNINGS    OK  UNNEEDED, same version is already published
218/2041bsseq 1.28.0  (landing page)Kasper Daniel Hansen  OK    OK    OK    OK  UNNEEDED, same version is already published
219/2041BubbleTree 2.22.0  (landing page)Todd Creasy , Wei Zhu  OK    OK    OK    OK  UNNEEDED, same version is already published
220/2041BufferedMatrix 1.56.0  (landing page)Ben Bolstad  OK    OK    WARNINGS    OK  UNNEEDED, same version is already published
221/2041BufferedMatrixMethods 1.56.0  (landing page)Ben Bolstad  OK    OK    OK    OK  UNNEEDED, same version is already published
222/2041BUMHMM 1.16.0  (landing page)Alina Selega  OK    OK    OK    OK  UNNEEDED, same version is already published
223/2041bumphunter 1.34.0  (landing page)Rafael A. Irizarry  OK    OK    ERROR    OK  
224/2041BumpyMatrix 1.0.1  (landing page)Aaron Lun  OK    OK    OK    OK  UNNEEDED, same version is already published
225/2041BUS 1.48.0  (landing page)Yuanhua Liu  OK    OK    OK    OK  UNNEEDED, same version is already published
226/2041BUScorrect 1.10.0  (landing page)Xiangyu Luo  OK    OK    OK    OK  UNNEEDED, same version is already published
227/2041BUSpaRse 1.6.1  (landing page)Lambda Moses  OK    OK    OK    OK  UNNEEDED, same version is already published
C
ABCDEFGHIJKLMNOPQRSTUVWXYZ
PackageMaintainerINSTALLBUILDCHECKBUILD BIN
228/2041CAEN 1.0.0  (landing page)Zhou Yan  OK    OK    OK    OK  UNNEEDED, same version is already published
229/2041CAFE 1.28.0  (landing page)Sander Bollen  OK    OK    WARNINGS    OK  UNNEEDED, same version is already published
230/2041CAGEfightR 1.12.0  (landing page)Malte Thodberg  OK    OK    OK    OK  UNNEEDED, same version is already published
231/2041CAGEr 1.34.0  (landing page)Charles Plessy  OK    OK    WARNINGS    OK  UNNEEDED, same version is already published
232/2041calm 1.6.0  (landing page)Kun Liang  OK    OK    OK    OK  UNNEEDED, same version is already published
233/2041CAMERA 1.48.0  (landing page)Steffen Neumann  OK    OK    OK    OK  UNNEEDED, same version is already published
234/2041canceR 1.26.0  (landing page)Karim Mezhoud  OK    OK    OK    OK  UNNEEDED, same version is already published
235/2041cancerclass 1.36.0  (landing page)Daniel Kosztyla  OK    OK    WARNINGS    OK  UNNEEDED, same version is already published
236/2041CancerInSilico 2.12.0  (landing page)Thomas D. Sherman  OK    OK    OK    OK  UNNEEDED, same version is already published
237/2041CancerMutationAnalysis 1.34.0  (landing page)Simina M. Boca  OK    ERROR  skippedskipped
238/2041CancerSubtypes 1.18.0  (landing page)Taosheng Xu  OK    OK    OK    OK  UNNEEDED, same version is already published
239/2041CAnD 1.24.0  (landing page)Caitlin McHugh  OK    OK    OK    OK  UNNEEDED, same version is already published
240/2041caOmicsV 1.22.0  (landing page)Henry Zhang  OK    OK    WARNINGS    OK  UNNEEDED, same version is already published
241/2041Cardinal 2.10.0  (landing page)Kylie A. Bemis  OK    OK    OK    OK  UNNEEDED, same version is already published
242/2041CARNIVAL 2.2.0  (landing page)Olga Ivanova  OK    OK    OK    OK  UNNEEDED, same version is already published
243/2041casper 2.26.0  (landing page)David Rossell  OK    OK    WARNINGS    OK  UNNEEDED, same version is already published
244/2041CATALYST 1.16.2  (landing page)Helena L. Crowell  OK    OK    OK    OK  UNNEEDED, same version is already published
245/2041Category 2.58.0  (landing page)Bioconductor Package Maintainer  OK    OK    OK    OK  UNNEEDED, same version is already published
246/2041categoryCompare 1.36.0  (landing page)Robert M. Flight  OK    OK    OK    OK  UNNEEDED, same version is already published
247/2041CausalR 1.24.0  (landing page)Glyn Bradley , Steven Barrett  OK    OK    OK    OK  UNNEEDED, same version is already published
248/2041cbaf 1.14.0  (landing page)Arman Shahrisa  OK    OK    OK    OK  UNNEEDED, same version is already published
249/2041cBioPortalData 2.4.10  (landing page)Marcel Ramos  OK    OK    WARNINGS    OK  YES
250/2041cbpManager 1.0.2  (landing page)Arsenij Ustjanzew  OK    OK    OK    OK  UNNEEDED, same version is already published
251/2041ccfindR 1.12.0  (landing page)Jun Woo  OK    OK    OK    OK  UNNEEDED, same version is already published
252/2041ccmap 1.18.0  (landing page)Alex Pickering  OK    OK    WARNINGS    OK  UNNEEDED, same version is already published
253/2041CCPROMISE 1.18.0  (landing page)Xueyuan Cao  OK    OK    WARNINGS    OK  UNNEEDED, same version is already published
254/2041ccrepe 1.28.0  (landing page)Emma Schwager ,Craig Bielski, George Weingart  OK    OK    OK    OK  UNNEEDED, same version is already published
255/2041celaref 1.10.0  (landing page)Sarah Williams  OK    OK    OK    OK  UNNEEDED, same version is already published
256/2041celda 1.8.1  (landing page)Joshua Campbell  OK    OK    OK    OK  UNNEEDED, same version is already published
257/2041CellaRepertorium 1.2.0  (landing page)Andrew McDavid  OK    OK    WARNINGS    OK  UNNEEDED, same version is already published
258/2041cellbaseR 1.16.0  (landing page)Mohammed OE Abdallah  OK    OK    OK    OK  UNNEEDED, same version is already published
259/2041CellBench 1.8.0  (landing page)Shian Su  OK    OK    OK    OK  UNNEEDED, same version is already published
260/2041cellHTS2 2.56.0  (landing page)Joseph Barry  OK    OK    OK    OK  UNNEEDED, same version is already published
261/2041CelliD 1.0.0  (landing page)Akira Cortal  OK    OK    OK    OK  UNNEEDED, same version is already published
262/2041cellity 1.20.0  (landing page)Tomislav Ilicic  OK    OK    OK    OK  UNNEEDED, same version is already published
263/2041CellMapper 1.18.0  (landing page)Brad Nelms  OK    OK    WARNINGS    OK  UNNEEDED, same version is already published
264/2041cellmigRation 1.0.0  (landing page)Waldir Leoncio  OK    OK    OK    OK  UNNEEDED, same version is already published
265/2041CellMixS 1.8.0  (landing page)Almut Lütge  OK    OK    OK    OK  UNNEEDED, same version is already published
266/2041CellNOptR 1.38.0  (landing page)A.Gabor  OK    OK    WARNINGS    OK  UNNEEDED, same version is already published
267/2041cellscape 1.16.0  (landing page)Maia Smith  OK    OK    WARNINGS    OK  UNNEEDED, same version is already published
268/2041CellScore 1.12.0  (landing page)Nancy Mah  OK    OK    OK    OK  UNNEEDED, same version is already published
269/2041CellTrails 1.10.0  (landing page)Daniel Ellwanger  OK    OK    OK    OK  UNNEEDED, same version is already published
270/2041cellTree 1.22.0  (landing page)David duVerle  OK    OK    OK    OK  UNNEEDED, same version is already published
271/2041CEMiTool 1.16.0  (landing page)Helder Nakaya  OK    OK    OK    OK  UNNEEDED, same version is already published
272/2041censcyt 1.0.0  (landing page)Reto Gerber  OK    OK    OK    OK  UNNEEDED, same version is already published
273/2041ceRNAnetsim 1.4.0  (landing page)Selcen Ari Yuka  OK    OK    OK    OK  UNNEEDED, same version is already published
274/2041CeTF 1.4.5  (landing page)Carlos Alberto Oliveira de Biagi Junior  OK    OK    OK    OK  UNNEEDED, same version is already published
275/2041CexoR 1.30.1  (landing page)Pedro Madrigal  OK    OK    ERROR    OK  
276/2041CFAssay 1.26.0  (landing page)Herbert Braselmann  OK    OK    OK    OK  UNNEEDED, same version is already published
277/2041CGEN 3.28.0  (landing page)Nilotpal Sanyal  OK    OK    OK    OK  UNNEEDED, same version is already published
278/2041CGHbase 1.52.0  (landing page)Mark van de Wiel  OK    OK    OK    OK  UNNEEDED, same version is already published
279/2041CGHcall 2.54.0  (landing page)Mark van de Wiel  OK    OK    WARNINGS    OK  UNNEEDED, same version is already published
280/2041cghMCR 1.50.0  (landing page)J. Zhang  OK    OK    WARNINGS    OK  UNNEEDED, same version is already published
281/2041CGHnormaliter 1.46.0  (landing page)Bart P.P. van Houte  OK    OK    OK    OK  UNNEEDED, same version is already published
282/2041CGHregions 1.50.0  (landing page)Sjoerd Vosse  OK    OK    OK    OK  UNNEEDED, same version is already published
283/2041ChAMP 2.22.0  (landing page)Yuan Tian  OK    OK    WARNINGS    OK  UNNEEDED, same version is already published
284/2041ChemmineOB 1.30.0  (landing page)Thomas Girke  OK    OK    WARNINGS    OK  UNNEEDED, same version is already published
285/2041ChemmineR 3.44.0  (landing page)Thomas Girke  OK    OK    WARNINGS    OK  UNNEEDED, same version is already published
286/2041CHETAH 1.8.0  (landing page)Jurrian de Kanter  OK    ERROR  skippedskipped
287/2041ChIC 1.12.0  (landing page)Carmen Maria Livi  OK    OK    OK    OK  UNNEEDED, same version is already published
288/2041Chicago 1.20.0  (landing page)Mikhail Spivakov  OK    OK    OK    OK  UNNEEDED, same version is already published
289/2041chimeraviz 1.18.0  (landing page)Stian Lågstad  OK    OK    OK    OK  UNNEEDED, same version is already published
290/2041ChIPanalyser 1.14.0  (landing page)Patrick C.N. Martin  OK    OK    OK    OK  UNNEEDED, same version is already published
291/2041ChIPComp 1.22.0  (landing page)Li Chen  OK    OK    OK    OK  UNNEEDED, same version is already published
292/2041chipenrich 2.16.0  (landing page)Raymond G. Cavalcante  OK    OK    WARNINGS    OK  UNNEEDED, same version is already published
293/2041ChIPexoQual 1.16.0  (landing page)Rene Welch  OK    OK    OK    OK  UNNEEDED, same version is already published
294/2041ChIPpeakAnno 3.26.4  (landing page)Jianhong Ou  OK    OK    OK    OK  UNNEEDED, same version is already published
295/2041ChIPQC 1.28.0  (landing page)Tom Carroll , Rory Stark  OK    OK    WARNINGS    OK  UNNEEDED, same version is already published
296/2041ChIPseeker 1.28.3  (landing page)Guangchuang Yu  OK    OK    OK    OK  UNNEEDED, same version is already published
297/2041chipseq 1.42.0  (landing page)Bioconductor Package Maintainer  OK    OK    WARNINGS    OK  UNNEEDED, same version is already published
298/2041ChIPseqR 1.46.0  (landing page)Peter Humburg  OK    OK    OK    OK  UNNEEDED, same version is already published
299/2041ChIPSeqSpike 1.12.0  (landing page)Nicolas Descostes  OK    ERROR  skippedskipped
300/2041ChIPsim 1.46.0  (landing page)Peter Humburg  OK    OK    OK    OK  UNNEEDED, same version is already published
301/2041ChIPXpress 1.36.0  (landing page)George Wu  OK    OK    OK    OK  UNNEEDED, same version is already published
302/2041chopsticks 1.58.0  (landing page)Hin-Tak Leung  OK    OK    WARNINGS    OK  UNNEEDED, same version is already published
303/2041chromDraw 2.22.0  (landing page)Jan Janecka  OK    OK    WARNINGS    OK  UNNEEDED, same version is already published
304/2041ChromHeatMap 1.46.0  (landing page)Tim F. Rayner  OK    OK    OK    OK  UNNEEDED, same version is already published
305/2041chromPlot 1.20.0  (landing page)Karen Y. Orostica  OK    OK    OK    OK  UNNEEDED, same version is already published
306/2041ChromSCape 1.2.62  (landing page)Pacome Prompsy  OK    OK    OK    OK  UNNEEDED, same version is already published
307/2041chromstaR 1.18.0  (landing page)Aaron Taudt  OK    ERROR  skippedskipped
308/2041chromswitch 1.14.0  (landing page)Selin Jessa  OK    OK    OK    OK  UNNEEDED, same version is already published
309/2041chromVAR 1.14.0  (landing page)Alicia Schep  OK    OK    OK    OK  UNNEEDED, same version is already published
310/2041CHRONOS 1.20.0  (landing page)Panos Balomenos  OK    OK    OK    OK  UNNEEDED, same version is already published
311/2041cicero 1.10.1  (landing page)Hannah Pliner  OK    OK    OK    OK  UNNEEDED, same version is already published
312/2041CIMICE   (landing page) ERROR  (Bad DESCRIPTION file)
313/2041CINdex 1.20.0  (landing page)Yuriy Gusev  OK    OK    WARNINGS    OK  UNNEEDED, same version is already published
314/2041circRNAprofiler 1.6.0  (landing page)Simona Aufiero  OK    OK    OK    OK  UNNEEDED, same version is already published
315/2041cisPath 1.32.0  (landing page)Likun Wang  OK    OK    WARNINGS    OK  UNNEEDED, same version is already published
316/2041CiteFuse 1.4.0  (landing page)Yingxin Lin  OK    OK    OK    OK  UNNEEDED, same version is already published
317/2041ClassifyR 2.12.0  (landing page)Dario Strbenac  OK    OK    OK    OK  UNNEEDED, same version is already published
318/2041cleanUpdTSeq 1.30.0  (landing page)Jianhong Ou ; Lihua Julie Zhu  OK    OK    OK    OK  UNNEEDED, same version is already published
319/2041cleaver 1.30.0  (landing page)Sebastian Gibb  OK    OK    OK    OK  UNNEEDED, same version is already published
320/2041clippda 1.42.0  (landing page)Stephen Nyangoma  OK    OK    WARNINGS    OK  UNNEEDED, same version is already published
321/2041clipper 1.32.0  (landing page)Paolo Martini  OK    OK    OK    OK  UNNEEDED, same version is already published
322/2041cliqueMS 1.6.0  (landing page)Oriol Senan Campos  OK    OK    OK    OK  UNNEEDED, same version is already published
323/2041Clomial 1.28.0  (landing page)Habil Zare  OK    OK    OK    OK  UNNEEDED, same version is already published
324/2041Clonality 1.40.0  (landing page)Irina Ostrovnaya  OK    OK    OK    OK  UNNEEDED, same version is already published
325/2041clonotypeR 1.30.0  (landing page)Charles Plessy  OK    ERROR  skippedskipped
326/2041clst 1.40.0  (landing page)Noah Hoffman  OK    OK    WARNINGS    OK  UNNEEDED, same version is already published
327/2041clstutils 1.40.1  (landing page)Noah Hoffman  OK    OK    WARNINGS    OK  UNNEEDED, same version is already published
328/2041CluMSID 1.8.0  (landing page)Tobias Depke  OK    OK    OK    OK  UNNEEDED, same version is already published
329/2041clustComp 1.20.0  (landing page)Aurora Torrente  OK    OK    OK    OK  UNNEEDED, same version is already published
330/2041clusterExperiment 2.12.0  (landing page)Elizabeth Purdom  OK    OK    TIMEOUT    OK  
331/2041ClusterJudge 1.14.0  (landing page)Adrian Pasculescu  OK    OK    OK    OK  UNNEEDED, same version is already published
332/2041clusterProfiler 4.0.5  (landing page)Guangchuang Yu  OK    OK    OK    OK  UNNEEDED, same version is already published
333/2041clusterSeq 1.16.0  (landing page)Thomas J. Hardcastle  OK    OK    OK    OK  UNNEEDED, same version is already published
334/2041ClusterSignificance 1.20.0  (landing page)Jason T Serviss  OK    OK    OK    OK  UNNEEDED, same version is already published
335/2041clusterStab 1.64.0  (landing page)James W. MacDonald  OK    OK    OK    OK  UNNEEDED, same version is already published
336/2041clustifyr 1.4.0  (landing page)Rui Fu  OK    OK    OK    OK  UNNEEDED, same version is already published
337/2041CMA 1.50.0  (landing page)Roman Hornung  OK    OK    OK    OK  UNNEEDED, same version is already published
338/2041cmapR 1.4.0  (landing page)Ted Natoli  OK    OK    OK    OK  UNNEEDED, same version is already published
339/2041cn.farms 1.40.0  (landing page)Andreas Mitterecker  OK    OK    OK    OK  UNNEEDED, same version is already published
340/2041cn.mops 1.38.0  (landing page)Gundula Povysil  OK    OK    OK    OK  UNNEEDED, same version is already published
341/2041CNAnorm 1.38.0  (landing page)Stefano Berri  OK    OK    OK    OK  UNNEEDED, same version is already published
342/2041CNEr 1.28.0  (landing page)Ge Tan  OK    OK    WARNINGS    OK  UNNEEDED, same version is already published
343/2041CNORdt 1.34.0  (landing page)A. MacNamara  OK    OK    OK    OK  UNNEEDED, same version is already published
344/2041CNORfeeder 1.32.0  (landing page)E.Gjerga  OK    OK    OK    OK  UNNEEDED, same version is already published
345/2041CNORfuzzy 1.34.0  (landing page)T. Cokelaer  OK    OK    OK    OK  UNNEEDED, same version is already published
346/2041CNORode 1.34.0  (landing page)Enio Gjerga  OK    OK    WARNINGS    OK  UNNEEDED, same version is already published
347/2041CNTools 1.48.0  (landing page)J. Zhang  OK    OK    OK    OK  UNNEEDED, same version is already published
348/2041CNVfilteR 1.6.2  (landing page)Jose Marcos Moreno-Cabrera  OK    ERROR  skippedskipped
349/2041CNVgears 1.0.0  (landing page)Simone Montalbano  OK    OK    OK    OK  UNNEEDED, same version is already published
350/2041cnvGSA 1.36.0  (landing page)Joseph Lugo  OK    OK    OK    OK  UNNEEDED, same version is already published
351/2041CNViz 1.0.0  (landing page)Rebecca Greenblatt  OK    OK    OK    OK  UNNEEDED, same version is already published
352/2041CNVPanelizer 1.24.0  (landing page)Thomas Wolf  OK    OK    OK    OK  UNNEEDED, same version is already published
353/2041CNVRanger 1.8.0  (landing page)Ludwig Geistlinger  OK    OK    OK    OK  UNNEEDED, same version is already published
354/2041CNVrd2 1.30.0  (landing page)Hoang Tan Nguyen  OK    OK    OK    OK  UNNEEDED, same version is already published
355/2041CoCiteStats 1.64.0  (landing page)Bioconductor Package Maintainer  OK    OK    OK    OK  UNNEEDED, same version is already published
356/2041COCOA 2.6.0  (landing page)John Lawson  OK    OK    OK    OK  UNNEEDED, same version is already published
357/2041codelink 1.60.0  (landing page)Diego Diez  OK    OK    OK    OK  UNNEEDED, same version is already published
358/2041CODEX 1.24.0  (landing page)Yuchao Jiang  OK    OK    OK    OK  UNNEEDED, same version is already published
359/2041coexnet 1.14.0  (landing page)Juan David Henao  OK    OK    OK    OK  UNNEEDED, same version is already published
360/2041CoGAPS 3.12.0  (landing page)Elana J. Fertig  OK    OK    OK    OK  UNNEEDED, same version is already published
361/2041cogena 1.26.0  (landing page)Zhilong Jia  OK    OK    WARNINGS    OK  UNNEEDED, same version is already published
362/2041coGPS 1.36.0  (landing page)Yingying Wei  OK    OK    OK    OK  UNNEEDED, same version is already published
363/2041COHCAP 1.38.0  (landing page)Charles Warden  OK    OK    OK    OK  UNNEEDED, same version is already published
364/2041cola 1.8.1  (landing page)Zuguang Gu  OK    OK    OK    OK  UNNEEDED, same version is already published
365/2041combi 1.4.0  (landing page)Joris Meys  OK    OK    OK    OK  UNNEEDED, same version is already published
366/2041coMET 1.24.0  (landing page)Tiphaine Martin  OK    OK    OK    OK  UNNEEDED, same version is already published
367/2041compartmap 1.10.0  (landing page)Benjamin Johnson  OK    OK    OK    OK  UNNEEDED, same version is already published
368/2041COMPASS 1.30.0  (landing page)Greg Finak  OK    OK    OK    OK  UNNEEDED, same version is already published
369/2041compcodeR 1.28.0  (landing page)Charlotte Soneson  OK    OK    OK    OK  UNNEEDED, same version is already published
370/2041compEpiTools 1.26.0  (landing page)Kamal Kishore  OK    OK    OK    OK  UNNEEDED, same version is already published
371/2041CompGO 1.28.0  (landing page)Ashley J. Waardenberg  OK    OK    WARNINGS    OK  UNNEEDED, same version is already published
372/2041ComplexHeatmap 2.8.0  (landing page)Zuguang Gu  OK    OK    OK    OK  UNNEEDED, same version is already published
373/2041ComPrAn 1.0.0  (landing page)Petra Palenikova  OK    OK    OK    OK  UNNEEDED, same version is already published
374/2041conclus 1.0.0  (landing page)Ilyess Rachedi  OK    OK    OK    OK  UNNEEDED, same version is already published
375/2041condiments 1.0.0  (landing page)Hector Roux de Bezieux  OK    OK    OK    OK  UNNEEDED, same version is already published
376/2041CONFESS 1.20.0  (landing page)Diana LOW  OK    OK    WARNINGS    OK  UNNEEDED, same version is already published
377/2041consensus 1.10.0  (landing page)Tim Peters  OK    OK    OK    OK  UNNEEDED, same version is already published
378/2041ConsensusClusterPlus 1.56.0  (landing page)Matt Wilkerson  OK    OK    OK    OK  UNNEEDED, same version is already published
379/2041consensusDE 1.10.0  (landing page)Ashley J. Waardenberg  OK    OK    OK    OK  UNNEEDED, same version is already published
380/2041consensusOV 1.14.0  (landing page)Benjamin Haibe-Kains  OK    OK    OK    OK  UNNEEDED, same version is already published
381/2041consensusSeekeR 1.20.0  (landing page)Astrid Deschenes  OK    OK    OK    OK  UNNEEDED, same version is already published
382/2041CONSTANd 1.0.0  (landing page)Dirk Valkenborg  OK    OK    OK    OK  UNNEEDED, same version is already published
383/2041contiBAIT 1.20.0  (landing page)Kieran O'Neill  OK    OK    WARNINGS    OK  UNNEEDED, same version is already published
384/2041conumee 1.26.0  (landing page)Volker Hovestadt  OK    OK    OK    OK  UNNEEDED, same version is already published
385/2041convert 1.68.0  (landing page)Yee Hwa (Jean) Yang  OK    OK    OK    OK  UNNEEDED, same version is already published
386/2041copa 1.60.0  (landing page)James W. MacDonald  OK    OK    OK    OK  UNNEEDED, same version is already published
387/2041copynumber 1.32.0  (landing page)Gro Nilsen  OK    OK    OK    OK  UNNEEDED, same version is already published
388/2041CopyNumberPlots 1.8.0  (landing page)Bernat Gel  OK    ERROR  skippedskipped
389/2041CopywriteR 2.24.0  (landing page)Oscar Krijgsman  OK    OK    OK    OK  UNNEEDED, same version is already published
390/2041coRdon 1.10.0  (landing page)Anamaria Elek  OK    OK    OK    OK  UNNEEDED, same version is already published
391/2041CoRegFlux 1.8.0  (landing page)Pauline Trébulle and Mohamed Elati  OK    OK    ERROR    OK  
392/2041CoRegNet 1.30.0  (landing page)Remy Nicolle  OK    OK    WARNINGS    OK  UNNEEDED, same version is already published
393/2041CoreGx 1.4.2  (landing page)Benjamin Haibe-Kains  OK    OK    OK    OK  UNNEEDED, same version is already published
394/2041Cormotif 1.38.0  (landing page)Yingying Wei  OK    OK    OK    OK  UNNEEDED, same version is already published
395/2041corral 1.2.0  (landing page)Lauren Hsu  OK    OK    OK    OK  UNNEEDED, same version is already published
396/2041CORREP 1.58.0  (landing page)Dongxiao Zhu  OK    OK    OK    OK  UNNEEDED, same version is already published
397/2041coseq 1.16.0  (landing page)Andrea Rau  OK    OK    OK    OK  UNNEEDED, same version is already published
398/2041cosmiq 1.26.0  (landing page)David Fischer  OK    OK    OK    OK  UNNEEDED, same version is already published
399/2041cosmosR 1.0.1  (landing page)Katharina Zirngibl  OK    OK    OK    OK  UNNEEDED, same version is already published
400/2041COSNet 1.26.0  (landing page)Marco Frasca  OK    OK    OK    OK  UNNEEDED, same version is already published
401/2041CountClust 1.20.0  (landing page)Kushal Dey  OK    ERROR  skippedskipped
402/2041countsimQC 1.10.0  (landing page)Charlotte Soneson  OK    OK    OK    OK  UNNEEDED, same version is already published
403/2041covEB 1.18.0  (landing page)C. Pacini  OK    OK    OK    OK  UNNEEDED, same version is already published
404/2041CoverageView 1.30.0  (landing page)Ernesto Lowy  OK    OK    WARNINGS    OK  UNNEEDED, same version is already published
405/2041covRNA 1.18.0  (landing page)Lara Urban  OK    OK    OK    OK  UNNEEDED, same version is already published
406/2041cpvSNP 1.24.0  (landing page)Caitlin McHugh  OK    OK    OK    OK  UNNEEDED, same version is already published
407/2041cqn 1.38.0  (landing page)Kasper Daniel Hansen  OK    OK    OK    OK  UNNEEDED, same version is already published
408/2041CRImage 1.40.0  (landing page)Henrik Failmezger , Yinyin Yuan  OK    OK    OK    OK  UNNEEDED, same version is already published
409/2041CRISPRseek 1.32.0  (landing page)Lihua Julie Zhu  OK    OK    OK    OK  UNNEEDED, same version is already published
410/2041crisprseekplus 1.18.0  (landing page)Alper Kucukural  OK    OK    OK    OK  UNNEEDED, same version is already published
411/2041CrispRVariants 1.20.0  (landing page)Helen Lindsay  OK    OK    WARNINGS    OK  UNNEEDED, same version is already published
412/2041crlmm 1.50.0  (landing page)Benilton S Carvalho  OK    OK    OK    OK  UNNEEDED, same version is already published
413/2041CrossICC 1.6.0  (landing page)Yu Sun  ERROR    ERROR  skippedskipped
414/2041crossmeta 1.18.0  (landing page)Alex Pickering  OK    OK    WARNINGS    OK  UNNEEDED, same version is already published
415/2041CSAR 1.44.0  (landing page)Jose M Muino  OK    OK    OK    OK  UNNEEDED, same version is already published
416/2041csaw 1.26.0  (landing page)Aaron Lun  OK    OK    OK    OK  UNNEEDED, same version is already published
417/2041CSSP 1.30.0  (landing page)Chandler Zuo  OK    OK    OK    OK  UNNEEDED, same version is already published
418/2041CSSQ 1.4.1  (landing page)Fan Lab at Georgia Institute of Technology  OK    OK    OK    OK  UNNEEDED, same version is already published
419/2041ctc 1.66.0  (landing page)Antoine Lucas  OK    OK    OK    OK  UNNEEDED, same version is already published
420/2041CTDquerier 2.0.0  (landing page)Xavier Escribà-Montagut  OK    OK    WARNINGS    OK  UNNEEDED, same version is already published
421/2041ctgGEM 1.4.0  (landing page)USD Biomedical Engineering  OK    OK    WARNINGS    OK  UNNEEDED, same version is already published
422/2041cTRAP 1.10.1  (landing page)Nuno Saraiva-Agostinho  OK    OK    OK    OK  UNNEEDED, same version is already published
423/2041ctsGE 1.18.0  (landing page)Michal Sharabi-Schwager  OK    OK    OK    OK  UNNEEDED, same version is already published
424/2041cummeRbund 2.34.0  (landing page)Loyal A. Goff  OK    OK    WARNINGS    OK  UNNEEDED, same version is already published
425/2041customCMPdb 1.2.0  (landing page)Yuzhu Duan  OK    OK    OK    OK  UNNEEDED, same version is already published
426/2041customProDB 1.32.0  (landing page)Xiaojing Wang  OK    OK    OK    OK  UNNEEDED, same version is already published
427/2041cyanoFilter 1.0.0  (landing page)Oluwafemi Olusoji  OK    OK    OK    OK  UNNEEDED, same version is already published
428/2041cycle 1.46.0  (landing page)Matthias Futschik  OK    OK    OK    OK  UNNEEDED, same version is already published
429/2041cydar 1.16.0  (landing page)Aaron Lun  OK    OK    OK    OK  UNNEEDED, same version is already published
430/2041CytoDx 1.12.0  (landing page)Zicheng Hu  OK    OK    OK    OK  UNNEEDED, same version is already published
431/2041cytofast 1.8.0  (landing page)K.A. Stam  OK    OK    ERROR    OK  
432/2041CytoGLMM 1.0.0  (landing page)Christof Seiler  OK    OK    OK    OK  UNNEEDED, same version is already published
433/2041cytolib 2.4.0  (landing page)Mike Jiang  OK    OK    OK    OK  UNNEEDED, same version is already published
434/2041cytomapper 1.4.1  (landing page)Nils Eling  OK    OK    OK    OK  UNNEEDED, same version is already published
435/2041CytoML 2.4.0  (landing page)Mike Jiang  OK    OK    WARNINGS    OK  UNNEEDED, same version is already published
436/2041CytoTree 1.2.0  (landing page)Yuting Dai  OK    OK    OK    OK  UNNEEDED, same version is already published
D
ABCDEFGHIJKLMNOPQRSTUVWXYZ
PackageMaintainerINSTALLBUILDCHECKBUILD BIN
437/2041dada2 1.20.0  (landing page)Benjamin Callahan  OK    OK    OK    OK  UNNEEDED, same version is already published
438/2041dagLogo 1.30.0  (landing page)Jianhong Ou  OK    OK    OK    OK  UNNEEDED, same version is already published
439/2041daMA 1.64.0  (landing page)Jobst Landgrebe  OK    OK    OK    OK  UNNEEDED, same version is already published
440/2041DAMEfinder 1.4.0  (landing page)Stephany Orjuela  OK    OK    OK    OK  UNNEEDED, same version is already published
441/2041DaMiRseq 2.4.3  (landing page)Mattia Chiesa  OK    OK    WARNINGS    OK  UNNEEDED, same version is already published
442/2041DAPAR 1.24.8  (landing page)Samuel Wieczorek  OK    OK    OK    OK  UNNEEDED, same version is already published
443/2041DART 1.40.0  (landing page)Charles Shijie Zheng  OK    OK    OK    OK  UNNEEDED, same version is already published
444/2041dasper 1.2.0  (landing page)David Zhang  OK    OK    OK    OK  UNNEEDED, same version is already published
445/2041DBChIP 1.36.0  (landing page)Kun Liang  ERROR    ERROR  skippedskipped
446/2041dcanr 1.8.0  (landing page)Dharmesh D. Bhuva  OK    OK    OK    OK  UNNEEDED, same version is already published
447/2041dce 1.0.0  (landing page)Kim Philipp Jablonski  OK    OK    OK    OK  UNNEEDED, same version is already published
448/2041dcGSA 1.20.0  (landing page)Jiehuan sun  OK    OK    WARNINGS    OK  UNNEEDED, same version is already published
449/2041ddCt 1.48.0  (landing page)Jitao David Zhang  OK    OK    OK    OK  UNNEEDED, same version is already published
450/2041ddPCRclust 1.12.0  (landing page)Benedikt G. Brink  OK    OK    OK    OK  UNNEEDED, same version is already published
451/2041dearseq 1.4.0  (landing page)Boris P. Hejblum  OK    OK    OK    OK  UNNEEDED, same version is already published
452/2041debCAM 1.10.0  (landing page)Lulu Chen  OK    OK    OK    OK  UNNEEDED, same version is already published
453/2041debrowser 1.20.1  (landing page)Alper Kucukural  OK    OK    OK    OK  UNNEEDED, same version is already published
454/2041DECIPHER 2.20.0  (landing page)Erik Wright  OK    OK    OK    OK  UNNEEDED, same version is already published
455/2041deco 1.8.0  (landing page)Francisco Jose Campos Laborie  OK    OK    WARNINGS    OK  UNNEEDED, same version is already published
456/2041DEComplexDisease 1.12.0  (landing page)Guofeng Meng  OK    OK    OK    OK  UNNEEDED, same version is already published
457/2041decompTumor2Sig 2.8.0  (landing page)Rosario M. Piro  OK    OK    OK    OK  UNNEEDED, same version is already published
458/2041DeconRNASeq 1.34.0  (landing page)Ting Gong  OK    OK    OK    OK  UNNEEDED, same version is already published
459/2041decontam 1.12.0  (landing page)Benjamin Callahan  OK    OK    OK    OK  UNNEEDED, same version is already published
460/2041decoupleR 1.0.0  (landing page)Jesús Vélez  OK    OK    OK    OK  UNNEEDED, same version is already published
461/2041DeepBlueR 1.18.0  (landing page)Felipe Albrecht , Markus List  OK    OK    OK    OK  UNNEEDED, same version is already published
462/2041DeepPINCS 1.0.2  (landing page)Dongmin Jung  OK    OK    OK    OK  UNNEEDED, same version is already published
463/2041deepSNV 1.38.0  (landing page)Moritz Gerstung  OK    OK    OK    OK  UNNEEDED, same version is already published
464/2041DEFormats 1.20.0  (landing page)Andrzej Oleś  OK    OK    OK    OK  UNNEEDED, same version is already published
465/2041DegNorm 1.2.0  (landing page)Ji-Ping Wang  OK    OK    OK    OK  UNNEEDED, same version is already published
466/2041DEGraph   (landing page)... NOT SUPPORTED ...
467/2041DEGreport 1.28.0  (landing page)Lorena Pantano  OK    OK    OK    OK  UNNEEDED, same version is already published
468/2041DEGseq 1.46.0  (landing page)Likun Wang  OK    OK    OK    OK  UNNEEDED, same version is already published
469/2041DelayedArray 0.18.0  (landing page)Hervé Pagès  OK    OK    WARNINGS    OK  UNNEEDED, same version is already published
470/2041DelayedDataFrame 1.8.0  (landing page)Qian Liu  OK    OK    OK    OK  UNNEEDED, same version is already published
471/2041DelayedMatrixStats 1.14.3  (landing page)Peter Hickey  OK    OK    OK    OK  UNNEEDED, same version is already published
472/2041DelayedRandomArray 1.0.0  (landing page)Aaron Lun  OK    OK    OK    OK  UNNEEDED, same version is already published
473/2041deltaCaptureC 1.6.0  (landing page)Michael Shapiro  OK    OK    OK    OK  UNNEEDED, same version is already published
474/2041deltaGseg 1.32.0  (landing page)Diana Low  OK    OK    OK    OK  UNNEEDED, same version is already published
475/2041DeMAND 1.22.0  (landing page)Jung Hoon Woo , Mariano Alvarez  OK    OK    OK    OK  UNNEEDED, same version is already published
476/2041DeMixT 1.8.0  (landing page)Shaolong Cao, Peng Yang  OK    OK    OK    OK  UNNEEDED, same version is already published
477/2041densvis 1.2.0  (landing page)Alan O'Callaghan  OK    OK    OK    OK  UNNEEDED, same version is already published
478/2041DEP 1.14.0  (landing page)Arne Smits  OK    OK    WARNINGS    OK  UNNEEDED, same version is already published
479/2041DepecheR 1.8.0  (landing page)Jakob Theorell  OK    OK    WARNINGS    OK  UNNEEDED, same version is already published
480/2041DEqMS 1.10.0  (landing page)Yafeng Zhu  OK    ERROR  skippedskipped
481/2041derfinder 1.26.0  (landing page)Leonardo Collado-Torres  OK    OK    OK    OK  UNNEEDED, same version is already published
482/2041derfinderHelper 1.26.0  (landing page)Leonardo Collado-Torres  OK    OK    OK    OK  UNNEEDED, same version is already published
483/2041derfinderPlot 1.26.0  (landing page)Leonardo Collado-Torres  OK    OK    OK    OK  UNNEEDED, same version is already published
484/2041DEScan2 1.12.0  (landing page)Dario Righelli  OK    OK    OK    OK  UNNEEDED, same version is already published
485/2041DESeq2 1.32.0  (landing page)Michael Love  OK    OK    OK    OK  UNNEEDED, same version is already published
486/2041DEsingle 1.12.0  (landing page)Zhun Miao  OK    OK    OK    OK  UNNEEDED, same version is already published
487/2041destiny 3.6.0  (landing page)Philipp Angerer  OK    ERROR  skippedskipped
488/2041DEsubs 1.18.0  (landing page)Aristidis G. Vrahatis , Panos Balomenos  OK    OK    OK    OK  UNNEEDED, same version is already published
489/2041DEWSeq 1.6.0  (landing page)bioinformatics team Hentze  OK    OK    OK    OK  UNNEEDED, same version is already published
490/2041DExMA 1.0.2  (landing page)Juan Antonio Villatoro-García  OK    OK    OK    OK  UNNEEDED, same version is already published
491/2041DEXSeq 1.38.0  (landing page)Alejandro Reyes  OK    OK    OK    OK  UNNEEDED, same version is already published
492/2041dexus 1.32.0  (landing page)Guenter Klambauer  OK    OK    ERROR    OK  
493/2041DFP 1.50.0  (landing page)Rodrigo Alvarez-Glez  OK    OK    OK    OK  UNNEEDED, same version is already published
494/2041DIAlignR 2.0.0  (landing page)Shubham Gupta  OK    OK    ERROR    OK  
495/2041DiffBind 3.2.7  (landing page)Rory Stark  OK    OK    OK    OK  UNNEEDED, same version is already published
496/2041diffcoexp 1.12.0  (landing page)Wenbin Wei  OK    OK    OK    OK  UNNEEDED, same version is already published
497/2041diffcyt 1.12.0  (landing page)Lukas M. Weber  OK    OK    OK    OK  UNNEEDED, same version is already published
498/2041diffGeneAnalysis 1.74.0  (landing page)Choudary Jagarlamudi  OK    OK    OK    OK  UNNEEDED, same version is already published
499/2041diffHic 1.24.1  (landing page)Aaron Lun  OK    OK    OK    OK  UNNEEDED, same version is already published
500/2041DiffLogo 2.16.0  (landing page)Hendrik Treutler  OK    OK    WARNINGS    OK  UNNEEDED, same version is already published
501/2041diffloop 1.20.0  (landing page)Caleb Lareau  OK    OK    OK    OK  UNNEEDED, same version is already published
502/2041diffuStats 1.12.0  (landing page)Sergio Picart-Armada  OK    OK    OK    OK  UNNEEDED, same version is already published
503/2041diffUTR 1.0.0  (landing page)Pierre-Luc Germain  OK    OK    OK    OK  UNNEEDED, same version is already published
504/2041diggit 1.24.0  (landing page)Mariano J Alvarez  OK    OK    WARNINGS    OK  UNNEEDED, same version is already published
505/2041dir.expiry 1.0.0  (landing page)Aaron Lun  OK    OK    OK    OK  UNNEEDED, same version is already published
506/2041Director 1.18.0  (landing page)Katherine Icay  OK    OK    OK    OK  UNNEEDED, same version is already published
507/2041DirichletMultinomial 1.34.0  (landing page)Martin Morgan  OK    OK    OK    OK  UNNEEDED, same version is already published
508/2041discordant 1.16.0  (landing page)Charlotte Siska  OK    OK    OK    OK  UNNEEDED, same version is already published
509/2041DiscoRhythm 1.8.0  (landing page)Matthew Carlucci  OK    OK    OK    OK  UNNEEDED, same version is already published
510/2041distinct 1.4.1  (landing page)Simone Tiberi  OK    OK    OK    OK  UNNEEDED, same version is already published
511/2041dittoSeq 1.4.4  (landing page)Daniel Bunis  OK    OK    OK    OK  UNNEEDED, same version is already published
512/2041divergence 1.8.0  (landing page)Wikum Dinalankara , Luigi Marchionni  OK    OK    OK    OK  UNNEEDED, same version is already published
513/2041dks 1.38.0  (landing page)Jeffrey T. Leek  OK    OK    OK    OK  UNNEEDED, same version is already published
514/2041DMCFB 1.6.0  (landing page)Farhad Shokoohi  OK    OK    OK    OK  UNNEEDED, same version is already published
515/2041DMCHMM 1.14.0  (landing page)Farhad Shokoohi  OK    OK    OK    OK  UNNEEDED, same version is already published
516/2041DMRcaller 1.24.0  (landing page)Nicolae Radu Zabet  OK    OK    OK    OK  UNNEEDED, same version is already published
517/2041DMRcate 2.6.0  (landing page)Tim Peters  OK    OK    ERROR    OK  
518/2041DMRforPairs 1.28.0  (landing page)Martin Rijlaarsdam  OK    OK    OK    OK  UNNEEDED, same version is already published
519/2041DMRScan 1.14.0  (landing page)Christian M Page  OK    OK    OK    OK  UNNEEDED, same version is already published
520/2041dmrseq 1.12.0  (landing page)Keegan Korthauer  OK    OK    WARNINGS    OK  UNNEEDED, same version is already published
521/2041DNABarcodeCompatibility 1.8.0  (landing page)Céline Trébeau  OK    OK    OK    OK  UNNEEDED, same version is already published
522/2041DNABarcodes 1.22.0  (landing page)Tilo Buschmann  OK    OK    OK    OK  UNNEEDED, same version is already published
523/2041DNAcopy 1.66.0  (landing page)Venkatraman E. Seshan  OK    OK    OK    OK  UNNEEDED, same version is already published
524/2041DNAshapeR 1.20.0  (landing page)Tsu-Pei Chiu  OK    OK    OK    OK  UNNEEDED, same version is already published
525/2041DominoEffect 1.12.0  (landing page)Marija Buljan  OK    OK    OK    OK  UNNEEDED, same version is already published
526/2041doppelgangR 1.20.0  (landing page)Levi Waldron  OK    OK    OK    OK  UNNEEDED, same version is already published
527/2041Doscheda 1.14.0  (landing page)Bruno Contrino  OK    OK    OK    OK  UNNEEDED, same version is already published
528/2041DOSE 3.18.3  (landing page)Guangchuang Yu  OK    OK    OK    OK  UNNEEDED, same version is already published
529/2041doseR 1.8.0  (landing page)ake.vastermark  OK    OK    OK    OK  UNNEEDED, same version is already published
530/2041dpeak 1.4.0  (landing page)Dongjun Chung  OK    OK    OK    OK  UNNEEDED, same version is already published
531/2041drawProteins 1.12.0  (landing page)Paul Brennan  OK    OK    OK    OK  UNNEEDED, same version is already published
532/2041DRIMSeq 1.20.0  (landing page)Malgorzata Nowicka  OK    OK    WARNINGS    OK  UNNEEDED, same version is already published
533/2041DriverNet 1.32.0  (landing page)Jiarui Ding  OK    OK    OK    OK  UNNEEDED, same version is already published
534/2041DropletUtils 1.12.3  (landing page)Aaron Lun  OK    OK    OK    OK  UNNEEDED, same version is already published
535/2041drugTargetInteractions 1.0.2  (landing page)Thomas Girke  OK    OK    OK    OK  UNNEEDED, same version is already published
536/2041DrugVsDisease 2.34.0  (landing page)j. Saez-Rodriguez  OK    OK    OK    OK  UNNEEDED, same version is already published
537/2041DSS 2.40.0  (landing page)Hao Wu , Hao Feng  OK    OK    WARNINGS    OK  UNNEEDED, same version is already published
538/2041DTA 2.38.0  (landing page)Bjoern Schwalb  OK    OK    OK    OK  UNNEEDED, same version is already published
539/2041dualKS 1.52.1  (landing page)Eric J. Kort  OK    ERROR  skippedskipped
540/2041Dune 1.4.0  (landing page)Hector Roux de Bezieux  OK    OK    OK    OK  UNNEEDED, same version is already published
541/2041dupRadar 1.22.0  (landing page)Sergi Sayols , Holger Klein  OK    OK    OK    OK  UNNEEDED, same version is already published
542/2041dyebias 1.52.0  (landing page)Philip Lijnzaad  OK    OK    OK    OK  UNNEEDED, same version is already published
543/2041DynDoc 1.70.0  (landing page)Bioconductor Package Maintainer  OK    OK    OK    OK  UNNEEDED, same version is already published
E
ABCDEFGHIJKLMNOPQRSTUVWXYZ
PackageMaintainerINSTALLBUILDCHECKBUILD BIN
544/2041EasyqpcR 1.34.0  (landing page)Le Pape Sylvain  ERROR    ERROR  skippedskipped
545/2041easyreporting 1.4.0  (landing page)Dario Righelli  OK    OK    OK    OK  UNNEEDED, same version is already published
546/2041easyRNASeq 2.28.0  (landing page)Nicolas Delhomme  OK    OK    OK    OK  UNNEEDED, same version is already published
547/2041EBarrays 2.56.0  (landing page)Ming Yuan  OK    OK    OK    OK  UNNEEDED, same version is already published
548/2041EBcoexpress 1.36.0  (landing page)John A. Dawson  OK    OK    OK    OK  UNNEEDED, same version is already published
549/2041EBImage 4.34.0  (landing page)Andrzej Oleś  OK    OK    OK    OK  UNNEEDED, same version is already published
550/2041EBSEA 1.20.0  (landing page)Arfa Mehmood  OK    OK    OK    OK  UNNEEDED, same version is already published
551/2041EBSeq 1.32.0  (landing page)Ning Leng  OK    OK    OK    OK  UNNEEDED, same version is already published
552/2041EBSeqHMM 1.26.0  (landing page)Ning Leng  OK    OK    OK    OK  UNNEEDED, same version is already published
553/2041ecolitk 1.64.0  (landing page)Laurent Gautier  OK    OK    WARNINGS    OK  UNNEEDED, same version is already published
554/2041EDASeq 2.26.1  (landing page)Davide Risso  OK    OK    OK    OK  UNNEEDED, same version is already published
555/2041EDDA 1.30.0  (landing page)Chia Kuan Hui Burton , Niranjan Nagarajan  ERROR    ERROR  skippedskipped
556/2041edge 2.24.0  (landing page)John D. Storey , Andrew J. Bass  OK    OK    WARNINGS    OK  UNNEEDED, same version is already published
557/2041edgeR 3.34.1  (landing page)Yunshun Chen , Gordon Smyth , Aaron Lun , Mark Robinson  OK    OK    OK    OK  UNNEEDED, same version is already published
558/2041eegc 1.18.0  (landing page)Xiaoyuan Zhou  OK    OK    WARNINGS    OK  UNNEEDED, same version is already published
559/2041EGAD 1.20.0  (landing page)Sara Ballouz  OK    OK    WARNINGS    OK  UNNEEDED, same version is already published
560/2041EGSEA 1.20.0  (landing page)Monther Alhamdoosh  OK    OK    OK    OK  UNNEEDED, same version is already published
561/2041eiR 1.32.0  (landing page)Thomas Girke  OK    OK    WARNINGS    OK  UNNEEDED, same version is already published
562/2041eisa 1.44.0  (landing page)Gabor Csardi  OK    OK    ERROR    OK  
563/2041eisaR 1.4.0  (landing page)Michael Stadler  OK    OK    OK    OK  UNNEEDED, same version is already published
564/2041ELBOW 1.28.0  (landing page)Graham Alvare , Xiangli Zhang  OK    ERROR  skippedskipped
565/2041ELMER 2.16.0  (landing page)Tiago Chedraoui Silva  OK    OK    OK    OK  UNNEEDED, same version is already published
566/2041EMDomics 2.22.0  (landing page)Sadhika Malladi and Daniel Schmolze  OK    OK    OK    OK  UNNEEDED, same version is already published
567/2041EmpiricalBrownsMethod 1.20.0  (landing page)David Gibbs  OK    OK    OK    OK  UNNEEDED, same version is already published
568/2041ENCODExplorer 2.18.0  (landing page)Charles Joly Beauparlant  OK    OK    ERROR    OK  
569/2041EnhancedVolcano 1.10.0  (landing page)Kevin Blighe  OK    OK    OK    OK  UNNEEDED, same version is already published
570/2041EnMCB 1.4.1  (landing page)Xin Yu  OK    OK    OK    OK  UNNEEDED, same version is already published
571/2041ENmix 1.28.8  (landing page)Zongli Xu  OK    OK    OK    OK  UNNEEDED, same version is already published
572/2041EnrichedHeatmap 1.22.0  (landing page)Zuguang Gu  OK    OK    OK    OK  UNNEEDED, same version is already published
573/2041EnrichmentBrowser 2.22.2  (landing page)Ludwig Geistlinger  OK    OK    OK    OK  UNNEEDED, same version is already published
574/2041enrichplot 1.12.3  (landing page)Guangchuang Yu  OK    OK    OK    OK  UNNEEDED, same version is already published
575/2041enrichTF 1.8.0  (landing page)Zheng Wei  OK    OK    OK    OK  UNNEEDED, same version is already published
576/2041ensembldb 2.16.4  (landing page)Johannes Rainer  OK    OK    OK    OK  UNNEEDED, same version is already published
577/2041ensemblVEP 1.34.0  (landing page)Bioconductor Package Maintainer  OK    OK    OK    OK  UNNEEDED, same version is already published
578/2041ENVISIONQuery 1.40.0  (landing page)Alex Lisovich , Roger Day  OK    ERROR  skippedskipped
579/2041epialleleR 1.0.0  (landing page)Oleksii Nikolaienko  OK    OK    OK    OK  UNNEEDED, same version is already published
580/2041epidecodeR 1.0.2  (landing page)Kandarp Joshi  OK    OK    OK    OK  UNNEEDED, same version is already published
581/2041EpiDISH 2.8.0  (landing page)Shijie C. Zheng  OK    OK    OK    OK  UNNEEDED, same version is already published
582/2041epigenomix 1.32.0  (landing page)Hans-Ulrich Klein  OK    OK    OK    OK  UNNEEDED, same version is already published
583/2041epigraHMM 1.0.8  (landing page)Pedro Baldoni  OK    OK    OK    OK  UNNEEDED, same version is already published
584/2041epihet 1.8.0  (landing page)Xiaowen Chen  OK    OK    OK    OK  UNNEEDED, same version is already published
585/2041epiNEM 1.16.0  (landing page)Martin Pirkl  OK    OK    OK    OK  UNNEEDED, same version is already published
586/2041EpiTxDb 1.4.0  (landing page)Felix G.M. Ernst  OK    OK    OK    OK  UNNEEDED, same version is already published
587/2041epivizr 2.22.0  (landing page)Hector Corrada Bravo  OK    OK    OK    OK  UNNEEDED, same version is already published
588/2041epivizrChart 1.14.0  (landing page)Hector Corrada Bravo  OK    OK    OK    OK  UNNEEDED, same version is already published
589/2041epivizrData 1.20.0  (landing page)Hector Corrada Bravo  OK    OK    OK    OK  UNNEEDED, same version is already published
590/2041epivizrServer 1.20.0  (landing page)Hector Corrada Bravo  OK    ERROR  skippedskipped
591/2041epivizrStandalone 1.20.0  (landing page)Hector Corrada Bravo  OK    OK    OK    OK  UNNEEDED, same version is already published
592/2041erccdashboard 1.26.0  (landing page)Sarah Munro  OK    OK    OK    OK  UNNEEDED, same version is already published
593/2041erma 1.8.0  (landing page)VJ Carey  OK    OK    OK    OK  UNNEEDED, same version is already published
594/2041ERSSA 1.10.0  (landing page)Zixuan Shao  OK    OK    OK    OK  UNNEEDED, same version is already published
595/2041esATAC 1.14.0  (landing page)Zheng Wei  OK    OK    WARNINGS    OK  UNNEEDED, same version is already published
596/2041escape 1.2.0  (landing page)Nick Borcherding  OK    OK    OK    OK  UNNEEDED, same version is already published
597/2041esetVis 1.18.0  (landing page)Laure Cougnaud  OK    OK    OK    OK  UNNEEDED, same version is already published
598/2041eudysbiome 1.22.0  (landing page)Xiaoyuan Zhou  OK    OK    OK    OK  UNNEEDED, same version is already published
599/2041evaluomeR 1.8.0  (landing page)José Antonio Bernabé-Díaz  OK    OK    OK    OK  UNNEEDED, same version is already published
600/2041EventPointer 3.0.0  (landing page)Juan A. Ferrer-Bonsoms  OK    OK    OK    OK  UNNEEDED, same version is already published
601/2041EWCE 1.0.1  (landing page)Alan Murphy  OK    OK    OK    OK  UNNEEDED, same version is already published
602/2041ExCluster 1.10.0  (landing page)R. Matthew Tanner  OK    OK    OK    OK  UNNEEDED, same version is already published
603/2041ExiMiR 2.34.0  (landing page)Sylvain Gubian  OK    OK    OK    OK  UNNEEDED, same version is already published
604/2041exomeCopy 1.38.0  (landing page)Michael Love  OK    OK    OK    OK  UNNEEDED, same version is already published
605/2041exomePeak2 1.4.2  (landing page)Zhen Wei  OK    OK    OK    OK  UNNEEDED, same version is already published
606/2041ExperimentHub 2.0.0  (landing page)Bioconductor Package Maintainer  OK    OK    OK    OK  UNNEEDED, same version is already published
607/2041ExperimentHubData 1.18.0  (landing page)Bioconductor Package Maintainer  OK    OK    OK    OK  UNNEEDED, same version is already published
608/2041ExperimentSubset 1.2.0  (landing page)Irzam Sarfraz  OK    OK    OK    OK  UNNEEDED, same version is already published
609/2041ExploreModelMatrix 1.4.0  (landing page)Charlotte Soneson  OK    OK    OK    OK  UNNEEDED, same version is already published
610/2041ExpressionAtlas 1.20.0  (landing page)Suhaib Mohammed  OK    OK    OK    OK  UNNEEDED, same version is already published
611/2041ExpressionView 1.44.0  (landing page)Gabor Csardi  ERROR    ERROR  skippedskipped
F
ABCDEFGHIJKLMNOPQRSTUVWXYZ
PackageMaintainerINSTALLBUILDCHECKBUILD BIN
612/2041fabia 2.38.0  (landing page)Andreas Mitterecker  OK    OK    OK    OK  UNNEEDED, same version is already published
613/2041factDesign 1.68.0  (landing page)Denise Scholtens  OK    OK    OK    OK  UNNEEDED, same version is already published
614/2041FamAgg 1.20.0  (landing page)Johannes Rainer  OK    OK    OK    OK  UNNEEDED, same version is already published
615/2041famat 1.2.1  (landing page)Mathieu Charles  OK    OK    OK    OK  YES
616/2041farms 1.44.0  (landing page)Djork-Arne Clevert  OK    OK    OK    OK  UNNEEDED, same version is already published
617/2041fastLiquidAssociation 1.28.0  (landing page)Tina Gunderson  OK    OK    WARNINGS    OK  UNNEEDED, same version is already published
618/2041FastqCleaner 1.10.0  (landing page)Leandro Roser  OK    OK    OK    OK  UNNEEDED, same version is already published
619/2041fastseg 1.38.0  (landing page)Guenter Klambauer  OK    OK    WARNINGS    OK  UNNEEDED, same version is already published
620/2041FCBF 2.0.0  (landing page)Tiago Lubiana  OK    OK    OK    OK  UNNEEDED, same version is already published
621/2041fCCAC 1.18.0  (landing page)Pedro Madrigal  OK    OK    OK    OK  UNNEEDED, same version is already published
622/2041fCI 1.22.0  (landing page)Shaojun Tang  OK    OK    OK    OK  UNNEEDED, same version is already published
623/2041fcoex 1.6.0  (landing page)Tiago Lubiana  OK    OK    WARNINGS    OK  UNNEEDED, same version is already published
624/2041fcScan 1.6.0  (landing page)Pierre Khoueiry Abdullah El-Kurdi  OK    OK    OK    OK  UNNEEDED, same version is already published
625/2041fdrame 1.64.0  (landing page)Effi Kenigsberg  OK    OK    OK    OK  UNNEEDED, same version is already published
626/2041FEAST 1.0.0  (landing page)Kenong Su  OK    OK    OK    OK  UNNEEDED, same version is already published
627/2041fedup 1.0.0  (landing page)Catherine Ross  OK    OK    OK    OK  UNNEEDED, same version is already published
628/2041FELLA 1.12.0  (landing page)Sergio Picart-Armada  OK    OK    OK    OK  UNNEEDED, same version is already published
629/2041ffpe 1.36.0  (landing page)Levi Waldron  OK    OK    OK    OK  UNNEEDED, same version is already published
630/2041fgga 1.0.0  (landing page)Spetale Flavio  OK    OK    WARNINGS    OK  UNNEEDED, same version is already published
631/2041FGNet 3.26.0  (landing page)Sara Aibar  OK    OK    OK    OK  UNNEEDED, same version is already published
632/2041fgsea 1.18.0  (landing page)Alexey Sergushichev  OK    OK    OK    OK  UNNEEDED, same version is already published
633/2041FilterFFPE 1.2.0  (landing page)Lanying Wei  OK    OK    OK    OK  UNNEEDED, same version is already published
634/2041FindMyFriends 1.22.0  (landing page)Thomas Lin Pedersen  OK    OK    WARNINGS    OK  UNNEEDED, same version is already published
635/2041FISHalyseR 1.26.0  (landing page)Karesh Arunakirinathan  OK    OK    WARNINGS    OK  UNNEEDED, same version is already published
636/2041fishpond 1.8.0  (landing page)Michael Love  OK    OK    OK    OK  UNNEEDED, same version is already published
637/2041FitHiC 1.18.0  (landing page)Ruyu Tan  OK    OK    OK    OK  UNNEEDED, same version is already published
638/2041flagme 1.48.0  (landing page)Mark Robinson , Riccardo Romoli  OK    OK    WARNINGS    OK  UNNEEDED, same version is already published
639/2041flowAI 1.22.0  (landing page)Gianni Monaco  OK    OK    OK    OK  UNNEEDED, same version is already published
640/2041flowBeads 1.30.0  (landing page)Nikolas Pontikos  OK    OK    WARNINGS    OK  UNNEEDED, same version is already published
641/2041flowBin 1.28.0  (landing page)Kieran O'Neill  OK    OK    OK    OK  UNNEEDED, same version is already published
642/2041flowcatchR 1.26.0  (landing page)Federico Marini  OK    OK    OK    OK  UNNEEDED, same version is already published
643/2041flowCHIC 1.26.0  (landing page)Author: Joachim Schumann  OK    OK    OK    OK  UNNEEDED, same version is already published
644/2041flowCL 1.30.0  (landing page)Justin Meskas  OK    OK    OK    OK  UNNEEDED, same version is already published
645/2041flowClean 1.30.0  (landing page)Kipper Fletez-Brant  OK    OK    WARNINGS    OK  UNNEEDED, same version is already published
646/2041flowClust 3.30.0  (landing page)Greg Finak , Mike Jiang  OK    OK    WARNINGS    OK  UNNEEDED, same version is already published
647/2041flowCore 2.4.0  (landing page)Mike Jiang  OK    OK    OK    OK  UNNEEDED, same version is already published
648/2041flowCut 1.2.0  (landing page)Justin Meskas  OK    OK    OK    OK  UNNEEDED, same version is already published
649/2041flowCyBar 1.28.0  (landing page)Joachim Schumann  OK    OK    OK    OK  UNNEEDED, same version is already published
650/2041flowDensity 1.26.0  (landing page)Mehrnoush Malek  OK    OK    WARNINGS    OK  UNNEEDED, same version is already published
651/2041flowFP 1.50.0  (landing page)Herb Holyst  OK    OK    OK    OK  UNNEEDED, same version is already published
652/2041flowGraph 1.0.0  (landing page)Alice Yue  OK    OK    OK    OK  UNNEEDED, same version is already published
653/2041flowMap 1.30.0  (landing page)Chiaowen Joyce Hsiao  OK    OK    WARNINGS    OK  UNNEEDED, same version is already published
654/2041flowMatch 1.28.0  (landing page)Ariful Azad  OK    OK    OK    OK  UNNEEDED, same version is already published
655/2041flowMeans 1.52.0  (landing page)Nima Aghaeepour  OK    OK    OK    OK  UNNEEDED, same version is already published
656/2041flowMerge 2.40.0  (landing page)Greg Finak  OK    OK    OK    OK  UNNEEDED, same version is already published
657/2041flowPeaks 1.38.0  (landing page)Yongchao Ge  OK    OK    WARNINGS    OK  UNNEEDED, same version is already published
658/2041flowPloidy 1.18.0  (landing page)Tyler Smith  OK    OK    OK    OK  UNNEEDED, same version is already published
659/2041flowPlots 1.40.0  (landing page)N. Hawkins  OK    OK    OK    OK  UNNEEDED, same version is already published
660/2041FlowRepositoryR 1.24.0  (landing page)Josef Spidlen  ERROR    ERROR  skippedskipped
661/2041FlowSOM 2.0.0  (landing page)Sofie Van Gassen  OK    OK    OK    OK  UNNEEDED, same version is already published
662/2041flowSpecs 1.6.0  (landing page)Jakob Theorell  OK    OK    OK    OK  UNNEEDED, same version is already published
663/2041flowStats 4.4.0  (landing page)Greg Finak , Mike Jiang , Jake Wagner  OK    OK    OK    OK  UNNEEDED, same version is already published
664/2041flowTime 1.16.1  (landing page)R. Clay Wright  OK    OK    OK    OK  UNNEEDED, same version is already published
665/2041flowTrans 1.44.0  (landing page)Greg Finak  OK    OK    OK    OK  UNNEEDED, same version is already published
666/2041flowUtils 1.56.0  (landing page)Josef Spidlen  OK    OK    WARNINGS    OK  UNNEEDED, same version is already published
667/2041flowViz 1.56.0  (landing page)Mike Jiang , Jake Wagner  OK    OK    OK    OK  UNNEEDED, same version is already published
668/2041flowVS 1.24.0  (landing page)Ariful Azad  OK    OK    OK    OK  UNNEEDED, same version is already published
669/2041flowWorkspace 4.4.0  (landing page)Greg Finak , Mike Jiang  OK    OK    WARNINGS    OK  UNNEEDED, same version is already published
670/2041fmcsR 1.34.0  (landing page)Thomas Girke  OK    OK    WARNINGS    OK  UNNEEDED, same version is already published
671/2041fmrs 1.2.0  (landing page)Farhad Shokoohi  OK    OK    OK    OK  UNNEEDED, same version is already published
672/2041fobitools 1.0.0  (landing page)Pol Castellano-Escuder  OK    OK    OK    OK  UNNEEDED, same version is already published
673/2041FoldGO 1.10.0  (landing page)Daniil Wiebe  OK    OK    OK    OK  UNNEEDED, same version is already published
674/2041FRASER 1.4.0  (landing page)Christian Mertes  OK    OK    OK    OK  UNNEEDED, same version is already published
675/2041frenchFISH 1.4.0  (landing page)Adam Berman  OK    OK    OK    OK  UNNEEDED, same version is already published
676/2041FRGEpistasis 1.28.0  (landing page)Futao Zhang  OK    OK    OK    OK  UNNEEDED, same version is already published
677/2041frma 1.44.0  (landing page)Matthew N. McCall  OK    OK    OK    OK  UNNEEDED, same version is already published
678/2041frmaTools 1.44.0  (landing page)Matthew N. McCall  OK    OK    OK    OK  UNNEEDED, same version is already published
679/2041FScanR 1.2.0  (landing page)Xiao Chen  OK    OK    OK    OK  UNNEEDED, same version is already published
680/2041FunChIP 1.18.0  (landing page)Alice Parodi  OK    OK    WARNINGS    OK  UNNEEDED, same version is already published
681/2041funtooNorm 1.16.0  (landing page)Kathleen Klein  OK    OK    WARNINGS    OK  UNNEEDED, same version is already published
G
ABCDEFGHIJKLMNOPQRSTUVWXYZ
PackageMaintainerINSTALLBUILDCHECKBUILD BIN
682/2041GA4GHclient 1.16.0  (landing page)Welliton Souza  OK    OK    OK    OK  UNNEEDED, same version is already published
683/2041GA4GHshiny 1.14.0  (landing page)Welliton Souza  OK    OK    OK    OK  UNNEEDED, same version is already published
684/2041gaga 2.38.0  (landing page)David Rossell  OK    OK    WARNINGS    OK  UNNEEDED, same version is already published
685/2041gage 2.42.0  (landing page)Weijun Luo  OK    OK    WARNINGS    OK  UNNEEDED, same version is already published
686/2041gaggle 1.60.0  (landing page)Christopher Bare  OK    OK    OK    OK  UNNEEDED, same version is already published
687/2041gaia 2.36.0  (landing page)S. Morganella  OK    OK    OK    OK  UNNEEDED, same version is already published
688/2041GAPGOM 1.8.0  (landing page)Rezvan Ehsani  OK    OK    OK    OK  UNNEEDED, same version is already published
689/2041GAprediction 1.18.0  (landing page)Jon Bohlin  OK    OK    OK    OK  UNNEEDED, same version is already published
690/2041garfield 1.20.0  (landing page)Valentina Iotchkova  OK    OK    OK    OK  UNNEEDED, same version is already published
691/2041GARS 1.12.0  (landing page)Mattia Chiesa  OK    OK    OK    OK  UNNEEDED, same version is already published
692/2041GateFinder 1.12.0  (landing page)Nima Aghaeepour  OK    OK    OK    OK  UNNEEDED, same version is already published
693/2041gcapc 1.16.0  (landing page)Mingxiang Teng  OK    OK    OK    OK  UNNEEDED, same version is already published
694/2041gcatest 1.22.0  (landing page)Wei Hao , John D. Storey  OK    OK    OK    OK  UNNEEDED, same version is already published
695/2041gCrisprTools 1.20.0  (landing page)Russell Bainer  OK    OK    WARNINGS    OK  UNNEEDED, same version is already published
696/2041gcrma 2.64.0  (landing page)Z. Wu  OK    OK    OK    OK